{"text_format":"1","workbook":"xlsx","n_sheets":3,"sheets":["Stap 1 - Jouw gegevens","Stap 2 - Invoer zieke werknemer","Validaties"],"not_rendered":{"charts":0,"images":2,"macros":1,"external_links":0,"defined_names":0,"comments":0,"pivot_tables":0},"unopened":[],"bounds":{"document_bytes":16777216,"sheet_cells":100000,"rows_first":2000,"rows_last":500,"rows_between":2000,"halvings":0,"cell_chars":16384,"cell_head_chars":4096},"cells_cut":0,"cells_raw":0,"read":"whole","date_system":"1900"}

{"sheet":"Stap 1 - Jouw gegevens","index":0,"n_rows":23,"n_cols":3,"rows_kept":23,"cut":false,"hidden":false,"merged":[]}
[]
[]
[]
[]
[]
[null,"Jouw gegevens"]
[null,"Vul hier je contactgegevens, polisnummer en percentage doorbetaald loon bij ziekte in. "]
[null,"Nadat je de gegevens bij stap 2 hebt ingevoerd berekenen we automatisch het doorbtaald loon bij ziekte. "]
[]
[]
[]
[null,"Naam bedrijf"]
[null,"Polisnummer"]
[null,"Ingevuld door"]
[null,"Contactgegevens"]
[]
[null,"Eerste ziektejaar"]
[null,"Percentage doorbetaald loon bij ziekte"]
[null,"Doorbetaald loon bij ziekte",{"$f":"SUM('Stap 2 - Invoer zieke werknemer'!I7:I4000)","v":0}]
[]
[null,"Tweede ziektejaar"]
[null,"Percentage doorbetaald loon bij ziekte"]
[null,"Doorbetaald loon bij ziekte",{"$f":"SUM('Stap 2 - Invoer zieke werknemer'!K7:K4000)","v":0}]

{"sheet":"Stap 2 - Invoer zieke werknemer","index":1,"n_rows":2594,"n_cols":34,"rows_kept":2594,"cut":false,"hidden":false,"merged":[[3,1,3,5],[1,2,2,8]]}
[]
[null,null,"Rekentool module Ziekteverzuim Calamiteiten 2023\nVul in deze rekentool de (ex-)werknemers in die in 2023 ziek zijn geweest en waarvoor je het loon (gedeeltelijk) hebt doorbetaald."]
[]
[null,null,null,null,null,null,null,null,null,null,null,null,null,"Verbergen",null,null,null,null,null,null,null,null,"Jaar","Jaar II","aantal werkdagen","Checks/waarschuwing",null,null,null,null,null,null,"foutmelding/waarschuwing"]
["Naam werknemer","Aantal dagen in dienst \nin 2023","Jaarloon 2023","Datum eerste ziektedag","Startdatum loondoorbetaling bij ziekte in 2023","Einddatum loondoorbetaling bij ziekte 2023","Percentage\narbeidsongeschikt (AO%)","Verzuimduur\neerste ziektejaar","Loondoorbetaling\neerste ziektejaar","Verzuimduur\ntweede ziektejaar","Loondoorbetaling\ntweede ziektejaar","Foutmelding",null,"ziektedagen","periode in 1e ziektejaar","periode in 1ejaar correctie","1e ziektedag 2e ziektejaar","periode in 2e ziektejaar","verzuimduur 2e jaar afgetopt",null,null,null,"2023-01-01","2024-01-01",{"$f":"NETWORKDAYS(W5, X5)","v":261},"Aantal dagen in dienst","Jaarloon 2023","Datum eerste ziektedag","Start loondoorbetaling bij ziekte","Einde loondoorbetaling bij ziekte","AO%","in dienst < ziektedagen","Aantal dagen in dienst","- Je werknemer moet minimaal 1 dag en maximaal 260 dagen in dienst zijn. \n"]
["Vul alleen zieke werknemers in die onder je loondoorbetalings-verplichting vallen. Dit is exclusief DGA's en werknemers die de AOW-gerechtigde leeftijd bereikt hebben.","Vul hier het totaal aantal werkdagen in dat je werknemer in 2023 in dienst is geweest. Dit doe je op basis van een vijfdaagse werkweek, ongeacht hoeveel dagen je werknemer werkt.\n\nVoorbeeld: is je werknemer heel 2023 bij je in dienst? Dan vul je 260 dagen in.","Vul hier het totaal verzekerd jaarloon van je werknemer in over 2023. Je vindt dit bedrag op je verzamelloonstaat.","dd-mm-jjjj\n\nVul hier de eerste ziektedag van je \n(ex-)werknemer in.","dd-mm-jjjj\n\nVul hier de startdatum in waarop je loondoorbetalingsverplichting bij ziekte is gestart of gewijzigd. \n\nGelden er meer AO% tijdens de ziekteperiode? Vul dan per periode een nieuwe regel in. ","dd-mm-jjjj\n\nVul hier de einddatum in waarop de loondoorbetalingsverplichting bij ziekte is gestopt of gewijzigd. Dit kan zijn bij (gedeeltelijk) herstel of uitdiensttreding.\n\nWas je werknemer op 31 december 2023 nog niet hersteld? Vul dan 1 januari 2024 als einddatum in.","Vul hier het AO% in van je zieke werknemer. Dit percentage stelt je bedrijfsarts of arbodienst vast. ","De verzuimduur laten we zien in werkdagen.",null,"De verzuimduur laten we zien in werkdagen.",null,"Staat in deze kolom een foutmelding? Dan kunnen we de loondoorbetaling voor het eerste en/of tweede ziektejaar nog niet berekenen. Pas de gegevens van je werknemer dan eerst aan. ",null,null,null,null,null,null,null,null,null,null,"max 1e ziektejaar",null,null,null,null,null,null,null,null,null,"Jaarloon 2023","- Het maximaal te verzekeren loon (exclusief werkgeverslasten) is € 125.000,- per jaar. We toppen het ingevoerde loon af op dit maximum. \n"]
[null,null,null,null,null,null,null,{"$f":"P7","v":""},{"$f":"IF(AND(L7 = \"\", NOT(H7=\"\")),IF(C7< $W$10, (H7 *G7 * (C7/B7) * 'Stap 1 - Jouw gegevens'!$C$18), (H7 *G7 *'Stap 1 - Jouw gegevens'!$C$18 * ($W$10/B7))), \"\")","v":""},{"$f":"S7","v":""},{"$f":"IF(AND(L7 = \"\", NOT(J7=\"\")),IF(C7< $W$10, 'Stap 1 - Jouw gegevens'!$C$22 *J7*G7 *C7/B7,  'Stap 1 - Jouw gegevens'!$C$22 * J7*G7 *$W$10/B7), \"\")","v":""},{"$f":"IF(ISBLANK(A7), \"\", CONCATENATE(IF(Z7 = \"X\", $AH$5, \"\"), IF( AB7 = \"X\", $AH$7, \"\"), IF( AC7 = \"X\", $AH$8, \"\"), IF( AD7 = \"X\", $AH$9, \"\"), IF( AE7 = \"X\", $AH$10, \"\"),  IF( AF7 = \"X\", $AH$11, \"\")))","v":""},null,{"$f":"IF(ISBLANK(D7),\"\",NETWORKDAYS(D7,F7))","v":""},{"$f":"IFERROR( IF(N7>$Y$5,NETWORKDAYS(E7, (Q7 - 1)), NETWORKDAYS(E7,(F7-1))), \"\")","v":""},{"$f":"IF(O7<= 0, \"\", O7)","v":""},{"$f":"IF(ISBLANK(D7),\"\",DATE(YEAR(D7)+1,MONTH(D7),DAY(D7)))","v":""},{"$f":"IFERROR(IF(N7 > $Y$5, IF(E7>=Q7,NETWORKDAYS(E7, (F7-1)), NETWORKDAYS(Q7, (F7-1))), \"\"), \"\")","v":""},{"$f":"IF(R7=\"\", \"\",  IF(R7 >= $Y$5, $Y$5,  R7))","v":""},null,null,null,{"$f":"DATE(YEAR(W5)-2, 1,1)","v":"2021-01-01"},null,null,{"$f":"IF(OR(B7 <= 0, B7 >$Y$5), \"X\", \"\")","v":"X"},{"$f":"IF(C7>125000,\"X\", \"\")","v":""},{"$f":"IF(AND(D7>= DATE(YEAR($W$5)-2,1,1), D7<=DATE(YEAR($W$5),12,31)), \"\", \"X\")","v":"X"},{"$f":"IF(AND(E7>= DATE(YEAR($W$5),1,1), E7<=DATE(YEAR($W$5),12,31)), \"\",\"X\")","v":"X"},{"$f":"IF(AND(F7>=DATE(YEAR($W$5),1,1),F7<=$X$5),\"\", \"X\")","v":"X"},{"$f":"IF(AND(G7  >= 0%, G7 <= 100%), \"\", \"X\")","v":""},{"$f":"IF(SUM(H7, J7) <= B7, \"\", \"X\")","v":""},"Datum eerste ziektedag","- De eerste ziektedag kan alleen in de periode vanaf 1 januari 2021 t/m 31 december 2023 liggen. \n"]
[null,null,null,null,null,null,null,"",{"$f":"IF(AND(L8 = \"\", NOT(H8=\"\")),IF(C8< $W$10, (H8 *G8 * (C8/B8) * 'Stap 1 - Jouw gegevens'!$C$18), (H8 *G8 *'Stap 1 - Jouw gegevens'!$C$18 * ($W$10/B8))), \"\")","v":""},"",{"$f":"IF(AND(L8 = \"\", NOT(J8=\"\")),IF(C8< $W$10, 'Stap 1 - Jouw gegevens'!$C$22 *J8*G8 *C8/B8,  'Stap 1 - Jouw gegevens'!$C$22 * J8*G8 *$W$10/B8), \"\")","v":""},{"$f":"IF(ISBLANK(A8), \"\", CONCATENATE(IF(Z8 = \"X\", $AH$5, \"\"), IF( AB8 = \"X\", $AH$7, \"\"), IF( AC8 = \"X\", $AH$8, \"\"), IF( AD8 = \"X\", $AH$9, \"\"), IF( AE8 = \"X\", $AH$10, \"\"),  IF( AF8 = \"X\", $AH$11, \"\")))","v":""},null,{"$f":"IF(ISBLANK(D8),\"\",NETWORKDAYS(D8,F8))","v":""},{"$f":"IFERROR( IF(N8>$Y$5,NETWORKDAYS(E8, (Q8 - 1)), NETWORKDAYS(E8,(F8-1))), \"\")","v":""},{"$f":"IF(O8<= 0, \"\", O8)","v":""},{"$f":"IF(ISBLANK(D8),\"\",DATE(YEAR(D8)+1,MONTH(D8),DAY(D8)))","v":""},{"$f":"IFERROR(IF(N8 > $Y$5, IF(E8>=Q8,NETWORKDAYS(E8, (F8-1)), NETWORKDAYS(Q8, (F8-1))), \"\"), \"\")","v":""},{"$f":"IF(R8=\"\", \"\",  IF(R8 >= $Y$5, $Y$5,  R8))","v":""},null,null,null,null,null,null,{"$f":"IF(OR(B8 <= 0, B8 >$Y$5), \"X\", \"\")","v":"X"},"","X","X",{"$f":"IF(AND(F8>=DATE(YEAR($W$5),1,1),F8<=$X$5),\"\", \"X\")","v":"X"},"",{"$f":"IF(SUM(H8, J8) <= B8, \"\", \"X\")","v":""},"Start loondoorbetaling bij ziekte","- De startdatum van de loondoorbetaling in 2023 kan alleen in de periode vanaf 1 januari 2023 t/m 31 december 2023 liggen. \n"]
[null,null,null,null,null,null,null,"",{"$f":"IF(AND(L9 = \"\", NOT(H9=\"\")),IF(C9< $W$10, (H9 *G9 * (C9/B9) * 'Stap 1 - Jouw gegevens'!$C$18), (H9 *G9 *'Stap 1 - Jouw gegevens'!$C$18 * ($W$10/B9))), \"\")","v":""},"",{"$f":"IF(AND(L9 = \"\", NOT(J9=\"\")),IF(C9< $W$10, 'Stap 1 - Jouw gegevens'!$C$22 *J9*G9 *C9/B9,  'Stap 1 - Jouw gegevens'!$C$22 * J9*G9 *$W$10/B9), \"\")","v":""},"",null,"","","","","","",null,null,null,"max SV loon",null,null,"X","","X","X","X","","","Einde loondoorbetaling bij ziekte","- De einddatum van de loondoorbetaling in 2023 kan alleen in de periode vanaf 1 januari 2023 tot 1 januari 2024 liggen. \n"]
[null,null,null,null,null,null,null,"",{"$f":"IF(AND(L10 = \"\", NOT(H10=\"\")),IF(C10< $W$10, (H10 *G10 * (C10/B10) * 'Stap 1 - Jouw gegevens'!$C$18), (H10 *G10 *'Stap 1 - Jouw gegevens'!$C$18 * ($W$10/B10))), \"\")","v":""},"",{"$f":"IF(AND(L10 = \"\", NOT(J10=\"\")),IF(C10< $W$10, 'Stap 1 - Jouw gegevens'!$C$22 *J10*G10 *C10/B10,  'Stap 1 - Jouw gegevens'!$C$22 * J10*G10 *$W$10/B10), \"\")","v":""},"",null,"","","","","","",null,null,null,125000,null,null,"X","","X","X","X","","","AO%","- Het percentage arbeidsongeschikt moet minimaal 1% en maximaal 100% zijn. \n"]
[null,null,null,null,null,null,null,"",{"$f":"IF(AND(L11 = \"\", NOT(H11=\"\")),IF(C11< $W$10, (H11 *G11 * (C11/B11) * 'Stap 1 - Jouw gegevens'!$C$18), (H11 *G11 *'Stap 1 - Jouw gegevens'!$C$18 * ($W$10/B11))), \"\")","v":""},"",{"$f":"IF(AND(L11 = \"\", NOT(J11=\"\")),IF(C11< $W$10, 'Stap 1 - Jouw gegevens'!$C$22 *J11*G11 *C11/B11,  'Stap 1 - Jouw gegevens'!$C$22 * J11*G11 *$W$10/B11), \"\")","v":""},"",null,"","","","","","",null,null,null,null,null,null,"X","","X","X","X","","","in dienst < ziektedagen","- Het aantal ziektedagen in 2023 kan niet groter zijn dan het aantal dagen in dienst.\n"]
[null,null,null,null,null,null,null,"",{"$f":"IF(AND(L12 = \"\", NOT(H12=\"\")),IF(C12< $W$10, (H12 *G12 * (C12/B12) * 'Stap 1 - Jouw gegevens'!$C$18), (H12 *G12 *'Stap 1 - Jouw gegevens'!$C$18 * ($W$10/B12))), \"\")","v":""},"",{"$f":"IF(AND(L12 = \"\", NOT(J12=\"\")),IF(C12< $W$10, 'Stap 1 - Jouw gegevens'!$C$22 *J12*G12 *C12/B12,  'Stap 1 - Jouw gegevens'!$C$22 * J12*G12 *$W$10/B12), \"\")","v":""},"",null,"","","","","","",null,null,null,null,null,null,"X","","X","X","X","",""]
[null,null,null,null,null,null,null,"",{"$f":"IF(AND(L13 = \"\", NOT(H13=\"\")),IF(C13< $W$10, (H13 *G13 * (C13/B13) * 'Stap 1 - Jouw gegevens'!$C$18), (H13 *G13 *'Stap 1 - Jouw gegevens'!$C$18 * ($W$10/B13))), \"\")","v":""},"",{"$f":"IF(AND(L13 = \"\", NOT(J13=\"\")),IF(C13< $W$10, 'Stap 1 - Jouw gegevens'!$C$22 *J13*G13 *C13/B13,  'Stap 1 - Jouw gegevens'!$C$22 * J13*G13 *$W$10/B13), \"\")","v":""},"",null,"","","","","","",null,null,null,null,null,null,"X","","X","X","X","",""]
[null,null,null,null,null,null,null,"",{"$f":"IF(AND(L14 = \"\", NOT(H14=\"\")),IF(C14< $W$10, (H14 *G14 * (C14/B14) * 'Stap 1 - Jouw gegevens'!$C$18), (H14 *G14 *'Stap 1 - Jouw gegevens'!$C$18 * ($W$10/B14))), \"\")","v":""},"",{"$f":"IF(AND(L14 = \"\", NOT(J14=\"\")),IF(C14< $W$10, 'Stap 1 - Jouw gegevens'!$C$22 *J14*G14 *C14/B14,  'Stap 1 - Jouw gegevens'!$C$22 * J14*G14 *$W$10/B14), \"\")","v":""},"",null,"","","","","","",null,null,null,null,null,null,"X","","X","X","X","",""]
[null,null,null,null,null,null,null,"",{"$f":"IF(AND(L15 = \"\", NOT(H15=\"\")),IF(C15< $W$10, (H15 *G15 * (C15/B15) * 'Stap 1 - Jouw gegevens'!$C$18), (H15 *G15 *'Stap 1 - Jouw gegevens'!$C$18 * ($W$10/B15))), \"\")","v":""},"",{"$f":"IF(AND(L15 = \"\", NOT(J15=\"\")),IF(C15< $W$10, 'Stap 1 - Jouw gegevens'!$C$22 *J15*G15 *C15/B15,  'Stap 1 - Jouw gegevens'!$C$22 * J15*G15 *$W$10/B15), \"\")","v":""},"",null,"","","","","","",null,null,null,null,null,null,"X","","X","X","X","",""]
[null,null,null,null,null,null,null,"",{"$f":"IF(AND(L16 = \"\", NOT(H16=\"\")),IF(C16< $W$10, (H16 *G16 * (C16/B16) * 'Stap 1 - Jouw gegevens'!$C$18), (H16 *G16 *'Stap 1 - Jouw gegevens'!$C$18 * ($W$10/B16))), \"\")","v":""},"",{"$f":"IF(AND(L16 = \"\", NOT(J16=\"\")),IF(C16< $W$10, 'Stap 1 - Jouw gegevens'!$C$22 *J16*G16 *C16/B16,  'Stap 1 - Jouw gegevens'!$C$22 * J16*G16 *$W$10/B16), \"\")","v":""},"",null,"","","","","","",null,null,null,null,null,null,"X","","X","X","X","",""]
[null,null,null,null,null,null,null,"",{"$f":"IF(AND(L17 = \"\", NOT(H17=\"\")),IF(C17< $W$10, (H17 *G17 * (C17/B17) * 'Stap 1 - Jouw gegevens'!$C$18), (H17 *G17 *'Stap 1 - Jouw gegevens'!$C$18 * ($W$10/B17))), \"\")","v":""},"",{"$f":"IF(AND(L17 = \"\", NOT(J17=\"\")),IF(C17< $W$10, 'Stap 1 - Jouw gegevens'!$C$22 *J17*G17 *C17/B17,  'Stap 1 - Jouw gegevens'!$C$22 * J17*G17 *$W$10/B17), \"\")","v":""},"",null,"","","","","","",null,null,null,null,null,null,"X","","X","X","X","",""]
[null,null,null,null,null,null,null,"",{"$f":"IF(AND(L18 = \"\", NOT(H18=\"\")),IF(C18< $W$10, (H18 *G18 * (C18/B18) * 'Stap 1 - Jouw gegevens'!$C$18), (H18 *G18 *'Stap 1 - Jouw gegevens'!$C$18 * ($W$10/B18))), \"\")","v":""},"",{"$f":"IF(AND(L18 = \"\", NOT(J18=\"\")),IF(C18< $W$10, 'Stap 1 - Jouw gegevens'!$C$22 *J18*G18 *C18/B18,  'Stap 1 - Jouw gegevens'!$C$22 * J18*G18 *$W$10/B18), \"\")","v":""},"",null,"","","","","","",null,null,null,null,null,null,"X","","X","X","X","",""]
[null,null,null,null,null,null,null,"",{"$f":"IF(AND(L19 = \"\", NOT(H19=\"\")),IF(C19< $W$10, (H19 *G19 * (C19/B19) * 'Stap 1 - Jouw gegevens'!$C$18), (H19 *G19 *'Stap 1 - Jouw gegevens'!$C$18 * ($W$10/B19))), \"\")","v":""},"",{"$f":"IF(AND(L19 = \"\", NOT(J19=\"\")),IF(C19< $W$10, 'Stap 1 - Jouw gegevens'!$C$22 *J19*G19 *C19/B19,  'Stap 1 - Jouw gegevens'!$C$22 * J19*G19 *$W$10/B19), \"\")","v":""},"",null,"","","","","","",null,null,null,null,null,null,"X","","X","X","X","",""]
[null,null,null,null,null,null,null,"",{"$f":"IF(AND(L20 = \"\", NOT(H20=\"\")),IF(C20< $W$10, (H20 *G20 * (C20/B20) * 'Stap 1 - Jouw gegevens'!$C$18), (H20 *G20 *'Stap 1 - Jouw gegevens'!$C$18 * ($W$10/B20))), \"\")","v":""},"",{"$f":"IF(AND(L20 = \"\", NOT(J20=\"\")),IF(C20< $W$10, 'Stap 1 - Jouw gegevens'!$C$22 *J20*G20 *C20/B20,  'Stap 1 - Jouw gegevens'!$C$22 * J20*G20 *$W$10/B20), \"\")","v":""},"",null,"","","","","","",null,null,null,null,null,null,"X","","X","X","X","",""]
[null,null,null,null,null,null,null,"",{"$f":"IF(AND(L21 = \"\", NOT(H21=\"\")),IF(C21< $W$10, (H21 *G21 * (C21/B21) * 'Stap 1 - Jouw gegevens'!$C$18), (H21 *G21 *'Stap 1 - Jouw gegevens'!$C$18 * ($W$10/B21))), \"\")","v":""},"",{"$f":"IF(AND(L21 = \"\", NOT(J21=\"\")),IF(C21< $W$10, 'Stap 1 - Jouw gegevens'!$C$22 *J21*G21 *C21/B21,  'Stap 1 - Jouw gegevens'!$C$22 * J21*G21 *$W$10/B21), \"\")","v":""},"",null,"","","","","","",null,null,null,null,null,null,"X","","X","X","X","",""]
[null,null,null,null,null,null,null,"",{"$f":"IF(AND(L22 = \"\", NOT(H22=\"\")),IF(C22< $W$10, (H22 *G22 * (C22/B22) * 'Stap 1 - Jouw gegevens'!$C$18), (H22 *G22 *'Stap 1 - Jouw gegevens'!$C$18 * ($W$10/B22))), \"\")","v":""},"",{"$f":"IF(AND(L22 = \"\", NOT(J22=\"\")),IF(C22< $W$10, 'Stap 1 - Jouw gegevens'!$C$22 *J22*G22 *C22/B22,  'Stap 1 - Jouw gegevens'!$C$22 * J22*G22 *$W$10/B22), \"\")","v":""},"",null,"","","","","","",null,null,null,null,null,null,"X","","X","X","X","",""]
[null,null,null,null,null,null,null,"",{"$f":"IF(AND(L23 = \"\", NOT(H23=\"\")),IF(C23< $W$10, (H23 *G23 * (C23/B23) * 'Stap 1 - Jouw gegevens'!$C$18), (H23 *G23 *'Stap 1 - Jouw gegevens'!$C$18 * ($W$10/B23))), \"\")","v":""},"",{"$f":"IF(AND(L23 = \"\", NOT(J23=\"\")),IF(C23< $W$10, 'Stap 1 - Jouw gegevens'!$C$22 *J23*G23 *C23/B23,  'Stap 1 - Jouw gegevens'!$C$22 * J23*G23 *$W$10/B23), \"\")","v":""},"",null,"","","","","","",null,null,null,null,null,null,"X","","X","X","X","",""]
[null,null,null,null,null,null,null,"",{"$f":"IF(AND(L24 = \"\", NOT(H24=\"\")),IF(C24< $W$10, (H24 *G24 * (C24/B24) * 'Stap 1 - Jouw gegevens'!$C$18), (H24 *G24 *'Stap 1 - Jouw gegevens'!$C$18 * ($W$10/B24))), \"\")","v":""},"",{"$f":"IF(AND(L24 = \"\", NOT(J24=\"\")),IF(C24< $W$10, 'Stap 1 - Jouw gegevens'!$C$22 *J24*G24 *C24/B24,  'Stap 1 - Jouw gegevens'!$C$22 * J24*G24 *$W$10/B24), \"\")","v":""},"",null,"","","","","","",null,null,null,null,null,null,"X","","X","X","X","",""]
[null,null,null,null,null,null,null,"",{"$f":"IF(AND(L25 = \"\", NOT(H25=\"\")),IF(C25< $W$10, (H25 *G25 * (C25/B25) * 'Stap 1 - Jouw gegevens'!$C$18), (H25 *G25 *'Stap 1 - Jouw gegevens'!$C$18 * ($W$10/B25))), \"\")","v":""},"",{"$f":"IF(AND(L25 = \"\", NOT(J25=\"\")),IF(C25< $W$10, 'Stap 1 - Jouw gegevens'!$C$22 *J25*G25 *C25/B25,  'Stap 1 - Jouw gegevens'!$C$22 * J25*G25 *$W$10/B25), \"\")","v":""},"",null,"","","","","","",null,null,null,null,null,null,"X","","X","X","X","",""]
[null,null,null,null,null,null,null,"",{"$f":"IF(AND(L26 = \"\", NOT(H26=\"\")),IF(C26< $W$10, (H26 *G26 * (C26/B26) * 'Stap 1 - Jouw gegevens'!$C$18), (H26 *G26 *'Stap 1 - Jouw gegevens'!$C$18 * ($W$10/B26))), \"\")","v":""},"",{"$f":"IF(AND(L26 = \"\", NOT(J26=\"\")),IF(C26< $W$10, 'Stap 1 - Jouw gegevens'!$C$22 *J26*G26 *C26/B26,  'Stap 1 - Jouw gegevens'!$C$22 * J26*G26 *$W$10/B26), \"\")","v":""},"",null,"","","","","","",null,null,null,null,null,null,"X","","X","X","X","",""]
[null,null,null,null,null,null,null,"",{"$f":"IF(AND(L27 = \"\", NOT(H27=\"\")),IF(C27< $W$10, (H27 *G27 * (C27/B27) * 'Stap 1 - Jouw gegevens'!$C$18), (H27 *G27 *'Stap 1 - Jouw gegevens'!$C$18 * ($W$10/B27))), \"\")","v":""},"",{"$f":"IF(AND(L27 = \"\", NOT(J27=\"\")),IF(C27< $W$10, 'Stap 1 - Jouw gegevens'!$C$22 *J27*G27 *C27/B27,  'Stap 1 - Jouw gegevens'!$C$22 * J27*G27 *$W$10/B27), \"\")","v":""},"",null,"","","","","","",null,null,null,null,null,null,"X","","X","X","X","",""]
[null,null,null,null,null,null,null,"",{"$f":"IF(AND(L28 = \"\", NOT(H28=\"\")),IF(C28< $W$10, (H28 *G28 * (C28/B28) * 'Stap 1 - Jouw gegevens'!$C$18), (H28 *G28 *'Stap 1 - Jouw gegevens'!$C$18 * ($W$10/B28))), \"\")","v":""},"",{"$f":"IF(AND(L28 = \"\", NOT(J28=\"\")),IF(C28< $W$10, 'Stap 1 - Jouw gegevens'!$C$22 *J28*G28 *C28/B28,  'Stap 1 - Jouw gegevens'!$C$22 * J28*G28 *$W$10/B28), \"\")","v":""},"",null,"","","","","","",null,null,null,null,null,null,"X","","X","X","X","",""]
[null,null,null,null,null,null,null,"",{"$f":"IF(AND(L29 = \"\", NOT(H29=\"\")),IF(C29< $W$10, (H29 *G29 * (C29/B29) * 'Stap 1 - Jouw gegevens'!$C$18), (H29 *G29 *'Stap 1 - Jouw gegevens'!$C$18 * ($W$10/B29))), \"\")","v":""},"",{"$f":"IF(AND(L29 = \"\", NOT(J29=\"\")),IF(C29< $W$10, 'Stap 1 - Jouw gegevens'!$C$22 *J29*G29 *C29/B29,  'Stap 1 - Jouw gegevens'!$C$22 * J29*G29 *$W$10/B29), \"\")","v":""},"",null,"","","","","","",null,null,null,null,null,null,"X","","X","X","X","",""]
[null,null,null,null,null,null,null,"",{"$f":"IF(AND(L30 = \"\", NOT(H30=\"\")),IF(C30< $W$10, (H30 *G30 * (C30/B30) * 'Stap 1 - Jouw gegevens'!$C$18), (H30 *G30 *'Stap 1 - Jouw gegevens'!$C$18 * ($W$10/B30))), \"\")","v":""},"",{"$f":"IF(AND(L30 = \"\", NOT(J30=\"\")),IF(C30< $W$10, 'Stap 1 - Jouw gegevens'!$C$22 *J30*G30 *C30/B30,  'Stap 1 - Jouw gegevens'!$C$22 * J30*G30 *$W$10/B30), \"\")","v":""},"",null,"","","","","","",null,null,null,null,null,null,"X","","X","X","X","",""]
[null,null,null,null,null,null,null,"",{"$f":"IF(AND(L31 = \"\", NOT(H31=\"\")),IF(C31< $W$10, (H31 *G31 * (C31/B31) * 'Stap 1 - Jouw gegevens'!$C$18), (H31 *G31 *'Stap 1 - Jouw gegevens'!$C$18 * ($W$10/B31))), \"\")","v":""},"",{"$f":"IF(AND(L31 = \"\", NOT(J31=\"\")),IF(C31< $W$10, 'Stap 1 - Jouw gegevens'!$C$22 *J31*G31 *C31/B31,  'Stap 1 - Jouw gegevens'!$C$22 * J31*G31 *$W$10/B31), \"\")","v":""},"",null,"","","","","","",null,null,null,null,null,null,"X","","X","X","X","",""]
[null,null,null,null,null,null,null,"",{"$f":"IF(AND(L32 = \"\", NOT(H32=\"\")),IF(C32< $W$10, (H32 *G32 * (C32/B32) * 'Stap 1 - Jouw gegevens'!$C$18), (H32 *G32 *'Stap 1 - Jouw gegevens'!$C$18 * ($W$10/B32))), \"\")","v":""},"",{"$f":"IF(AND(L32 = \"\", NOT(J32=\"\")),IF(C32< $W$10, 'Stap 1 - Jouw gegevens'!$C$22 *J32*G32 *C32/B32,  'Stap 1 - Jouw gegevens'!$C$22 * J32*G32 *$W$10/B32), \"\")","v":""},"",null,"","","","","","",null,null,null,null,null,null,"X","","X","X","X","",""]
[null,null,null,null,null,null,null,"",{"$f":"IF(AND(L33 = \"\", NOT(H33=\"\")),IF(C33< $W$10, (H33 *G33 * (C33/B33) * 'Stap 1 - Jouw gegevens'!$C$18), (H33 *G33 *'Stap 1 - Jouw gegevens'!$C$18 * ($W$10/B33))), \"\")","v":""},"",{"$f":"IF(AND(L33 = \"\", NOT(J33=\"\")),IF(C33< $W$10, 'Stap 1 - Jouw gegevens'!$C$22 *J33*G33 *C33/B33,  'Stap 1 - Jouw gegevens'!$C$22 * J33*G33 *$W$10/B33), \"\")","v":""},"",null,"","","","","","",null,null,null,null,null,null,"X","","X","X","X","",""]
[null,null,null,null,null,null,null,"",{"$f":"IF(AND(L34 = \"\", NOT(H34=\"\")),IF(C34< $W$10, (H34 *G34 * (C34/B34) * 'Stap 1 - Jouw gegevens'!$C$18), (H34 *G34 *'Stap 1 - Jouw gegevens'!$C$18 * ($W$10/B34))), \"\")","v":""},"",{"$f":"IF(AND(L34 = \"\", NOT(J34=\"\")),IF(C34< $W$10, 'Stap 1 - Jouw gegevens'!$C$22 *J34*G34 *C34/B34,  'Stap 1 - Jouw gegevens'!$C$22 * J34*G34 *$W$10/B34), \"\")","v":""},"",null,"","","","","","",null,null,null,null,null,null,"X","","X","X","X","",""]
[null,null,null,null,null,null,null,"",{"$f":"IF(AND(L35 = \"\", NOT(H35=\"\")),IF(C35< $W$10, (H35 *G35 * (C35/B35) * 'Stap 1 - Jouw gegevens'!$C$18), (H35 *G35 *'Stap 1 - Jouw gegevens'!$C$18 * ($W$10/B35))), \"\")","v":""},"",{"$f":"IF(AND(L35 = \"\", NOT(J35=\"\")),IF(C35< $W$10, 'Stap 1 - Jouw gegevens'!$C$22 *J35*G35 *C35/B35,  'Stap 1 - Jouw gegevens'!$C$22 * J35*G35 *$W$10/B35), \"\")","v":""},"",null,"","","","","","",null,null,null,null,null,null,"X","","X","X","X","",""]
[null,null,null,null,null,null,null,"",{"$f":"IF(AND(L36 = \"\", NOT(H36=\"\")),IF(C36< $W$10, (H36 *G36 * (C36/B36) * 'Stap 1 - Jouw gegevens'!$C$18), (H36 *G36 *'Stap 1 - Jouw gegevens'!$C$18 * ($W$10/B36))), \"\")","v":""},"",{"$f":"IF(AND(L36 = \"\", NOT(J36=\"\")),IF(C36< $W$10, 'Stap 1 - Jouw gegevens'!$C$22 *J36*G36 *C36/B36,  'Stap 1 - Jouw gegevens'!$C$22 * J36*G36 *$W$10/B36), \"\")","v":""},"",null,"","","","","","",null,null,null,null,null,null,"X","","X","X","X","",""]
[null,null,null,null,null,null,null,"",{"$f":"IF(AND(L37 = \"\", NOT(H37=\"\")),IF(C37< $W$10, (H37 *G37 * (C37/B37) * 'Stap 1 - Jouw gegevens'!$C$18), (H37 *G37 *'Stap 1 - Jouw gegevens'!$C$18 * ($W$10/B37))), \"\")","v":""},"",{"$f":"IF(AND(L37 = \"\", NOT(J37=\"\")),IF(C37< $W$10, 'Stap 1 - Jouw gegevens'!$C$22 *J37*G37 *C37/B37,  'Stap 1 - Jouw gegevens'!$C$22 * J37*G37 *$W$10/B37), \"\")","v":""},"",null,"","","","","","",null,null,null,null,null,null,"X","","X","X","X","",""]
[null,null,null,null,null,null,null,"",{"$f":"IF(AND(L38 = \"\", NOT(H38=\"\")),IF(C38< $W$10, (H38 *G38 * (C38/B38) * 'Stap 1 - Jouw gegevens'!$C$18), (H38 *G38 *'Stap 1 - Jouw gegevens'!$C$18 * ($W$10/B38))), \"\")","v":""},"",{"$f":"IF(AND(L38 = \"\", NOT(J38=\"\")),IF(C38< $W$10, 'Stap 1 - Jouw gegevens'!$C$22 *J38*G38 *C38/B38,  'Stap 1 - Jouw gegevens'!$C$22 * J38*G38 *$W$10/B38), \"\")","v":""},"",null,"","","","","","",null,null,null,null,null,null,"X","","X","X","X","",""]
[null,null,null,null,null,null,null,"",{"$f":"IF(AND(L39 = \"\", NOT(H39=\"\")),IF(C39< $W$10, (H39 *G39 * (C39/B39) * 'Stap 1 - Jouw gegevens'!$C$18), (H39 *G39 *'Stap 1 - Jouw gegevens'!$C$18 * ($W$10/B39))), \"\")","v":""},"",{"$f":"IF(AND(L39 = \"\", NOT(J39=\"\")),IF(C39< $W$10, 'Stap 1 - Jouw gegevens'!$C$22 *J39*G39 *C39/B39,  'Stap 1 - Jouw gegevens'!$C$22 * J39*G39 *$W$10/B39), \"\")","v":""},"",null,"","","","","","",null,null,null,null,null,null,"X",{"$f":"IF(C39>125000,\"X\", \"\")","v":""},{"$f":"IF(AND(D39>= DATE(YEAR($W$5)-2,1,1), D39<=DATE(YEAR($W$5),12,31)), \"\", \"X\")","v":"X"},{"$f":"IF(AND(E39>= DATE(YEAR($W$5),1,1), E39<=DATE(YEAR($W$5),12,31)), \"\",\"X\")","v":"X"},"X",{"$f":"IF(AND(G39  >= 0%, G39 <= 100%), \"\", \"X\")","v":""},""]
[null,null,null,null,null,null,null,"",{"$f":"IF(AND(L40 = \"\", NOT(H40=\"\")),IF(C40< $W$10, (H40 *G40 * (C40/B40) * 'Stap 1 - Jouw gegevens'!$C$18), (H40 *G40 *'Stap 1 - Jouw gegevens'!$C$18 * ($W$10/B40))), \"\")","v":""},"",{"$f":"IF(AND(L40 = \"\", NOT(J40=\"\")),IF(C40< $W$10, 'Stap 1 - Jouw gegevens'!$C$22 *J40*G40 *C40/B40,  'Stap 1 - Jouw gegevens'!$C$22 * J40*G40 *$W$10/B40), \"\")","v":""},"",null,"","","","","","",null,null,null,null,null,null,"X","","X","X","X","",""]
[null,null,null,null,null,null,null,"",{"$f":"IF(AND(L41 = \"\", NOT(H41=\"\")),IF(C41< $W$10, (H41 *G41 * (C41/B41) * 'Stap 1 - Jouw gegevens'!$C$18), (H41 *G41 *'Stap 1 - Jouw gegevens'!$C$18 * ($W$10/B41))), \"\")","v":""},"",{"$f":"IF(AND(L41 = \"\", NOT(J41=\"\")),IF(C41< $W$10, 'Stap 1 - Jouw gegevens'!$C$22 *J41*G41 *C41/B41,  'Stap 1 - Jouw gegevens'!$C$22 * J41*G41 *$W$10/B41), \"\")","v":""},"",null,"","","","","","",null,null,null,null,null,null,"X","","X","X","X","",""]
[null,null,null,null,null,null,null,"",{"$f":"IF(AND(L42 = \"\", NOT(H42=\"\")),IF(C42< $W$10, (H42 *G42 * (C42/B42) * 'Stap 1 - Jouw gegevens'!$C$18), (H42 *G42 *'Stap 1 - Jouw gegevens'!$C$18 * ($W$10/B42))), \"\")","v":""},"",{"$f":"IF(AND(L42 = \"\", NOT(J42=\"\")),IF(C42< $W$10, 'Stap 1 - Jouw gegevens'!$C$22 *J42*G42 *C42/B42,  'Stap 1 - Jouw gegevens'!$C$22 * J42*G42 *$W$10/B42), \"\")","v":""},"",null,"","","","","","",null,null,null,null,null,null,"X","","X","X","X","",""]
[null,null,null,null,null,null,null,"",{"$f":"IF(AND(L43 = \"\", NOT(H43=\"\")),IF(C43< $W$10, (H43 *G43 * (C43/B43) * 'Stap 1 - Jouw gegevens'!$C$18), (H43 *G43 *'Stap 1 - Jouw gegevens'!$C$18 * ($W$10/B43))), \"\")","v":""},"",{"$f":"IF(AND(L43 = \"\", NOT(J43=\"\")),IF(C43< $W$10, 'Stap 1 - Jouw gegevens'!$C$22 *J43*G43 *C43/B43,  'Stap 1 - Jouw gegevens'!$C$22 * J43*G43 *$W$10/B43), \"\")","v":""},"",null,"","","","","","",null,null,null,null,null,null,"X","","X","X","X","",""]
[null,null,null,null,null,null,null,"",{"$f":"IF(AND(L44 = \"\", NOT(H44=\"\")),IF(C44< $W$10, (H44 *G44 * (C44/B44) * 'Stap 1 - Jouw gegevens'!$C$18), (H44 *G44 *'Stap 1 - Jouw gegevens'!$C$18 * ($W$10/B44))), \"\")","v":""},"",{"$f":"IF(AND(L44 = \"\", NOT(J44=\"\")),IF(C44< $W$10, 'Stap 1 - Jouw gegevens'!$C$22 *J44*G44 *C44/B44,  'Stap 1 - Jouw gegevens'!$C$22 * J44*G44 *$W$10/B44), \"\")","v":""},"",null,"","","","","","",null,null,null,null,null,null,"X","","X","X","X","",""]
[null,null,null,null,null,null,null,"",{"$f":"IF(AND(L45 = \"\", NOT(H45=\"\")),IF(C45< $W$10, (H45 *G45 * (C45/B45) * 'Stap 1 - Jouw gegevens'!$C$18), (H45 *G45 *'Stap 1 - Jouw gegevens'!$C$18 * ($W$10/B45))), \"\")","v":""},"",{"$f":"IF(AND(L45 = \"\", NOT(J45=\"\")),IF(C45< $W$10, 'Stap 1 - Jouw gegevens'!$C$22 *J45*G45 *C45/B45,  'Stap 1 - Jouw gegevens'!$C$22 * J45*G45 *$W$10/B45), \"\")","v":""},"",null,"","","","","","",null,null,null,null,null,null,"X","","X","X","X","",""]
[null,null,null,null,null,null,null,"",{"$f":"IF(AND(L46 = \"\", NOT(H46=\"\")),IF(C46< $W$10, (H46 *G46 * (C46/B46) * 'Stap 1 - Jouw gegevens'!$C$18), (H46 *G46 *'Stap 1 - Jouw gegevens'!$C$18 * ($W$10/B46))), \"\")","v":""},"",{"$f":"IF(AND(L46 = \"\", NOT(J46=\"\")),IF(C46< $W$10, 'Stap 1 - Jouw gegevens'!$C$22 *J46*G46 *C46/B46,  'Stap 1 - Jouw gegevens'!$C$22 * J46*G46 *$W$10/B46), \"\")","v":""},"",null,"","","","","","",null,null,null,null,null,null,"X","","X","X","X","",""]
[null,null,null,null,null,null,null,"",{"$f":"IF(AND(L47 = \"\", NOT(H47=\"\")),IF(C47< $W$10, (H47 *G47 * (C47/B47) * 'Stap 1 - Jouw gegevens'!$C$18), (H47 *G47 *'Stap 1 - Jouw gegevens'!$C$18 * ($W$10/B47))), \"\")","v":""},"",{"$f":"IF(AND(L47 = \"\", NOT(J47=\"\")),IF(C47< $W$10, 'Stap 1 - Jouw gegevens'!$C$22 *J47*G47 *C47/B47,  'Stap 1 - Jouw gegevens'!$C$22 * J47*G47 *$W$10/B47), \"\")","v":""},"",null,"","","","","","",null,null,null,null,null,null,"X","","X","X","X","",""]
[null,null,null,null,null,null,null,"",{"$f":"IF(AND(L48 = \"\", NOT(H48=\"\")),IF(C48< $W$10, (H48 *G48 * (C48/B48) * 'Stap 1 - Jouw gegevens'!$C$18), (H48 *G48 *'Stap 1 - Jouw gegevens'!$C$18 * ($W$10/B48))), \"\")","v":""},"",{"$f":"IF(AND(L48 = \"\", NOT(J48=\"\")),IF(C48< $W$10, 'Stap 1 - Jouw gegevens'!$C$22 *J48*G48 *C48/B48,  'Stap 1 - Jouw gegevens'!$C$22 * J48*G48 *$W$10/B48), \"\")","v":""},"",null,"","","","","","",null,null,null,null,null,null,"X","","X","X","X","",""]
[null,null,null,null,null,null,null,"",{"$f":"IF(AND(L49 = \"\", NOT(H49=\"\")),IF(C49< $W$10, (H49 *G49 * (C49/B49) * 'Stap 1 - Jouw gegevens'!$C$18), (H49 *G49 *'Stap 1 - Jouw gegevens'!$C$18 * ($W$10/B49))), \"\")","v":""},"",{"$f":"IF(AND(L49 = \"\", NOT(J49=\"\")),IF(C49< $W$10, 'Stap 1 - Jouw gegevens'!$C$22 *J49*G49 *C49/B49,  'Stap 1 - Jouw gegevens'!$C$22 * J49*G49 *$W$10/B49), \"\")","v":""},"",null,"","","","","","",null,null,null,null,null,null,"X","","X","X","X","",""]
[null,null,null,null,null,null,null,"",{"$f":"IF(AND(L50 = \"\", NOT(H50=\"\")),IF(C50< $W$10, (H50 *G50 * (C50/B50) * 'Stap 1 - Jouw gegevens'!$C$18), (H50 *G50 *'Stap 1 - Jouw gegevens'!$C$18 * ($W$10/B50))), \"\")","v":""},"",{"$f":"IF(AND(L50 = \"\", NOT(J50=\"\")),IF(C50< $W$10, 'Stap 1 - Jouw gegevens'!$C$22 *J50*G50 *C50/B50,  'Stap 1 - Jouw gegevens'!$C$22 * J50*G50 *$W$10/B50), \"\")","v":""},"",null,"","","","","","",null,null,null,null,null,null,"X","","X","X","X","",""]
[null,null,null,null,null,null,null,"",{"$f":"IF(AND(L51 = \"\", NOT(H51=\"\")),IF(C51< $W$10, (H51 *G51 * (C51/B51) * 'Stap 1 - Jouw gegevens'!$C$18), (H51 *G51 *'Stap 1 - Jouw gegevens'!$C$18 * ($W$10/B51))), \"\")","v":""},"",{"$f":"IF(AND(L51 = \"\", NOT(J51=\"\")),IF(C51< $W$10, 'Stap 1 - Jouw gegevens'!$C$22 *J51*G51 *C51/B51,  'Stap 1 - Jouw gegevens'!$C$22 * J51*G51 *$W$10/B51), \"\")","v":""},"",null,"","","","","","",null,null,null,null,null,null,"X","","X","X","X","",""]
[null,null,null,null,null,null,null,"",{"$f":"IF(AND(L52 = \"\", NOT(H52=\"\")),IF(C52< $W$10, (H52 *G52 * (C52/B52) * 'Stap 1 - Jouw gegevens'!$C$18), (H52 *G52 *'Stap 1 - Jouw gegevens'!$C$18 * ($W$10/B52))), \"\")","v":""},"",{"$f":"IF(AND(L52 = \"\", NOT(J52=\"\")),IF(C52< $W$10, 'Stap 1 - Jouw gegevens'!$C$22 *J52*G52 *C52/B52,  'Stap 1 - Jouw gegevens'!$C$22 * J52*G52 *$W$10/B52), \"\")","v":""},"",null,"","","","","","",null,null,null,null,null,null,"X","","X","X","X","",""]
[null,null,null,null,null,null,null,"",{"$f":"IF(AND(L53 = \"\", NOT(H53=\"\")),IF(C53< $W$10, (H53 *G53 * (C53/B53) * 'Stap 1 - Jouw gegevens'!$C$18), (H53 *G53 *'Stap 1 - Jouw gegevens'!$C$18 * ($W$10/B53))), \"\")","v":""},"",{"$f":"IF(AND(L53 = \"\", NOT(J53=\"\")),IF(C53< $W$10, 'Stap 1 - Jouw gegevens'!$C$22 *J53*G53 *C53/B53,  'Stap 1 - Jouw gegevens'!$C$22 * J53*G53 *$W$10/B53), \"\")","v":""},"",null,"","","","","","",null,null,null,null,null,null,"X","","X","X","X","",""]
[null,null,null,null,null,null,null,"",{"$f":"IF(AND(L54 = \"\", NOT(H54=\"\")),IF(C54< $W$10, (H54 *G54 * (C54/B54) * 'Stap 1 - Jouw gegevens'!$C$18), (H54 *G54 *'Stap 1 - Jouw gegevens'!$C$18 * ($W$10/B54))), \"\")","v":""},"",{"$f":"IF(AND(L54 = \"\", NOT(J54=\"\")),IF(C54< $W$10, 'Stap 1 - Jouw gegevens'!$C$22 *J54*G54 *C54/B54,  'Stap 1 - Jouw gegevens'!$C$22 * J54*G54 *$W$10/B54), \"\")","v":""},"",null,"","","","","","",null,null,null,null,null,null,"X","","X","X","X","",""]
[null,null,null,null,null,null,null,"",{"$f":"IF(AND(L55 = \"\", NOT(H55=\"\")),IF(C55< $W$10, (H55 *G55 * (C55/B55) * 'Stap 1 - Jouw gegevens'!$C$18), (H55 *G55 *'Stap 1 - Jouw gegevens'!$C$18 * ($W$10/B55))), \"\")","v":""},"",{"$f":"IF(AND(L55 = \"\", NOT(J55=\"\")),IF(C55< $W$10, 'Stap 1 - Jouw gegevens'!$C$22 *J55*G55 *C55/B55,  'Stap 1 - Jouw gegevens'!$C$22 * J55*G55 *$W$10/B55), \"\")","v":""},"",null,"","","","","","",null,null,null,null,null,null,"X","","X","X","X","",""]
[null,null,null,null,null,null,null,"",{"$f":"IF(AND(L56 = \"\", NOT(H56=\"\")),IF(C56< $W$10, (H56 *G56 * (C56/B56) * 'Stap 1 - Jouw gegevens'!$C$18), (H56 *G56 *'Stap 1 - Jouw gegevens'!$C$18 * ($W$10/B56))), \"\")","v":""},"",{"$f":"IF(AND(L56 = \"\", NOT(J56=\"\")),IF(C56< $W$10, 'Stap 1 - Jouw gegevens'!$C$22 *J56*G56 *C56/B56,  'Stap 1 - Jouw gegevens'!$C$22 * J56*G56 *$W$10/B56), \"\")","v":""},"",null,"","","","","","",null,null,null,null,null,null,"X","","X","X","X","",""]
[null,null,null,null,null,null,null,"",{"$f":"IF(AND(L57 = \"\", NOT(H57=\"\")),IF(C57< $W$10, (H57 *G57 * (C57/B57) * 'Stap 1 - Jouw gegevens'!$C$18), (H57 *G57 *'Stap 1 - Jouw gegevens'!$C$18 * ($W$10/B57))), \"\")","v":""},"",{"$f":"IF(AND(L57 = \"\", NOT(J57=\"\")),IF(C57< $W$10, 'Stap 1 - Jouw gegevens'!$C$22 *J57*G57 *C57/B57,  'Stap 1 - Jouw gegevens'!$C$22 * J57*G57 *$W$10/B57), \"\")","v":""},"",null,"","","","","","",null,null,null,null,null,null,"X","","X","X","X","",""]
[null,null,null,null,null,null,null,"",{"$f":"IF(AND(L58 = \"\", NOT(H58=\"\")),IF(C58< $W$10, (H58 *G58 * (C58/B58) * 'Stap 1 - Jouw gegevens'!$C$18), (H58 *G58 *'Stap 1 - Jouw gegevens'!$C$18 * ($W$10/B58))), \"\")","v":""},"",{"$f":"IF(AND(L58 = \"\", NOT(J58=\"\")),IF(C58< $W$10, 'Stap 1 - Jouw gegevens'!$C$22 *J58*G58 *C58/B58,  'Stap 1 - Jouw gegevens'!$C$22 * J58*G58 *$W$10/B58), \"\")","v":""},"",null,"","","","","","",null,null,null,null,null,null,"X","","X","X","X","",""]
[null,null,null,null,null,null,null,"",{"$f":"IF(AND(L59 = \"\", NOT(H59=\"\")),IF(C59< $W$10, (H59 *G59 * (C59/B59) * 'Stap 1 - Jouw gegevens'!$C$18), (H59 *G59 *'Stap 1 - Jouw gegevens'!$C$18 * ($W$10/B59))), \"\")","v":""},"",{"$f":"IF(AND(L59 = \"\", NOT(J59=\"\")),IF(C59< $W$10, 'Stap 1 - Jouw gegevens'!$C$22 *J59*G59 *C59/B59,  'Stap 1 - Jouw gegevens'!$C$22 * J59*G59 *$W$10/B59), \"\")","v":""},"",null,"","","","","","",null,null,null,null,null,null,"X","","X","X","X","",""]
[null,null,null,null,null,null,null,"",{"$f":"IF(AND(L60 = \"\", NOT(H60=\"\")),IF(C60< $W$10, (H60 *G60 * (C60/B60) * 'Stap 1 - Jouw gegevens'!$C$18), (H60 *G60 *'Stap 1 - Jouw gegevens'!$C$18 * ($W$10/B60))), \"\")","v":""},"",{"$f":"IF(AND(L60 = \"\", NOT(J60=\"\")),IF(C60< $W$10, 'Stap 1 - Jouw gegevens'!$C$22 *J60*G60 *C60/B60,  'Stap 1 - Jouw gegevens'!$C$22 * J60*G60 *$W$10/B60), \"\")","v":""},"",null,"","","","","","",null,null,null,null,null,null,"X","","X","X","X","",""]
[null,null,null,null,null,null,null,"",{"$f":"IF(AND(L61 = \"\", NOT(H61=\"\")),IF(C61< $W$10, (H61 *G61 * (C61/B61) * 'Stap 1 - Jouw gegevens'!$C$18), (H61 *G61 *'Stap 1 - Jouw gegevens'!$C$18 * ($W$10/B61))), \"\")","v":""},"",{"$f":"IF(AND(L61 = \"\", NOT(J61=\"\")),IF(C61< $W$10, 'Stap 1 - Jouw gegevens'!$C$22 *J61*G61 *C61/B61,  'Stap 1 - Jouw gegevens'!$C$22 * J61*G61 *$W$10/B61), \"\")","v":""},"",null,"","","","","","",null,null,null,null,null,null,"X","","X","X","X","",""]
[null,null,null,null,null,null,null,"",{"$f":"IF(AND(L62 = \"\", NOT(H62=\"\")),IF(C62< $W$10, (H62 *G62 * (C62/B62) * 'Stap 1 - Jouw gegevens'!$C$18), (H62 *G62 *'Stap 1 - Jouw gegevens'!$C$18 * ($W$10/B62))), \"\")","v":""},"",{"$f":"IF(AND(L62 = \"\", NOT(J62=\"\")),IF(C62< $W$10, 'Stap 1 - Jouw gegevens'!$C$22 *J62*G62 *C62/B62,  'Stap 1 - Jouw gegevens'!$C$22 * J62*G62 *$W$10/B62), \"\")","v":""},"",null,"","","","","","",null,null,null,null,null,null,"X","","X","X","X","",""]
[null,null,null,null,null,null,null,"",{"$f":"IF(AND(L63 = \"\", NOT(H63=\"\")),IF(C63< $W$10, (H63 *G63 * (C63/B63) * 'Stap 1 - Jouw gegevens'!$C$18), (H63 *G63 *'Stap 1 - Jouw gegevens'!$C$18 * ($W$10/B63))), \"\")","v":""},"",{"$f":"IF(AND(L63 = \"\", NOT(J63=\"\")),IF(C63< $W$10, 'Stap 1 - Jouw gegevens'!$C$22 *J63*G63 *C63/B63,  'Stap 1 - Jouw gegevens'!$C$22 * J63*G63 *$W$10/B63), \"\")","v":""},"",null,"","","","","","",null,null,null,null,null,null,"X","","X","X","X","",""]
[null,null,null,null,null,null,null,"",{"$f":"IF(AND(L64 = \"\", NOT(H64=\"\")),IF(C64< $W$10, (H64 *G64 * (C64/B64) * 'Stap 1 - Jouw gegevens'!$C$18), (H64 *G64 *'Stap 1 - Jouw gegevens'!$C$18 * ($W$10/B64))), \"\")","v":""},"",{"$f":"IF(AND(L64 = \"\", NOT(J64=\"\")),IF(C64< $W$10, 'Stap 1 - Jouw gegevens'!$C$22 *J64*G64 *C64/B64,  'Stap 1 - Jouw gegevens'!$C$22 * J64*G64 *$W$10/B64), \"\")","v":""},"",null,"","","","","","",null,null,null,null,null,null,"X","","X","X","X","",""]
[null,null,null,null,null,null,null,"",{"$f":"IF(AND(L65 = \"\", NOT(H65=\"\")),IF(C65< $W$10, (H65 *G65 * (C65/B65) * 'Stap 1 - Jouw gegevens'!$C$18), (H65 *G65 *'Stap 1 - Jouw gegevens'!$C$18 * ($W$10/B65))), \"\")","v":""},"",{"$f":"IF(AND(L65 = \"\", NOT(J65=\"\")),IF(C65< $W$10, 'Stap 1 - Jouw gegevens'!$C$22 *J65*G65 *C65/B65,  'Stap 1 - Jouw gegevens'!$C$22 * J65*G65 *$W$10/B65), \"\")","v":""},"",null,"","","","","","",null,null,null,null,null,null,"X","","X","X","X","",""]
[null,null,null,null,null,null,null,"",{"$f":"IF(AND(L66 = \"\", NOT(H66=\"\")),IF(C66< $W$10, (H66 *G66 * (C66/B66) * 'Stap 1 - Jouw gegevens'!$C$18), (H66 *G66 *'Stap 1 - Jouw gegevens'!$C$18 * ($W$10/B66))), \"\")","v":""},"",{"$f":"IF(AND(L66 = \"\", NOT(J66=\"\")),IF(C66< $W$10, 'Stap 1 - Jouw gegevens'!$C$22 *J66*G66 *C66/B66,  'Stap 1 - Jouw gegevens'!$C$22 * J66*G66 *$W$10/B66), \"\")","v":""},"",null,"","","","","","",null,null,null,null,null,null,"X","","X","X","X","",""]
[null,null,null,null,null,null,null,"",{"$f":"IF(AND(L67 = \"\", NOT(H67=\"\")),IF(C67< $W$10, (H67 *G67 * (C67/B67) * 'Stap 1 - Jouw gegevens'!$C$18), (H67 *G67 *'Stap 1 - Jouw gegevens'!$C$18 * ($W$10/B67))), \"\")","v":""},"",{"$f":"IF(AND(L67 = \"\", NOT(J67=\"\")),IF(C67< $W$10, 'Stap 1 - Jouw gegevens'!$C$22 *J67*G67 *C67/B67,  'Stap 1 - Jouw gegevens'!$C$22 * J67*G67 *$W$10/B67), \"\")","v":""},"",null,"","","","","","",null,null,null,null,null,null,"X","","X","X","X","",""]
[null,null,null,null,null,null,null,"",{"$f":"IF(AND(L68 = \"\", NOT(H68=\"\")),IF(C68< $W$10, (H68 *G68 * (C68/B68) * 'Stap 1 - Jouw gegevens'!$C$18), (H68 *G68 *'Stap 1 - Jouw gegevens'!$C$18 * ($W$10/B68))), \"\")","v":""},"",{"$f":"IF(AND(L68 = \"\", NOT(J68=\"\")),IF(C68< $W$10, 'Stap 1 - Jouw gegevens'!$C$22 *J68*G68 *C68/B68,  'Stap 1 - Jouw gegevens'!$C$22 * J68*G68 *$W$10/B68), \"\")","v":""},"",null,"","","","","","",null,null,null,null,null,null,"X","","X","X","X","",""]
[null,null,null,null,null,null,null,"",{"$f":"IF(AND(L69 = \"\", NOT(H69=\"\")),IF(C69< $W$10, (H69 *G69 * (C69/B69) * 'Stap 1 - Jouw gegevens'!$C$18), (H69 *G69 *'Stap 1 - Jouw gegevens'!$C$18 * ($W$10/B69))), \"\")","v":""},"",{"$f":"IF(AND(L69 = \"\", NOT(J69=\"\")),IF(C69< $W$10, 'Stap 1 - Jouw gegevens'!$C$22 *J69*G69 *C69/B69,  'Stap 1 - Jouw gegevens'!$C$22 * J69*G69 *$W$10/B69), \"\")","v":""},"",null,"","","","","","",null,null,null,null,null,null,"X","","X","X","X","",""]
[null,null,null,null,null,null,null,"",{"$f":"IF(AND(L70 = \"\", NOT(H70=\"\")),IF(C70< $W$10, (H70 *G70 * (C70/B70) * 'Stap 1 - Jouw gegevens'!$C$18), (H70 *G70 *'Stap 1 - Jouw gegevens'!$C$18 * ($W$10/B70))), \"\")","v":""},"",{"$f":"IF(AND(L70 = \"\", NOT(J70=\"\")),IF(C70< $W$10, 'Stap 1 - Jouw gegevens'!$C$22 *J70*G70 *C70/B70,  'Stap 1 - Jouw gegevens'!$C$22 * J70*G70 *$W$10/B70), \"\")","v":""},"",null,"","","","","","",null,null,null,null,null,null,"X","","X","X","X","",""]
[null,null,null,null,null,null,null,"",{"$f":"IF(AND(L71 = \"\", NOT(H71=\"\")),IF(C71< $W$10, (H71 *G71 * (C71/B71) * 'Stap 1 - Jouw gegevens'!$C$18), (H71 *G71 *'Stap 1 - Jouw gegevens'!$C$18 * ($W$10/B71))), \"\")","v":""},"",{"$f":"IF(AND(L71 = \"\", NOT(J71=\"\")),IF(C71< $W$10, 'Stap 1 - Jouw gegevens'!$C$22 *J71*G71 *C71/B71,  'Stap 1 - Jouw gegevens'!$C$22 * J71*G71 *$W$10/B71), \"\")","v":""},"",null,"","","","","","",null,null,null,null,null,null,"X",{"$f":"IF(C71>125000,\"X\", \"\")","v":""},{"$f":"IF(AND(D71>= DATE(YEAR($W$5)-2,1,1), D71<=DATE(YEAR($W$5),12,31)), \"\", \"X\")","v":"X"},{"$f":"IF(AND(E71>= DATE(YEAR($W$5),1,1), E71<=DATE(YEAR($W$5),12,31)), \"\",\"X\")","v":"X"},"X",{"$f":"IF(AND(G71  >= 0%, G71 <= 100%), \"\", \"X\")","v":""},""]
[null,null,null,null,null,null,null,{"$f":"P72","v":""},{"$f":"IF(AND(L72 = \"\", NOT(H72=\"\")),IF(C72< $W$10, (H72 *G72 * (C72/B72) * 'Stap 1 - Jouw gegevens'!$C$18), (H72 *G72 *'Stap 1 - Jouw gegevens'!$C$18 * ($W$10/B72))), \"\")","v":""},{"$f":"S72","v":""},{"$f":"IF(AND(L72 = \"\", NOT(J72=\"\")),IF(C72< $W$10, 'Stap 1 - Jouw gegevens'!$C$22 *J72*G72 *C72/B72,  'Stap 1 - Jouw gegevens'!$C$22 * J72*G72 *$W$10/B72), \"\")","v":""},{"$f":"IF(ISBLANK(A72), \"\", CONCATENATE(IF(Z72 = \"X\", $AH$5, \"\"), IF( AB72 = \"X\", $AH$7, \"\"), IF( AC72 = \"X\", $AH$8, \"\"), IF( AD72 = \"X\", $AH$9, \"\"), IF( AE72 = \"X\", $AH$10, \"\"),  IF( AF72 = \"X\", $AH$11, \"\")))","v":""},null,{"$f":"IF(ISBLANK(D72),\"\",NETWORKDAYS(D72,F72))","v":""},{"$f":"IFERROR( IF(N72>$Y$5,NETWORKDAYS(E72, (Q72 - 1)), NETWORKDAYS(E72,(F72-1))), \"\")","v":""},{"$f":"IF(O72<= 0, \"\", O72)","v":""},{"$f":"IF(ISBLANK(D72),\"\",DATE(YEAR(D72)+1,MONTH(D72),DAY(D72)))","v":""},{"$f":"IFERROR(IF(N72 > $Y$5, IF(E72>=Q72,NETWORKDAYS(E72, (F72-1)), NETWORKDAYS(Q72, (F72-1))), \"\"), \"\")","v":""},{"$f":"IF(R72=\"\", \"\",  IF(R72 >= $Y$5, $Y$5,  R72))","v":""},null,null,null,null,null,null,{"$f":"IF(OR(B72 <= 0, B72 >$Y$5), \"X\", \"\")","v":"X"},"","X","X",{"$f":"IF(AND(F72>=DATE(YEAR($W$5),1,1),F72<=$X$5),\"\", \"X\")","v":"X"},"",{"$f":"IF(SUM(H72, J72) <= B72, \"\", \"X\")","v":""}]
[null,null,null,null,null,null,null,"",{"$f":"IF(AND(L73 = \"\", NOT(H73=\"\")),IF(C73< $W$10, (H73 *G73 * (C73/B73) * 'Stap 1 - Jouw gegevens'!$C$18), (H73 *G73 *'Stap 1 - Jouw gegevens'!$C$18 * ($W$10/B73))), \"\")","v":""},"",{"$f":"IF(AND(L73 = \"\", NOT(J73=\"\")),IF(C73< $W$10, 'Stap 1 - Jouw gegevens'!$C$22 *J73*G73 *C73/B73,  'Stap 1 - Jouw gegevens'!$C$22 * J73*G73 *$W$10/B73), \"\")","v":""},"",null,"","","","","","",null,null,null,null,null,null,"X","","X","X","X","",""]
[null,null,null,null,null,null,null,"",{"$f":"IF(AND(L74 = \"\", NOT(H74=\"\")),IF(C74< $W$10, (H74 *G74 * (C74/B74) * 'Stap 1 - Jouw gegevens'!$C$18), (H74 *G74 *'Stap 1 - Jouw gegevens'!$C$18 * ($W$10/B74))), \"\")","v":""},"",{"$f":"IF(AND(L74 = \"\", NOT(J74=\"\")),IF(C74< $W$10, 'Stap 1 - Jouw gegevens'!$C$22 *J74*G74 *C74/B74,  'Stap 1 - Jouw gegevens'!$C$22 * J74*G74 *$W$10/B74), \"\")","v":""},"",null,"","","","","","",null,null,null,null,null,null,"X","","X","X","X","",""]
[null,null,null,null,null,null,null,"",{"$f":"IF(AND(L75 = \"\", NOT(H75=\"\")),IF(C75< $W$10, (H75 *G75 * (C75/B75) * 'Stap 1 - Jouw gegevens'!$C$18), (H75 *G75 *'Stap 1 - Jouw gegevens'!$C$18 * ($W$10/B75))), \"\")","v":""},"",{"$f":"IF(AND(L75 = \"\", NOT(J75=\"\")),IF(C75< $W$10, 'Stap 1 - Jouw gegevens'!$C$22 *J75*G75 *C75/B75,  'Stap 1 - Jouw gegevens'!$C$22 * J75*G75 *$W$10/B75), \"\")","v":""},"",null,"","","","","","",null,null,null,null,null,null,"X","","X","X","X","",""]
[null,null,null,null,null,null,null,"",{"$f":"IF(AND(L76 = \"\", NOT(H76=\"\")),IF(C76< $W$10, (H76 *G76 * (C76/B76) * 'Stap 1 - Jouw gegevens'!$C$18), (H76 *G76 *'Stap 1 - Jouw gegevens'!$C$18 * ($W$10/B76))), \"\")","v":""},"",{"$f":"IF(AND(L76 = \"\", NOT(J76=\"\")),IF(C76< $W$10, 'Stap 1 - Jouw gegevens'!$C$22 *J76*G76 *C76/B76,  'Stap 1 - Jouw gegevens'!$C$22 * J76*G76 *$W$10/B76), \"\")","v":""},"",null,"","","","","","",null,null,null,null,null,null,"X","","X","X","X","",""]
[null,null,null,null,null,null,null,"",{"$f":"IF(AND(L77 = \"\", NOT(H77=\"\")),IF(C77< $W$10, (H77 *G77 * (C77/B77) * 'Stap 1 - Jouw gegevens'!$C$18), (H77 *G77 *'Stap 1 - Jouw gegevens'!$C$18 * ($W$10/B77))), \"\")","v":""},"",{"$f":"IF(AND(L77 = \"\", NOT(J77=\"\")),IF(C77< $W$10, 'Stap 1 - Jouw gegevens'!$C$22 *J77*G77 *C77/B77,  'Stap 1 - Jouw gegevens'!$C$22 * J77*G77 *$W$10/B77), \"\")","v":""},"",null,"","","","","","",null,null,null,null,null,null,"X","","X","X","X","",""]
[null,null,null,null,null,null,null,"",{"$f":"IF(AND(L78 = \"\", NOT(H78=\"\")),IF(C78< $W$10, (H78 *G78 * (C78/B78) * 'Stap 1 - Jouw gegevens'!$C$18), (H78 *G78 *'Stap 1 - Jouw gegevens'!$C$18 * ($W$10/B78))), \"\")","v":""},"",{"$f":"IF(AND(L78 = \"\", NOT(J78=\"\")),IF(C78< $W$10, 'Stap 1 - Jouw gegevens'!$C$22 *J78*G78 *C78/B78,  'Stap 1 - Jouw gegevens'!$C$22 * J78*G78 *$W$10/B78), \"\")","v":""},"",null,"","","","","","",null,null,null,null,null,null,"X","","X","X","X","",""]
[null,null,null,null,null,null,null,"",{"$f":"IF(AND(L79 = \"\", NOT(H79=\"\")),IF(C79< $W$10, (H79 *G79 * (C79/B79) * 'Stap 1 - Jouw gegevens'!$C$18), (H79 *G79 *'Stap 1 - Jouw gegevens'!$C$18 * ($W$10/B79))), \"\")","v":""},"",{"$f":"IF(AND(L79 = \"\", NOT(J79=\"\")),IF(C79< $W$10, 'Stap 1 - Jouw gegevens'!$C$22 *J79*G79 *C79/B79,  'Stap 1 - Jouw gegevens'!$C$22 * J79*G79 *$W$10/B79), \"\")","v":""},"",null,"","","","","","",null,null,null,null,null,null,"X","","X","X","X","",""]
[null,null,null,null,null,null,null,"",{"$f":"IF(AND(L80 = \"\", NOT(H80=\"\")),IF(C80< $W$10, (H80 *G80 * (C80/B80) * 'Stap 1 - Jouw gegevens'!$C$18), (H80 *G80 *'Stap 1 - Jouw gegevens'!$C$18 * ($W$10/B80))), \"\")","v":""},"",{"$f":"IF(AND(L80 = \"\", NOT(J80=\"\")),IF(C80< $W$10, 'Stap 1 - Jouw gegevens'!$C$22 *J80*G80 *C80/B80,  'Stap 1 - Jouw gegevens'!$C$22 * J80*G80 *$W$10/B80), \"\")","v":""},"",null,"","","","","","",null,null,null,null,null,null,"X","","X","X","X","",""]
[null,null,null,null,null,null,null,"",{"$f":"IF(AND(L81 = \"\", NOT(H81=\"\")),IF(C81< $W$10, (H81 *G81 * (C81/B81) * 'Stap 1 - Jouw gegevens'!$C$18), (H81 *G81 *'Stap 1 - Jouw gegevens'!$C$18 * ($W$10/B81))), \"\")","v":""},"",{"$f":"IF(AND(L81 = \"\", NOT(J81=\"\")),IF(C81< $W$10, 'Stap 1 - Jouw gegevens'!$C$22 *J81*G81 *C81/B81,  'Stap 1 - Jouw gegevens'!$C$22 * J81*G81 *$W$10/B81), \"\")","v":""},"",null,"","","","","","",null,null,null,null,null,null,"X","","X","X","X","",""]
[null,null,null,null,null,null,null,"",{"$f":"IF(AND(L82 = \"\", NOT(H82=\"\")),IF(C82< $W$10, (H82 *G82 * (C82/B82) * 'Stap 1 - Jouw gegevens'!$C$18), (H82 *G82 *'Stap 1 - Jouw gegevens'!$C$18 * ($W$10/B82))), \"\")","v":""},"",{"$f":"IF(AND(L82 = \"\", NOT(J82=\"\")),IF(C82< $W$10, 'Stap 1 - Jouw gegevens'!$C$22 *J82*G82 *C82/B82,  'Stap 1 - Jouw gegevens'!$C$22 * J82*G82 *$W$10/B82), \"\")","v":""},"",null,"","","","","","",null,null,null,null,null,null,"X","","X","X","X","",""]
[null,null,null,null,null,null,null,"",{"$f":"IF(AND(L83 = \"\", NOT(H83=\"\")),IF(C83< $W$10, (H83 *G83 * (C83/B83) * 'Stap 1 - Jouw gegevens'!$C$18), (H83 *G83 *'Stap 1 - Jouw gegevens'!$C$18 * ($W$10/B83))), \"\")","v":""},"",{"$f":"IF(AND(L83 = \"\", NOT(J83=\"\")),IF(C83< $W$10, 'Stap 1 - Jouw gegevens'!$C$22 *J83*G83 *C83/B83,  'Stap 1 - Jouw gegevens'!$C$22 * J83*G83 *$W$10/B83), \"\")","v":""},"",null,"","","","","","",null,null,null,null,null,null,"X","","X","X","X","",""]
[null,null,null,null,null,null,null,"",{"$f":"IF(AND(L84 = \"\", NOT(H84=\"\")),IF(C84< $W$10, (H84 *G84 * (C84/B84) * 'Stap 1 - Jouw gegevens'!$C$18), (H84 *G84 *'Stap 1 - Jouw gegevens'!$C$18 * ($W$10/B84))), \"\")","v":""},"",{"$f":"IF(AND(L84 = \"\", NOT(J84=\"\")),IF(C84< $W$10, 'Stap 1 - Jouw gegevens'!$C$22 *J84*G84 *C84/B84,  'Stap 1 - Jouw gegevens'!$C$22 * J84*G84 *$W$10/B84), \"\")","v":""},"",null,"","","","","","",null,null,null,null,null,null,"X","","X","X","X","",""]
[null,null,null,null,null,null,null,"",{"$f":"IF(AND(L85 = \"\", NOT(H85=\"\")),IF(C85< $W$10, (H85 *G85 * (C85/B85) * 'Stap 1 - Jouw gegevens'!$C$18), (H85 *G85 *'Stap 1 - Jouw gegevens'!$C$18 * ($W$10/B85))), \"\")","v":""},"",{"$f":"IF(AND(L85 = \"\", NOT(J85=\"\")),IF(C85< $W$10, 'Stap 1 - Jouw gegevens'!$C$22 *J85*G85 *C85/B85,  'Stap 1 - Jouw gegevens'!$C$22 * J85*G85 *$W$10/B85), \"\")","v":""},"",null,"","","","","","",null,null,null,null,null,null,"X","","X","X","X","",""]
[null,null,null,null,null,null,null,"",{"$f":"IF(AND(L86 = \"\", NOT(H86=\"\")),IF(C86< $W$10, (H86 *G86 * (C86/B86) * 'Stap 1 - Jouw gegevens'!$C$18), (H86 *G86 *'Stap 1 - Jouw gegevens'!$C$18 * ($W$10/B86))), \"\")","v":""},"",{"$f":"IF(AND(L86 = \"\", NOT(J86=\"\")),IF(C86< $W$10, 'Stap 1 - Jouw gegevens'!$C$22 *J86*G86 *C86/B86,  'Stap 1 - Jouw gegevens'!$C$22 * J86*G86 *$W$10/B86), \"\")","v":""},"",null,"","","","","","",null,null,null,null,null,null,"X","","X","X","X","",""]
[null,null,null,null,null,null,null,"",{"$f":"IF(AND(L87 = \"\", NOT(H87=\"\")),IF(C87< $W$10, (H87 *G87 * (C87/B87) * 'Stap 1 - Jouw gegevens'!$C$18), (H87 *G87 *'Stap 1 - Jouw gegevens'!$C$18 * ($W$10/B87))), \"\")","v":""},"",{"$f":"IF(AND(L87 = \"\", NOT(J87=\"\")),IF(C87< $W$10, 'Stap 1 - Jouw gegevens'!$C$22 *J87*G87 *C87/B87,  'Stap 1 - Jouw gegevens'!$C$22 * J87*G87 *$W$10/B87), \"\")","v":""},"",null,"","","","","","",null,null,null,null,null,null,"X","","X","X","X","",""]
[null,null,null,null,null,null,null,"",{"$f":"IF(AND(L88 = \"\", NOT(H88=\"\")),IF(C88< $W$10, (H88 *G88 * (C88/B88) * 'Stap 1 - Jouw gegevens'!$C$18), (H88 *G88 *'Stap 1 - Jouw gegevens'!$C$18 * ($W$10/B88))), \"\")","v":""},"",{"$f":"IF(AND(L88 = \"\", NOT(J88=\"\")),IF(C88< $W$10, 'Stap 1 - Jouw gegevens'!$C$22 *J88*G88 *C88/B88,  'Stap 1 - Jouw gegevens'!$C$22 * J88*G88 *$W$10/B88), \"\")","v":""},"",null,"","","","","","",null,null,null,null,null,null,"X","","X","X","X","",""]
[null,null,null,null,null,null,null,"",{"$f":"IF(AND(L89 = \"\", NOT(H89=\"\")),IF(C89< $W$10, (H89 *G89 * (C89/B89) * 'Stap 1 - Jouw gegevens'!$C$18), (H89 *G89 *'Stap 1 - Jouw gegevens'!$C$18 * ($W$10/B89))), \"\")","v":""},"",{"$f":"IF(AND(L89 = \"\", NOT(J89=\"\")),IF(C89< $W$10, 'Stap 1 - Jouw gegevens'!$C$22 *J89*G89 *C89/B89,  'Stap 1 - Jouw gegevens'!$C$22 * J89*G89 *$W$10/B89), \"\")","v":""},"",null,"","","","","","",null,null,null,null,null,null,"X","","X","X","X","",""]
[null,null,null,null,null,null,null,"",{"$f":"IF(AND(L90 = \"\", NOT(H90=\"\")),IF(C90< $W$10, (H90 *G90 * (C90/B90) * 'Stap 1 - Jouw gegevens'!$C$18), (H90 *G90 *'Stap 1 - Jouw gegevens'!$C$18 * ($W$10/B90))), \"\")","v":""},"",{"$f":"IF(AND(L90 = \"\", NOT(J90=\"\")),IF(C90< $W$10, 'Stap 1 - Jouw gegevens'!$C$22 *J90*G90 *C90/B90,  'Stap 1 - Jouw gegevens'!$C$22 * J90*G90 *$W$10/B90), \"\")","v":""},"",null,"","","","","","",null,null,null,null,null,null,"X","","X","X","X","",""]
[null,null,null,null,null,null,null,"",{"$f":"IF(AND(L91 = \"\", NOT(H91=\"\")),IF(C91< $W$10, (H91 *G91 * (C91/B91) * 'Stap 1 - Jouw gegevens'!$C$18), (H91 *G91 *'Stap 1 - Jouw gegevens'!$C$18 * ($W$10/B91))), \"\")","v":""},"",{"$f":"IF(AND(L91 = \"\", NOT(J91=\"\")),IF(C91< $W$10, 'Stap 1 - Jouw gegevens'!$C$22 *J91*G91 *C91/B91,  'Stap 1 - Jouw gegevens'!$C$22 * J91*G91 *$W$10/B91), \"\")","v":""},"",null,"","","","","","",null,null,null,null,null,null,"X","","X","X","X","",""]
[null,null,null,null,null,null,null,"",{"$f":"IF(AND(L92 = \"\", NOT(H92=\"\")),IF(C92< $W$10, (H92 *G92 * (C92/B92) * 'Stap 1 - Jouw gegevens'!$C$18), (H92 *G92 *'Stap 1 - Jouw gegevens'!$C$18 * ($W$10/B92))), \"\")","v":""},"",{"$f":"IF(AND(L92 = \"\", NOT(J92=\"\")),IF(C92< $W$10, 'Stap 1 - Jouw gegevens'!$C$22 *J92*G92 *C92/B92,  'Stap 1 - Jouw gegevens'!$C$22 * J92*G92 *$W$10/B92), \"\")","v":""},"",null,"","","","","","",null,null,null,null,null,null,"X","","X","X","X","",""]
[null,null,null,null,null,null,null,"",{"$f":"IF(AND(L93 = \"\", NOT(H93=\"\")),IF(C93< $W$10, (H93 *G93 * (C93/B93) * 'Stap 1 - Jouw gegevens'!$C$18), (H93 *G93 *'Stap 1 - Jouw gegevens'!$C$18 * ($W$10/B93))), \"\")","v":""},"",{"$f":"IF(AND(L93 = \"\", NOT(J93=\"\")),IF(C93< $W$10, 'Stap 1 - Jouw gegevens'!$C$22 *J93*G93 *C93/B93,  'Stap 1 - Jouw gegevens'!$C$22 * J93*G93 *$W$10/B93), \"\")","v":""},"",null,"","","","","","",null,null,null,null,null,null,"X","","X","X","X","",""]
[null,null,null,null,null,null,null,"",{"$f":"IF(AND(L94 = \"\", NOT(H94=\"\")),IF(C94< $W$10, (H94 *G94 * (C94/B94) * 'Stap 1 - Jouw gegevens'!$C$18), (H94 *G94 *'Stap 1 - Jouw gegevens'!$C$18 * ($W$10/B94))), \"\")","v":""},"",{"$f":"IF(AND(L94 = \"\", NOT(J94=\"\")),IF(C94< $W$10, 'Stap 1 - Jouw gegevens'!$C$22 *J94*G94 *C94/B94,  'Stap 1 - Jouw gegevens'!$C$22 * J94*G94 *$W$10/B94), \"\")","v":""},"",null,"","","","","","",null,null,null,null,null,null,"X","","X","X","X","",""]
[null,null,null,null,null,null,null,"",{"$f":"IF(AND(L95 = \"\", NOT(H95=\"\")),IF(C95< $W$10, (H95 *G95 * (C95/B95) * 'Stap 1 - Jouw gegevens'!$C$18), (H95 *G95 *'Stap 1 - Jouw gegevens'!$C$18 * ($W$10/B95))), \"\")","v":""},"",{"$f":"IF(AND(L95 = \"\", NOT(J95=\"\")),IF(C95< $W$10, 'Stap 1 - Jouw gegevens'!$C$22 *J95*G95 *C95/B95,  'Stap 1 - Jouw gegevens'!$C$22 * J95*G95 *$W$10/B95), \"\")","v":""},"",null,"","","","","","",null,null,null,null,null,null,"X","","X","X","X","",""]
[null,null,null,null,null,null,null,"",{"$f":"IF(AND(L96 = \"\", NOT(H96=\"\")),IF(C96< $W$10, (H96 *G96 * (C96/B96) * 'Stap 1 - Jouw gegevens'!$C$18), (H96 *G96 *'Stap 1 - Jouw gegevens'!$C$18 * ($W$10/B96))), \"\")","v":""},"",{"$f":"IF(AND(L96 = \"\", NOT(J96=\"\")),IF(C96< $W$10, 'Stap 1 - Jouw gegevens'!$C$22 *J96*G96 *C96/B96,  'Stap 1 - Jouw gegevens'!$C$22 * J96*G96 *$W$10/B96), \"\")","v":""},"",null,"","","","","","",null,null,null,null,null,null,"X","","X","X","X","",""]
[null,null,null,null,null,null,null,"",{"$f":"IF(AND(L97 = \"\", NOT(H97=\"\")),IF(C97< $W$10, (H97 *G97 * (C97/B97) * 'Stap 1 - Jouw gegevens'!$C$18), (H97 *G97 *'Stap 1 - Jouw gegevens'!$C$18 * ($W$10/B97))), \"\")","v":""},"",{"$f":"IF(AND(L97 = \"\", NOT(J97=\"\")),IF(C97< $W$10, 'Stap 1 - Jouw gegevens'!$C$22 *J97*G97 *C97/B97,  'Stap 1 - Jouw gegevens'!$C$22 * J97*G97 *$W$10/B97), \"\")","v":""},"",null,"","","","","","",null,null,null,null,null,null,"X","","X","X","X","",""]
[null,null,null,null,null,null,null,"",{"$f":"IF(AND(L98 = \"\", NOT(H98=\"\")),IF(C98< $W$10, (H98 *G98 * (C98/B98) * 'Stap 1 - Jouw gegevens'!$C$18), (H98 *G98 *'Stap 1 - Jouw gegevens'!$C$18 * ($W$10/B98))), \"\")","v":""},"",{"$f":"IF(AND(L98 = \"\", NOT(J98=\"\")),IF(C98< $W$10, 'Stap 1 - Jouw gegevens'!$C$22 *J98*G98 *C98/B98,  'Stap 1 - Jouw gegevens'!$C$22 * J98*G98 *$W$10/B98), \"\")","v":""},"",null,"","","","","","",null,null,null,null,null,null,"X","","X","X","X","",""]
[null,null,null,null,null,null,null,"",{"$f":"IF(AND(L99 = \"\", NOT(H99=\"\")),IF(C99< $W$10, (H99 *G99 * (C99/B99) * 'Stap 1 - Jouw gegevens'!$C$18), (H99 *G99 *'Stap 1 - Jouw gegevens'!$C$18 * ($W$10/B99))), \"\")","v":""},"",{"$f":"IF(AND(L99 = \"\", NOT(J99=\"\")),IF(C99< $W$10, 'Stap 1 - Jouw gegevens'!$C$22 *J99*G99 *C99/B99,  'Stap 1 - Jouw gegevens'!$C$22 * J99*G99 *$W$10/B99), \"\")","v":""},"",null,"","","","","","",null,null,null,null,null,null,"X","","X","X","X","",""]
[null,null,null,null,null,null,null,"",{"$f":"IF(AND(L100 = \"\", NOT(H100=\"\")),IF(C100< $W$10, (H100 *G100 * (C100/B100) * 'Stap 1 - Jouw gegevens'!$C$18), (H100 *G100 *'Stap 1 - Jouw gegevens'!$C$18 * ($W$10/B100))), \"\")","v":""},"",{"$f":"IF(AND(L100 = \"\", NOT(J100=\"\")),IF(C100< $W$10, 'Stap 1 - Jouw gegevens'!$C$22 *J100*G100 *C100/B100,  'Stap 1 - Jouw gegevens'!$C$22 * J100*G100 *$W$10/B100), \"\")","v":""},"",null,"","","","","","",null,null,null,null,null,null,"X","","X","X","X","",""]
[null,null,null,null,null,null,null,"",{"$f":"IF(AND(L101 = \"\", NOT(H101=\"\")),IF(C101< $W$10, (H101 *G101 * (C101/B101) * 'Stap 1 - Jouw gegevens'!$C$18), (H101 *G101 *'Stap 1 - Jouw gegevens'!$C$18 * ($W$10/B101))), \"\")","v":""},"",{"$f":"IF(AND(L101 = \"\", NOT(J101=\"\")),IF(C101< $W$10, 'Stap 1 - Jouw gegevens'!$C$22 *J101*G101 *C101/B101,  'Stap 1 - Jouw gegevens'!$C$22 * J101*G101 *$W$10/B101), \"\")","v":""},"",null,"","","","","","",null,null,null,null,null,null,"X","","X","X","X","",""]
[null,null,null,null,null,null,null,"",{"$f":"IF(AND(L102 = \"\", NOT(H102=\"\")),IF(C102< $W$10, (H102 *G102 * (C102/B102) * 'Stap 1 - Jouw gegevens'!$C$18), (H102 *G102 *'Stap 1 - Jouw gegevens'!$C$18 * ($W$10/B102))), \"\")","v":""},"",{"$f":"IF(AND(L102 = \"\", NOT(J102=\"\")),IF(C102< $W$10, 'Stap 1 - Jouw gegevens'!$C$22 *J102*G102 *C102/B102,  'Stap 1 - Jouw gegevens'!$C$22 * J102*G102 *$W$10/B102), \"\")","v":""},"",null,"","","","","","",null,null,null,null,null,null,"X","","X","X","X","",""]
[null,null,null,null,null,null,null,"",{"$f":"IF(AND(L103 = \"\", NOT(H103=\"\")),IF(C103< $W$10, (H103 *G103 * (C103/B103) * 'Stap 1 - Jouw gegevens'!$C$18), (H103 *G103 *'Stap 1 - Jouw gegevens'!$C$18 * ($W$10/B103))), \"\")","v":""},"",{"$f":"IF(AND(L103 = \"\", NOT(J103=\"\")),IF(C103< $W$10, 'Stap 1 - Jouw gegevens'!$C$22 *J103*G103 *C103/B103,  'Stap 1 - Jouw gegevens'!$C$22 * J103*G103 *$W$10/B103), \"\")","v":""},"",null,"","","","","","",null,null,null,null,null,null,"X",{"$f":"IF(C103>125000,\"X\", \"\")","v":""},{"$f":"IF(AND(D103>= DATE(YEAR($W$5)-2,1,1), D103<=DATE(YEAR($W$5),12,31)), \"\", \"X\")","v":"X"},{"$f":"IF(AND(E103>= DATE(YEAR($W$5),1,1), E103<=DATE(YEAR($W$5),12,31)), \"\",\"X\")","v":"X"},"X",{"$f":"IF(AND(G103  >= 0%, G103 <= 100%), \"\", \"X\")","v":""},""]
[null,null,null,null,null,null,null,"",{"$f":"IF(AND(L104 = \"\", NOT(H104=\"\")),IF(C104< $W$10, (H104 *G104 * (C104/B104) * 'Stap 1 - Jouw gegevens'!$C$18), (H104 *G104 *'Stap 1 - Jouw gegevens'!$C$18 * ($W$10/B104))), \"\")","v":""},"",{"$f":"IF(AND(L104 = \"\", NOT(J104=\"\")),IF(C104< $W$10, 'Stap 1 - Jouw gegevens'!$C$22 *J104*G104 *C104/B104,  'Stap 1 - Jouw gegevens'!$C$22 * J104*G104 *$W$10/B104), \"\")","v":""},"",null,"","","","","","",null,null,null,null,null,null,"X","","X","X","X","",""]
[null,null,null,null,null,null,null,"",{"$f":"IF(AND(L105 = \"\", NOT(H105=\"\")),IF(C105< $W$10, (H105 *G105 * (C105/B105) * 'Stap 1 - Jouw gegevens'!$C$18), (H105 *G105 *'Stap 1 - Jouw gegevens'!$C$18 * ($W$10/B105))), \"\")","v":""},"",{"$f":"IF(AND(L105 = \"\", NOT(J105=\"\")),IF(C105< $W$10, 'Stap 1 - Jouw gegevens'!$C$22 *J105*G105 *C105/B105,  'Stap 1 - Jouw gegevens'!$C$22 * J105*G105 *$W$10/B105), \"\")","v":""},"",null,"","","","","","",null,null,null,null,null,null,"X","","X","X","X","",""]
[null,null,null,null,null,null,null,"",{"$f":"IF(AND(L106 = \"\", NOT(H106=\"\")),IF(C106< $W$10, (H106 *G106 * (C106/B106) * 'Stap 1 - Jouw gegevens'!$C$18), (H106 *G106 *'Stap 1 - Jouw gegevens'!$C$18 * ($W$10/B106))), \"\")","v":""},"",{"$f":"IF(AND(L106 = \"\", NOT(J106=\"\")),IF(C106< $W$10, 'Stap 1 - Jouw gegevens'!$C$22 *J106*G106 *C106/B106,  'Stap 1 - Jouw gegevens'!$C$22 * J106*G106 *$W$10/B106), \"\")","v":""},"",null,"","","","","","",null,null,null,null,null,null,"X","","X","X","X","",""]
[null,null,null,null,null,null,null,"",{"$f":"IF(AND(L107 = \"\", NOT(H107=\"\")),IF(C107< $W$10, (H107 *G107 * (C107/B107) * 'Stap 1 - Jouw gegevens'!$C$18), (H107 *G107 *'Stap 1 - Jouw gegevens'!$C$18 * ($W$10/B107))), \"\")","v":""},"",{"$f":"IF(AND(L107 = \"\", NOT(J107=\"\")),IF(C107< $W$10, 'Stap 1 - Jouw gegevens'!$C$22 *J107*G107 *C107/B107,  'Stap 1 - Jouw gegevens'!$C$22 * J107*G107 *$W$10/B107), \"\")","v":""},"",null,"","","","","","",null,null,null,null,null,null,"X","","X","X","X","",""]
[null,null,null,null,null,null,null,"",{"$f":"IF(AND(L108 = \"\", NOT(H108=\"\")),IF(C108< $W$10, (H108 *G108 * (C108/B108) * 'Stap 1 - Jouw gegevens'!$C$18), (H108 *G108 *'Stap 1 - Jouw gegevens'!$C$18 * ($W$10/B108))), \"\")","v":""},"",{"$f":"IF(AND(L108 = \"\", NOT(J108=\"\")),IF(C108< $W$10, 'Stap 1 - Jouw gegevens'!$C$22 *J108*G108 *C108/B108,  'Stap 1 - Jouw gegevens'!$C$22 * J108*G108 *$W$10/B108), \"\")","v":""},"",null,"","","","","","",null,null,null,null,null,null,"X","","X","X","X","",""]
[null,null,null,null,null,null,null,"",{"$f":"IF(AND(L109 = \"\", NOT(H109=\"\")),IF(C109< $W$10, (H109 *G109 * (C109/B109) * 'Stap 1 - Jouw gegevens'!$C$18), (H109 *G109 *'Stap 1 - Jouw gegevens'!$C$18 * ($W$10/B109))), \"\")","v":""},"",{"$f":"IF(AND(L109 = \"\", NOT(J109=\"\")),IF(C109< $W$10, 'Stap 1 - Jouw gegevens'!$C$22 *J109*G109 *C109/B109,  'Stap 1 - Jouw gegevens'!$C$22 * J109*G109 *$W$10/B109), \"\")","v":""},"",null,"","","","","","",null,null,null,null,null,null,"X","","X","X","X","",""]
[null,null,null,null,null,null,null,"",{"$f":"IF(AND(L110 = \"\", NOT(H110=\"\")),IF(C110< $W$10, (H110 *G110 * (C110/B110) * 'Stap 1 - Jouw gegevens'!$C$18), (H110 *G110 *'Stap 1 - Jouw gegevens'!$C$18 * ($W$10/B110))), \"\")","v":""},"",{"$f":"IF(AND(L110 = \"\", NOT(J110=\"\")),IF(C110< $W$10, 'Stap 1 - Jouw gegevens'!$C$22 *J110*G110 *C110/B110,  'Stap 1 - Jouw gegevens'!$C$22 * J110*G110 *$W$10/B110), \"\")","v":""},"",null,"","","","","","",null,null,null,null,null,null,"X","","X","X","X","",""]
[null,null,null,null,null,null,null,"",{"$f":"IF(AND(L111 = \"\", NOT(H111=\"\")),IF(C111< $W$10, (H111 *G111 * (C111/B111) * 'Stap 1 - Jouw gegevens'!$C$18), (H111 *G111 *'Stap 1 - Jouw gegevens'!$C$18 * ($W$10/B111))), \"\")","v":""},"",{"$f":"IF(AND(L111 = \"\", NOT(J111=\"\")),IF(C111< $W$10, 'Stap 1 - Jouw gegevens'!$C$22 *J111*G111 *C111/B111,  'Stap 1 - Jouw gegevens'!$C$22 * J111*G111 *$W$10/B111), \"\")","v":""},"",null,"","","","","","",null,null,null,null,null,null,"X","","X","X","X","",""]
[null,null,null,null,null,null,null,"",{"$f":"IF(AND(L112 = \"\", NOT(H112=\"\")),IF(C112< $W$10, (H112 *G112 * (C112/B112) * 'Stap 1 - Jouw gegevens'!$C$18), (H112 *G112 *'Stap 1 - Jouw gegevens'!$C$18 * ($W$10/B112))), \"\")","v":""},"",{"$f":"IF(AND(L112 = \"\", NOT(J112=\"\")),IF(C112< $W$10, 'Stap 1 - Jouw gegevens'!$C$22 *J112*G112 *C112/B112,  'Stap 1 - Jouw gegevens'!$C$22 * J112*G112 *$W$10/B112), \"\")","v":""},"",null,"","","","","","",null,null,null,null,null,null,"X","","X","X","X","",""]
[null,null,null,null,null,null,null,"",{"$f":"IF(AND(L113 = \"\", NOT(H113=\"\")),IF(C113< $W$10, (H113 *G113 * (C113/B113) * 'Stap 1 - Jouw gegevens'!$C$18), (H113 *G113 *'Stap 1 - Jouw gegevens'!$C$18 * ($W$10/B113))), \"\")","v":""},"",{"$f":"IF(AND(L113 = \"\", NOT(J113=\"\")),IF(C113< $W$10, 'Stap 1 - Jouw gegevens'!$C$22 *J113*G113 *C113/B113,  'Stap 1 - Jouw gegevens'!$C$22 * J113*G113 *$W$10/B113), \"\")","v":""},"",null,"","","","","","",null,null,null,null,null,null,"X","","X","X","X","",""]
[null,null,null,null,null,null,null,"",{"$f":"IF(AND(L114 = \"\", NOT(H114=\"\")),IF(C114< $W$10, (H114 *G114 * (C114/B114) * 'Stap 1 - Jouw gegevens'!$C$18), (H114 *G114 *'Stap 1 - Jouw gegevens'!$C$18 * ($W$10/B114))), \"\")","v":""},"",{"$f":"IF(AND(L114 = \"\", NOT(J114=\"\")),IF(C114< $W$10, 'Stap 1 - Jouw gegevens'!$C$22 *J114*G114 *C114/B114,  'Stap 1 - Jouw gegevens'!$C$22 * J114*G114 *$W$10/B114), \"\")","v":""},"",null,"","","","","","",null,null,null,null,null,null,"X","","X","X","X","",""]
[null,null,null,null,null,null,null,"",{"$f":"IF(AND(L115 = \"\", NOT(H115=\"\")),IF(C115< $W$10, (H115 *G115 * (C115/B115) * 'Stap 1 - Jouw gegevens'!$C$18), (H115 *G115 *'Stap 1 - Jouw gegevens'!$C$18 * ($W$10/B115))), \"\")","v":""},"",{"$f":"IF(AND(L115 = \"\", NOT(J115=\"\")),IF(C115< $W$10, 'Stap 1 - Jouw gegevens'!$C$22 *J115*G115 *C115/B115,  'Stap 1 - Jouw gegevens'!$C$22 * J115*G115 *$W$10/B115), \"\")","v":""},"",null,"","","","","","",null,null,null,null,null,null,"X","","X","X","X","",""]
[null,null,null,null,null,null,null,"",{"$f":"IF(AND(L116 = \"\", NOT(H116=\"\")),IF(C116< $W$10, (H116 *G116 * (C116/B116) * 'Stap 1 - Jouw gegevens'!$C$18), (H116 *G116 *'Stap 1 - Jouw gegevens'!$C$18 * ($W$10/B116))), \"\")","v":""},"",{"$f":"IF(AND(L116 = \"\", NOT(J116=\"\")),IF(C116< $W$10, 'Stap 1 - Jouw gegevens'!$C$22 *J116*G116 *C116/B116,  'Stap 1 - Jouw gegevens'!$C$22 * J116*G116 *$W$10/B116), \"\")","v":""},"",null,"","","","","","",null,null,null,null,null,null,"X","","X","X","X","",""]
[null,null,null,null,null,null,null,"",{"$f":"IF(AND(L117 = \"\", NOT(H117=\"\")),IF(C117< $W$10, (H117 *G117 * (C117/B117) * 'Stap 1 - Jouw gegevens'!$C$18), (H117 *G117 *'Stap 1 - Jouw gegevens'!$C$18 * ($W$10/B117))), \"\")","v":""},"",{"$f":"IF(AND(L117 = \"\", NOT(J117=\"\")),IF(C117< $W$10, 'Stap 1 - Jouw gegevens'!$C$22 *J117*G117 *C117/B117,  'Stap 1 - Jouw gegevens'!$C$22 * J117*G117 *$W$10/B117), \"\")","v":""},"",null,"","","","","","",null,null,null,null,null,null,"X","","X","X","X","",""]
[null,null,null,null,null,null,null,"",{"$f":"IF(AND(L118 = \"\", NOT(H118=\"\")),IF(C118< $W$10, (H118 *G118 * (C118/B118) * 'Stap 1 - Jouw gegevens'!$C$18), (H118 *G118 *'Stap 1 - Jouw gegevens'!$C$18 * ($W$10/B118))), \"\")","v":""},"",{"$f":"IF(AND(L118 = \"\", NOT(J118=\"\")),IF(C118< $W$10, 'Stap 1 - Jouw gegevens'!$C$22 *J118*G118 *C118/B118,  'Stap 1 - Jouw gegevens'!$C$22 * J118*G118 *$W$10/B118), \"\")","v":""},"",null,"","","","","","",null,null,null,null,null,null,"X","","X","X","X","",""]
[null,null,null,null,null,null,null,"",{"$f":"IF(AND(L119 = \"\", NOT(H119=\"\")),IF(C119< $W$10, (H119 *G119 * (C119/B119) * 'Stap 1 - Jouw gegevens'!$C$18), (H119 *G119 *'Stap 1 - Jouw gegevens'!$C$18 * ($W$10/B119))), \"\")","v":""},"",{"$f":"IF(AND(L119 = \"\", NOT(J119=\"\")),IF(C119< $W$10, 'Stap 1 - Jouw gegevens'!$C$22 *J119*G119 *C119/B119,  'Stap 1 - Jouw gegevens'!$C$22 * J119*G119 *$W$10/B119), \"\")","v":""},"",null,"","","","","","",null,null,null,null,null,null,"X","","X","X","X","",""]
[null,null,null,null,null,null,null,"",{"$f":"IF(AND(L120 = \"\", NOT(H120=\"\")),IF(C120< $W$10, (H120 *G120 * (C120/B120) * 'Stap 1 - Jouw gegevens'!$C$18), (H120 *G120 *'Stap 1 - Jouw gegevens'!$C$18 * ($W$10/B120))), \"\")","v":""},"",{"$f":"IF(AND(L120 = \"\", NOT(J120=\"\")),IF(C120< $W$10, 'Stap 1 - Jouw gegevens'!$C$22 *J120*G120 *C120/B120,  'Stap 1 - Jouw gegevens'!$C$22 * J120*G120 *$W$10/B120), \"\")","v":""},"",null,"","","","","","",null,null,null,null,null,null,"X","","X","X","X","",""]
[null,null,null,null,null,null,null,"",{"$f":"IF(AND(L121 = \"\", NOT(H121=\"\")),IF(C121< $W$10, (H121 *G121 * (C121/B121) * 'Stap 1 - Jouw gegevens'!$C$18), (H121 *G121 *'Stap 1 - Jouw gegevens'!$C$18 * ($W$10/B121))), \"\")","v":""},"",{"$f":"IF(AND(L121 = \"\", NOT(J121=\"\")),IF(C121< $W$10, 'Stap 1 - Jouw gegevens'!$C$22 *J121*G121 *C121/B121,  'Stap 1 - Jouw gegevens'!$C$22 * J121*G121 *$W$10/B121), \"\")","v":""},"",null,"","","","","","",null,null,null,null,null,null,"X","","X","X","X","",""]
[null,null,null,null,null,null,null,"",{"$f":"IF(AND(L122 = \"\", NOT(H122=\"\")),IF(C122< $W$10, (H122 *G122 * (C122/B122) * 'Stap 1 - Jouw gegevens'!$C$18), (H122 *G122 *'Stap 1 - Jouw gegevens'!$C$18 * ($W$10/B122))), \"\")","v":""},"",{"$f":"IF(AND(L122 = \"\", NOT(J122=\"\")),IF(C122< $W$10, 'Stap 1 - Jouw gegevens'!$C$22 *J122*G122 *C122/B122,  'Stap 1 - Jouw gegevens'!$C$22 * J122*G122 *$W$10/B122), \"\")","v":""},"",null,"","","","","","",null,null,null,null,null,null,"X","","X","X","X","",""]
[null,null,null,null,null,null,null,"",{"$f":"IF(AND(L123 = \"\", NOT(H123=\"\")),IF(C123< $W$10, (H123 *G123 * (C123/B123) * 'Stap 1 - Jouw gegevens'!$C$18), (H123 *G123 *'Stap 1 - Jouw gegevens'!$C$18 * ($W$10/B123))), \"\")","v":""},"",{"$f":"IF(AND(L123 = \"\", NOT(J123=\"\")),IF(C123< $W$10, 'Stap 1 - Jouw gegevens'!$C$22 *J123*G123 *C123/B123,  'Stap 1 - Jouw gegevens'!$C$22 * J123*G123 *$W$10/B123), \"\")","v":""},"",null,"","","","","","",null,null,null,null,null,null,"X","","X","X","X","",""]
[null,null,null,null,null,null,null,"",{"$f":"IF(AND(L124 = \"\", NOT(H124=\"\")),IF(C124< $W$10, (H124 *G124 * (C124/B124) * 'Stap 1 - Jouw gegevens'!$C$18), (H124 *G124 *'Stap 1 - Jouw gegevens'!$C$18 * ($W$10/B124))), \"\")","v":""},"",{"$f":"IF(AND(L124 = \"\", NOT(J124=\"\")),IF(C124< $W$10, 'Stap 1 - Jouw gegevens'!$C$22 *J124*G124 *C124/B124,  'Stap 1 - Jouw gegevens'!$C$22 * J124*G124 *$W$10/B124), \"\")","v":""},"",null,"","","","","","",null,null,null,null,null,null,"X","","X","X","X","",""]
[null,null,null,null,null,null,null,"",{"$f":"IF(AND(L125 = \"\", NOT(H125=\"\")),IF(C125< $W$10, (H125 *G125 * (C125/B125) * 'Stap 1 - Jouw gegevens'!$C$18), (H125 *G125 *'Stap 1 - Jouw gegevens'!$C$18 * ($W$10/B125))), \"\")","v":""},"",{"$f":"IF(AND(L125 = \"\", NOT(J125=\"\")),IF(C125< $W$10, 'Stap 1 - Jouw gegevens'!$C$22 *J125*G125 *C125/B125,  'Stap 1 - Jouw gegevens'!$C$22 * J125*G125 *$W$10/B125), \"\")","v":""},"",null,"","","","","","",null,null,null,null,null,null,"X","","X","X","X","",""]
[null,null,null,null,null,null,null,"",{"$f":"IF(AND(L126 = \"\", NOT(H126=\"\")),IF(C126< $W$10, (H126 *G126 * (C126/B126) * 'Stap 1 - Jouw gegevens'!$C$18), (H126 *G126 *'Stap 1 - Jouw gegevens'!$C$18 * ($W$10/B126))), \"\")","v":""},"",{"$f":"IF(AND(L126 = \"\", NOT(J126=\"\")),IF(C126< $W$10, 'Stap 1 - Jouw gegevens'!$C$22 *J126*G126 *C126/B126,  'Stap 1 - Jouw gegevens'!$C$22 * J126*G126 *$W$10/B126), \"\")","v":""},"",null,"","","","","","",null,null,null,null,null,null,"X","","X","X","X","",""]
[null,null,null,null,null,null,null,"",{"$f":"IF(AND(L127 = \"\", NOT(H127=\"\")),IF(C127< $W$10, (H127 *G127 * (C127/B127) * 'Stap 1 - Jouw gegevens'!$C$18), (H127 *G127 *'Stap 1 - Jouw gegevens'!$C$18 * ($W$10/B127))), \"\")","v":""},"",{"$f":"IF(AND(L127 = \"\", NOT(J127=\"\")),IF(C127< $W$10, 'Stap 1 - Jouw gegevens'!$C$22 *J127*G127 *C127/B127,  'Stap 1 - Jouw gegevens'!$C$22 * J127*G127 *$W$10/B127), \"\")","v":""},"",null,"","","","","","",null,null,null,null,null,null,"X","","X","X","X","",""]
[null,null,null,null,null,null,null,"",{"$f":"IF(AND(L128 = \"\", NOT(H128=\"\")),IF(C128< $W$10, (H128 *G128 * (C128/B128) * 'Stap 1 - Jouw gegevens'!$C$18), (H128 *G128 *'Stap 1 - Jouw gegevens'!$C$18 * ($W$10/B128))), \"\")","v":""},"",{"$f":"IF(AND(L128 = \"\", NOT(J128=\"\")),IF(C128< $W$10, 'Stap 1 - Jouw gegevens'!$C$22 *J128*G128 *C128/B128,  'Stap 1 - Jouw gegevens'!$C$22 * J128*G128 *$W$10/B128), \"\")","v":""},"",null,"","","","","","",null,null,null,null,null,null,"X","","X","X","X","",""]
[null,null,null,null,null,null,null,"",{"$f":"IF(AND(L129 = \"\", NOT(H129=\"\")),IF(C129< $W$10, (H129 *G129 * (C129/B129) * 'Stap 1 - Jouw gegevens'!$C$18), (H129 *G129 *'Stap 1 - Jouw gegevens'!$C$18 * ($W$10/B129))), \"\")","v":""},"",{"$f":"IF(AND(L129 = \"\", NOT(J129=\"\")),IF(C129< $W$10, 'Stap 1 - Jouw gegevens'!$C$22 *J129*G129 *C129/B129,  'Stap 1 - Jouw gegevens'!$C$22 * J129*G129 *$W$10/B129), \"\")","v":""},"",null,"","","","","","",null,null,null,null,null,null,"X","","X","X","X","",""]
[null,null,null,null,null,null,null,"",{"$f":"IF(AND(L130 = \"\", NOT(H130=\"\")),IF(C130< $W$10, (H130 *G130 * (C130/B130) * 'Stap 1 - Jouw gegevens'!$C$18), (H130 *G130 *'Stap 1 - Jouw gegevens'!$C$18 * ($W$10/B130))), \"\")","v":""},"",{"$f":"IF(AND(L130 = \"\", NOT(J130=\"\")),IF(C130< $W$10, 'Stap 1 - Jouw gegevens'!$C$22 *J130*G130 *C130/B130,  'Stap 1 - Jouw gegevens'!$C$22 * J130*G130 *$W$10/B130), \"\")","v":""},"",null,"","","","","","",null,null,null,null,null,null,"X","","X","X","X","",""]
[null,null,null,null,null,null,null,"",{"$f":"IF(AND(L131 = \"\", NOT(H131=\"\")),IF(C131< $W$10, (H131 *G131 * (C131/B131) * 'Stap 1 - Jouw gegevens'!$C$18), (H131 *G131 *'Stap 1 - Jouw gegevens'!$C$18 * ($W$10/B131))), \"\")","v":""},"",{"$f":"IF(AND(L131 = \"\", NOT(J131=\"\")),IF(C131< $W$10, 'Stap 1 - Jouw gegevens'!$C$22 *J131*G131 *C131/B131,  'Stap 1 - Jouw gegevens'!$C$22 * J131*G131 *$W$10/B131), \"\")","v":""},"",null,"","","","","","",null,null,null,null,null,null,"X","","X","X","X","",""]
[null,null,null,null,null,null,null,"",{"$f":"IF(AND(L132 = \"\", NOT(H132=\"\")),IF(C132< $W$10, (H132 *G132 * (C132/B132) * 'Stap 1 - Jouw gegevens'!$C$18), (H132 *G132 *'Stap 1 - Jouw gegevens'!$C$18 * ($W$10/B132))), \"\")","v":""},"",{"$f":"IF(AND(L132 = \"\", NOT(J132=\"\")),IF(C132< $W$10, 'Stap 1 - Jouw gegevens'!$C$22 *J132*G132 *C132/B132,  'Stap 1 - Jouw gegevens'!$C$22 * J132*G132 *$W$10/B132), \"\")","v":""},"",null,"","","","","","",null,null,null,null,null,null,"X","","X","X","X","",""]
[null,null,null,null,null,null,null,"",{"$f":"IF(AND(L133 = \"\", NOT(H133=\"\")),IF(C133< $W$10, (H133 *G133 * (C133/B133) * 'Stap 1 - Jouw gegevens'!$C$18), (H133 *G133 *'Stap 1 - Jouw gegevens'!$C$18 * ($W$10/B133))), \"\")","v":""},"",{"$f":"IF(AND(L133 = \"\", NOT(J133=\"\")),IF(C133< $W$10, 'Stap 1 - Jouw gegevens'!$C$22 *J133*G133 *C133/B133,  'Stap 1 - Jouw gegevens'!$C$22 * J133*G133 *$W$10/B133), \"\")","v":""},"",null,"","","","","","",null,null,null,null,null,null,"X","","X","X","X","",""]
[null,null,null,null,null,null,null,"",{"$f":"IF(AND(L134 = \"\", NOT(H134=\"\")),IF(C134< $W$10, (H134 *G134 * (C134/B134) * 'Stap 1 - Jouw gegevens'!$C$18), (H134 *G134 *'Stap 1 - Jouw gegevens'!$C$18 * ($W$10/B134))), \"\")","v":""},"",{"$f":"IF(AND(L134 = \"\", NOT(J134=\"\")),IF(C134< $W$10, 'Stap 1 - Jouw gegevens'!$C$22 *J134*G134 *C134/B134,  'Stap 1 - Jouw gegevens'!$C$22 * J134*G134 *$W$10/B134), \"\")","v":""},"",null,"","","","","","",null,null,null,null,null,null,"X","","X","X","X","",""]
[null,null,null,null,null,null,null,"",{"$f":"IF(AND(L135 = \"\", NOT(H135=\"\")),IF(C135< $W$10, (H135 *G135 * (C135/B135) * 'Stap 1 - Jouw gegevens'!$C$18), (H135 *G135 *'Stap 1 - Jouw gegevens'!$C$18 * ($W$10/B135))), \"\")","v":""},"",{"$f":"IF(AND(L135 = \"\", NOT(J135=\"\")),IF(C135< $W$10, 'Stap 1 - Jouw gegevens'!$C$22 *J135*G135 *C135/B135,  'Stap 1 - Jouw gegevens'!$C$22 * J135*G135 *$W$10/B135), \"\")","v":""},"",null,"","","","","","",null,null,null,null,null,null,"X",{"$f":"IF(C135>125000,\"X\", \"\")","v":""},{"$f":"IF(AND(D135>= DATE(YEAR($W$5)-2,1,1), D135<=DATE(YEAR($W$5),12,31)), \"\", \"X\")","v":"X"},{"$f":"IF(AND(E135>= DATE(YEAR($W$5),1,1), E135<=DATE(YEAR($W$5),12,31)), \"\",\"X\")","v":"X"},"X",{"$f":"IF(AND(G135  >= 0%, G135 <= 100%), \"\", \"X\")","v":""},""]
[null,null,null,null,null,null,null,{"$f":"P136","v":""},{"$f":"IF(AND(L136 = \"\", NOT(H136=\"\")),IF(C136< $W$10, (H136 *G136 * (C136/B136) * 'Stap 1 - Jouw gegevens'!$C$18), (H136 *G136 *'Stap 1 - Jouw gegevens'!$C$18 * ($W$10/B136))), \"\")","v":""},{"$f":"S136","v":""},{"$f":"IF(AND(L136 = \"\", NOT(J136=\"\")),IF(C136< $W$10, 'Stap 1 - Jouw gegevens'!$C$22 *J136*G136 *C136/B136,  'Stap 1 - Jouw gegevens'!$C$22 * J136*G136 *$W$10/B136), \"\")","v":""},{"$f":"IF(ISBLANK(A136), \"\", CONCATENATE(IF(Z136 = \"X\", $AH$5, \"\"), IF( AB136 = \"X\", $AH$7, \"\"), IF( AC136 = \"X\", $AH$8, \"\"), IF( AD136 = \"X\", $AH$9, \"\"), IF( AE136 = \"X\", $AH$10, \"\"),  IF( AF136 = \"X\", $AH$11, \"\")))","v":""},null,{"$f":"IF(ISBLANK(D136),\"\",NETWORKDAYS(D136,F136))","v":""},{"$f":"IFERROR( IF(N136>$Y$5,NETWORKDAYS(E136, (Q136 - 1)), NETWORKDAYS(E136,(F136-1))), \"\")","v":""},{"$f":"IF(O136<= 0, \"\", O136)","v":""},{"$f":"IF(ISBLANK(D136),\"\",DATE(YEAR(D136)+1,MONTH(D136),DAY(D136)))","v":""},{"$f":"IFERROR(IF(N136 > $Y$5, IF(E136>=Q136,NETWORKDAYS(E136, (F136-1)), NETWORKDAYS(Q136, (F136-1))), \"\"), \"\")","v":""},{"$f":"IF(R136=\"\", \"\",  IF(R136 >= $Y$5, $Y$5,  R136))","v":""},null,null,null,null,null,null,{"$f":"IF(OR(B136 <= 0, B136 >$Y$5), \"X\", \"\")","v":"X"},"","X","X",{"$f":"IF(AND(F136>=DATE(YEAR($W$5),1,1),F136<=$X$5),\"\", \"X\")","v":"X"},"",{"$f":"IF(SUM(H136, J136) <= B136, \"\", \"X\")","v":""}]
[null,null,null,null,null,null,null,"",{"$f":"IF(AND(L137 = \"\", NOT(H137=\"\")),IF(C137< $W$10, (H137 *G137 * (C137/B137) * 'Stap 1 - Jouw gegevens'!$C$18), (H137 *G137 *'Stap 1 - Jouw gegevens'!$C$18 * ($W$10/B137))), \"\")","v":""},"",{"$f":"IF(AND(L137 = \"\", NOT(J137=\"\")),IF(C137< $W$10, 'Stap 1 - Jouw gegevens'!$C$22 *J137*G137 *C137/B137,  'Stap 1 - Jouw gegevens'!$C$22 * J137*G137 *$W$10/B137), \"\")","v":""},"",null,"","","","","","",null,null,null,null,null,null,"X","","X","X","X","",""]
[null,null,null,null,null,null,null,"",{"$f":"IF(AND(L138 = \"\", NOT(H138=\"\")),IF(C138< $W$10, (H138 *G138 * (C138/B138) * 'Stap 1 - Jouw gegevens'!$C$18), (H138 *G138 *'Stap 1 - Jouw gegevens'!$C$18 * ($W$10/B138))), \"\")","v":""},"",{"$f":"IF(AND(L138 = \"\", NOT(J138=\"\")),IF(C138< $W$10, 'Stap 1 - Jouw gegevens'!$C$22 *J138*G138 *C138/B138,  'Stap 1 - Jouw gegevens'!$C$22 * J138*G138 *$W$10/B138), \"\")","v":""},"",null,"","","","","","",null,null,null,null,null,null,"X","","X","X","X","",""]
[null,null,null,null,null,null,null,"",{"$f":"IF(AND(L139 = \"\", NOT(H139=\"\")),IF(C139< $W$10, (H139 *G139 * (C139/B139) * 'Stap 1 - Jouw gegevens'!$C$18), (H139 *G139 *'Stap 1 - Jouw gegevens'!$C$18 * ($W$10/B139))), \"\")","v":""},"",{"$f":"IF(AND(L139 = \"\", NOT(J139=\"\")),IF(C139< $W$10, 'Stap 1 - Jouw gegevens'!$C$22 *J139*G139 *C139/B139,  'Stap 1 - Jouw gegevens'!$C$22 * J139*G139 *$W$10/B139), \"\")","v":""},"",null,"","","","","","",null,null,null,null,null,null,"X","","X","X","X","",""]
[null,null,null,null,null,null,null,"",{"$f":"IF(AND(L140 = \"\", NOT(H140=\"\")),IF(C140< $W$10, (H140 *G140 * (C140/B140) * 'Stap 1 - Jouw gegevens'!$C$18), (H140 *G140 *'Stap 1 - Jouw gegevens'!$C$18 * ($W$10/B140))), \"\")","v":""},"",{"$f":"IF(AND(L140 = \"\", NOT(J140=\"\")),IF(C140< $W$10, 'Stap 1 - Jouw gegevens'!$C$22 *J140*G140 *C140/B140,  'Stap 1 - Jouw gegevens'!$C$22 * J140*G140 *$W$10/B140), \"\")","v":""},"",null,"","","","","","",null,null,null,null,null,null,"X","","X","X","X","",""]
[null,null,null,null,null,null,null,"",{"$f":"IF(AND(L141 = \"\", NOT(H141=\"\")),IF(C141< $W$10, (H141 *G141 * (C141/B141) * 'Stap 1 - Jouw gegevens'!$C$18), (H141 *G141 *'Stap 1 - Jouw gegevens'!$C$18 * ($W$10/B141))), \"\")","v":""},"",{"$f":"IF(AND(L141 = \"\", NOT(J141=\"\")),IF(C141< $W$10, 'Stap 1 - Jouw gegevens'!$C$22 *J141*G141 *C141/B141,  'Stap 1 - Jouw gegevens'!$C$22 * J141*G141 *$W$10/B141), \"\")","v":""},"",null,"","","","","","",null,null,null,null,null,null,"X","","X","X","X","",""]
[null,null,null,null,null,null,null,"",{"$f":"IF(AND(L142 = \"\", NOT(H142=\"\")),IF(C142< $W$10, (H142 *G142 * (C142/B142) * 'Stap 1 - Jouw gegevens'!$C$18), (H142 *G142 *'Stap 1 - Jouw gegevens'!$C$18 * ($W$10/B142))), \"\")","v":""},"",{"$f":"IF(AND(L142 = \"\", NOT(J142=\"\")),IF(C142< $W$10, 'Stap 1 - Jouw gegevens'!$C$22 *J142*G142 *C142/B142,  'Stap 1 - Jouw gegevens'!$C$22 * J142*G142 *$W$10/B142), \"\")","v":""},"",null,"","","","","","",null,null,null,null,null,null,"X","","X","X","X","",""]
[null,null,null,null,null,null,null,"",{"$f":"IF(AND(L143 = \"\", NOT(H143=\"\")),IF(C143< $W$10, (H143 *G143 * (C143/B143) * 'Stap 1 - Jouw gegevens'!$C$18), (H143 *G143 *'Stap 1 - Jouw gegevens'!$C$18 * ($W$10/B143))), \"\")","v":""},"",{"$f":"IF(AND(L143 = \"\", NOT(J143=\"\")),IF(C143< $W$10, 'Stap 1 - Jouw gegevens'!$C$22 *J143*G143 *C143/B143,  'Stap 1 - Jouw gegevens'!$C$22 * J143*G143 *$W$10/B143), \"\")","v":""},"",null,"","","","","","",null,null,null,null,null,null,"X","","X","X","X","",""]
[null,null,null,null,null,null,null,"",{"$f":"IF(AND(L144 = \"\", NOT(H144=\"\")),IF(C144< $W$10, (H144 *G144 * (C144/B144) * 'Stap 1 - Jouw gegevens'!$C$18), (H144 *G144 *'Stap 1 - Jouw gegevens'!$C$18 * ($W$10/B144))), \"\")","v":""},"",{"$f":"IF(AND(L144 = \"\", NOT(J144=\"\")),IF(C144< $W$10, 'Stap 1 - Jouw gegevens'!$C$22 *J144*G144 *C144/B144,  'Stap 1 - Jouw gegevens'!$C$22 * J144*G144 *$W$10/B144), \"\")","v":""},"",null,"","","","","","",null,null,null,null,null,null,"X","","X","X","X","",""]
[null,null,null,null,null,null,null,"",{"$f":"IF(AND(L145 = \"\", NOT(H145=\"\")),IF(C145< $W$10, (H145 *G145 * (C145/B145) * 'Stap 1 - Jouw gegevens'!$C$18), (H145 *G145 *'Stap 1 - Jouw gegevens'!$C$18 * ($W$10/B145))), \"\")","v":""},"",{"$f":"IF(AND(L145 = \"\", NOT(J145=\"\")),IF(C145< $W$10, 'Stap 1 - Jouw gegevens'!$C$22 *J145*G145 *C145/B145,  'Stap 1 - Jouw gegevens'!$C$22 * J145*G145 *$W$10/B145), \"\")","v":""},"",null,"","","","","","",null,null,null,null,null,null,"X","","X","X","X","",""]
[null,null,null,null,null,null,null,"",{"$f":"IF(AND(L146 = \"\", NOT(H146=\"\")),IF(C146< $W$10, (H146 *G146 * (C146/B146) * 'Stap 1 - Jouw gegevens'!$C$18), (H146 *G146 *'Stap 1 - Jouw gegevens'!$C$18 * ($W$10/B146))), \"\")","v":""},"",{"$f":"IF(AND(L146 = \"\", NOT(J146=\"\")),IF(C146< $W$10, 'Stap 1 - Jouw gegevens'!$C$22 *J146*G146 *C146/B146,  'Stap 1 - Jouw gegevens'!$C$22 * J146*G146 *$W$10/B146), \"\")","v":""},"",null,"","","","","","",null,null,null,null,null,null,"X","","X","X","X","",""]
[null,null,null,null,null,null,null,"",{"$f":"IF(AND(L147 = \"\", NOT(H147=\"\")),IF(C147< $W$10, (H147 *G147 * (C147/B147) * 'Stap 1 - Jouw gegevens'!$C$18), (H147 *G147 *'Stap 1 - Jouw gegevens'!$C$18 * ($W$10/B147))), \"\")","v":""},"",{"$f":"IF(AND(L147 = \"\", NOT(J147=\"\")),IF(C147< $W$10, 'Stap 1 - Jouw gegevens'!$C$22 *J147*G147 *C147/B147,  'Stap 1 - Jouw gegevens'!$C$22 * J147*G147 *$W$10/B147), \"\")","v":""},"",null,"","","","","","",null,null,null,null,null,null,"X","","X","X","X","",""]
[null,null,null,null,null,null,null,"",{"$f":"IF(AND(L148 = \"\", NOT(H148=\"\")),IF(C148< $W$10, (H148 *G148 * (C148/B148) * 'Stap 1 - Jouw gegevens'!$C$18), (H148 *G148 *'Stap 1 - Jouw gegevens'!$C$18 * ($W$10/B148))), \"\")","v":""},"",{"$f":"IF(AND(L148 = \"\", NOT(J148=\"\")),IF(C148< $W$10, 'Stap 1 - Jouw gegevens'!$C$22 *J148*G148 *C148/B148,  'Stap 1 - Jouw gegevens'!$C$22 * J148*G148 *$W$10/B148), \"\")","v":""},"",null,"","","","","","",null,null,null,null,null,null,"X","","X","X","X","",""]
[null,null,null,null,null,null,null,"",{"$f":"IF(AND(L149 = \"\", NOT(H149=\"\")),IF(C149< $W$10, (H149 *G149 * (C149/B149) * 'Stap 1 - Jouw gegevens'!$C$18), (H149 *G149 *'Stap 1 - Jouw gegevens'!$C$18 * ($W$10/B149))), \"\")","v":""},"",{"$f":"IF(AND(L149 = \"\", NOT(J149=\"\")),IF(C149< $W$10, 'Stap 1 - Jouw gegevens'!$C$22 *J149*G149 *C149/B149,  'Stap 1 - Jouw gegevens'!$C$22 * J149*G149 *$W$10/B149), \"\")","v":""},"",null,"","","","","","",null,null,null,null,null,null,"X","","X","X","X","",""]
[null,null,null,null,null,null,null,"",{"$f":"IF(AND(L150 = \"\", NOT(H150=\"\")),IF(C150< $W$10, (H150 *G150 * (C150/B150) * 'Stap 1 - Jouw gegevens'!$C$18), (H150 *G150 *'Stap 1 - Jouw gegevens'!$C$18 * ($W$10/B150))), \"\")","v":""},"",{"$f":"IF(AND(L150 = \"\", NOT(J150=\"\")),IF(C150< $W$10, 'Stap 1 - Jouw gegevens'!$C$22 *J150*G150 *C150/B150,  'Stap 1 - Jouw gegevens'!$C$22 * J150*G150 *$W$10/B150), \"\")","v":""},"",null,"","","","","","",null,null,null,null,null,null,"X","","X","X","X","",""]
[null,null,null,null,null,null,null,"",{"$f":"IF(AND(L151 = \"\", NOT(H151=\"\")),IF(C151< $W$10, (H151 *G151 * (C151/B151) * 'Stap 1 - Jouw gegevens'!$C$18), (H151 *G151 *'Stap 1 - Jouw gegevens'!$C$18 * ($W$10/B151))), \"\")","v":""},"",{"$f":"IF(AND(L151 = \"\", NOT(J151=\"\")),IF(C151< $W$10, 'Stap 1 - Jouw gegevens'!$C$22 *J151*G151 *C151/B151,  'Stap 1 - Jouw gegevens'!$C$22 * J151*G151 *$W$10/B151), \"\")","v":""},"",null,"","","","","","",null,null,null,null,null,null,"X","","X","X","X","",""]
[null,null,null,null,null,null,null,"",{"$f":"IF(AND(L152 = \"\", NOT(H152=\"\")),IF(C152< $W$10, (H152 *G152 * (C152/B152) * 'Stap 1 - Jouw gegevens'!$C$18), (H152 *G152 *'Stap 1 - Jouw gegevens'!$C$18 * ($W$10/B152))), \"\")","v":""},"",{"$f":"IF(AND(L152 = \"\", NOT(J152=\"\")),IF(C152< $W$10, 'Stap 1 - Jouw gegevens'!$C$22 *J152*G152 *C152/B152,  'Stap 1 - Jouw gegevens'!$C$22 * J152*G152 *$W$10/B152), \"\")","v":""},"",null,"","","","","","",null,null,null,null,null,null,"X","","X","X","X","",""]
[null,null,null,null,null,null,null,"",{"$f":"IF(AND(L153 = \"\", NOT(H153=\"\")),IF(C153< $W$10, (H153 *G153 * (C153/B153) * 'Stap 1 - Jouw gegevens'!$C$18), (H153 *G153 *'Stap 1 - Jouw gegevens'!$C$18 * ($W$10/B153))), \"\")","v":""},"",{"$f":"IF(AND(L153 = \"\", NOT(J153=\"\")),IF(C153< $W$10, 'Stap 1 - Jouw gegevens'!$C$22 *J153*G153 *C153/B153,  'Stap 1 - Jouw gegevens'!$C$22 * J153*G153 *$W$10/B153), \"\")","v":""},"",null,"","","","","","",null,null,null,null,null,null,"X","","X","X","X","",""]
[null,null,null,null,null,null,null,"",{"$f":"IF(AND(L154 = \"\", NOT(H154=\"\")),IF(C154< $W$10, (H154 *G154 * (C154/B154) * 'Stap 1 - Jouw gegevens'!$C$18), (H154 *G154 *'Stap 1 - Jouw gegevens'!$C$18 * ($W$10/B154))), \"\")","v":""},"",{"$f":"IF(AND(L154 = \"\", NOT(J154=\"\")),IF(C154< $W$10, 'Stap 1 - Jouw gegevens'!$C$22 *J154*G154 *C154/B154,  'Stap 1 - Jouw gegevens'!$C$22 * J154*G154 *$W$10/B154), \"\")","v":""},"",null,"","","","","","",null,null,null,null,null,null,"X","","X","X","X","",""]
[null,null,null,null,null,null,null,"",{"$f":"IF(AND(L155 = \"\", NOT(H155=\"\")),IF(C155< $W$10, (H155 *G155 * (C155/B155) * 'Stap 1 - Jouw gegevens'!$C$18), (H155 *G155 *'Stap 1 - Jouw gegevens'!$C$18 * ($W$10/B155))), \"\")","v":""},"",{"$f":"IF(AND(L155 = \"\", NOT(J155=\"\")),IF(C155< $W$10, 'Stap 1 - Jouw gegevens'!$C$22 *J155*G155 *C155/B155,  'Stap 1 - Jouw gegevens'!$C$22 * J155*G155 *$W$10/B155), \"\")","v":""},"",null,"","","","","","",null,null,null,null,null,null,"X","","X","X","X","",""]
[null,null,null,null,null,null,null,"",{"$f":"IF(AND(L156 = \"\", NOT(H156=\"\")),IF(C156< $W$10, (H156 *G156 * (C156/B156) * 'Stap 1 - Jouw gegevens'!$C$18), (H156 *G156 *'Stap 1 - Jouw gegevens'!$C$18 * ($W$10/B156))), \"\")","v":""},"",{"$f":"IF(AND(L156 = \"\", NOT(J156=\"\")),IF(C156< $W$10, 'Stap 1 - Jouw gegevens'!$C$22 *J156*G156 *C156/B156,  'Stap 1 - Jouw gegevens'!$C$22 * J156*G156 *$W$10/B156), \"\")","v":""},"",null,"","","","","","",null,null,null,null,null,null,"X","","X","X","X","",""]
[null,null,null,null,null,null,null,"",{"$f":"IF(AND(L157 = \"\", NOT(H157=\"\")),IF(C157< $W$10, (H157 *G157 * (C157/B157) * 'Stap 1 - Jouw gegevens'!$C$18), (H157 *G157 *'Stap 1 - Jouw gegevens'!$C$18 * ($W$10/B157))), \"\")","v":""},"",{"$f":"IF(AND(L157 = \"\", NOT(J157=\"\")),IF(C157< $W$10, 'Stap 1 - Jouw gegevens'!$C$22 *J157*G157 *C157/B157,  'Stap 1 - Jouw gegevens'!$C$22 * J157*G157 *$W$10/B157), \"\")","v":""},"",null,"","","","","","",null,null,null,null,null,null,"X","","X","X","X","",""]
[null,null,null,null,null,null,null,"",{"$f":"IF(AND(L158 = \"\", NOT(H158=\"\")),IF(C158< $W$10, (H158 *G158 * (C158/B158) * 'Stap 1 - Jouw gegevens'!$C$18), (H158 *G158 *'Stap 1 - Jouw gegevens'!$C$18 * ($W$10/B158))), \"\")","v":""},"",{"$f":"IF(AND(L158 = \"\", NOT(J158=\"\")),IF(C158< $W$10, 'Stap 1 - Jouw gegevens'!$C$22 *J158*G158 *C158/B158,  'Stap 1 - Jouw gegevens'!$C$22 * J158*G158 *$W$10/B158), \"\")","v":""},"",null,"","","","","","",null,null,null,null,null,null,"X","","X","X","X","",""]
[null,null,null,null,null,null,null,"",{"$f":"IF(AND(L159 = \"\", NOT(H159=\"\")),IF(C159< $W$10, (H159 *G159 * (C159/B159) * 'Stap 1 - Jouw gegevens'!$C$18), (H159 *G159 *'Stap 1 - Jouw gegevens'!$C$18 * ($W$10/B159))), \"\")","v":""},"",{"$f":"IF(AND(L159 = \"\", NOT(J159=\"\")),IF(C159< $W$10, 'Stap 1 - Jouw gegevens'!$C$22 *J159*G159 *C159/B159,  'Stap 1 - Jouw gegevens'!$C$22 * J159*G159 *$W$10/B159), \"\")","v":""},"",null,"","","","","","",null,null,null,null,null,null,"X","","X","X","X","",""]
[null,null,null,null,null,null,null,"",{"$f":"IF(AND(L160 = \"\", NOT(H160=\"\")),IF(C160< $W$10, (H160 *G160 * (C160/B160) * 'Stap 1 - Jouw gegevens'!$C$18), (H160 *G160 *'Stap 1 - Jouw gegevens'!$C$18 * ($W$10/B160))), \"\")","v":""},"",{"$f":"IF(AND(L160 = \"\", NOT(J160=\"\")),IF(C160< $W$10, 'Stap 1 - Jouw gegevens'!$C$22 *J160*G160 *C160/B160,  'Stap 1 - Jouw gegevens'!$C$22 * J160*G160 *$W$10/B160), \"\")","v":""},"",null,"","","","","","",null,null,null,null,null,null,"X","","X","X","X","",""]
[null,null,null,null,null,null,null,"",{"$f":"IF(AND(L161 = \"\", NOT(H161=\"\")),IF(C161< $W$10, (H161 *G161 * (C161/B161) * 'Stap 1 - Jouw gegevens'!$C$18), (H161 *G161 *'Stap 1 - Jouw gegevens'!$C$18 * ($W$10/B161))), \"\")","v":""},"",{"$f":"IF(AND(L161 = \"\", NOT(J161=\"\")),IF(C161< $W$10, 'Stap 1 - Jouw gegevens'!$C$22 *J161*G161 *C161/B161,  'Stap 1 - Jouw gegevens'!$C$22 * J161*G161 *$W$10/B161), \"\")","v":""},"",null,"","","","","","",null,null,null,null,null,null,"X","","X","X","X","",""]
[null,null,null,null,null,null,null,"",{"$f":"IF(AND(L162 = \"\", NOT(H162=\"\")),IF(C162< $W$10, (H162 *G162 * (C162/B162) * 'Stap 1 - Jouw gegevens'!$C$18), (H162 *G162 *'Stap 1 - Jouw gegevens'!$C$18 * ($W$10/B162))), \"\")","v":""},"",{"$f":"IF(AND(L162 = \"\", NOT(J162=\"\")),IF(C162< $W$10, 'Stap 1 - Jouw gegevens'!$C$22 *J162*G162 *C162/B162,  'Stap 1 - Jouw gegevens'!$C$22 * J162*G162 *$W$10/B162), \"\")","v":""},"",null,"","","","","","",null,null,null,null,null,null,"X","","X","X","X","",""]
[null,null,null,null,null,null,null,"",{"$f":"IF(AND(L163 = \"\", NOT(H163=\"\")),IF(C163< $W$10, (H163 *G163 * (C163/B163) * 'Stap 1 - Jouw gegevens'!$C$18), (H163 *G163 *'Stap 1 - Jouw gegevens'!$C$18 * ($W$10/B163))), \"\")","v":""},"",{"$f":"IF(AND(L163 = \"\", NOT(J163=\"\")),IF(C163< $W$10, 'Stap 1 - Jouw gegevens'!$C$22 *J163*G163 *C163/B163,  'Stap 1 - Jouw gegevens'!$C$22 * J163*G163 *$W$10/B163), \"\")","v":""},"",null,"","","","","","",null,null,null,null,null,null,"X","","X","X","X","",""]
[null,null,null,null,null,null,null,"",{"$f":"IF(AND(L164 = \"\", NOT(H164=\"\")),IF(C164< $W$10, (H164 *G164 * (C164/B164) * 'Stap 1 - Jouw gegevens'!$C$18), (H164 *G164 *'Stap 1 - Jouw gegevens'!$C$18 * ($W$10/B164))), \"\")","v":""},"",{"$f":"IF(AND(L164 = \"\", NOT(J164=\"\")),IF(C164< $W$10, 'Stap 1 - Jouw gegevens'!$C$22 *J164*G164 *C164/B164,  'Stap 1 - Jouw gegevens'!$C$22 * J164*G164 *$W$10/B164), \"\")","v":""},"",null,"","","","","","",null,null,null,null,null,null,"X","","X","X","X","",""]
[null,null,null,null,null,null,null,"",{"$f":"IF(AND(L165 = \"\", NOT(H165=\"\")),IF(C165< $W$10, (H165 *G165 * (C165/B165) * 'Stap 1 - Jouw gegevens'!$C$18), (H165 *G165 *'Stap 1 - Jouw gegevens'!$C$18 * ($W$10/B165))), \"\")","v":""},"",{"$f":"IF(AND(L165 = \"\", NOT(J165=\"\")),IF(C165< $W$10, 'Stap 1 - Jouw gegevens'!$C$22 *J165*G165 *C165/B165,  'Stap 1 - Jouw gegevens'!$C$22 * J165*G165 *$W$10/B165), \"\")","v":""},"",null,"","","","","","",null,null,null,null,null,null,"X","","X","X","X","",""]
[null,null,null,null,null,null,null,"",{"$f":"IF(AND(L166 = \"\", NOT(H166=\"\")),IF(C166< $W$10, (H166 *G166 * (C166/B166) * 'Stap 1 - Jouw gegevens'!$C$18), (H166 *G166 *'Stap 1 - Jouw gegevens'!$C$18 * ($W$10/B166))), \"\")","v":""},"",{"$f":"IF(AND(L166 = \"\", NOT(J166=\"\")),IF(C166< $W$10, 'Stap 1 - Jouw gegevens'!$C$22 *J166*G166 *C166/B166,  'Stap 1 - Jouw gegevens'!$C$22 * J166*G166 *$W$10/B166), \"\")","v":""},"",null,"","","","","","",null,null,null,null,null,null,"X","","X","X","X","",""]
[null,null,null,null,null,null,null,"",{"$f":"IF(AND(L167 = \"\", NOT(H167=\"\")),IF(C167< $W$10, (H167 *G167 * (C167/B167) * 'Stap 1 - Jouw gegevens'!$C$18), (H167 *G167 *'Stap 1 - Jouw gegevens'!$C$18 * ($W$10/B167))), \"\")","v":""},"",{"$f":"IF(AND(L167 = \"\", NOT(J167=\"\")),IF(C167< $W$10, 'Stap 1 - Jouw gegevens'!$C$22 *J167*G167 *C167/B167,  'Stap 1 - Jouw gegevens'!$C$22 * J167*G167 *$W$10/B167), \"\")","v":""},"",null,"","","","","","",null,null,null,null,null,null,"X","","X","X","X","",""]
[null,null,null,null,null,null,null,"",{"$f":"IF(AND(L168 = \"\", NOT(H168=\"\")),IF(C168< $W$10, (H168 *G168 * (C168/B168) * 'Stap 1 - Jouw gegevens'!$C$18), (H168 *G168 *'Stap 1 - Jouw gegevens'!$C$18 * ($W$10/B168))), \"\")","v":""},"",{"$f":"IF(AND(L168 = \"\", NOT(J168=\"\")),IF(C168< $W$10, 'Stap 1 - Jouw gegevens'!$C$22 *J168*G168 *C168/B168,  'Stap 1 - Jouw gegevens'!$C$22 * J168*G168 *$W$10/B168), \"\")","v":""},"",null,"","","","","",""]
[null,null,null,null,null,null,null,"",{"$f":"IF(AND(L169 = \"\", NOT(H169=\"\")),IF(C169< $W$10, (H169 *G169 * (C169/B169) * 'Stap 1 - Jouw gegevens'!$C$18), (H169 *G169 *'Stap 1 - Jouw gegevens'!$C$18 * ($W$10/B169))), \"\")","v":""},"",{"$f":"IF(AND(L169 = \"\", NOT(J169=\"\")),IF(C169< $W$10, 'Stap 1 - Jouw gegevens'!$C$22 *J169*G169 *C169/B169,  'Stap 1 - Jouw gegevens'!$C$22 * J169*G169 *$W$10/B169), \"\")","v":""},"",null,"","","","","",""]
[null,null,null,null,null,null,null,"",{"$f":"IF(AND(L170 = \"\", NOT(H170=\"\")),IF(C170< $W$10, (H170 *G170 * (C170/B170) * 'Stap 1 - Jouw gegevens'!$C$18), (H170 *G170 *'Stap 1 - Jouw gegevens'!$C$18 * ($W$10/B170))), \"\")","v":""},"",{"$f":"IF(AND(L170 = \"\", NOT(J170=\"\")),IF(C170< $W$10, 'Stap 1 - Jouw gegevens'!$C$22 *J170*G170 *C170/B170,  'Stap 1 - Jouw gegevens'!$C$22 * J170*G170 *$W$10/B170), \"\")","v":""},"",null,"","","","","",""]
[null,null,null,null,null,null,null,"",{"$f":"IF(AND(L171 = \"\", NOT(H171=\"\")),IF(C171< $W$10, (H171 *G171 * (C171/B171) * 'Stap 1 - Jouw gegevens'!$C$18), (H171 *G171 *'Stap 1 - Jouw gegevens'!$C$18 * ($W$10/B171))), \"\")","v":""},"",{"$f":"IF(AND(L171 = \"\", NOT(J171=\"\")),IF(C171< $W$10, 'Stap 1 - Jouw gegevens'!$C$22 *J171*G171 *C171/B171,  'Stap 1 - Jouw gegevens'!$C$22 * J171*G171 *$W$10/B171), \"\")","v":""},"",null,"","","","","",""]
[null,null,null,null,null,null,null,"",{"$f":"IF(AND(L172 = \"\", NOT(H172=\"\")),IF(C172< $W$10, (H172 *G172 * (C172/B172) * 'Stap 1 - Jouw gegevens'!$C$18), (H172 *G172 *'Stap 1 - Jouw gegevens'!$C$18 * ($W$10/B172))), \"\")","v":""},"",{"$f":"IF(AND(L172 = \"\", NOT(J172=\"\")),IF(C172< $W$10, 'Stap 1 - Jouw gegevens'!$C$22 *J172*G172 *C172/B172,  'Stap 1 - Jouw gegevens'!$C$22 * J172*G172 *$W$10/B172), \"\")","v":""},"",null,"","","","","",""]
[null,null,null,null,null,null,null,"",{"$f":"IF(AND(L173 = \"\", NOT(H173=\"\")),IF(C173< $W$10, (H173 *G173 * (C173/B173) * 'Stap 1 - Jouw gegevens'!$C$18), (H173 *G173 *'Stap 1 - Jouw gegevens'!$C$18 * ($W$10/B173))), \"\")","v":""},"",{"$f":"IF(AND(L173 = \"\", NOT(J173=\"\")),IF(C173< $W$10, 'Stap 1 - Jouw gegevens'!$C$22 *J173*G173 *C173/B173,  'Stap 1 - Jouw gegevens'!$C$22 * J173*G173 *$W$10/B173), \"\")","v":""},"",null,"","","","","",""]
[null,null,null,null,null,null,null,"",{"$f":"IF(AND(L174 = \"\", NOT(H174=\"\")),IF(C174< $W$10, (H174 *G174 * (C174/B174) * 'Stap 1 - Jouw gegevens'!$C$18), (H174 *G174 *'Stap 1 - Jouw gegevens'!$C$18 * ($W$10/B174))), \"\")","v":""},"",{"$f":"IF(AND(L174 = \"\", NOT(J174=\"\")),IF(C174< $W$10, 'Stap 1 - Jouw gegevens'!$C$22 *J174*G174 *C174/B174,  'Stap 1 - Jouw gegevens'!$C$22 * J174*G174 *$W$10/B174), \"\")","v":""},"",null,"","","","","",""]
[null,null,null,null,null,null,null,"",{"$f":"IF(AND(L175 = \"\", NOT(H175=\"\")),IF(C175< $W$10, (H175 *G175 * (C175/B175) * 'Stap 1 - Jouw gegevens'!$C$18), (H175 *G175 *'Stap 1 - Jouw gegevens'!$C$18 * ($W$10/B175))), \"\")","v":""},"",{"$f":"IF(AND(L175 = \"\", NOT(J175=\"\")),IF(C175< $W$10, 'Stap 1 - Jouw gegevens'!$C$22 *J175*G175 *C175/B175,  'Stap 1 - Jouw gegevens'!$C$22 * J175*G175 *$W$10/B175), \"\")","v":""},"",null,"","","","","",""]
[null,null,null,null,null,null,null,"",{"$f":"IF(AND(L176 = \"\", NOT(H176=\"\")),IF(C176< $W$10, (H176 *G176 * (C176/B176) * 'Stap 1 - Jouw gegevens'!$C$18), (H176 *G176 *'Stap 1 - Jouw gegevens'!$C$18 * ($W$10/B176))), \"\")","v":""},"",{"$f":"IF(AND(L176 = \"\", NOT(J176=\"\")),IF(C176< $W$10, 'Stap 1 - Jouw gegevens'!$C$22 *J176*G176 *C176/B176,  'Stap 1 - Jouw gegevens'!$C$22 * J176*G176 *$W$10/B176), \"\")","v":""},"",null,"","","","","",""]
[null,null,null,null,null,null,null,"",{"$f":"IF(AND(L177 = \"\", NOT(H177=\"\")),IF(C177< $W$10, (H177 *G177 * (C177/B177) * 'Stap 1 - Jouw gegevens'!$C$18), (H177 *G177 *'Stap 1 - Jouw gegevens'!$C$18 * ($W$10/B177))), \"\")","v":""},"",{"$f":"IF(AND(L177 = \"\", NOT(J177=\"\")),IF(C177< $W$10, 'Stap 1 - Jouw gegevens'!$C$22 *J177*G177 *C177/B177,  'Stap 1 - Jouw gegevens'!$C$22 * J177*G177 *$W$10/B177), \"\")","v":""},"",null,"","","","","",""]
[null,null,null,null,null,null,null,"",{"$f":"IF(AND(L178 = \"\", NOT(H178=\"\")),IF(C178< $W$10, (H178 *G178 * (C178/B178) * 'Stap 1 - Jouw gegevens'!$C$18), (H178 *G178 *'Stap 1 - Jouw gegevens'!$C$18 * ($W$10/B178))), \"\")","v":""},"",{"$f":"IF(AND(L178 = \"\", NOT(J178=\"\")),IF(C178< $W$10, 'Stap 1 - Jouw gegevens'!$C$22 *J178*G178 *C178/B178,  'Stap 1 - Jouw gegevens'!$C$22 * J178*G178 *$W$10/B178), \"\")","v":""},"",null,"","","","","",""]
[null,null,null,null,null,null,null,"",{"$f":"IF(AND(L179 = \"\", NOT(H179=\"\")),IF(C179< $W$10, (H179 *G179 * (C179/B179) * 'Stap 1 - Jouw gegevens'!$C$18), (H179 *G179 *'Stap 1 - Jouw gegevens'!$C$18 * ($W$10/B179))), \"\")","v":""},"",{"$f":"IF(AND(L179 = \"\", NOT(J179=\"\")),IF(C179< $W$10, 'Stap 1 - Jouw gegevens'!$C$22 *J179*G179 *C179/B179,  'Stap 1 - Jouw gegevens'!$C$22 * J179*G179 *$W$10/B179), \"\")","v":""},"",null,"","","","","",""]
[null,null,null,null,null,null,null,"",{"$f":"IF(AND(L180 = \"\", NOT(H180=\"\")),IF(C180< $W$10, (H180 *G180 * (C180/B180) * 'Stap 1 - Jouw gegevens'!$C$18), (H180 *G180 *'Stap 1 - Jouw gegevens'!$C$18 * ($W$10/B180))), \"\")","v":""},"",{"$f":"IF(AND(L180 = \"\", NOT(J180=\"\")),IF(C180< $W$10, 'Stap 1 - Jouw gegevens'!$C$22 *J180*G180 *C180/B180,  'Stap 1 - Jouw gegevens'!$C$22 * J180*G180 *$W$10/B180), \"\")","v":""},"",null,"","","","","",""]
[null,null,null,null,null,null,null,"",{"$f":"IF(AND(L181 = \"\", NOT(H181=\"\")),IF(C181< $W$10, (H181 *G181 * (C181/B181) * 'Stap 1 - Jouw gegevens'!$C$18), (H181 *G181 *'Stap 1 - Jouw gegevens'!$C$18 * ($W$10/B181))), \"\")","v":""},"",{"$f":"IF(AND(L181 = \"\", NOT(J181=\"\")),IF(C181< $W$10, 'Stap 1 - Jouw gegevens'!$C$22 *J181*G181 *C181/B181,  'Stap 1 - Jouw gegevens'!$C$22 * J181*G181 *$W$10/B181), \"\")","v":""},"",null,"","","","","",""]
[null,null,null,null,null,null,null,"",{"$f":"IF(AND(L182 = \"\", NOT(H182=\"\")),IF(C182< $W$10, (H182 *G182 * (C182/B182) * 'Stap 1 - Jouw gegevens'!$C$18), (H182 *G182 *'Stap 1 - Jouw gegevens'!$C$18 * ($W$10/B182))), \"\")","v":""},"",{"$f":"IF(AND(L182 = \"\", NOT(J182=\"\")),IF(C182< $W$10, 'Stap 1 - Jouw gegevens'!$C$22 *J182*G182 *C182/B182,  'Stap 1 - Jouw gegevens'!$C$22 * J182*G182 *$W$10/B182), \"\")","v":""},"",null,"","","","","",""]
[null,null,null,null,null,null,null,"",{"$f":"IF(AND(L183 = \"\", NOT(H183=\"\")),IF(C183< $W$10, (H183 *G183 * (C183/B183) * 'Stap 1 - Jouw gegevens'!$C$18), (H183 *G183 *'Stap 1 - Jouw gegevens'!$C$18 * ($W$10/B183))), \"\")","v":""},"",{"$f":"IF(AND(L183 = \"\", NOT(J183=\"\")),IF(C183< $W$10, 'Stap 1 - Jouw gegevens'!$C$22 *J183*G183 *C183/B183,  'Stap 1 - Jouw gegevens'!$C$22 * J183*G183 *$W$10/B183), \"\")","v":""},"",null,"","","","","",""]
[null,null,null,null,null,null,null,"",{"$f":"IF(AND(L184 = \"\", NOT(H184=\"\")),IF(C184< $W$10, (H184 *G184 * (C184/B184) * 'Stap 1 - Jouw gegevens'!$C$18), (H184 *G184 *'Stap 1 - Jouw gegevens'!$C$18 * ($W$10/B184))), \"\")","v":""},"",{"$f":"IF(AND(L184 = \"\", NOT(J184=\"\")),IF(C184< $W$10, 'Stap 1 - Jouw gegevens'!$C$22 *J184*G184 *C184/B184,  'Stap 1 - Jouw gegevens'!$C$22 * J184*G184 *$W$10/B184), \"\")","v":""},"",null,"","","","","",""]
[null,null,null,null,null,null,null,"",{"$f":"IF(AND(L185 = \"\", NOT(H185=\"\")),IF(C185< $W$10, (H185 *G185 * (C185/B185) * 'Stap 1 - Jouw gegevens'!$C$18), (H185 *G185 *'Stap 1 - Jouw gegevens'!$C$18 * ($W$10/B185))), \"\")","v":""},"",{"$f":"IF(AND(L185 = \"\", NOT(J185=\"\")),IF(C185< $W$10, 'Stap 1 - Jouw gegevens'!$C$22 *J185*G185 *C185/B185,  'Stap 1 - Jouw gegevens'!$C$22 * J185*G185 *$W$10/B185), \"\")","v":""},"",null,"","","","","",""]
[null,null,null,null,null,null,null,"",{"$f":"IF(AND(L186 = \"\", NOT(H186=\"\")),IF(C186< $W$10, (H186 *G186 * (C186/B186) * 'Stap 1 - Jouw gegevens'!$C$18), (H186 *G186 *'Stap 1 - Jouw gegevens'!$C$18 * ($W$10/B186))), \"\")","v":""},"",{"$f":"IF(AND(L186 = \"\", NOT(J186=\"\")),IF(C186< $W$10, 'Stap 1 - Jouw gegevens'!$C$22 *J186*G186 *C186/B186,  'Stap 1 - Jouw gegevens'!$C$22 * J186*G186 *$W$10/B186), \"\")","v":""},"",null,"","","","","",""]
[null,null,null,null,null,null,null,"",{"$f":"IF(AND(L187 = \"\", NOT(H187=\"\")),IF(C187< $W$10, (H187 *G187 * (C187/B187) * 'Stap 1 - Jouw gegevens'!$C$18), (H187 *G187 *'Stap 1 - Jouw gegevens'!$C$18 * ($W$10/B187))), \"\")","v":""},"",{"$f":"IF(AND(L187 = \"\", NOT(J187=\"\")),IF(C187< $W$10, 'Stap 1 - Jouw gegevens'!$C$22 *J187*G187 *C187/B187,  'Stap 1 - Jouw gegevens'!$C$22 * J187*G187 *$W$10/B187), \"\")","v":""},"",null,"","","","","",""]
[null,null,null,null,null,null,null,"",{"$f":"IF(AND(L188 = \"\", NOT(H188=\"\")),IF(C188< $W$10, (H188 *G188 * (C188/B188) * 'Stap 1 - Jouw gegevens'!$C$18), (H188 *G188 *'Stap 1 - Jouw gegevens'!$C$18 * ($W$10/B188))), \"\")","v":""},"",{"$f":"IF(AND(L188 = \"\", NOT(J188=\"\")),IF(C188< $W$10, 'Stap 1 - Jouw gegevens'!$C$22 *J188*G188 *C188/B188,  'Stap 1 - Jouw gegevens'!$C$22 * J188*G188 *$W$10/B188), \"\")","v":""},"",null,"","","","","",""]
[null,null,null,null,null,null,null,"",{"$f":"IF(AND(L189 = \"\", NOT(H189=\"\")),IF(C189< $W$10, (H189 *G189 * (C189/B189) * 'Stap 1 - Jouw gegevens'!$C$18), (H189 *G189 *'Stap 1 - Jouw gegevens'!$C$18 * ($W$10/B189))), \"\")","v":""},"",{"$f":"IF(AND(L189 = \"\", NOT(J189=\"\")),IF(C189< $W$10, 'Stap 1 - Jouw gegevens'!$C$22 *J189*G189 *C189/B189,  'Stap 1 - Jouw gegevens'!$C$22 * J189*G189 *$W$10/B189), \"\")","v":""},"",null,"","","","","",""]
[null,null,null,null,null,null,null,"",{"$f":"IF(AND(L190 = \"\", NOT(H190=\"\")),IF(C190< $W$10, (H190 *G190 * (C190/B190) * 'Stap 1 - Jouw gegevens'!$C$18), (H190 *G190 *'Stap 1 - Jouw gegevens'!$C$18 * ($W$10/B190))), \"\")","v":""},"",{"$f":"IF(AND(L190 = \"\", NOT(J190=\"\")),IF(C190< $W$10, 'Stap 1 - Jouw gegevens'!$C$22 *J190*G190 *C190/B190,  'Stap 1 - Jouw gegevens'!$C$22 * J190*G190 *$W$10/B190), \"\")","v":""},"",null,"","","","","",""]
[null,null,null,null,null,null,null,"",{"$f":"IF(AND(L191 = \"\", NOT(H191=\"\")),IF(C191< $W$10, (H191 *G191 * (C191/B191) * 'Stap 1 - Jouw gegevens'!$C$18), (H191 *G191 *'Stap 1 - Jouw gegevens'!$C$18 * ($W$10/B191))), \"\")","v":""},"",{"$f":"IF(AND(L191 = \"\", NOT(J191=\"\")),IF(C191< $W$10, 'Stap 1 - Jouw gegevens'!$C$22 *J191*G191 *C191/B191,  'Stap 1 - Jouw gegevens'!$C$22 * J191*G191 *$W$10/B191), \"\")","v":""},"",null,"","","","","",""]
[null,null,null,null,null,null,null,"",{"$f":"IF(AND(L192 = \"\", NOT(H192=\"\")),IF(C192< $W$10, (H192 *G192 * (C192/B192) * 'Stap 1 - Jouw gegevens'!$C$18), (H192 *G192 *'Stap 1 - Jouw gegevens'!$C$18 * ($W$10/B192))), \"\")","v":""},"",{"$f":"IF(AND(L192 = \"\", NOT(J192=\"\")),IF(C192< $W$10, 'Stap 1 - Jouw gegevens'!$C$22 *J192*G192 *C192/B192,  'Stap 1 - Jouw gegevens'!$C$22 * J192*G192 *$W$10/B192), \"\")","v":""},"",null,"","","","","",""]
[null,null,null,null,null,null,null,"",{"$f":"IF(AND(L193 = \"\", NOT(H193=\"\")),IF(C193< $W$10, (H193 *G193 * (C193/B193) * 'Stap 1 - Jouw gegevens'!$C$18), (H193 *G193 *'Stap 1 - Jouw gegevens'!$C$18 * ($W$10/B193))), \"\")","v":""},"",{"$f":"IF(AND(L193 = \"\", NOT(J193=\"\")),IF(C193< $W$10, 'Stap 1 - Jouw gegevens'!$C$22 *J193*G193 *C193/B193,  'Stap 1 - Jouw gegevens'!$C$22 * J193*G193 *$W$10/B193), \"\")","v":""},"",null,"","","","","",""]
[null,null,null,null,null,null,null,"",{"$f":"IF(AND(L194 = \"\", NOT(H194=\"\")),IF(C194< $W$10, (H194 *G194 * (C194/B194) * 'Stap 1 - Jouw gegevens'!$C$18), (H194 *G194 *'Stap 1 - Jouw gegevens'!$C$18 * ($W$10/B194))), \"\")","v":""},"",{"$f":"IF(AND(L194 = \"\", NOT(J194=\"\")),IF(C194< $W$10, 'Stap 1 - Jouw gegevens'!$C$22 *J194*G194 *C194/B194,  'Stap 1 - Jouw gegevens'!$C$22 * J194*G194 *$W$10/B194), \"\")","v":""},"",null,"","","","","",""]
[null,null,null,null,null,null,null,"",{"$f":"IF(AND(L195 = \"\", NOT(H195=\"\")),IF(C195< $W$10, (H195 *G195 * (C195/B195) * 'Stap 1 - Jouw gegevens'!$C$18), (H195 *G195 *'Stap 1 - Jouw gegevens'!$C$18 * ($W$10/B195))), \"\")","v":""},"",{"$f":"IF(AND(L195 = \"\", NOT(J195=\"\")),IF(C195< $W$10, 'Stap 1 - Jouw gegevens'!$C$22 *J195*G195 *C195/B195,  'Stap 1 - Jouw gegevens'!$C$22 * J195*G195 *$W$10/B195), \"\")","v":""},"",null,"","","","","",""]
[null,null,null,null,null,null,null,"",{"$f":"IF(AND(L196 = \"\", NOT(H196=\"\")),IF(C196< $W$10, (H196 *G196 * (C196/B196) * 'Stap 1 - Jouw gegevens'!$C$18), (H196 *G196 *'Stap 1 - Jouw gegevens'!$C$18 * ($W$10/B196))), \"\")","v":""},"",{"$f":"IF(AND(L196 = \"\", NOT(J196=\"\")),IF(C196< $W$10, 'Stap 1 - Jouw gegevens'!$C$22 *J196*G196 *C196/B196,  'Stap 1 - Jouw gegevens'!$C$22 * J196*G196 *$W$10/B196), \"\")","v":""},"",null,"","","","","",""]
[null,null,null,null,null,null,null,"",{"$f":"IF(AND(L197 = \"\", NOT(H197=\"\")),IF(C197< $W$10, (H197 *G197 * (C197/B197) * 'Stap 1 - Jouw gegevens'!$C$18), (H197 *G197 *'Stap 1 - Jouw gegevens'!$C$18 * ($W$10/B197))), \"\")","v":""},"",{"$f":"IF(AND(L197 = \"\", NOT(J197=\"\")),IF(C197< $W$10, 'Stap 1 - Jouw gegevens'!$C$22 *J197*G197 *C197/B197,  'Stap 1 - Jouw gegevens'!$C$22 * J197*G197 *$W$10/B197), \"\")","v":""},"",null,"","","","","",""]
[null,null,null,null,null,null,null,"",{"$f":"IF(AND(L198 = \"\", NOT(H198=\"\")),IF(C198< $W$10, (H198 *G198 * (C198/B198) * 'Stap 1 - Jouw gegevens'!$C$18), (H198 *G198 *'Stap 1 - Jouw gegevens'!$C$18 * ($W$10/B198))), \"\")","v":""},"",{"$f":"IF(AND(L198 = \"\", NOT(J198=\"\")),IF(C198< $W$10, 'Stap 1 - Jouw gegevens'!$C$22 *J198*G198 *C198/B198,  'Stap 1 - Jouw gegevens'!$C$22 * J198*G198 *$W$10/B198), \"\")","v":""},"",null,"","","","","",""]
[null,null,null,null,null,null,null,"",{"$f":"IF(AND(L199 = \"\", NOT(H199=\"\")),IF(C199< $W$10, (H199 *G199 * (C199/B199) * 'Stap 1 - Jouw gegevens'!$C$18), (H199 *G199 *'Stap 1 - Jouw gegevens'!$C$18 * ($W$10/B199))), \"\")","v":""},"",{"$f":"IF(AND(L199 = \"\", NOT(J199=\"\")),IF(C199< $W$10, 'Stap 1 - Jouw gegevens'!$C$22 *J199*G199 *C199/B199,  'Stap 1 - Jouw gegevens'!$C$22 * J199*G199 *$W$10/B199), \"\")","v":""},"",null,"","","","","",""]
[null,null,null,null,null,null,null,{"$f":"P200","v":""},{"$f":"IF(AND(L200 = \"\", NOT(H200=\"\")),IF(C200< $W$10, (H200 *G200 * (C200/B200) * 'Stap 1 - Jouw gegevens'!$C$18), (H200 *G200 *'Stap 1 - Jouw gegevens'!$C$18 * ($W$10/B200))), \"\")","v":""},{"$f":"S200","v":""},{"$f":"IF(AND(L200 = \"\", NOT(J200=\"\")),IF(C200< $W$10, 'Stap 1 - Jouw gegevens'!$C$22 *J200*G200 *C200/B200,  'Stap 1 - Jouw gegevens'!$C$22 * J200*G200 *$W$10/B200), \"\")","v":""},{"$f":"IF(ISBLANK(A200), \"\", CONCATENATE(IF(Z200 = \"X\", $AH$5, \"\"), IF( AB200 = \"X\", $AH$7, \"\"), IF( AC200 = \"X\", $AH$8, \"\"), IF( AD200 = \"X\", $AH$9, \"\"), IF( AE200 = \"X\", $AH$10, \"\"),  IF( AF200 = \"X\", $AH$11, \"\")))","v":""},null,{"$f":"IF(ISBLANK(D200),\"\",NETWORKDAYS(D200,F200))","v":""},{"$f":"IFERROR( IF(N200>$Y$5,NETWORKDAYS(E200, (Q200 - 1)), NETWORKDAYS(E200,(F200-1))), \"\")","v":""},{"$f":"IF(O200<= 0, \"\", O200)","v":""},{"$f":"IF(ISBLANK(D200),\"\",DATE(YEAR(D200)+1,MONTH(D200),DAY(D200)))","v":""},{"$f":"IFERROR(IF(N200 > $Y$5, IF(E200>=Q200,NETWORKDAYS(E200, (F200-1)), NETWORKDAYS(Q200, (F200-1))), \"\"), \"\")","v":""},{"$f":"IF(R200=\"\", \"\",  IF(R200 >= $Y$5, $Y$5,  R200))","v":""}]
[null,null,null,null,null,null,null,"",{"$f":"IF(AND(L201 = \"\", NOT(H201=\"\")),IF(C201< $W$10, (H201 *G201 * (C201/B201) * 'Stap 1 - Jouw gegevens'!$C$18), (H201 *G201 *'Stap 1 - Jouw gegevens'!$C$18 * ($W$10/B201))), \"\")","v":""},"",{"$f":"IF(AND(L201 = \"\", NOT(J201=\"\")),IF(C201< $W$10, 'Stap 1 - Jouw gegevens'!$C$22 *J201*G201 *C201/B201,  'Stap 1 - Jouw gegevens'!$C$22 * J201*G201 *$W$10/B201), \"\")","v":""},"",null,"","","","","",""]
[null,null,null,null,null,null,null,"",{"$f":"IF(AND(L202 = \"\", NOT(H202=\"\")),IF(C202< $W$10, (H202 *G202 * (C202/B202) * 'Stap 1 - Jouw gegevens'!$C$18), (H202 *G202 *'Stap 1 - Jouw gegevens'!$C$18 * ($W$10/B202))), \"\")","v":""},"",{"$f":"IF(AND(L202 = \"\", NOT(J202=\"\")),IF(C202< $W$10, 'Stap 1 - Jouw gegevens'!$C$22 *J202*G202 *C202/B202,  'Stap 1 - Jouw gegevens'!$C$22 * J202*G202 *$W$10/B202), \"\")","v":""},"",null,"","","","","",""]
[null,null,null,null,null,null,null,"",{"$f":"IF(AND(L203 = \"\", NOT(H203=\"\")),IF(C203< $W$10, (H203 *G203 * (C203/B203) * 'Stap 1 - Jouw gegevens'!$C$18), (H203 *G203 *'Stap 1 - Jouw gegevens'!$C$18 * ($W$10/B203))), \"\")","v":""},"",{"$f":"IF(AND(L203 = \"\", NOT(J203=\"\")),IF(C203< $W$10, 'Stap 1 - Jouw gegevens'!$C$22 *J203*G203 *C203/B203,  'Stap 1 - Jouw gegevens'!$C$22 * J203*G203 *$W$10/B203), \"\")","v":""},"",null,"","","","","",""]
[null,null,null,null,null,null,null,"",{"$f":"IF(AND(L204 = \"\", NOT(H204=\"\")),IF(C204< $W$10, (H204 *G204 * (C204/B204) * 'Stap 1 - Jouw gegevens'!$C$18), (H204 *G204 *'Stap 1 - Jouw gegevens'!$C$18 * ($W$10/B204))), \"\")","v":""},"",{"$f":"IF(AND(L204 = \"\", NOT(J204=\"\")),IF(C204< $W$10, 'Stap 1 - Jouw gegevens'!$C$22 *J204*G204 *C204/B204,  'Stap 1 - Jouw gegevens'!$C$22 * J204*G204 *$W$10/B204), \"\")","v":""},"",null,"","","","","",""]
[null,null,null,null,null,null,null,"",{"$f":"IF(AND(L205 = \"\", NOT(H205=\"\")),IF(C205< $W$10, (H205 *G205 * (C205/B205) * 'Stap 1 - Jouw gegevens'!$C$18), (H205 *G205 *'Stap 1 - Jouw gegevens'!$C$18 * ($W$10/B205))), \"\")","v":""},"",{"$f":"IF(AND(L205 = \"\", NOT(J205=\"\")),IF(C205< $W$10, 'Stap 1 - Jouw gegevens'!$C$22 *J205*G205 *C205/B205,  'Stap 1 - Jouw gegevens'!$C$22 * J205*G205 *$W$10/B205), \"\")","v":""},"",null,"","","","","",""]
[null,null,null,null,null,null,null,"",{"$f":"IF(AND(L206 = \"\", NOT(H206=\"\")),IF(C206< $W$10, (H206 *G206 * (C206/B206) * 'Stap 1 - Jouw gegevens'!$C$18), (H206 *G206 *'Stap 1 - Jouw gegevens'!$C$18 * ($W$10/B206))), \"\")","v":""},"",{"$f":"IF(AND(L206 = \"\", NOT(J206=\"\")),IF(C206< $W$10, 'Stap 1 - Jouw gegevens'!$C$22 *J206*G206 *C206/B206,  'Stap 1 - Jouw gegevens'!$C$22 * J206*G206 *$W$10/B206), \"\")","v":""},"",null,"","","","","",""]
[null,null,null,null,null,null,null,"",{"$f":"IF(AND(L207 = \"\", NOT(H207=\"\")),IF(C207< $W$10, (H207 *G207 * (C207/B207) * 'Stap 1 - Jouw gegevens'!$C$18), (H207 *G207 *'Stap 1 - Jouw gegevens'!$C$18 * ($W$10/B207))), \"\")","v":""},"",{"$f":"IF(AND(L207 = \"\", NOT(J207=\"\")),IF(C207< $W$10, 'Stap 1 - Jouw gegevens'!$C$22 *J207*G207 *C207/B207,  'Stap 1 - Jouw gegevens'!$C$22 * J207*G207 *$W$10/B207), \"\")","v":""},"",null,"","","","","",""]
[null,null,null,null,null,null,null,"",{"$f":"IF(AND(L208 = \"\", NOT(H208=\"\")),IF(C208< $W$10, (H208 *G208 * (C208/B208) * 'Stap 1 - Jouw gegevens'!$C$18), (H208 *G208 *'Stap 1 - Jouw gegevens'!$C$18 * ($W$10/B208))), \"\")","v":""},"",{"$f":"IF(AND(L208 = \"\", NOT(J208=\"\")),IF(C208< $W$10, 'Stap 1 - Jouw gegevens'!$C$22 *J208*G208 *C208/B208,  'Stap 1 - Jouw gegevens'!$C$22 * J208*G208 *$W$10/B208), \"\")","v":""},"",null,"","","","","",""]
[null,null,null,null,null,null,null,"",{"$f":"IF(AND(L209 = \"\", NOT(H209=\"\")),IF(C209< $W$10, (H209 *G209 * (C209/B209) * 'Stap 1 - Jouw gegevens'!$C$18), (H209 *G209 *'Stap 1 - Jouw gegevens'!$C$18 * ($W$10/B209))), \"\")","v":""},"",{"$f":"IF(AND(L209 = \"\", NOT(J209=\"\")),IF(C209< $W$10, 'Stap 1 - Jouw gegevens'!$C$22 *J209*G209 *C209/B209,  'Stap 1 - Jouw gegevens'!$C$22 * J209*G209 *$W$10/B209), \"\")","v":""},"",null,"","","","","",""]
[null,null,null,null,null,null,null,"",{"$f":"IF(AND(L210 = \"\", NOT(H210=\"\")),IF(C210< $W$10, (H210 *G210 * (C210/B210) * 'Stap 1 - Jouw gegevens'!$C$18), (H210 *G210 *'Stap 1 - Jouw gegevens'!$C$18 * ($W$10/B210))), \"\")","v":""},"",{"$f":"IF(AND(L210 = \"\", NOT(J210=\"\")),IF(C210< $W$10, 'Stap 1 - Jouw gegevens'!$C$22 *J210*G210 *C210/B210,  'Stap 1 - Jouw gegevens'!$C$22 * J210*G210 *$W$10/B210), \"\")","v":""},"",null,"","","","","",""]
[null,null,null,null,null,null,null,"",{"$f":"IF(AND(L211 = \"\", NOT(H211=\"\")),IF(C211< $W$10, (H211 *G211 * (C211/B211) * 'Stap 1 - Jouw gegevens'!$C$18), (H211 *G211 *'Stap 1 - Jouw gegevens'!$C$18 * ($W$10/B211))), \"\")","v":""},"",{"$f":"IF(AND(L211 = \"\", NOT(J211=\"\")),IF(C211< $W$10, 'Stap 1 - Jouw gegevens'!$C$22 *J211*G211 *C211/B211,  'Stap 1 - Jouw gegevens'!$C$22 * J211*G211 *$W$10/B211), \"\")","v":""},"",null,"","","","","",""]
[null,null,null,null,null,null,null,"",{"$f":"IF(AND(L212 = \"\", NOT(H212=\"\")),IF(C212< $W$10, (H212 *G212 * (C212/B212) * 'Stap 1 - Jouw gegevens'!$C$18), (H212 *G212 *'Stap 1 - Jouw gegevens'!$C$18 * ($W$10/B212))), \"\")","v":""},"",{"$f":"IF(AND(L212 = \"\", NOT(J212=\"\")),IF(C212< $W$10, 'Stap 1 - Jouw gegevens'!$C$22 *J212*G212 *C212/B212,  'Stap 1 - Jouw gegevens'!$C$22 * J212*G212 *$W$10/B212), \"\")","v":""},"",null,"","","","","",""]
[null,null,null,null,null,null,null,"",{"$f":"IF(AND(L213 = \"\", NOT(H213=\"\")),IF(C213< $W$10, (H213 *G213 * (C213/B213) * 'Stap 1 - Jouw gegevens'!$C$18), (H213 *G213 *'Stap 1 - Jouw gegevens'!$C$18 * ($W$10/B213))), \"\")","v":""},"",{"$f":"IF(AND(L213 = \"\", NOT(J213=\"\")),IF(C213< $W$10, 'Stap 1 - Jouw gegevens'!$C$22 *J213*G213 *C213/B213,  'Stap 1 - Jouw gegevens'!$C$22 * J213*G213 *$W$10/B213), \"\")","v":""},"",null,"","","","","",""]
[null,null,null,null,null,null,null,"",{"$f":"IF(AND(L214 = \"\", NOT(H214=\"\")),IF(C214< $W$10, (H214 *G214 * (C214/B214) * 'Stap 1 - Jouw gegevens'!$C$18), (H214 *G214 *'Stap 1 - Jouw gegevens'!$C$18 * ($W$10/B214))), \"\")","v":""},"",{"$f":"IF(AND(L214 = \"\", NOT(J214=\"\")),IF(C214< $W$10, 'Stap 1 - Jouw gegevens'!$C$22 *J214*G214 *C214/B214,  'Stap 1 - Jouw gegevens'!$C$22 * J214*G214 *$W$10/B214), \"\")","v":""},"",null,"","","","","",""]
[null,null,null,null,null,null,null,"",{"$f":"IF(AND(L215 = \"\", NOT(H215=\"\")),IF(C215< $W$10, (H215 *G215 * (C215/B215) * 'Stap 1 - Jouw gegevens'!$C$18), (H215 *G215 *'Stap 1 - Jouw gegevens'!$C$18 * ($W$10/B215))), \"\")","v":""},"",{"$f":"IF(AND(L215 = \"\", NOT(J215=\"\")),IF(C215< $W$10, 'Stap 1 - Jouw gegevens'!$C$22 *J215*G215 *C215/B215,  'Stap 1 - Jouw gegevens'!$C$22 * J215*G215 *$W$10/B215), \"\")","v":""},"",null,"","","","","",""]
[null,null,null,null,null,null,null,"",{"$f":"IF(AND(L216 = \"\", NOT(H216=\"\")),IF(C216< $W$10, (H216 *G216 * (C216/B216) * 'Stap 1 - Jouw gegevens'!$C$18), (H216 *G216 *'Stap 1 - Jouw gegevens'!$C$18 * ($W$10/B216))), \"\")","v":""},"",{"$f":"IF(AND(L216 = \"\", NOT(J216=\"\")),IF(C216< $W$10, 'Stap 1 - Jouw gegevens'!$C$22 *J216*G216 *C216/B216,  'Stap 1 - Jouw gegevens'!$C$22 * J216*G216 *$W$10/B216), \"\")","v":""},"",null,"","","","","",""]
[null,null,null,null,null,null,null,"",{"$f":"IF(AND(L217 = \"\", NOT(H217=\"\")),IF(C217< $W$10, (H217 *G217 * (C217/B217) * 'Stap 1 - Jouw gegevens'!$C$18), (H217 *G217 *'Stap 1 - Jouw gegevens'!$C$18 * ($W$10/B217))), \"\")","v":""},"",{"$f":"IF(AND(L217 = \"\", NOT(J217=\"\")),IF(C217< $W$10, 'Stap 1 - Jouw gegevens'!$C$22 *J217*G217 *C217/B217,  'Stap 1 - Jouw gegevens'!$C$22 * J217*G217 *$W$10/B217), \"\")","v":""},"",null,"","","","","",""]
[null,null,null,null,null,null,null,"",{"$f":"IF(AND(L218 = \"\", NOT(H218=\"\")),IF(C218< $W$10, (H218 *G218 * (C218/B218) * 'Stap 1 - Jouw gegevens'!$C$18), (H218 *G218 *'Stap 1 - Jouw gegevens'!$C$18 * ($W$10/B218))), \"\")","v":""},"",{"$f":"IF(AND(L218 = \"\", NOT(J218=\"\")),IF(C218< $W$10, 'Stap 1 - Jouw gegevens'!$C$22 *J218*G218 *C218/B218,  'Stap 1 - Jouw gegevens'!$C$22 * J218*G218 *$W$10/B218), \"\")","v":""},"",null,"","","","","",""]
[null,null,null,null,null,null,null,"",{"$f":"IF(AND(L219 = \"\", NOT(H219=\"\")),IF(C219< $W$10, (H219 *G219 * (C219/B219) * 'Stap 1 - Jouw gegevens'!$C$18), (H219 *G219 *'Stap 1 - Jouw gegevens'!$C$18 * ($W$10/B219))), \"\")","v":""},"",{"$f":"IF(AND(L219 = \"\", NOT(J219=\"\")),IF(C219< $W$10, 'Stap 1 - Jouw gegevens'!$C$22 *J219*G219 *C219/B219,  'Stap 1 - Jouw gegevens'!$C$22 * J219*G219 *$W$10/B219), \"\")","v":""},"",null,"","","","","",""]
[null,null,null,null,null,null,null,"",{"$f":"IF(AND(L220 = \"\", NOT(H220=\"\")),IF(C220< $W$10, (H220 *G220 * (C220/B220) * 'Stap 1 - Jouw gegevens'!$C$18), (H220 *G220 *'Stap 1 - Jouw gegevens'!$C$18 * ($W$10/B220))), \"\")","v":""},"",{"$f":"IF(AND(L220 = \"\", NOT(J220=\"\")),IF(C220< $W$10, 'Stap 1 - Jouw gegevens'!$C$22 *J220*G220 *C220/B220,  'Stap 1 - Jouw gegevens'!$C$22 * J220*G220 *$W$10/B220), \"\")","v":""},"",null,"","","","","",""]
[null,null,null,null,null,null,null,"",{"$f":"IF(AND(L221 = \"\", NOT(H221=\"\")),IF(C221< $W$10, (H221 *G221 * (C221/B221) * 'Stap 1 - Jouw gegevens'!$C$18), (H221 *G221 *'Stap 1 - Jouw gegevens'!$C$18 * ($W$10/B221))), \"\")","v":""},"",{"$f":"IF(AND(L221 = \"\", NOT(J221=\"\")),IF(C221< $W$10, 'Stap 1 - Jouw gegevens'!$C$22 *J221*G221 *C221/B221,  'Stap 1 - Jouw gegevens'!$C$22 * J221*G221 *$W$10/B221), \"\")","v":""},"",null,"","","","","",""]
[null,null,null,null,null,null,null,"",{"$f":"IF(AND(L222 = \"\", NOT(H222=\"\")),IF(C222< $W$10, (H222 *G222 * (C222/B222) * 'Stap 1 - Jouw gegevens'!$C$18), (H222 *G222 *'Stap 1 - Jouw gegevens'!$C$18 * ($W$10/B222))), \"\")","v":""},"",{"$f":"IF(AND(L222 = \"\", NOT(J222=\"\")),IF(C222< $W$10, 'Stap 1 - Jouw gegevens'!$C$22 *J222*G222 *C222/B222,  'Stap 1 - Jouw gegevens'!$C$22 * J222*G222 *$W$10/B222), \"\")","v":""},"",null,"","","","","",""]
[null,null,null,null,null,null,null,"",{"$f":"IF(AND(L223 = \"\", NOT(H223=\"\")),IF(C223< $W$10, (H223 *G223 * (C223/B223) * 'Stap 1 - Jouw gegevens'!$C$18), (H223 *G223 *'Stap 1 - Jouw gegevens'!$C$18 * ($W$10/B223))), \"\")","v":""},"",{"$f":"IF(AND(L223 = \"\", NOT(J223=\"\")),IF(C223< $W$10, 'Stap 1 - Jouw gegevens'!$C$22 *J223*G223 *C223/B223,  'Stap 1 - Jouw gegevens'!$C$22 * J223*G223 *$W$10/B223), \"\")","v":""},"",null,"","","","","",""]
[null,null,null,null,null,null,null,"",{"$f":"IF(AND(L224 = \"\", NOT(H224=\"\")),IF(C224< $W$10, (H224 *G224 * (C224/B224) * 'Stap 1 - Jouw gegevens'!$C$18), (H224 *G224 *'Stap 1 - Jouw gegevens'!$C$18 * ($W$10/B224))), \"\")","v":""},"",{"$f":"IF(AND(L224 = \"\", NOT(J224=\"\")),IF(C224< $W$10, 'Stap 1 - Jouw gegevens'!$C$22 *J224*G224 *C224/B224,  'Stap 1 - Jouw gegevens'!$C$22 * J224*G224 *$W$10/B224), \"\")","v":""},"",null,"","","","","",""]
[null,null,null,null,null,null,null,"",{"$f":"IF(AND(L225 = \"\", NOT(H225=\"\")),IF(C225< $W$10, (H225 *G225 * (C225/B225) * 'Stap 1 - Jouw gegevens'!$C$18), (H225 *G225 *'Stap 1 - Jouw gegevens'!$C$18 * ($W$10/B225))), \"\")","v":""},"",{"$f":"IF(AND(L225 = \"\", NOT(J225=\"\")),IF(C225< $W$10, 'Stap 1 - Jouw gegevens'!$C$22 *J225*G225 *C225/B225,  'Stap 1 - Jouw gegevens'!$C$22 * J225*G225 *$W$10/B225), \"\")","v":""},"",null,"","","","","",""]
[null,null,null,null,null,null,null,"",{"$f":"IF(AND(L226 = \"\", NOT(H226=\"\")),IF(C226< $W$10, (H226 *G226 * (C226/B226) * 'Stap 1 - Jouw gegevens'!$C$18), (H226 *G226 *'Stap 1 - Jouw gegevens'!$C$18 * ($W$10/B226))), \"\")","v":""},"",{"$f":"IF(AND(L226 = \"\", NOT(J226=\"\")),IF(C226< $W$10, 'Stap 1 - Jouw gegevens'!$C$22 *J226*G226 *C226/B226,  'Stap 1 - Jouw gegevens'!$C$22 * J226*G226 *$W$10/B226), \"\")","v":""},"",null,"","","","","",""]
[null,null,null,null,null,null,null,"",{"$f":"IF(AND(L227 = \"\", NOT(H227=\"\")),IF(C227< $W$10, (H227 *G227 * (C227/B227) * 'Stap 1 - Jouw gegevens'!$C$18), (H227 *G227 *'Stap 1 - Jouw gegevens'!$C$18 * ($W$10/B227))), \"\")","v":""},"",{"$f":"IF(AND(L227 = \"\", NOT(J227=\"\")),IF(C227< $W$10, 'Stap 1 - Jouw gegevens'!$C$22 *J227*G227 *C227/B227,  'Stap 1 - Jouw gegevens'!$C$22 * J227*G227 *$W$10/B227), \"\")","v":""},"",null,"","","","","",""]
[null,null,null,null,null,null,null,"",{"$f":"IF(AND(L228 = \"\", NOT(H228=\"\")),IF(C228< $W$10, (H228 *G228 * (C228/B228) * 'Stap 1 - Jouw gegevens'!$C$18), (H228 *G228 *'Stap 1 - Jouw gegevens'!$C$18 * ($W$10/B228))), \"\")","v":""},"",{"$f":"IF(AND(L228 = \"\", NOT(J228=\"\")),IF(C228< $W$10, 'Stap 1 - Jouw gegevens'!$C$22 *J228*G228 *C228/B228,  'Stap 1 - Jouw gegevens'!$C$22 * J228*G228 *$W$10/B228), \"\")","v":""},"",null,"","","","","",""]
[null,null,null,null,null,null,null,"",{"$f":"IF(AND(L229 = \"\", NOT(H229=\"\")),IF(C229< $W$10, (H229 *G229 * (C229/B229) * 'Stap 1 - Jouw gegevens'!$C$18), (H229 *G229 *'Stap 1 - Jouw gegevens'!$C$18 * ($W$10/B229))), \"\")","v":""},"",{"$f":"IF(AND(L229 = \"\", NOT(J229=\"\")),IF(C229< $W$10, 'Stap 1 - Jouw gegevens'!$C$22 *J229*G229 *C229/B229,  'Stap 1 - Jouw gegevens'!$C$22 * J229*G229 *$W$10/B229), \"\")","v":""},"",null,"","","","","",""]
[null,null,null,null,null,null,null,"",{"$f":"IF(AND(L230 = \"\", NOT(H230=\"\")),IF(C230< $W$10, (H230 *G230 * (C230/B230) * 'Stap 1 - Jouw gegevens'!$C$18), (H230 *G230 *'Stap 1 - Jouw gegevens'!$C$18 * ($W$10/B230))), \"\")","v":""},"",{"$f":"IF(AND(L230 = \"\", NOT(J230=\"\")),IF(C230< $W$10, 'Stap 1 - Jouw gegevens'!$C$22 *J230*G230 *C230/B230,  'Stap 1 - Jouw gegevens'!$C$22 * J230*G230 *$W$10/B230), \"\")","v":""},"",null,"","","","","",""]
[null,null,null,null,null,null,null,"",{"$f":"IF(AND(L231 = \"\", NOT(H231=\"\")),IF(C231< $W$10, (H231 *G231 * (C231/B231) * 'Stap 1 - Jouw gegevens'!$C$18), (H231 *G231 *'Stap 1 - Jouw gegevens'!$C$18 * ($W$10/B231))), \"\")","v":""},"",{"$f":"IF(AND(L231 = \"\", NOT(J231=\"\")),IF(C231< $W$10, 'Stap 1 - Jouw gegevens'!$C$22 *J231*G231 *C231/B231,  'Stap 1 - Jouw gegevens'!$C$22 * J231*G231 *$W$10/B231), \"\")","v":""},"",null,"","","","","",""]
[null,null,null,null,null,null,null,"",{"$f":"IF(AND(L232 = \"\", NOT(H232=\"\")),IF(C232< $W$10, (H232 *G232 * (C232/B232) * 'Stap 1 - Jouw gegevens'!$C$18), (H232 *G232 *'Stap 1 - Jouw gegevens'!$C$18 * ($W$10/B232))), \"\")","v":""},"",{"$f":"IF(AND(L232 = \"\", NOT(J232=\"\")),IF(C232< $W$10, 'Stap 1 - Jouw gegevens'!$C$22 *J232*G232 *C232/B232,  'Stap 1 - Jouw gegevens'!$C$22 * J232*G232 *$W$10/B232), \"\")","v":""},"",null,"","","","","",""]
[null,null,null,null,null,null,null,"",{"$f":"IF(AND(L233 = \"\", NOT(H233=\"\")),IF(C233< $W$10, (H233 *G233 * (C233/B233) * 'Stap 1 - Jouw gegevens'!$C$18), (H233 *G233 *'Stap 1 - Jouw gegevens'!$C$18 * ($W$10/B233))), \"\")","v":""},"",{"$f":"IF(AND(L233 = \"\", NOT(J233=\"\")),IF(C233< $W$10, 'Stap 1 - Jouw gegevens'!$C$22 *J233*G233 *C233/B233,  'Stap 1 - Jouw gegevens'!$C$22 * J233*G233 *$W$10/B233), \"\")","v":""},"",null,"","","","","",""]
[null,null,null,null,null,null,null,"",{"$f":"IF(AND(L234 = \"\", NOT(H234=\"\")),IF(C234< $W$10, (H234 *G234 * (C234/B234) * 'Stap 1 - Jouw gegevens'!$C$18), (H234 *G234 *'Stap 1 - Jouw gegevens'!$C$18 * ($W$10/B234))), \"\")","v":""},"",{"$f":"IF(AND(L234 = \"\", NOT(J234=\"\")),IF(C234< $W$10, 'Stap 1 - Jouw gegevens'!$C$22 *J234*G234 *C234/B234,  'Stap 1 - Jouw gegevens'!$C$22 * J234*G234 *$W$10/B234), \"\")","v":""},"",null,"","","","","",""]
[null,null,null,null,null,null,null,"",{"$f":"IF(AND(L235 = \"\", NOT(H235=\"\")),IF(C235< $W$10, (H235 *G235 * (C235/B235) * 'Stap 1 - Jouw gegevens'!$C$18), (H235 *G235 *'Stap 1 - Jouw gegevens'!$C$18 * ($W$10/B235))), \"\")","v":""},"",{"$f":"IF(AND(L235 = \"\", NOT(J235=\"\")),IF(C235< $W$10, 'Stap 1 - Jouw gegevens'!$C$22 *J235*G235 *C235/B235,  'Stap 1 - Jouw gegevens'!$C$22 * J235*G235 *$W$10/B235), \"\")","v":""},"",null,"","","","","",""]
[null,null,null,null,null,null,null,"",{"$f":"IF(AND(L236 = \"\", NOT(H236=\"\")),IF(C236< $W$10, (H236 *G236 * (C236/B236) * 'Stap 1 - Jouw gegevens'!$C$18), (H236 *G236 *'Stap 1 - Jouw gegevens'!$C$18 * ($W$10/B236))), \"\")","v":""},"",{"$f":"IF(AND(L236 = \"\", NOT(J236=\"\")),IF(C236< $W$10, 'Stap 1 - Jouw gegevens'!$C$22 *J236*G236 *C236/B236,  'Stap 1 - Jouw gegevens'!$C$22 * J236*G236 *$W$10/B236), \"\")","v":""},"",null,"","","","","",""]
[null,null,null,null,null,null,null,"",{"$f":"IF(AND(L237 = \"\", NOT(H237=\"\")),IF(C237< $W$10, (H237 *G237 * (C237/B237) * 'Stap 1 - Jouw gegevens'!$C$18), (H237 *G237 *'Stap 1 - Jouw gegevens'!$C$18 * ($W$10/B237))), \"\")","v":""},"",{"$f":"IF(AND(L237 = \"\", NOT(J237=\"\")),IF(C237< $W$10, 'Stap 1 - Jouw gegevens'!$C$22 *J237*G237 *C237/B237,  'Stap 1 - Jouw gegevens'!$C$22 * J237*G237 *$W$10/B237), \"\")","v":""},"",null,"","","","","",""]
[null,null,null,null,null,null,null,"",{"$f":"IF(AND(L238 = \"\", NOT(H238=\"\")),IF(C238< $W$10, (H238 *G238 * (C238/B238) * 'Stap 1 - Jouw gegevens'!$C$18), (H238 *G238 *'Stap 1 - Jouw gegevens'!$C$18 * ($W$10/B238))), \"\")","v":""},"",{"$f":"IF(AND(L238 = \"\", NOT(J238=\"\")),IF(C238< $W$10, 'Stap 1 - Jouw gegevens'!$C$22 *J238*G238 *C238/B238,  'Stap 1 - Jouw gegevens'!$C$22 * J238*G238 *$W$10/B238), \"\")","v":""},"",null,"","","","","",""]
[null,null,null,null,null,null,null,"",{"$f":"IF(AND(L239 = \"\", NOT(H239=\"\")),IF(C239< $W$10, (H239 *G239 * (C239/B239) * 'Stap 1 - Jouw gegevens'!$C$18), (H239 *G239 *'Stap 1 - Jouw gegevens'!$C$18 * ($W$10/B239))), \"\")","v":""},"",{"$f":"IF(AND(L239 = \"\", NOT(J239=\"\")),IF(C239< $W$10, 'Stap 1 - Jouw gegevens'!$C$22 *J239*G239 *C239/B239,  'Stap 1 - Jouw gegevens'!$C$22 * J239*G239 *$W$10/B239), \"\")","v":""},"",null,"","","","","",""]
[null,null,null,null,null,null,null,"",{"$f":"IF(AND(L240 = \"\", NOT(H240=\"\")),IF(C240< $W$10, (H240 *G240 * (C240/B240) * 'Stap 1 - Jouw gegevens'!$C$18), (H240 *G240 *'Stap 1 - Jouw gegevens'!$C$18 * ($W$10/B240))), \"\")","v":""},"",{"$f":"IF(AND(L240 = \"\", NOT(J240=\"\")),IF(C240< $W$10, 'Stap 1 - Jouw gegevens'!$C$22 *J240*G240 *C240/B240,  'Stap 1 - Jouw gegevens'!$C$22 * J240*G240 *$W$10/B240), \"\")","v":""},"",null,"","","","","",""]
[null,null,null,null,null,null,null,"",{"$f":"IF(AND(L241 = \"\", NOT(H241=\"\")),IF(C241< $W$10, (H241 *G241 * (C241/B241) * 'Stap 1 - Jouw gegevens'!$C$18), (H241 *G241 *'Stap 1 - Jouw gegevens'!$C$18 * ($W$10/B241))), \"\")","v":""},"",{"$f":"IF(AND(L241 = \"\", NOT(J241=\"\")),IF(C241< $W$10, 'Stap 1 - Jouw gegevens'!$C$22 *J241*G241 *C241/B241,  'Stap 1 - Jouw gegevens'!$C$22 * J241*G241 *$W$10/B241), \"\")","v":""},"",null,"","","","","",""]
[null,null,null,null,null,null,null,"",{"$f":"IF(AND(L242 = \"\", NOT(H242=\"\")),IF(C242< $W$10, (H242 *G242 * (C242/B242) * 'Stap 1 - Jouw gegevens'!$C$18), (H242 *G242 *'Stap 1 - Jouw gegevens'!$C$18 * ($W$10/B242))), \"\")","v":""},"",{"$f":"IF(AND(L242 = \"\", NOT(J242=\"\")),IF(C242< $W$10, 'Stap 1 - Jouw gegevens'!$C$22 *J242*G242 *C242/B242,  'Stap 1 - Jouw gegevens'!$C$22 * J242*G242 *$W$10/B242), \"\")","v":""},"",null,"","","","","",""]
[null,null,null,null,null,null,null,"",{"$f":"IF(AND(L243 = \"\", NOT(H243=\"\")),IF(C243< $W$10, (H243 *G243 * (C243/B243) * 'Stap 1 - Jouw gegevens'!$C$18), (H243 *G243 *'Stap 1 - Jouw gegevens'!$C$18 * ($W$10/B243))), \"\")","v":""},"",{"$f":"IF(AND(L243 = \"\", NOT(J243=\"\")),IF(C243< $W$10, 'Stap 1 - Jouw gegevens'!$C$22 *J243*G243 *C243/B243,  'Stap 1 - Jouw gegevens'!$C$22 * J243*G243 *$W$10/B243), \"\")","v":""},"",null,"","","","","",""]
[null,null,null,null,null,null,null,"",{"$f":"IF(AND(L244 = \"\", NOT(H244=\"\")),IF(C244< $W$10, (H244 *G244 * (C244/B244) * 'Stap 1 - Jouw gegevens'!$C$18), (H244 *G244 *'Stap 1 - Jouw gegevens'!$C$18 * ($W$10/B244))), \"\")","v":""},"",{"$f":"IF(AND(L244 = \"\", NOT(J244=\"\")),IF(C244< $W$10, 'Stap 1 - Jouw gegevens'!$C$22 *J244*G244 *C244/B244,  'Stap 1 - Jouw gegevens'!$C$22 * J244*G244 *$W$10/B244), \"\")","v":""},"",null,"","","","","",""]
[null,null,null,null,null,null,null,"",{"$f":"IF(AND(L245 = \"\", NOT(H245=\"\")),IF(C245< $W$10, (H245 *G245 * (C245/B245) * 'Stap 1 - Jouw gegevens'!$C$18), (H245 *G245 *'Stap 1 - Jouw gegevens'!$C$18 * ($W$10/B245))), \"\")","v":""},"",{"$f":"IF(AND(L245 = \"\", NOT(J245=\"\")),IF(C245< $W$10, 'Stap 1 - Jouw gegevens'!$C$22 *J245*G245 *C245/B245,  'Stap 1 - Jouw gegevens'!$C$22 * J245*G245 *$W$10/B245), \"\")","v":""},"",null,"","","","","",""]
[null,null,null,null,null,null,null,"",{"$f":"IF(AND(L246 = \"\", NOT(H246=\"\")),IF(C246< $W$10, (H246 *G246 * (C246/B246) * 'Stap 1 - Jouw gegevens'!$C$18), (H246 *G246 *'Stap 1 - Jouw gegevens'!$C$18 * ($W$10/B246))), \"\")","v":""},"",{"$f":"IF(AND(L246 = \"\", NOT(J246=\"\")),IF(C246< $W$10, 'Stap 1 - Jouw gegevens'!$C$22 *J246*G246 *C246/B246,  'Stap 1 - Jouw gegevens'!$C$22 * J246*G246 *$W$10/B246), \"\")","v":""},"",null,"","","","","",""]
[null,null,null,null,null,null,null,"",{"$f":"IF(AND(L247 = \"\", NOT(H247=\"\")),IF(C247< $W$10, (H247 *G247 * (C247/B247) * 'Stap 1 - Jouw gegevens'!$C$18), (H247 *G247 *'Stap 1 - Jouw gegevens'!$C$18 * ($W$10/B247))), \"\")","v":""},"",{"$f":"IF(AND(L247 = \"\", NOT(J247=\"\")),IF(C247< $W$10, 'Stap 1 - Jouw gegevens'!$C$22 *J247*G247 *C247/B247,  'Stap 1 - Jouw gegevens'!$C$22 * J247*G247 *$W$10/B247), \"\")","v":""},"",null,"","","","","",""]
[null,null,null,null,null,null,null,"",{"$f":"IF(AND(L248 = \"\", NOT(H248=\"\")),IF(C248< $W$10, (H248 *G248 * (C248/B248) * 'Stap 1 - Jouw gegevens'!$C$18), (H248 *G248 *'Stap 1 - Jouw gegevens'!$C$18 * ($W$10/B248))), \"\")","v":""},"",{"$f":"IF(AND(L248 = \"\", NOT(J248=\"\")),IF(C248< $W$10, 'Stap 1 - Jouw gegevens'!$C$22 *J248*G248 *C248/B248,  'Stap 1 - Jouw gegevens'!$C$22 * J248*G248 *$W$10/B248), \"\")","v":""},"",null,"","","","","",""]
[null,null,null,null,null,null,null,"",{"$f":"IF(AND(L249 = \"\", NOT(H249=\"\")),IF(C249< $W$10, (H249 *G249 * (C249/B249) * 'Stap 1 - Jouw gegevens'!$C$18), (H249 *G249 *'Stap 1 - Jouw gegevens'!$C$18 * ($W$10/B249))), \"\")","v":""},"",{"$f":"IF(AND(L249 = \"\", NOT(J249=\"\")),IF(C249< $W$10, 'Stap 1 - Jouw gegevens'!$C$22 *J249*G249 *C249/B249,  'Stap 1 - Jouw gegevens'!$C$22 * J249*G249 *$W$10/B249), \"\")","v":""},"",null,"","","","","",""]
[null,null,null,null,null,null,null,"",{"$f":"IF(AND(L250 = \"\", NOT(H250=\"\")),IF(C250< $W$10, (H250 *G250 * (C250/B250) * 'Stap 1 - Jouw gegevens'!$C$18), (H250 *G250 *'Stap 1 - Jouw gegevens'!$C$18 * ($W$10/B250))), \"\")","v":""},"",{"$f":"IF(AND(L250 = \"\", NOT(J250=\"\")),IF(C250< $W$10, 'Stap 1 - Jouw gegevens'!$C$22 *J250*G250 *C250/B250,  'Stap 1 - Jouw gegevens'!$C$22 * J250*G250 *$W$10/B250), \"\")","v":""},"",null,"","","","","",""]
[null,null,null,null,null,null,null,"",{"$f":"IF(AND(L251 = \"\", NOT(H251=\"\")),IF(C251< $W$10, (H251 *G251 * (C251/B251) * 'Stap 1 - Jouw gegevens'!$C$18), (H251 *G251 *'Stap 1 - Jouw gegevens'!$C$18 * ($W$10/B251))), \"\")","v":""},"",{"$f":"IF(AND(L251 = \"\", NOT(J251=\"\")),IF(C251< $W$10, 'Stap 1 - Jouw gegevens'!$C$22 *J251*G251 *C251/B251,  'Stap 1 - Jouw gegevens'!$C$22 * J251*G251 *$W$10/B251), \"\")","v":""},"",null,"","","","","",""]
[null,null,null,null,null,null,null,"",{"$f":"IF(AND(L252 = \"\", NOT(H252=\"\")),IF(C252< $W$10, (H252 *G252 * (C252/B252) * 'Stap 1 - Jouw gegevens'!$C$18), (H252 *G252 *'Stap 1 - Jouw gegevens'!$C$18 * ($W$10/B252))), \"\")","v":""},"",{"$f":"IF(AND(L252 = \"\", NOT(J252=\"\")),IF(C252< $W$10, 'Stap 1 - Jouw gegevens'!$C$22 *J252*G252 *C252/B252,  'Stap 1 - Jouw gegevens'!$C$22 * J252*G252 *$W$10/B252), \"\")","v":""},"",null,"","","","","",""]
[null,null,null,null,null,null,null,"",{"$f":"IF(AND(L253 = \"\", NOT(H253=\"\")),IF(C253< $W$10, (H253 *G253 * (C253/B253) * 'Stap 1 - Jouw gegevens'!$C$18), (H253 *G253 *'Stap 1 - Jouw gegevens'!$C$18 * ($W$10/B253))), \"\")","v":""},"",{"$f":"IF(AND(L253 = \"\", NOT(J253=\"\")),IF(C253< $W$10, 'Stap 1 - Jouw gegevens'!$C$22 *J253*G253 *C253/B253,  'Stap 1 - Jouw gegevens'!$C$22 * J253*G253 *$W$10/B253), \"\")","v":""},"",null,"","","","","",""]
[null,null,null,null,null,null,null,"",{"$f":"IF(AND(L254 = \"\", NOT(H254=\"\")),IF(C254< $W$10, (H254 *G254 * (C254/B254) * 'Stap 1 - Jouw gegevens'!$C$18), (H254 *G254 *'Stap 1 - Jouw gegevens'!$C$18 * ($W$10/B254))), \"\")","v":""},"",{"$f":"IF(AND(L254 = \"\", NOT(J254=\"\")),IF(C254< $W$10, 'Stap 1 - Jouw gegevens'!$C$22 *J254*G254 *C254/B254,  'Stap 1 - Jouw gegevens'!$C$22 * J254*G254 *$W$10/B254), \"\")","v":""},"",null,"","","","","",""]
[null,null,null,null,null,null,null,"",{"$f":"IF(AND(L255 = \"\", NOT(H255=\"\")),IF(C255< $W$10, (H255 *G255 * (C255/B255) * 'Stap 1 - Jouw gegevens'!$C$18), (H255 *G255 *'Stap 1 - Jouw gegevens'!$C$18 * ($W$10/B255))), \"\")","v":""},"",{"$f":"IF(AND(L255 = \"\", NOT(J255=\"\")),IF(C255< $W$10, 'Stap 1 - Jouw gegevens'!$C$22 *J255*G255 *C255/B255,  'Stap 1 - Jouw gegevens'!$C$22 * J255*G255 *$W$10/B255), \"\")","v":""},"",null,"","","","","",""]
[null,null,null,null,null,null,null,"",{"$f":"IF(AND(L256 = \"\", NOT(H256=\"\")),IF(C256< $W$10, (H256 *G256 * (C256/B256) * 'Stap 1 - Jouw gegevens'!$C$18), (H256 *G256 *'Stap 1 - Jouw gegevens'!$C$18 * ($W$10/B256))), \"\")","v":""},"",{"$f":"IF(AND(L256 = \"\", NOT(J256=\"\")),IF(C256< $W$10, 'Stap 1 - Jouw gegevens'!$C$22 *J256*G256 *C256/B256,  'Stap 1 - Jouw gegevens'!$C$22 * J256*G256 *$W$10/B256), \"\")","v":""},"",null,"","","","","",""]
[null,null,null,null,null,null,null,"",{"$f":"IF(AND(L257 = \"\", NOT(H257=\"\")),IF(C257< $W$10, (H257 *G257 * (C257/B257) * 'Stap 1 - Jouw gegevens'!$C$18), (H257 *G257 *'Stap 1 - Jouw gegevens'!$C$18 * ($W$10/B257))), \"\")","v":""},"",{"$f":"IF(AND(L257 = \"\", NOT(J257=\"\")),IF(C257< $W$10, 'Stap 1 - Jouw gegevens'!$C$22 *J257*G257 *C257/B257,  'Stap 1 - Jouw gegevens'!$C$22 * J257*G257 *$W$10/B257), \"\")","v":""},"",null,"","","","","",""]
[null,null,null,null,null,null,null,"",{"$f":"IF(AND(L258 = \"\", NOT(H258=\"\")),IF(C258< $W$10, (H258 *G258 * (C258/B258) * 'Stap 1 - Jouw gegevens'!$C$18), (H258 *G258 *'Stap 1 - Jouw gegevens'!$C$18 * ($W$10/B258))), \"\")","v":""},"",{"$f":"IF(AND(L258 = \"\", NOT(J258=\"\")),IF(C258< $W$10, 'Stap 1 - Jouw gegevens'!$C$22 *J258*G258 *C258/B258,  'Stap 1 - Jouw gegevens'!$C$22 * J258*G258 *$W$10/B258), \"\")","v":""},"",null,"","","","","",""]
[null,null,null,null,null,null,null,"",{"$f":"IF(AND(L259 = \"\", NOT(H259=\"\")),IF(C259< $W$10, (H259 *G259 * (C259/B259) * 'Stap 1 - Jouw gegevens'!$C$18), (H259 *G259 *'Stap 1 - Jouw gegevens'!$C$18 * ($W$10/B259))), \"\")","v":""},"",{"$f":"IF(AND(L259 = \"\", NOT(J259=\"\")),IF(C259< $W$10, 'Stap 1 - Jouw gegevens'!$C$22 *J259*G259 *C259/B259,  'Stap 1 - Jouw gegevens'!$C$22 * J259*G259 *$W$10/B259), \"\")","v":""},"",null,"","","","","",""]
[null,null,null,null,null,null,null,"",{"$f":"IF(AND(L260 = \"\", NOT(H260=\"\")),IF(C260< $W$10, (H260 *G260 * (C260/B260) * 'Stap 1 - Jouw gegevens'!$C$18), (H260 *G260 *'Stap 1 - Jouw gegevens'!$C$18 * ($W$10/B260))), \"\")","v":""},"",{"$f":"IF(AND(L260 = \"\", NOT(J260=\"\")),IF(C260< $W$10, 'Stap 1 - Jouw gegevens'!$C$22 *J260*G260 *C260/B260,  'Stap 1 - Jouw gegevens'!$C$22 * J260*G260 *$W$10/B260), \"\")","v":""},"",null,"","","","","",""]
[null,null,null,null,null,null,null,"",{"$f":"IF(AND(L261 = \"\", NOT(H261=\"\")),IF(C261< $W$10, (H261 *G261 * (C261/B261) * 'Stap 1 - Jouw gegevens'!$C$18), (H261 *G261 *'Stap 1 - Jouw gegevens'!$C$18 * ($W$10/B261))), \"\")","v":""},"",{"$f":"IF(AND(L261 = \"\", NOT(J261=\"\")),IF(C261< $W$10, 'Stap 1 - Jouw gegevens'!$C$22 *J261*G261 *C261/B261,  'Stap 1 - Jouw gegevens'!$C$22 * J261*G261 *$W$10/B261), \"\")","v":""},"",null,"","","","","",""]
[null,null,null,null,null,null,null,"",{"$f":"IF(AND(L262 = \"\", NOT(H262=\"\")),IF(C262< $W$10, (H262 *G262 * (C262/B262) * 'Stap 1 - Jouw gegevens'!$C$18), (H262 *G262 *'Stap 1 - Jouw gegevens'!$C$18 * ($W$10/B262))), \"\")","v":""},"",{"$f":"IF(AND(L262 = \"\", NOT(J262=\"\")),IF(C262< $W$10, 'Stap 1 - Jouw gegevens'!$C$22 *J262*G262 *C262/B262,  'Stap 1 - Jouw gegevens'!$C$22 * J262*G262 *$W$10/B262), \"\")","v":""},"",null,"","","","","",""]
[null,null,null,null,null,null,null,"",{"$f":"IF(AND(L263 = \"\", NOT(H263=\"\")),IF(C263< $W$10, (H263 *G263 * (C263/B263) * 'Stap 1 - Jouw gegevens'!$C$18), (H263 *G263 *'Stap 1 - Jouw gegevens'!$C$18 * ($W$10/B263))), \"\")","v":""},"",{"$f":"IF(AND(L263 = \"\", NOT(J263=\"\")),IF(C263< $W$10, 'Stap 1 - Jouw gegevens'!$C$22 *J263*G263 *C263/B263,  'Stap 1 - Jouw gegevens'!$C$22 * J263*G263 *$W$10/B263), \"\")","v":""},"",null,"","","","","",""]
[null,null,null,null,null,null,null,{"$f":"P264","v":""},{"$f":"IF(AND(L264 = \"\", NOT(H264=\"\")),IF(C264< $W$10, (H264 *G264 * (C264/B264) * 'Stap 1 - Jouw gegevens'!$C$18), (H264 *G264 *'Stap 1 - Jouw gegevens'!$C$18 * ($W$10/B264))), \"\")","v":""},{"$f":"S264","v":""},{"$f":"IF(AND(L264 = \"\", NOT(J264=\"\")),IF(C264< $W$10, 'Stap 1 - Jouw gegevens'!$C$22 *J264*G264 *C264/B264,  'Stap 1 - Jouw gegevens'!$C$22 * J264*G264 *$W$10/B264), \"\")","v":""},{"$f":"IF(ISBLANK(A264), \"\", CONCATENATE(IF(Z264 = \"X\", $AH$5, \"\"), IF( AB264 = \"X\", $AH$7, \"\"), IF( AC264 = \"X\", $AH$8, \"\"), IF( AD264 = \"X\", $AH$9, \"\"), IF( AE264 = \"X\", $AH$10, \"\"),  IF( AF264 = \"X\", $AH$11, \"\")))","v":""},null,{"$f":"IF(ISBLANK(D264),\"\",NETWORKDAYS(D264,F264))","v":""},{"$f":"IFERROR( IF(N264>$Y$5,NETWORKDAYS(E264, (Q264 - 1)), NETWORKDAYS(E264,(F264-1))), \"\")","v":""},{"$f":"IF(O264<= 0, \"\", O264)","v":""},{"$f":"IF(ISBLANK(D264),\"\",DATE(YEAR(D264)+1,MONTH(D264),DAY(D264)))","v":""},{"$f":"IFERROR(IF(N264 > $Y$5, IF(E264>=Q264,NETWORKDAYS(E264, (F264-1)), NETWORKDAYS(Q264, (F264-1))), \"\"), \"\")","v":""},{"$f":"IF(R264=\"\", \"\",  IF(R264 >= $Y$5, $Y$5,  R264))","v":""}]
[null,null,null,null,null,null,null,"",{"$f":"IF(AND(L265 = \"\", NOT(H265=\"\")),IF(C265< $W$10, (H265 *G265 * (C265/B265) * 'Stap 1 - Jouw gegevens'!$C$18), (H265 *G265 *'Stap 1 - Jouw gegevens'!$C$18 * ($W$10/B265))), \"\")","v":""},"",{"$f":"IF(AND(L265 = \"\", NOT(J265=\"\")),IF(C265< $W$10, 'Stap 1 - Jouw gegevens'!$C$22 *J265*G265 *C265/B265,  'Stap 1 - Jouw gegevens'!$C$22 * J265*G265 *$W$10/B265), \"\")","v":""},"",null,"","","","","",""]
[null,null,null,null,null,null,null,"",{"$f":"IF(AND(L266 = \"\", NOT(H266=\"\")),IF(C266< $W$10, (H266 *G266 * (C266/B266) * 'Stap 1 - Jouw gegevens'!$C$18), (H266 *G266 *'Stap 1 - Jouw gegevens'!$C$18 * ($W$10/B266))), \"\")","v":""},"",{"$f":"IF(AND(L266 = \"\", NOT(J266=\"\")),IF(C266< $W$10, 'Stap 1 - Jouw gegevens'!$C$22 *J266*G266 *C266/B266,  'Stap 1 - Jouw gegevens'!$C$22 * J266*G266 *$W$10/B266), \"\")","v":""},"",null,"","","","","",""]
[null,null,null,null,null,null,null,"",{"$f":"IF(AND(L267 = \"\", NOT(H267=\"\")),IF(C267< $W$10, (H267 *G267 * (C267/B267) * 'Stap 1 - Jouw gegevens'!$C$18), (H267 *G267 *'Stap 1 - Jouw gegevens'!$C$18 * ($W$10/B267))), \"\")","v":""},"",{"$f":"IF(AND(L267 = \"\", NOT(J267=\"\")),IF(C267< $W$10, 'Stap 1 - Jouw gegevens'!$C$22 *J267*G267 *C267/B267,  'Stap 1 - Jouw gegevens'!$C$22 * J267*G267 *$W$10/B267), \"\")","v":""},"",null,"","","","","",""]
[null,null,null,null,null,null,null,"",{"$f":"IF(AND(L268 = \"\", NOT(H268=\"\")),IF(C268< $W$10, (H268 *G268 * (C268/B268) * 'Stap 1 - Jouw gegevens'!$C$18), (H268 *G268 *'Stap 1 - Jouw gegevens'!$C$18 * ($W$10/B268))), \"\")","v":""},"",{"$f":"IF(AND(L268 = \"\", NOT(J268=\"\")),IF(C268< $W$10, 'Stap 1 - Jouw gegevens'!$C$22 *J268*G268 *C268/B268,  'Stap 1 - Jouw gegevens'!$C$22 * J268*G268 *$W$10/B268), \"\")","v":""},"",null,"","","","","",""]
[null,null,null,null,null,null,null,"",{"$f":"IF(AND(L269 = \"\", NOT(H269=\"\")),IF(C269< $W$10, (H269 *G269 * (C269/B269) * 'Stap 1 - Jouw gegevens'!$C$18), (H269 *G269 *'Stap 1 - Jouw gegevens'!$C$18 * ($W$10/B269))), \"\")","v":""},"",{"$f":"IF(AND(L269 = \"\", NOT(J269=\"\")),IF(C269< $W$10, 'Stap 1 - Jouw gegevens'!$C$22 *J269*G269 *C269/B269,  'Stap 1 - Jouw gegevens'!$C$22 * J269*G269 *$W$10/B269), \"\")","v":""},"",null,"","","","","",""]
[null,null,null,null,null,null,null,"",{"$f":"IF(AND(L270 = \"\", NOT(H270=\"\")),IF(C270< $W$10, (H270 *G270 * (C270/B270) * 'Stap 1 - Jouw gegevens'!$C$18), (H270 *G270 *'Stap 1 - Jouw gegevens'!$C$18 * ($W$10/B270))), \"\")","v":""},"",{"$f":"IF(AND(L270 = \"\", NOT(J270=\"\")),IF(C270< $W$10, 'Stap 1 - Jouw gegevens'!$C$22 *J270*G270 *C270/B270,  'Stap 1 - Jouw gegevens'!$C$22 * J270*G270 *$W$10/B270), \"\")","v":""},"",null,"","","","","",""]
[null,null,null,null,null,null,null,"",{"$f":"IF(AND(L271 = \"\", NOT(H271=\"\")),IF(C271< $W$10, (H271 *G271 * (C271/B271) * 'Stap 1 - Jouw gegevens'!$C$18), (H271 *G271 *'Stap 1 - Jouw gegevens'!$C$18 * ($W$10/B271))), \"\")","v":""},"",{"$f":"IF(AND(L271 = \"\", NOT(J271=\"\")),IF(C271< $W$10, 'Stap 1 - Jouw gegevens'!$C$22 *J271*G271 *C271/B271,  'Stap 1 - Jouw gegevens'!$C$22 * J271*G271 *$W$10/B271), \"\")","v":""},"",null,"","","","","",""]
[null,null,null,null,null,null,null,"",{"$f":"IF(AND(L272 = \"\", NOT(H272=\"\")),IF(C272< $W$10, (H272 *G272 * (C272/B272) * 'Stap 1 - Jouw gegevens'!$C$18), (H272 *G272 *'Stap 1 - Jouw gegevens'!$C$18 * ($W$10/B272))), \"\")","v":""},"",{"$f":"IF(AND(L272 = \"\", NOT(J272=\"\")),IF(C272< $W$10, 'Stap 1 - Jouw gegevens'!$C$22 *J272*G272 *C272/B272,  'Stap 1 - Jouw gegevens'!$C$22 * J272*G272 *$W$10/B272), \"\")","v":""},"",null,"","","","","",""]
[null,null,null,null,null,null,null,"",{"$f":"IF(AND(L273 = \"\", NOT(H273=\"\")),IF(C273< $W$10, (H273 *G273 * (C273/B273) * 'Stap 1 - Jouw gegevens'!$C$18), (H273 *G273 *'Stap 1 - Jouw gegevens'!$C$18 * ($W$10/B273))), \"\")","v":""},"",{"$f":"IF(AND(L273 = \"\", NOT(J273=\"\")),IF(C273< $W$10, 'Stap 1 - Jouw gegevens'!$C$22 *J273*G273 *C273/B273,  'Stap 1 - Jouw gegevens'!$C$22 * J273*G273 *$W$10/B273), \"\")","v":""},"",null,"","","","","",""]
[null,null,null,null,null,null,null,"",{"$f":"IF(AND(L274 = \"\", NOT(H274=\"\")),IF(C274< $W$10, (H274 *G274 * (C274/B274) * 'Stap 1 - Jouw gegevens'!$C$18), (H274 *G274 *'Stap 1 - Jouw gegevens'!$C$18 * ($W$10/B274))), \"\")","v":""},"",{"$f":"IF(AND(L274 = \"\", NOT(J274=\"\")),IF(C274< $W$10, 'Stap 1 - Jouw gegevens'!$C$22 *J274*G274 *C274/B274,  'Stap 1 - Jouw gegevens'!$C$22 * J274*G274 *$W$10/B274), \"\")","v":""},"",null,"","","","","",""]
[null,null,null,null,null,null,null,"",{"$f":"IF(AND(L275 = \"\", NOT(H275=\"\")),IF(C275< $W$10, (H275 *G275 * (C275/B275) * 'Stap 1 - Jouw gegevens'!$C$18), (H275 *G275 *'Stap 1 - Jouw gegevens'!$C$18 * ($W$10/B275))), \"\")","v":""},"",{"$f":"IF(AND(L275 = \"\", NOT(J275=\"\")),IF(C275< $W$10, 'Stap 1 - Jouw gegevens'!$C$22 *J275*G275 *C275/B275,  'Stap 1 - Jouw gegevens'!$C$22 * J275*G275 *$W$10/B275), \"\")","v":""},"",null,"","","","","",""]
[null,null,null,null,null,null,null,"",{"$f":"IF(AND(L276 = \"\", NOT(H276=\"\")),IF(C276< $W$10, (H276 *G276 * (C276/B276) * 'Stap 1 - Jouw gegevens'!$C$18), (H276 *G276 *'Stap 1 - Jouw gegevens'!$C$18 * ($W$10/B276))), \"\")","v":""},"",{"$f":"IF(AND(L276 = \"\", NOT(J276=\"\")),IF(C276< $W$10, 'Stap 1 - Jouw gegevens'!$C$22 *J276*G276 *C276/B276,  'Stap 1 - Jouw gegevens'!$C$22 * J276*G276 *$W$10/B276), \"\")","v":""},"",null,"","","","","",""]
[null,null,null,null,null,null,null,"",{"$f":"IF(AND(L277 = \"\", NOT(H277=\"\")),IF(C277< $W$10, (H277 *G277 * (C277/B277) * 'Stap 1 - Jouw gegevens'!$C$18), (H277 *G277 *'Stap 1 - Jouw gegevens'!$C$18 * ($W$10/B277))), \"\")","v":""},"",{"$f":"IF(AND(L277 = \"\", NOT(J277=\"\")),IF(C277< $W$10, 'Stap 1 - Jouw gegevens'!$C$22 *J277*G277 *C277/B277,  'Stap 1 - Jouw gegevens'!$C$22 * J277*G277 *$W$10/B277), \"\")","v":""},"",null,"","","","","",""]
[null,null,null,null,null,null,null,"",{"$f":"IF(AND(L278 = \"\", NOT(H278=\"\")),IF(C278< $W$10, (H278 *G278 * (C278/B278) * 'Stap 1 - Jouw gegevens'!$C$18), (H278 *G278 *'Stap 1 - Jouw gegevens'!$C$18 * ($W$10/B278))), \"\")","v":""},"",{"$f":"IF(AND(L278 = \"\", NOT(J278=\"\")),IF(C278< $W$10, 'Stap 1 - Jouw gegevens'!$C$22 *J278*G278 *C278/B278,  'Stap 1 - Jouw gegevens'!$C$22 * J278*G278 *$W$10/B278), \"\")","v":""},"",null,"","","","","",""]
[null,null,null,null,null,null,null,"",{"$f":"IF(AND(L279 = \"\", NOT(H279=\"\")),IF(C279< $W$10, (H279 *G279 * (C279/B279) * 'Stap 1 - Jouw gegevens'!$C$18), (H279 *G279 *'Stap 1 - Jouw gegevens'!$C$18 * ($W$10/B279))), \"\")","v":""},"",{"$f":"IF(AND(L279 = \"\", NOT(J279=\"\")),IF(C279< $W$10, 'Stap 1 - Jouw gegevens'!$C$22 *J279*G279 *C279/B279,  'Stap 1 - Jouw gegevens'!$C$22 * J279*G279 *$W$10/B279), \"\")","v":""},"",null,"","","","","",""]
[null,null,null,null,null,null,null,"",{"$f":"IF(AND(L280 = \"\", NOT(H280=\"\")),IF(C280< $W$10, (H280 *G280 * (C280/B280) * 'Stap 1 - Jouw gegevens'!$C$18), (H280 *G280 *'Stap 1 - Jouw gegevens'!$C$18 * ($W$10/B280))), \"\")","v":""},"",{"$f":"IF(AND(L280 = \"\", NOT(J280=\"\")),IF(C280< $W$10, 'Stap 1 - Jouw gegevens'!$C$22 *J280*G280 *C280/B280,  'Stap 1 - Jouw gegevens'!$C$22 * J280*G280 *$W$10/B280), \"\")","v":""},"",null,"","","","","",""]
[null,null,null,null,null,null,null,"",{"$f":"IF(AND(L281 = \"\", NOT(H281=\"\")),IF(C281< $W$10, (H281 *G281 * (C281/B281) * 'Stap 1 - Jouw gegevens'!$C$18), (H281 *G281 *'Stap 1 - Jouw gegevens'!$C$18 * ($W$10/B281))), \"\")","v":""},"",{"$f":"IF(AND(L281 = \"\", NOT(J281=\"\")),IF(C281< $W$10, 'Stap 1 - Jouw gegevens'!$C$22 *J281*G281 *C281/B281,  'Stap 1 - Jouw gegevens'!$C$22 * J281*G281 *$W$10/B281), \"\")","v":""},"",null,"","","","","",""]
[null,null,null,null,null,null,null,"",{"$f":"IF(AND(L282 = \"\", NOT(H282=\"\")),IF(C282< $W$10, (H282 *G282 * (C282/B282) * 'Stap 1 - Jouw gegevens'!$C$18), (H282 *G282 *'Stap 1 - Jouw gegevens'!$C$18 * ($W$10/B282))), \"\")","v":""},"",{"$f":"IF(AND(L282 = \"\", NOT(J282=\"\")),IF(C282< $W$10, 'Stap 1 - Jouw gegevens'!$C$22 *J282*G282 *C282/B282,  'Stap 1 - Jouw gegevens'!$C$22 * J282*G282 *$W$10/B282), \"\")","v":""},"",null,"","","","","",""]
[null,null,null,null,null,null,null,"",{"$f":"IF(AND(L283 = \"\", NOT(H283=\"\")),IF(C283< $W$10, (H283 *G283 * (C283/B283) * 'Stap 1 - Jouw gegevens'!$C$18), (H283 *G283 *'Stap 1 - Jouw gegevens'!$C$18 * ($W$10/B283))), \"\")","v":""},"",{"$f":"IF(AND(L283 = \"\", NOT(J283=\"\")),IF(C283< $W$10, 'Stap 1 - Jouw gegevens'!$C$22 *J283*G283 *C283/B283,  'Stap 1 - Jouw gegevens'!$C$22 * J283*G283 *$W$10/B283), \"\")","v":""},"",null,"","","","","",""]
[null,null,null,null,null,null,null,"",{"$f":"IF(AND(L284 = \"\", NOT(H284=\"\")),IF(C284< $W$10, (H284 *G284 * (C284/B284) * 'Stap 1 - Jouw gegevens'!$C$18), (H284 *G284 *'Stap 1 - Jouw gegevens'!$C$18 * ($W$10/B284))), \"\")","v":""},"",{"$f":"IF(AND(L284 = \"\", NOT(J284=\"\")),IF(C284< $W$10, 'Stap 1 - Jouw gegevens'!$C$22 *J284*G284 *C284/B284,  'Stap 1 - Jouw gegevens'!$C$22 * J284*G284 *$W$10/B284), \"\")","v":""},"",null,"","","","","",""]
[null,null,null,null,null,null,null,"",{"$f":"IF(AND(L285 = \"\", NOT(H285=\"\")),IF(C285< $W$10, (H285 *G285 * (C285/B285) * 'Stap 1 - Jouw gegevens'!$C$18), (H285 *G285 *'Stap 1 - Jouw gegevens'!$C$18 * ($W$10/B285))), \"\")","v":""},"",{"$f":"IF(AND(L285 = \"\", NOT(J285=\"\")),IF(C285< $W$10, 'Stap 1 - Jouw gegevens'!$C$22 *J285*G285 *C285/B285,  'Stap 1 - Jouw gegevens'!$C$22 * J285*G285 *$W$10/B285), \"\")","v":""},"",null,"","","","","",""]
[null,null,null,null,null,null,null,"",{"$f":"IF(AND(L286 = \"\", NOT(H286=\"\")),IF(C286< $W$10, (H286 *G286 * (C286/B286) * 'Stap 1 - Jouw gegevens'!$C$18), (H286 *G286 *'Stap 1 - Jouw gegevens'!$C$18 * ($W$10/B286))), \"\")","v":""},"",{"$f":"IF(AND(L286 = \"\", NOT(J286=\"\")),IF(C286< $W$10, 'Stap 1 - Jouw gegevens'!$C$22 *J286*G286 *C286/B286,  'Stap 1 - Jouw gegevens'!$C$22 * J286*G286 *$W$10/B286), \"\")","v":""},"",null,"","","","","",""]
[null,null,null,null,null,null,null,"",{"$f":"IF(AND(L287 = \"\", NOT(H287=\"\")),IF(C287< $W$10, (H287 *G287 * (C287/B287) * 'Stap 1 - Jouw gegevens'!$C$18), (H287 *G287 *'Stap 1 - Jouw gegevens'!$C$18 * ($W$10/B287))), \"\")","v":""},"",{"$f":"IF(AND(L287 = \"\", NOT(J287=\"\")),IF(C287< $W$10, 'Stap 1 - Jouw gegevens'!$C$22 *J287*G287 *C287/B287,  'Stap 1 - Jouw gegevens'!$C$22 * J287*G287 *$W$10/B287), \"\")","v":""},"",null,"","","","","",""]
[null,null,null,null,null,null,null,"",{"$f":"IF(AND(L288 = \"\", NOT(H288=\"\")),IF(C288< $W$10, (H288 *G288 * (C288/B288) * 'Stap 1 - Jouw gegevens'!$C$18), (H288 *G288 *'Stap 1 - Jouw gegevens'!$C$18 * ($W$10/B288))), \"\")","v":""},"",{"$f":"IF(AND(L288 = \"\", NOT(J288=\"\")),IF(C288< $W$10, 'Stap 1 - Jouw gegevens'!$C$22 *J288*G288 *C288/B288,  'Stap 1 - Jouw gegevens'!$C$22 * J288*G288 *$W$10/B288), \"\")","v":""},"",null,"","","","","",""]
[null,null,null,null,null,null,null,"",{"$f":"IF(AND(L289 = \"\", NOT(H289=\"\")),IF(C289< $W$10, (H289 *G289 * (C289/B289) * 'Stap 1 - Jouw gegevens'!$C$18), (H289 *G289 *'Stap 1 - Jouw gegevens'!$C$18 * ($W$10/B289))), \"\")","v":""},"",{"$f":"IF(AND(L289 = \"\", NOT(J289=\"\")),IF(C289< $W$10, 'Stap 1 - Jouw gegevens'!$C$22 *J289*G289 *C289/B289,  'Stap 1 - Jouw gegevens'!$C$22 * J289*G289 *$W$10/B289), \"\")","v":""},"",null,"","","","","",""]
[null,null,null,null,null,null,null,"",{"$f":"IF(AND(L290 = \"\", NOT(H290=\"\")),IF(C290< $W$10, (H290 *G290 * (C290/B290) * 'Stap 1 - Jouw gegevens'!$C$18), (H290 *G290 *'Stap 1 - Jouw gegevens'!$C$18 * ($W$10/B290))), \"\")","v":""},"",{"$f":"IF(AND(L290 = \"\", NOT(J290=\"\")),IF(C290< $W$10, 'Stap 1 - Jouw gegevens'!$C$22 *J290*G290 *C290/B290,  'Stap 1 - Jouw gegevens'!$C$22 * J290*G290 *$W$10/B290), \"\")","v":""},"",null,"","","","","",""]
[null,null,null,null,null,null,null,"",{"$f":"IF(AND(L291 = \"\", NOT(H291=\"\")),IF(C291< $W$10, (H291 *G291 * (C291/B291) * 'Stap 1 - Jouw gegevens'!$C$18), (H291 *G291 *'Stap 1 - Jouw gegevens'!$C$18 * ($W$10/B291))), \"\")","v":""},"",{"$f":"IF(AND(L291 = \"\", NOT(J291=\"\")),IF(C291< $W$10, 'Stap 1 - Jouw gegevens'!$C$22 *J291*G291 *C291/B291,  'Stap 1 - Jouw gegevens'!$C$22 * J291*G291 *$W$10/B291), \"\")","v":""},"",null,"","","","","",""]
[null,null,null,null,null,null,null,"",{"$f":"IF(AND(L292 = \"\", NOT(H292=\"\")),IF(C292< $W$10, (H292 *G292 * (C292/B292) * 'Stap 1 - Jouw gegevens'!$C$18), (H292 *G292 *'Stap 1 - Jouw gegevens'!$C$18 * ($W$10/B292))), \"\")","v":""},"",{"$f":"IF(AND(L292 = \"\", NOT(J292=\"\")),IF(C292< $W$10, 'Stap 1 - Jouw gegevens'!$C$22 *J292*G292 *C292/B292,  'Stap 1 - Jouw gegevens'!$C$22 * J292*G292 *$W$10/B292), \"\")","v":""},"",null,"","","","","",""]
[null,null,null,null,null,null,null,"",{"$f":"IF(AND(L293 = \"\", NOT(H293=\"\")),IF(C293< $W$10, (H293 *G293 * (C293/B293) * 'Stap 1 - Jouw gegevens'!$C$18), (H293 *G293 *'Stap 1 - Jouw gegevens'!$C$18 * ($W$10/B293))), \"\")","v":""},"",{"$f":"IF(AND(L293 = \"\", NOT(J293=\"\")),IF(C293< $W$10, 'Stap 1 - Jouw gegevens'!$C$22 *J293*G293 *C293/B293,  'Stap 1 - Jouw gegevens'!$C$22 * J293*G293 *$W$10/B293), \"\")","v":""},"",null,"","","","","",""]
[null,null,null,null,null,null,null,"",{"$f":"IF(AND(L294 = \"\", NOT(H294=\"\")),IF(C294< $W$10, (H294 *G294 * (C294/B294) * 'Stap 1 - Jouw gegevens'!$C$18), (H294 *G294 *'Stap 1 - Jouw gegevens'!$C$18 * ($W$10/B294))), \"\")","v":""},"",{"$f":"IF(AND(L294 = \"\", NOT(J294=\"\")),IF(C294< $W$10, 'Stap 1 - Jouw gegevens'!$C$22 *J294*G294 *C294/B294,  'Stap 1 - Jouw gegevens'!$C$22 * J294*G294 *$W$10/B294), \"\")","v":""},"",null,"","","","","",""]
[null,null,null,null,null,null,null,"",{"$f":"IF(AND(L295 = \"\", NOT(H295=\"\")),IF(C295< $W$10, (H295 *G295 * (C295/B295) * 'Stap 1 - Jouw gegevens'!$C$18), (H295 *G295 *'Stap 1 - Jouw gegevens'!$C$18 * ($W$10/B295))), \"\")","v":""},"",{"$f":"IF(AND(L295 = \"\", NOT(J295=\"\")),IF(C295< $W$10, 'Stap 1 - Jouw gegevens'!$C$22 *J295*G295 *C295/B295,  'Stap 1 - Jouw gegevens'!$C$22 * J295*G295 *$W$10/B295), \"\")","v":""},"",null,"","","","","",""]
[null,null,null,null,null,null,null,"",{"$f":"IF(AND(L296 = \"\", NOT(H296=\"\")),IF(C296< $W$10, (H296 *G296 * (C296/B296) * 'Stap 1 - Jouw gegevens'!$C$18), (H296 *G296 *'Stap 1 - Jouw gegevens'!$C$18 * ($W$10/B296))), \"\")","v":""},"",{"$f":"IF(AND(L296 = \"\", NOT(J296=\"\")),IF(C296< $W$10, 'Stap 1 - Jouw gegevens'!$C$22 *J296*G296 *C296/B296,  'Stap 1 - Jouw gegevens'!$C$22 * J296*G296 *$W$10/B296), \"\")","v":""},"",null,"","","","","",""]
[null,null,null,null,null,null,null,"",{"$f":"IF(AND(L297 = \"\", NOT(H297=\"\")),IF(C297< $W$10, (H297 *G297 * (C297/B297) * 'Stap 1 - Jouw gegevens'!$C$18), (H297 *G297 *'Stap 1 - Jouw gegevens'!$C$18 * ($W$10/B297))), \"\")","v":""},"",{"$f":"IF(AND(L297 = \"\", NOT(J297=\"\")),IF(C297< $W$10, 'Stap 1 - Jouw gegevens'!$C$22 *J297*G297 *C297/B297,  'Stap 1 - Jouw gegevens'!$C$22 * J297*G297 *$W$10/B297), \"\")","v":""},"",null,"","","","","",""]
[null,null,null,null,null,null,null,"",{"$f":"IF(AND(L298 = \"\", NOT(H298=\"\")),IF(C298< $W$10, (H298 *G298 * (C298/B298) * 'Stap 1 - Jouw gegevens'!$C$18), (H298 *G298 *'Stap 1 - Jouw gegevens'!$C$18 * ($W$10/B298))), \"\")","v":""},"",{"$f":"IF(AND(L298 = \"\", NOT(J298=\"\")),IF(C298< $W$10, 'Stap 1 - Jouw gegevens'!$C$22 *J298*G298 *C298/B298,  'Stap 1 - Jouw gegevens'!$C$22 * J298*G298 *$W$10/B298), \"\")","v":""},"",null,"","","","","",""]
[null,null,null,null,null,null,null,"",{"$f":"IF(AND(L299 = \"\", NOT(H299=\"\")),IF(C299< $W$10, (H299 *G299 * (C299/B299) * 'Stap 1 - Jouw gegevens'!$C$18), (H299 *G299 *'Stap 1 - Jouw gegevens'!$C$18 * ($W$10/B299))), \"\")","v":""},"",{"$f":"IF(AND(L299 = \"\", NOT(J299=\"\")),IF(C299< $W$10, 'Stap 1 - Jouw gegevens'!$C$22 *J299*G299 *C299/B299,  'Stap 1 - Jouw gegevens'!$C$22 * J299*G299 *$W$10/B299), \"\")","v":""},"",null,"","","","","",""]
[null,null,null,null,null,null,null,"",{"$f":"IF(AND(L300 = \"\", NOT(H300=\"\")),IF(C300< $W$10, (H300 *G300 * (C300/B300) * 'Stap 1 - Jouw gegevens'!$C$18), (H300 *G300 *'Stap 1 - Jouw gegevens'!$C$18 * ($W$10/B300))), \"\")","v":""},"",{"$f":"IF(AND(L300 = \"\", NOT(J300=\"\")),IF(C300< $W$10, 'Stap 1 - Jouw gegevens'!$C$22 *J300*G300 *C300/B300,  'Stap 1 - Jouw gegevens'!$C$22 * J300*G300 *$W$10/B300), \"\")","v":""},"",null,"","","","","",""]
[null,null,null,null,null,null,null,"",{"$f":"IF(AND(L301 = \"\", NOT(H301=\"\")),IF(C301< $W$10, (H301 *G301 * (C301/B301) * 'Stap 1 - Jouw gegevens'!$C$18), (H301 *G301 *'Stap 1 - Jouw gegevens'!$C$18 * ($W$10/B301))), \"\")","v":""},"",{"$f":"IF(AND(L301 = \"\", NOT(J301=\"\")),IF(C301< $W$10, 'Stap 1 - Jouw gegevens'!$C$22 *J301*G301 *C301/B301,  'Stap 1 - Jouw gegevens'!$C$22 * J301*G301 *$W$10/B301), \"\")","v":""},"",null,"","","","","",""]
[null,null,null,null,null,null,null,"",{"$f":"IF(AND(L302 = \"\", NOT(H302=\"\")),IF(C302< $W$10, (H302 *G302 * (C302/B302) * 'Stap 1 - Jouw gegevens'!$C$18), (H302 *G302 *'Stap 1 - Jouw gegevens'!$C$18 * ($W$10/B302))), \"\")","v":""},"",{"$f":"IF(AND(L302 = \"\", NOT(J302=\"\")),IF(C302< $W$10, 'Stap 1 - Jouw gegevens'!$C$22 *J302*G302 *C302/B302,  'Stap 1 - Jouw gegevens'!$C$22 * J302*G302 *$W$10/B302), \"\")","v":""},"",null,"","","","","",""]
[null,null,null,null,null,null,null,"",{"$f":"IF(AND(L303 = \"\", NOT(H303=\"\")),IF(C303< $W$10, (H303 *G303 * (C303/B303) * 'Stap 1 - Jouw gegevens'!$C$18), (H303 *G303 *'Stap 1 - Jouw gegevens'!$C$18 * ($W$10/B303))), \"\")","v":""},"",{"$f":"IF(AND(L303 = \"\", NOT(J303=\"\")),IF(C303< $W$10, 'Stap 1 - Jouw gegevens'!$C$22 *J303*G303 *C303/B303,  'Stap 1 - Jouw gegevens'!$C$22 * J303*G303 *$W$10/B303), \"\")","v":""},"",null,"","","","","",""]
[null,null,null,null,null,null,null,"",{"$f":"IF(AND(L304 = \"\", NOT(H304=\"\")),IF(C304< $W$10, (H304 *G304 * (C304/B304) * 'Stap 1 - Jouw gegevens'!$C$18), (H304 *G304 *'Stap 1 - Jouw gegevens'!$C$18 * ($W$10/B304))), \"\")","v":""},"",{"$f":"IF(AND(L304 = \"\", NOT(J304=\"\")),IF(C304< $W$10, 'Stap 1 - Jouw gegevens'!$C$22 *J304*G304 *C304/B304,  'Stap 1 - Jouw gegevens'!$C$22 * J304*G304 *$W$10/B304), \"\")","v":""},"",null,"","","","","",""]
[null,null,null,null,null,null,null,"",{"$f":"IF(AND(L305 = \"\", NOT(H305=\"\")),IF(C305< $W$10, (H305 *G305 * (C305/B305) * 'Stap 1 - Jouw gegevens'!$C$18), (H305 *G305 *'Stap 1 - Jouw gegevens'!$C$18 * ($W$10/B305))), \"\")","v":""},"",{"$f":"IF(AND(L305 = \"\", NOT(J305=\"\")),IF(C305< $W$10, 'Stap 1 - Jouw gegevens'!$C$22 *J305*G305 *C305/B305,  'Stap 1 - Jouw gegevens'!$C$22 * J305*G305 *$W$10/B305), \"\")","v":""},"",null,"","","","","",""]
[null,null,null,null,null,null,null,"",{"$f":"IF(AND(L306 = \"\", NOT(H306=\"\")),IF(C306< $W$10, (H306 *G306 * (C306/B306) * 'Stap 1 - Jouw gegevens'!$C$18), (H306 *G306 *'Stap 1 - Jouw gegevens'!$C$18 * ($W$10/B306))), \"\")","v":""},"",{"$f":"IF(AND(L306 = \"\", NOT(J306=\"\")),IF(C306< $W$10, 'Stap 1 - Jouw gegevens'!$C$22 *J306*G306 *C306/B306,  'Stap 1 - Jouw gegevens'!$C$22 * J306*G306 *$W$10/B306), \"\")","v":""},"",null,"","","","","",""]
[null,null,null,null,null,null,null,"",{"$f":"IF(AND(L307 = \"\", NOT(H307=\"\")),IF(C307< $W$10, (H307 *G307 * (C307/B307) * 'Stap 1 - Jouw gegevens'!$C$18), (H307 *G307 *'Stap 1 - Jouw gegevens'!$C$18 * ($W$10/B307))), \"\")","v":""},"",{"$f":"IF(AND(L307 = \"\", NOT(J307=\"\")),IF(C307< $W$10, 'Stap 1 - Jouw gegevens'!$C$22 *J307*G307 *C307/B307,  'Stap 1 - Jouw gegevens'!$C$22 * J307*G307 *$W$10/B307), \"\")","v":""},"",null,"","","","","",""]
[null,null,null,null,null,null,null,"",{"$f":"IF(AND(L308 = \"\", NOT(H308=\"\")),IF(C308< $W$10, (H308 *G308 * (C308/B308) * 'Stap 1 - Jouw gegevens'!$C$18), (H308 *G308 *'Stap 1 - Jouw gegevens'!$C$18 * ($W$10/B308))), \"\")","v":""},"",{"$f":"IF(AND(L308 = \"\", NOT(J308=\"\")),IF(C308< $W$10, 'Stap 1 - Jouw gegevens'!$C$22 *J308*G308 *C308/B308,  'Stap 1 - Jouw gegevens'!$C$22 * J308*G308 *$W$10/B308), \"\")","v":""},"",null,"","","","","",""]
[null,null,null,null,null,null,null,"",{"$f":"IF(AND(L309 = \"\", NOT(H309=\"\")),IF(C309< $W$10, (H309 *G309 * (C309/B309) * 'Stap 1 - Jouw gegevens'!$C$18), (H309 *G309 *'Stap 1 - Jouw gegevens'!$C$18 * ($W$10/B309))), \"\")","v":""},"",{"$f":"IF(AND(L309 = \"\", NOT(J309=\"\")),IF(C309< $W$10, 'Stap 1 - Jouw gegevens'!$C$22 *J309*G309 *C309/B309,  'Stap 1 - Jouw gegevens'!$C$22 * J309*G309 *$W$10/B309), \"\")","v":""},"",null,"","","","","",""]
[null,null,null,null,null,null,null,"",{"$f":"IF(AND(L310 = \"\", NOT(H310=\"\")),IF(C310< $W$10, (H310 *G310 * (C310/B310) * 'Stap 1 - Jouw gegevens'!$C$18), (H310 *G310 *'Stap 1 - Jouw gegevens'!$C$18 * ($W$10/B310))), \"\")","v":""},"",{"$f":"IF(AND(L310 = \"\", NOT(J310=\"\")),IF(C310< $W$10, 'Stap 1 - Jouw gegevens'!$C$22 *J310*G310 *C310/B310,  'Stap 1 - Jouw gegevens'!$C$22 * J310*G310 *$W$10/B310), \"\")","v":""},"",null,"","","","","",""]
[null,null,null,null,null,null,null,"",{"$f":"IF(AND(L311 = \"\", NOT(H311=\"\")),IF(C311< $W$10, (H311 *G311 * (C311/B311) * 'Stap 1 - Jouw gegevens'!$C$18), (H311 *G311 *'Stap 1 - Jouw gegevens'!$C$18 * ($W$10/B311))), \"\")","v":""},"",{"$f":"IF(AND(L311 = \"\", NOT(J311=\"\")),IF(C311< $W$10, 'Stap 1 - Jouw gegevens'!$C$22 *J311*G311 *C311/B311,  'Stap 1 - Jouw gegevens'!$C$22 * J311*G311 *$W$10/B311), \"\")","v":""},"",null,"","","","","",""]
[null,null,null,null,null,null,null,"",{"$f":"IF(AND(L312 = \"\", NOT(H312=\"\")),IF(C312< $W$10, (H312 *G312 * (C312/B312) * 'Stap 1 - Jouw gegevens'!$C$18), (H312 *G312 *'Stap 1 - Jouw gegevens'!$C$18 * ($W$10/B312))), \"\")","v":""},"",{"$f":"IF(AND(L312 = \"\", NOT(J312=\"\")),IF(C312< $W$10, 'Stap 1 - Jouw gegevens'!$C$22 *J312*G312 *C312/B312,  'Stap 1 - Jouw gegevens'!$C$22 * J312*G312 *$W$10/B312), \"\")","v":""},"",null,"","","","","",""]
[null,null,null,null,null,null,null,"",{"$f":"IF(AND(L313 = \"\", NOT(H313=\"\")),IF(C313< $W$10, (H313 *G313 * (C313/B313) * 'Stap 1 - Jouw gegevens'!$C$18), (H313 *G313 *'Stap 1 - Jouw gegevens'!$C$18 * ($W$10/B313))), \"\")","v":""},"",{"$f":"IF(AND(L313 = \"\", NOT(J313=\"\")),IF(C313< $W$10, 'Stap 1 - Jouw gegevens'!$C$22 *J313*G313 *C313/B313,  'Stap 1 - Jouw gegevens'!$C$22 * J313*G313 *$W$10/B313), \"\")","v":""},"",null,"","","","","",""]
[null,null,null,null,null,null,null,"",{"$f":"IF(AND(L314 = \"\", NOT(H314=\"\")),IF(C314< $W$10, (H314 *G314 * (C314/B314) * 'Stap 1 - Jouw gegevens'!$C$18), (H314 *G314 *'Stap 1 - Jouw gegevens'!$C$18 * ($W$10/B314))), \"\")","v":""},"",{"$f":"IF(AND(L314 = \"\", NOT(J314=\"\")),IF(C314< $W$10, 'Stap 1 - Jouw gegevens'!$C$22 *J314*G314 *C314/B314,  'Stap 1 - Jouw gegevens'!$C$22 * J314*G314 *$W$10/B314), \"\")","v":""},"",null,"","","","","",""]
[null,null,null,null,null,null,null,"",{"$f":"IF(AND(L315 = \"\", NOT(H315=\"\")),IF(C315< $W$10, (H315 *G315 * (C315/B315) * 'Stap 1 - Jouw gegevens'!$C$18), (H315 *G315 *'Stap 1 - Jouw gegevens'!$C$18 * ($W$10/B315))), \"\")","v":""},"",{"$f":"IF(AND(L315 = \"\", NOT(J315=\"\")),IF(C315< $W$10, 'Stap 1 - Jouw gegevens'!$C$22 *J315*G315 *C315/B315,  'Stap 1 - Jouw gegevens'!$C$22 * J315*G315 *$W$10/B315), \"\")","v":""},"",null,"","","","","",""]
[null,null,null,null,null,null,null,"",{"$f":"IF(AND(L316 = \"\", NOT(H316=\"\")),IF(C316< $W$10, (H316 *G316 * (C316/B316) * 'Stap 1 - Jouw gegevens'!$C$18), (H316 *G316 *'Stap 1 - Jouw gegevens'!$C$18 * ($W$10/B316))), \"\")","v":""},"",{"$f":"IF(AND(L316 = \"\", NOT(J316=\"\")),IF(C316< $W$10, 'Stap 1 - Jouw gegevens'!$C$22 *J316*G316 *C316/B316,  'Stap 1 - Jouw gegevens'!$C$22 * J316*G316 *$W$10/B316), \"\")","v":""},"",null,"","","","","",""]
[null,null,null,null,null,null,null,"",{"$f":"IF(AND(L317 = \"\", NOT(H317=\"\")),IF(C317< $W$10, (H317 *G317 * (C317/B317) * 'Stap 1 - Jouw gegevens'!$C$18), (H317 *G317 *'Stap 1 - Jouw gegevens'!$C$18 * ($W$10/B317))), \"\")","v":""},"",{"$f":"IF(AND(L317 = \"\", NOT(J317=\"\")),IF(C317< $W$10, 'Stap 1 - Jouw gegevens'!$C$22 *J317*G317 *C317/B317,  'Stap 1 - Jouw gegevens'!$C$22 * J317*G317 *$W$10/B317), \"\")","v":""},"",null,"","","","","",""]
[null,null,null,null,null,null,null,"",{"$f":"IF(AND(L318 = \"\", NOT(H318=\"\")),IF(C318< $W$10, (H318 *G318 * (C318/B318) * 'Stap 1 - Jouw gegevens'!$C$18), (H318 *G318 *'Stap 1 - Jouw gegevens'!$C$18 * ($W$10/B318))), \"\")","v":""},"",{"$f":"IF(AND(L318 = \"\", NOT(J318=\"\")),IF(C318< $W$10, 'Stap 1 - Jouw gegevens'!$C$22 *J318*G318 *C318/B318,  'Stap 1 - Jouw gegevens'!$C$22 * J318*G318 *$W$10/B318), \"\")","v":""},"",null,"","","","","",""]
[null,null,null,null,null,null,null,"",{"$f":"IF(AND(L319 = \"\", NOT(H319=\"\")),IF(C319< $W$10, (H319 *G319 * (C319/B319) * 'Stap 1 - Jouw gegevens'!$C$18), (H319 *G319 *'Stap 1 - Jouw gegevens'!$C$18 * ($W$10/B319))), \"\")","v":""},"",{"$f":"IF(AND(L319 = \"\", NOT(J319=\"\")),IF(C319< $W$10, 'Stap 1 - Jouw gegevens'!$C$22 *J319*G319 *C319/B319,  'Stap 1 - Jouw gegevens'!$C$22 * J319*G319 *$W$10/B319), \"\")","v":""},"",null,"","","","","",""]
[null,null,null,null,null,null,null,"",{"$f":"IF(AND(L320 = \"\", NOT(H320=\"\")),IF(C320< $W$10, (H320 *G320 * (C320/B320) * 'Stap 1 - Jouw gegevens'!$C$18), (H320 *G320 *'Stap 1 - Jouw gegevens'!$C$18 * ($W$10/B320))), \"\")","v":""},"",{"$f":"IF(AND(L320 = \"\", NOT(J320=\"\")),IF(C320< $W$10, 'Stap 1 - Jouw gegevens'!$C$22 *J320*G320 *C320/B320,  'Stap 1 - Jouw gegevens'!$C$22 * J320*G320 *$W$10/B320), \"\")","v":""},"",null,"","","","","",""]
[null,null,null,null,null,null,null,"",{"$f":"IF(AND(L321 = \"\", NOT(H321=\"\")),IF(C321< $W$10, (H321 *G321 * (C321/B321) * 'Stap 1 - Jouw gegevens'!$C$18), (H321 *G321 *'Stap 1 - Jouw gegevens'!$C$18 * ($W$10/B321))), \"\")","v":""},"",{"$f":"IF(AND(L321 = \"\", NOT(J321=\"\")),IF(C321< $W$10, 'Stap 1 - Jouw gegevens'!$C$22 *J321*G321 *C321/B321,  'Stap 1 - Jouw gegevens'!$C$22 * J321*G321 *$W$10/B321), \"\")","v":""},"",null,"","","","","",""]
[null,null,null,null,null,null,null,"",{"$f":"IF(AND(L322 = \"\", NOT(H322=\"\")),IF(C322< $W$10, (H322 *G322 * (C322/B322) * 'Stap 1 - Jouw gegevens'!$C$18), (H322 *G322 *'Stap 1 - Jouw gegevens'!$C$18 * ($W$10/B322))), \"\")","v":""},"",{"$f":"IF(AND(L322 = \"\", NOT(J322=\"\")),IF(C322< $W$10, 'Stap 1 - Jouw gegevens'!$C$22 *J322*G322 *C322/B322,  'Stap 1 - Jouw gegevens'!$C$22 * J322*G322 *$W$10/B322), \"\")","v":""},"",null,"","","","","",""]
[null,null,null,null,null,null,null,"",{"$f":"IF(AND(L323 = \"\", NOT(H323=\"\")),IF(C323< $W$10, (H323 *G323 * (C323/B323) * 'Stap 1 - Jouw gegevens'!$C$18), (H323 *G323 *'Stap 1 - Jouw gegevens'!$C$18 * ($W$10/B323))), \"\")","v":""},"",{"$f":"IF(AND(L323 = \"\", NOT(J323=\"\")),IF(C323< $W$10, 'Stap 1 - Jouw gegevens'!$C$22 *J323*G323 *C323/B323,  'Stap 1 - Jouw gegevens'!$C$22 * J323*G323 *$W$10/B323), \"\")","v":""},"",null,"","","","","",""]
[null,null,null,null,null,null,null,"",{"$f":"IF(AND(L324 = \"\", NOT(H324=\"\")),IF(C324< $W$10, (H324 *G324 * (C324/B324) * 'Stap 1 - Jouw gegevens'!$C$18), (H324 *G324 *'Stap 1 - Jouw gegevens'!$C$18 * ($W$10/B324))), \"\")","v":""},"",{"$f":"IF(AND(L324 = \"\", NOT(J324=\"\")),IF(C324< $W$10, 'Stap 1 - Jouw gegevens'!$C$22 *J324*G324 *C324/B324,  'Stap 1 - Jouw gegevens'!$C$22 * J324*G324 *$W$10/B324), \"\")","v":""},"",null,"","","","","",""]
[null,null,null,null,null,null,null,"",{"$f":"IF(AND(L325 = \"\", NOT(H325=\"\")),IF(C325< $W$10, (H325 *G325 * (C325/B325) * 'Stap 1 - Jouw gegevens'!$C$18), (H325 *G325 *'Stap 1 - Jouw gegevens'!$C$18 * ($W$10/B325))), \"\")","v":""},"",{"$f":"IF(AND(L325 = \"\", NOT(J325=\"\")),IF(C325< $W$10, 'Stap 1 - Jouw gegevens'!$C$22 *J325*G325 *C325/B325,  'Stap 1 - Jouw gegevens'!$C$22 * J325*G325 *$W$10/B325), \"\")","v":""},"",null,"","","","","",""]
[null,null,null,null,null,null,null,"",{"$f":"IF(AND(L326 = \"\", NOT(H326=\"\")),IF(C326< $W$10, (H326 *G326 * (C326/B326) * 'Stap 1 - Jouw gegevens'!$C$18), (H326 *G326 *'Stap 1 - Jouw gegevens'!$C$18 * ($W$10/B326))), \"\")","v":""},"",{"$f":"IF(AND(L326 = \"\", NOT(J326=\"\")),IF(C326< $W$10, 'Stap 1 - Jouw gegevens'!$C$22 *J326*G326 *C326/B326,  'Stap 1 - Jouw gegevens'!$C$22 * J326*G326 *$W$10/B326), \"\")","v":""},"",null,"","","","","",""]
[null,null,null,null,null,null,null,"",{"$f":"IF(AND(L327 = \"\", NOT(H327=\"\")),IF(C327< $W$10, (H327 *G327 * (C327/B327) * 'Stap 1 - Jouw gegevens'!$C$18), (H327 *G327 *'Stap 1 - Jouw gegevens'!$C$18 * ($W$10/B327))), \"\")","v":""},"",{"$f":"IF(AND(L327 = \"\", NOT(J327=\"\")),IF(C327< $W$10, 'Stap 1 - Jouw gegevens'!$C$22 *J327*G327 *C327/B327,  'Stap 1 - Jouw gegevens'!$C$22 * J327*G327 *$W$10/B327), \"\")","v":""},"",null,"","","","","",""]
[null,null,null,null,null,null,null,{"$f":"P328","v":""},{"$f":"IF(AND(L328 = \"\", NOT(H328=\"\")),IF(C328< $W$10, (H328 *G328 * (C328/B328) * 'Stap 1 - Jouw gegevens'!$C$18), (H328 *G328 *'Stap 1 - Jouw gegevens'!$C$18 * ($W$10/B328))), \"\")","v":""},{"$f":"S328","v":""},{"$f":"IF(AND(L328 = \"\", NOT(J328=\"\")),IF(C328< $W$10, 'Stap 1 - Jouw gegevens'!$C$22 *J328*G328 *C328/B328,  'Stap 1 - Jouw gegevens'!$C$22 * J328*G328 *$W$10/B328), \"\")","v":""},{"$f":"IF(ISBLANK(A328), \"\", CONCATENATE(IF(Z328 = \"X\", $AH$5, \"\"), IF( AB328 = \"X\", $AH$7, \"\"), IF( AC328 = \"X\", $AH$8, \"\"), IF( AD328 = \"X\", $AH$9, \"\"), IF( AE328 = \"X\", $AH$10, \"\"),  IF( AF328 = \"X\", $AH$11, \"\")))","v":""},null,{"$f":"IF(ISBLANK(D328),\"\",NETWORKDAYS(D328,F328))","v":""},{"$f":"IFERROR( IF(N328>$Y$5,NETWORKDAYS(E328, (Q328 - 1)), NETWORKDAYS(E328,(F328-1))), \"\")","v":""},{"$f":"IF(O328<= 0, \"\", O328)","v":""},{"$f":"IF(ISBLANK(D328),\"\",DATE(YEAR(D328)+1,MONTH(D328),DAY(D328)))","v":""},{"$f":"IFERROR(IF(N328 > $Y$5, IF(E328>=Q328,NETWORKDAYS(E328, (F328-1)), NETWORKDAYS(Q328, (F328-1))), \"\"), \"\")","v":""},{"$f":"IF(R328=\"\", \"\",  IF(R328 >= $Y$5, $Y$5,  R328))","v":""}]
[null,null,null,null,null,null,null,"",{"$f":"IF(AND(L329 = \"\", NOT(H329=\"\")),IF(C329< $W$10, (H329 *G329 * (C329/B329) * 'Stap 1 - Jouw gegevens'!$C$18), (H329 *G329 *'Stap 1 - Jouw gegevens'!$C$18 * ($W$10/B329))), \"\")","v":""},"",{"$f":"IF(AND(L329 = \"\", NOT(J329=\"\")),IF(C329< $W$10, 'Stap 1 - Jouw gegevens'!$C$22 *J329*G329 *C329/B329,  'Stap 1 - Jouw gegevens'!$C$22 * J329*G329 *$W$10/B329), \"\")","v":""},"",null,"","","","","",""]
[null,null,null,null,null,null,null,"",{"$f":"IF(AND(L330 = \"\", NOT(H330=\"\")),IF(C330< $W$10, (H330 *G330 * (C330/B330) * 'Stap 1 - Jouw gegevens'!$C$18), (H330 *G330 *'Stap 1 - Jouw gegevens'!$C$18 * ($W$10/B330))), \"\")","v":""},"",{"$f":"IF(AND(L330 = \"\", NOT(J330=\"\")),IF(C330< $W$10, 'Stap 1 - Jouw gegevens'!$C$22 *J330*G330 *C330/B330,  'Stap 1 - Jouw gegevens'!$C$22 * J330*G330 *$W$10/B330), \"\")","v":""},"",null,"","","","","",""]
[null,null,null,null,null,null,null,"",{"$f":"IF(AND(L331 = \"\", NOT(H331=\"\")),IF(C331< $W$10, (H331 *G331 * (C331/B331) * 'Stap 1 - Jouw gegevens'!$C$18), (H331 *G331 *'Stap 1 - Jouw gegevens'!$C$18 * ($W$10/B331))), \"\")","v":""},"",{"$f":"IF(AND(L331 = \"\", NOT(J331=\"\")),IF(C331< $W$10, 'Stap 1 - Jouw gegevens'!$C$22 *J331*G331 *C331/B331,  'Stap 1 - Jouw gegevens'!$C$22 * J331*G331 *$W$10/B331), \"\")","v":""},"",null,"","","","","",""]
[null,null,null,null,null,null,null,"",{"$f":"IF(AND(L332 = \"\", NOT(H332=\"\")),IF(C332< $W$10, (H332 *G332 * (C332/B332) * 'Stap 1 - Jouw gegevens'!$C$18), (H332 *G332 *'Stap 1 - Jouw gegevens'!$C$18 * ($W$10/B332))), \"\")","v":""},"",{"$f":"IF(AND(L332 = \"\", NOT(J332=\"\")),IF(C332< $W$10, 'Stap 1 - Jouw gegevens'!$C$22 *J332*G332 *C332/B332,  'Stap 1 - Jouw gegevens'!$C$22 * J332*G332 *$W$10/B332), \"\")","v":""},"",null,"","","","","",""]
[null,null,null,null,null,null,null,"",{"$f":"IF(AND(L333 = \"\", NOT(H333=\"\")),IF(C333< $W$10, (H333 *G333 * (C333/B333) * 'Stap 1 - Jouw gegevens'!$C$18), (H333 *G333 *'Stap 1 - Jouw gegevens'!$C$18 * ($W$10/B333))), \"\")","v":""},"",{"$f":"IF(AND(L333 = \"\", NOT(J333=\"\")),IF(C333< $W$10, 'Stap 1 - Jouw gegevens'!$C$22 *J333*G333 *C333/B333,  'Stap 1 - Jouw gegevens'!$C$22 * J333*G333 *$W$10/B333), \"\")","v":""},"",null,"","","","","",""]
[null,null,null,null,null,null,null,"",{"$f":"IF(AND(L334 = \"\", NOT(H334=\"\")),IF(C334< $W$10, (H334 *G334 * (C334/B334) * 'Stap 1 - Jouw gegevens'!$C$18), (H334 *G334 *'Stap 1 - Jouw gegevens'!$C$18 * ($W$10/B334))), \"\")","v":""},"",{"$f":"IF(AND(L334 = \"\", NOT(J334=\"\")),IF(C334< $W$10, 'Stap 1 - Jouw gegevens'!$C$22 *J334*G334 *C334/B334,  'Stap 1 - Jouw gegevens'!$C$22 * J334*G334 *$W$10/B334), \"\")","v":""},"",null,"","","","","",""]
[null,null,null,null,null,null,null,"",{"$f":"IF(AND(L335 = \"\", NOT(H335=\"\")),IF(C335< $W$10, (H335 *G335 * (C335/B335) * 'Stap 1 - Jouw gegevens'!$C$18), (H335 *G335 *'Stap 1 - Jouw gegevens'!$C$18 * ($W$10/B335))), \"\")","v":""},"",{"$f":"IF(AND(L335 = \"\", NOT(J335=\"\")),IF(C335< $W$10, 'Stap 1 - Jouw gegevens'!$C$22 *J335*G335 *C335/B335,  'Stap 1 - Jouw gegevens'!$C$22 * J335*G335 *$W$10/B335), \"\")","v":""},"",null,"","","","","",""]
[null,null,null,null,null,null,null,"",{"$f":"IF(AND(L336 = \"\", NOT(H336=\"\")),IF(C336< $W$10, (H336 *G336 * (C336/B336) * 'Stap 1 - Jouw gegevens'!$C$18), (H336 *G336 *'Stap 1 - Jouw gegevens'!$C$18 * ($W$10/B336))), \"\")","v":""},"",{"$f":"IF(AND(L336 = \"\", NOT(J336=\"\")),IF(C336< $W$10, 'Stap 1 - Jouw gegevens'!$C$22 *J336*G336 *C336/B336,  'Stap 1 - Jouw gegevens'!$C$22 * J336*G336 *$W$10/B336), \"\")","v":""},"",null,"","","","","",""]
[null,null,null,null,null,null,null,"",{"$f":"IF(AND(L337 = \"\", NOT(H337=\"\")),IF(C337< $W$10, (H337 *G337 * (C337/B337) * 'Stap 1 - Jouw gegevens'!$C$18), (H337 *G337 *'Stap 1 - Jouw gegevens'!$C$18 * ($W$10/B337))), \"\")","v":""},"",{"$f":"IF(AND(L337 = \"\", NOT(J337=\"\")),IF(C337< $W$10, 'Stap 1 - Jouw gegevens'!$C$22 *J337*G337 *C337/B337,  'Stap 1 - Jouw gegevens'!$C$22 * J337*G337 *$W$10/B337), \"\")","v":""},"",null,"","","","","",""]
[null,null,null,null,null,null,null,"",{"$f":"IF(AND(L338 = \"\", NOT(H338=\"\")),IF(C338< $W$10, (H338 *G338 * (C338/B338) * 'Stap 1 - Jouw gegevens'!$C$18), (H338 *G338 *'Stap 1 - Jouw gegevens'!$C$18 * ($W$10/B338))), \"\")","v":""},"",{"$f":"IF(AND(L338 = \"\", NOT(J338=\"\")),IF(C338< $W$10, 'Stap 1 - Jouw gegevens'!$C$22 *J338*G338 *C338/B338,  'Stap 1 - Jouw gegevens'!$C$22 * J338*G338 *$W$10/B338), \"\")","v":""},"",null,"","","","","",""]
[null,null,null,null,null,null,null,"",{"$f":"IF(AND(L339 = \"\", NOT(H339=\"\")),IF(C339< $W$10, (H339 *G339 * (C339/B339) * 'Stap 1 - Jouw gegevens'!$C$18), (H339 *G339 *'Stap 1 - Jouw gegevens'!$C$18 * ($W$10/B339))), \"\")","v":""},"",{"$f":"IF(AND(L339 = \"\", NOT(J339=\"\")),IF(C339< $W$10, 'Stap 1 - Jouw gegevens'!$C$22 *J339*G339 *C339/B339,  'Stap 1 - Jouw gegevens'!$C$22 * J339*G339 *$W$10/B339), \"\")","v":""},"",null,"","","","","",""]
[null,null,null,null,null,null,null,"",{"$f":"IF(AND(L340 = \"\", NOT(H340=\"\")),IF(C340< $W$10, (H340 *G340 * (C340/B340) * 'Stap 1 - Jouw gegevens'!$C$18), (H340 *G340 *'Stap 1 - Jouw gegevens'!$C$18 * ($W$10/B340))), \"\")","v":""},"",{"$f":"IF(AND(L340 = \"\", NOT(J340=\"\")),IF(C340< $W$10, 'Stap 1 - Jouw gegevens'!$C$22 *J340*G340 *C340/B340,  'Stap 1 - Jouw gegevens'!$C$22 * J340*G340 *$W$10/B340), \"\")","v":""},"",null,"","","","","",""]
[null,null,null,null,null,null,null,"",{"$f":"IF(AND(L341 = \"\", NOT(H341=\"\")),IF(C341< $W$10, (H341 *G341 * (C341/B341) * 'Stap 1 - Jouw gegevens'!$C$18), (H341 *G341 *'Stap 1 - Jouw gegevens'!$C$18 * ($W$10/B341))), \"\")","v":""},"",{"$f":"IF(AND(L341 = \"\", NOT(J341=\"\")),IF(C341< $W$10, 'Stap 1 - Jouw gegevens'!$C$22 *J341*G341 *C341/B341,  'Stap 1 - Jouw gegevens'!$C$22 * J341*G341 *$W$10/B341), \"\")","v":""},"",null,"","","","","",""]
[null,null,null,null,null,null,null,"",{"$f":"IF(AND(L342 = \"\", NOT(H342=\"\")),IF(C342< $W$10, (H342 *G342 * (C342/B342) * 'Stap 1 - Jouw gegevens'!$C$18), (H342 *G342 *'Stap 1 - Jouw gegevens'!$C$18 * ($W$10/B342))), \"\")","v":""},"",{"$f":"IF(AND(L342 = \"\", NOT(J342=\"\")),IF(C342< $W$10, 'Stap 1 - Jouw gegevens'!$C$22 *J342*G342 *C342/B342,  'Stap 1 - Jouw gegevens'!$C$22 * J342*G342 *$W$10/B342), \"\")","v":""},"",null,"","","","","",""]
[null,null,null,null,null,null,null,"",{"$f":"IF(AND(L343 = \"\", NOT(H343=\"\")),IF(C343< $W$10, (H343 *G343 * (C343/B343) * 'Stap 1 - Jouw gegevens'!$C$18), (H343 *G343 *'Stap 1 - Jouw gegevens'!$C$18 * ($W$10/B343))), \"\")","v":""},"",{"$f":"IF(AND(L343 = \"\", NOT(J343=\"\")),IF(C343< $W$10, 'Stap 1 - Jouw gegevens'!$C$22 *J343*G343 *C343/B343,  'Stap 1 - Jouw gegevens'!$C$22 * J343*G343 *$W$10/B343), \"\")","v":""},"",null,"","","","","",""]
[null,null,null,null,null,null,null,"",{"$f":"IF(AND(L344 = \"\", NOT(H344=\"\")),IF(C344< $W$10, (H344 *G344 * (C344/B344) * 'Stap 1 - Jouw gegevens'!$C$18), (H344 *G344 *'Stap 1 - Jouw gegevens'!$C$18 * ($W$10/B344))), \"\")","v":""},"",{"$f":"IF(AND(L344 = \"\", NOT(J344=\"\")),IF(C344< $W$10, 'Stap 1 - Jouw gegevens'!$C$22 *J344*G344 *C344/B344,  'Stap 1 - Jouw gegevens'!$C$22 * J344*G344 *$W$10/B344), \"\")","v":""},"",null,"","","","","",""]
[null,null,null,null,null,null,null,"",{"$f":"IF(AND(L345 = \"\", NOT(H345=\"\")),IF(C345< $W$10, (H345 *G345 * (C345/B345) * 'Stap 1 - Jouw gegevens'!$C$18), (H345 *G345 *'Stap 1 - Jouw gegevens'!$C$18 * ($W$10/B345))), \"\")","v":""},"",{"$f":"IF(AND(L345 = \"\", NOT(J345=\"\")),IF(C345< $W$10, 'Stap 1 - Jouw gegevens'!$C$22 *J345*G345 *C345/B345,  'Stap 1 - Jouw gegevens'!$C$22 * J345*G345 *$W$10/B345), \"\")","v":""},"",null,"","","","","",""]
[null,null,null,null,null,null,null,"",{"$f":"IF(AND(L346 = \"\", NOT(H346=\"\")),IF(C346< $W$10, (H346 *G346 * (C346/B346) * 'Stap 1 - Jouw gegevens'!$C$18), (H346 *G346 *'Stap 1 - Jouw gegevens'!$C$18 * ($W$10/B346))), \"\")","v":""},"",{"$f":"IF(AND(L346 = \"\", NOT(J346=\"\")),IF(C346< $W$10, 'Stap 1 - Jouw gegevens'!$C$22 *J346*G346 *C346/B346,  'Stap 1 - Jouw gegevens'!$C$22 * J346*G346 *$W$10/B346), \"\")","v":""},"",null,"","","","","",""]
[null,null,null,null,null,null,null,"",{"$f":"IF(AND(L347 = \"\", NOT(H347=\"\")),IF(C347< $W$10, (H347 *G347 * (C347/B347) * 'Stap 1 - Jouw gegevens'!$C$18), (H347 *G347 *'Stap 1 - Jouw gegevens'!$C$18 * ($W$10/B347))), \"\")","v":""},"",{"$f":"IF(AND(L347 = \"\", NOT(J347=\"\")),IF(C347< $W$10, 'Stap 1 - Jouw gegevens'!$C$22 *J347*G347 *C347/B347,  'Stap 1 - Jouw gegevens'!$C$22 * J347*G347 *$W$10/B347), \"\")","v":""},"",null,"","","","","",""]
[null,null,null,null,null,null,null,"",{"$f":"IF(AND(L348 = \"\", NOT(H348=\"\")),IF(C348< $W$10, (H348 *G348 * (C348/B348) * 'Stap 1 - Jouw gegevens'!$C$18), (H348 *G348 *'Stap 1 - Jouw gegevens'!$C$18 * ($W$10/B348))), \"\")","v":""},"",{"$f":"IF(AND(L348 = \"\", NOT(J348=\"\")),IF(C348< $W$10, 'Stap 1 - Jouw gegevens'!$C$22 *J348*G348 *C348/B348,  'Stap 1 - Jouw gegevens'!$C$22 * J348*G348 *$W$10/B348), \"\")","v":""},"",null,"","","","","",""]
[null,null,null,null,null,null,null,"",{"$f":"IF(AND(L349 = \"\", NOT(H349=\"\")),IF(C349< $W$10, (H349 *G349 * (C349/B349) * 'Stap 1 - Jouw gegevens'!$C$18), (H349 *G349 *'Stap 1 - Jouw gegevens'!$C$18 * ($W$10/B349))), \"\")","v":""},"",{"$f":"IF(AND(L349 = \"\", NOT(J349=\"\")),IF(C349< $W$10, 'Stap 1 - Jouw gegevens'!$C$22 *J349*G349 *C349/B349,  'Stap 1 - Jouw gegevens'!$C$22 * J349*G349 *$W$10/B349), \"\")","v":""},"",null,"","","","","",""]
[null,null,null,null,null,null,null,"",{"$f":"IF(AND(L350 = \"\", NOT(H350=\"\")),IF(C350< $W$10, (H350 *G350 * (C350/B350) * 'Stap 1 - Jouw gegevens'!$C$18), (H350 *G350 *'Stap 1 - Jouw gegevens'!$C$18 * ($W$10/B350))), \"\")","v":""},"",{"$f":"IF(AND(L350 = \"\", NOT(J350=\"\")),IF(C350< $W$10, 'Stap 1 - Jouw gegevens'!$C$22 *J350*G350 *C350/B350,  'Stap 1 - Jouw gegevens'!$C$22 * J350*G350 *$W$10/B350), \"\")","v":""},"",null,"","","","","",""]
[null,null,null,null,null,null,null,"",{"$f":"IF(AND(L351 = \"\", NOT(H351=\"\")),IF(C351< $W$10, (H351 *G351 * (C351/B351) * 'Stap 1 - Jouw gegevens'!$C$18), (H351 *G351 *'Stap 1 - Jouw gegevens'!$C$18 * ($W$10/B351))), \"\")","v":""},"",{"$f":"IF(AND(L351 = \"\", NOT(J351=\"\")),IF(C351< $W$10, 'Stap 1 - Jouw gegevens'!$C$22 *J351*G351 *C351/B351,  'Stap 1 - Jouw gegevens'!$C$22 * J351*G351 *$W$10/B351), \"\")","v":""},"",null,"","","","","",""]
[null,null,null,null,null,null,null,"",{"$f":"IF(AND(L352 = \"\", NOT(H352=\"\")),IF(C352< $W$10, (H352 *G352 * (C352/B352) * 'Stap 1 - Jouw gegevens'!$C$18), (H352 *G352 *'Stap 1 - Jouw gegevens'!$C$18 * ($W$10/B352))), \"\")","v":""},"",{"$f":"IF(AND(L352 = \"\", NOT(J352=\"\")),IF(C352< $W$10, 'Stap 1 - Jouw gegevens'!$C$22 *J352*G352 *C352/B352,  'Stap 1 - Jouw gegevens'!$C$22 * J352*G352 *$W$10/B352), \"\")","v":""},"",null,"","","","","",""]
[null,null,null,null,null,null,null,"",{"$f":"IF(AND(L353 = \"\", NOT(H353=\"\")),IF(C353< $W$10, (H353 *G353 * (C353/B353) * 'Stap 1 - Jouw gegevens'!$C$18), (H353 *G353 *'Stap 1 - Jouw gegevens'!$C$18 * ($W$10/B353))), \"\")","v":""},"",{"$f":"IF(AND(L353 = \"\", NOT(J353=\"\")),IF(C353< $W$10, 'Stap 1 - Jouw gegevens'!$C$22 *J353*G353 *C353/B353,  'Stap 1 - Jouw gegevens'!$C$22 * J353*G353 *$W$10/B353), \"\")","v":""},"",null,"","","","","",""]
[null,null,null,null,null,null,null,"",{"$f":"IF(AND(L354 = \"\", NOT(H354=\"\")),IF(C354< $W$10, (H354 *G354 * (C354/B354) * 'Stap 1 - Jouw gegevens'!$C$18), (H354 *G354 *'Stap 1 - Jouw gegevens'!$C$18 * ($W$10/B354))), \"\")","v":""},"",{"$f":"IF(AND(L354 = \"\", NOT(J354=\"\")),IF(C354< $W$10, 'Stap 1 - Jouw gegevens'!$C$22 *J354*G354 *C354/B354,  'Stap 1 - Jouw gegevens'!$C$22 * J354*G354 *$W$10/B354), \"\")","v":""},"",null,"","","","","",""]
[null,null,null,null,null,null,null,"",{"$f":"IF(AND(L355 = \"\", NOT(H355=\"\")),IF(C355< $W$10, (H355 *G355 * (C355/B355) * 'Stap 1 - Jouw gegevens'!$C$18), (H355 *G355 *'Stap 1 - Jouw gegevens'!$C$18 * ($W$10/B355))), \"\")","v":""},"",{"$f":"IF(AND(L355 = \"\", NOT(J355=\"\")),IF(C355< $W$10, 'Stap 1 - Jouw gegevens'!$C$22 *J355*G355 *C355/B355,  'Stap 1 - Jouw gegevens'!$C$22 * J355*G355 *$W$10/B355), \"\")","v":""},"",null,"","","","","",""]
[null,null,null,null,null,null,null,"",{"$f":"IF(AND(L356 = \"\", NOT(H356=\"\")),IF(C356< $W$10, (H356 *G356 * (C356/B356) * 'Stap 1 - Jouw gegevens'!$C$18), (H356 *G356 *'Stap 1 - Jouw gegevens'!$C$18 * ($W$10/B356))), \"\")","v":""},"",{"$f":"IF(AND(L356 = \"\", NOT(J356=\"\")),IF(C356< $W$10, 'Stap 1 - Jouw gegevens'!$C$22 *J356*G356 *C356/B356,  'Stap 1 - Jouw gegevens'!$C$22 * J356*G356 *$W$10/B356), \"\")","v":""},"",null,"","","","","",""]
[null,null,null,null,null,null,null,"",{"$f":"IF(AND(L357 = \"\", NOT(H357=\"\")),IF(C357< $W$10, (H357 *G357 * (C357/B357) * 'Stap 1 - Jouw gegevens'!$C$18), (H357 *G357 *'Stap 1 - Jouw gegevens'!$C$18 * ($W$10/B357))), \"\")","v":""},"",{"$f":"IF(AND(L357 = \"\", NOT(J357=\"\")),IF(C357< $W$10, 'Stap 1 - Jouw gegevens'!$C$22 *J357*G357 *C357/B357,  'Stap 1 - Jouw gegevens'!$C$22 * J357*G357 *$W$10/B357), \"\")","v":""},"",null,"","","","","",""]
[null,null,null,null,null,null,null,"",{"$f":"IF(AND(L358 = \"\", NOT(H358=\"\")),IF(C358< $W$10, (H358 *G358 * (C358/B358) * 'Stap 1 - Jouw gegevens'!$C$18), (H358 *G358 *'Stap 1 - Jouw gegevens'!$C$18 * ($W$10/B358))), \"\")","v":""},"",{"$f":"IF(AND(L358 = \"\", NOT(J358=\"\")),IF(C358< $W$10, 'Stap 1 - Jouw gegevens'!$C$22 *J358*G358 *C358/B358,  'Stap 1 - Jouw gegevens'!$C$22 * J358*G358 *$W$10/B358), \"\")","v":""},"",null,"","","","","",""]
[null,null,null,null,null,null,null,"",{"$f":"IF(AND(L359 = \"\", NOT(H359=\"\")),IF(C359< $W$10, (H359 *G359 * (C359/B359) * 'Stap 1 - Jouw gegevens'!$C$18), (H359 *G359 *'Stap 1 - Jouw gegevens'!$C$18 * ($W$10/B359))), \"\")","v":""},"",{"$f":"IF(AND(L359 = \"\", NOT(J359=\"\")),IF(C359< $W$10, 'Stap 1 - Jouw gegevens'!$C$22 *J359*G359 *C359/B359,  'Stap 1 - Jouw gegevens'!$C$22 * J359*G359 *$W$10/B359), \"\")","v":""},"",null,"","","","","",""]
[null,null,null,null,null,null,null,"",{"$f":"IF(AND(L360 = \"\", NOT(H360=\"\")),IF(C360< $W$10, (H360 *G360 * (C360/B360) * 'Stap 1 - Jouw gegevens'!$C$18), (H360 *G360 *'Stap 1 - Jouw gegevens'!$C$18 * ($W$10/B360))), \"\")","v":""},"",{"$f":"IF(AND(L360 = \"\", NOT(J360=\"\")),IF(C360< $W$10, 'Stap 1 - Jouw gegevens'!$C$22 *J360*G360 *C360/B360,  'Stap 1 - Jouw gegevens'!$C$22 * J360*G360 *$W$10/B360), \"\")","v":""},"",null,"","","","","",""]
[null,null,null,null,null,null,null,"",{"$f":"IF(AND(L361 = \"\", NOT(H361=\"\")),IF(C361< $W$10, (H361 *G361 * (C361/B361) * 'Stap 1 - Jouw gegevens'!$C$18), (H361 *G361 *'Stap 1 - Jouw gegevens'!$C$18 * ($W$10/B361))), \"\")","v":""},"",{"$f":"IF(AND(L361 = \"\", NOT(J361=\"\")),IF(C361< $W$10, 'Stap 1 - Jouw gegevens'!$C$22 *J361*G361 *C361/B361,  'Stap 1 - Jouw gegevens'!$C$22 * J361*G361 *$W$10/B361), \"\")","v":""},"",null,"","","","","",""]
[null,null,null,null,null,null,null,"",{"$f":"IF(AND(L362 = \"\", NOT(H362=\"\")),IF(C362< $W$10, (H362 *G362 * (C362/B362) * 'Stap 1 - Jouw gegevens'!$C$18), (H362 *G362 *'Stap 1 - Jouw gegevens'!$C$18 * ($W$10/B362))), \"\")","v":""},"",{"$f":"IF(AND(L362 = \"\", NOT(J362=\"\")),IF(C362< $W$10, 'Stap 1 - Jouw gegevens'!$C$22 *J362*G362 *C362/B362,  'Stap 1 - Jouw gegevens'!$C$22 * J362*G362 *$W$10/B362), \"\")","v":""},"",null,"","","","","",""]
[null,null,null,null,null,null,null,"",{"$f":"IF(AND(L363 = \"\", NOT(H363=\"\")),IF(C363< $W$10, (H363 *G363 * (C363/B363) * 'Stap 1 - Jouw gegevens'!$C$18), (H363 *G363 *'Stap 1 - Jouw gegevens'!$C$18 * ($W$10/B363))), \"\")","v":""},"",{"$f":"IF(AND(L363 = \"\", NOT(J363=\"\")),IF(C363< $W$10, 'Stap 1 - Jouw gegevens'!$C$22 *J363*G363 *C363/B363,  'Stap 1 - Jouw gegevens'!$C$22 * J363*G363 *$W$10/B363), \"\")","v":""},"",null,"","","","","",""]
[null,null,null,null,null,null,null,"",{"$f":"IF(AND(L364 = \"\", NOT(H364=\"\")),IF(C364< $W$10, (H364 *G364 * (C364/B364) * 'Stap 1 - Jouw gegevens'!$C$18), (H364 *G364 *'Stap 1 - Jouw gegevens'!$C$18 * ($W$10/B364))), \"\")","v":""},"",{"$f":"IF(AND(L364 = \"\", NOT(J364=\"\")),IF(C364< $W$10, 'Stap 1 - Jouw gegevens'!$C$22 *J364*G364 *C364/B364,  'Stap 1 - Jouw gegevens'!$C$22 * J364*G364 *$W$10/B364), \"\")","v":""},"",null,"","","","","",""]
[null,null,null,null,null,null,null,"",{"$f":"IF(AND(L365 = \"\", NOT(H365=\"\")),IF(C365< $W$10, (H365 *G365 * (C365/B365) * 'Stap 1 - Jouw gegevens'!$C$18), (H365 *G365 *'Stap 1 - Jouw gegevens'!$C$18 * ($W$10/B365))), \"\")","v":""},"",{"$f":"IF(AND(L365 = \"\", NOT(J365=\"\")),IF(C365< $W$10, 'Stap 1 - Jouw gegevens'!$C$22 *J365*G365 *C365/B365,  'Stap 1 - Jouw gegevens'!$C$22 * J365*G365 *$W$10/B365), \"\")","v":""},"",null,"","","","","",""]
[null,null,null,null,null,null,null,"",{"$f":"IF(AND(L366 = \"\", NOT(H366=\"\")),IF(C366< $W$10, (H366 *G366 * (C366/B366) * 'Stap 1 - Jouw gegevens'!$C$18), (H366 *G366 *'Stap 1 - Jouw gegevens'!$C$18 * ($W$10/B366))), \"\")","v":""},"",{"$f":"IF(AND(L366 = \"\", NOT(J366=\"\")),IF(C366< $W$10, 'Stap 1 - Jouw gegevens'!$C$22 *J366*G366 *C366/B366,  'Stap 1 - Jouw gegevens'!$C$22 * J366*G366 *$W$10/B366), \"\")","v":""},"",null,"","","","","",""]
[null,null,null,null,null,null,null,"",{"$f":"IF(AND(L367 = \"\", NOT(H367=\"\")),IF(C367< $W$10, (H367 *G367 * (C367/B367) * 'Stap 1 - Jouw gegevens'!$C$18), (H367 *G367 *'Stap 1 - Jouw gegevens'!$C$18 * ($W$10/B367))), \"\")","v":""},"",{"$f":"IF(AND(L367 = \"\", NOT(J367=\"\")),IF(C367< $W$10, 'Stap 1 - Jouw gegevens'!$C$22 *J367*G367 *C367/B367,  'Stap 1 - Jouw gegevens'!$C$22 * J367*G367 *$W$10/B367), \"\")","v":""},"",null,"","","","","",""]
[null,null,null,null,null,null,null,"",{"$f":"IF(AND(L368 = \"\", NOT(H368=\"\")),IF(C368< $W$10, (H368 *G368 * (C368/B368) * 'Stap 1 - Jouw gegevens'!$C$18), (H368 *G368 *'Stap 1 - Jouw gegevens'!$C$18 * ($W$10/B368))), \"\")","v":""},"",{"$f":"IF(AND(L368 = \"\", NOT(J368=\"\")),IF(C368< $W$10, 'Stap 1 - Jouw gegevens'!$C$22 *J368*G368 *C368/B368,  'Stap 1 - Jouw gegevens'!$C$22 * J368*G368 *$W$10/B368), \"\")","v":""},"",null,"","","","","",""]
[null,null,null,null,null,null,null,"",{"$f":"IF(AND(L369 = \"\", NOT(H369=\"\")),IF(C369< $W$10, (H369 *G369 * (C369/B369) * 'Stap 1 - Jouw gegevens'!$C$18), (H369 *G369 *'Stap 1 - Jouw gegevens'!$C$18 * ($W$10/B369))), \"\")","v":""},"",{"$f":"IF(AND(L369 = \"\", NOT(J369=\"\")),IF(C369< $W$10, 'Stap 1 - Jouw gegevens'!$C$22 *J369*G369 *C369/B369,  'Stap 1 - Jouw gegevens'!$C$22 * J369*G369 *$W$10/B369), \"\")","v":""},"",null,"","","","","",""]
[null,null,null,null,null,null,null,"",{"$f":"IF(AND(L370 = \"\", NOT(H370=\"\")),IF(C370< $W$10, (H370 *G370 * (C370/B370) * 'Stap 1 - Jouw gegevens'!$C$18), (H370 *G370 *'Stap 1 - Jouw gegevens'!$C$18 * ($W$10/B370))), \"\")","v":""},"",{"$f":"IF(AND(L370 = \"\", NOT(J370=\"\")),IF(C370< $W$10, 'Stap 1 - Jouw gegevens'!$C$22 *J370*G370 *C370/B370,  'Stap 1 - Jouw gegevens'!$C$22 * J370*G370 *$W$10/B370), \"\")","v":""},"",null,"","","","","",""]
[null,null,null,null,null,null,null,"",{"$f":"IF(AND(L371 = \"\", NOT(H371=\"\")),IF(C371< $W$10, (H371 *G371 * (C371/B371) * 'Stap 1 - Jouw gegevens'!$C$18), (H371 *G371 *'Stap 1 - Jouw gegevens'!$C$18 * ($W$10/B371))), \"\")","v":""},"",{"$f":"IF(AND(L371 = \"\", NOT(J371=\"\")),IF(C371< $W$10, 'Stap 1 - Jouw gegevens'!$C$22 *J371*G371 *C371/B371,  'Stap 1 - Jouw gegevens'!$C$22 * J371*G371 *$W$10/B371), \"\")","v":""},"",null,"","","","","",""]
[null,null,null,null,null,null,null,"",{"$f":"IF(AND(L372 = \"\", NOT(H372=\"\")),IF(C372< $W$10, (H372 *G372 * (C372/B372) * 'Stap 1 - Jouw gegevens'!$C$18), (H372 *G372 *'Stap 1 - Jouw gegevens'!$C$18 * ($W$10/B372))), \"\")","v":""},"",{"$f":"IF(AND(L372 = \"\", NOT(J372=\"\")),IF(C372< $W$10, 'Stap 1 - Jouw gegevens'!$C$22 *J372*G372 *C372/B372,  'Stap 1 - Jouw gegevens'!$C$22 * J372*G372 *$W$10/B372), \"\")","v":""},"",null,"","","","","",""]
[null,null,null,null,null,null,null,"",{"$f":"IF(AND(L373 = \"\", NOT(H373=\"\")),IF(C373< $W$10, (H373 *G373 * (C373/B373) * 'Stap 1 - Jouw gegevens'!$C$18), (H373 *G373 *'Stap 1 - Jouw gegevens'!$C$18 * ($W$10/B373))), \"\")","v":""},"",{"$f":"IF(AND(L373 = \"\", NOT(J373=\"\")),IF(C373< $W$10, 'Stap 1 - Jouw gegevens'!$C$22 *J373*G373 *C373/B373,  'Stap 1 - Jouw gegevens'!$C$22 * J373*G373 *$W$10/B373), \"\")","v":""},"",null,"","","","","",""]
[null,null,null,null,null,null,null,"",{"$f":"IF(AND(L374 = \"\", NOT(H374=\"\")),IF(C374< $W$10, (H374 *G374 * (C374/B374) * 'Stap 1 - Jouw gegevens'!$C$18), (H374 *G374 *'Stap 1 - Jouw gegevens'!$C$18 * ($W$10/B374))), \"\")","v":""},"",{"$f":"IF(AND(L374 = \"\", NOT(J374=\"\")),IF(C374< $W$10, 'Stap 1 - Jouw gegevens'!$C$22 *J374*G374 *C374/B374,  'Stap 1 - Jouw gegevens'!$C$22 * J374*G374 *$W$10/B374), \"\")","v":""},"",null,"","","","","",""]
[null,null,null,null,null,null,null,"",{"$f":"IF(AND(L375 = \"\", NOT(H375=\"\")),IF(C375< $W$10, (H375 *G375 * (C375/B375) * 'Stap 1 - Jouw gegevens'!$C$18), (H375 *G375 *'Stap 1 - Jouw gegevens'!$C$18 * ($W$10/B375))), \"\")","v":""},"",{"$f":"IF(AND(L375 = \"\", NOT(J375=\"\")),IF(C375< $W$10, 'Stap 1 - Jouw gegevens'!$C$22 *J375*G375 *C375/B375,  'Stap 1 - Jouw gegevens'!$C$22 * J375*G375 *$W$10/B375), \"\")","v":""},"",null,"","","","","",""]
[null,null,null,null,null,null,null,"",{"$f":"IF(AND(L376 = \"\", NOT(H376=\"\")),IF(C376< $W$10, (H376 *G376 * (C376/B376) * 'Stap 1 - Jouw gegevens'!$C$18), (H376 *G376 *'Stap 1 - Jouw gegevens'!$C$18 * ($W$10/B376))), \"\")","v":""},"",{"$f":"IF(AND(L376 = \"\", NOT(J376=\"\")),IF(C376< $W$10, 'Stap 1 - Jouw gegevens'!$C$22 *J376*G376 *C376/B376,  'Stap 1 - Jouw gegevens'!$C$22 * J376*G376 *$W$10/B376), \"\")","v":""},"",null,"","","","","",""]
[null,null,null,null,null,null,null,"",{"$f":"IF(AND(L377 = \"\", NOT(H377=\"\")),IF(C377< $W$10, (H377 *G377 * (C377/B377) * 'Stap 1 - Jouw gegevens'!$C$18), (H377 *G377 *'Stap 1 - Jouw gegevens'!$C$18 * ($W$10/B377))), \"\")","v":""},"",{"$f":"IF(AND(L377 = \"\", NOT(J377=\"\")),IF(C377< $W$10, 'Stap 1 - Jouw gegevens'!$C$22 *J377*G377 *C377/B377,  'Stap 1 - Jouw gegevens'!$C$22 * J377*G377 *$W$10/B377), \"\")","v":""},"",null,"","","","","",""]
[null,null,null,null,null,null,null,"",{"$f":"IF(AND(L378 = \"\", NOT(H378=\"\")),IF(C378< $W$10, (H378 *G378 * (C378/B378) * 'Stap 1 - Jouw gegevens'!$C$18), (H378 *G378 *'Stap 1 - Jouw gegevens'!$C$18 * ($W$10/B378))), \"\")","v":""},"",{"$f":"IF(AND(L378 = \"\", NOT(J378=\"\")),IF(C378< $W$10, 'Stap 1 - Jouw gegevens'!$C$22 *J378*G378 *C378/B378,  'Stap 1 - Jouw gegevens'!$C$22 * J378*G378 *$W$10/B378), \"\")","v":""},"",null,"","","","","",""]
[null,null,null,null,null,null,null,"",{"$f":"IF(AND(L379 = \"\", NOT(H379=\"\")),IF(C379< $W$10, (H379 *G379 * (C379/B379) * 'Stap 1 - Jouw gegevens'!$C$18), (H379 *G379 *'Stap 1 - Jouw gegevens'!$C$18 * ($W$10/B379))), \"\")","v":""},"",{"$f":"IF(AND(L379 = \"\", NOT(J379=\"\")),IF(C379< $W$10, 'Stap 1 - Jouw gegevens'!$C$22 *J379*G379 *C379/B379,  'Stap 1 - Jouw gegevens'!$C$22 * J379*G379 *$W$10/B379), \"\")","v":""},"",null,"","","","","",""]
[null,null,null,null,null,null,null,"",{"$f":"IF(AND(L380 = \"\", NOT(H380=\"\")),IF(C380< $W$10, (H380 *G380 * (C380/B380) * 'Stap 1 - Jouw gegevens'!$C$18), (H380 *G380 *'Stap 1 - Jouw gegevens'!$C$18 * ($W$10/B380))), \"\")","v":""},"",{"$f":"IF(AND(L380 = \"\", NOT(J380=\"\")),IF(C380< $W$10, 'Stap 1 - Jouw gegevens'!$C$22 *J380*G380 *C380/B380,  'Stap 1 - Jouw gegevens'!$C$22 * J380*G380 *$W$10/B380), \"\")","v":""},"",null,"","","","","",""]
[null,null,null,null,null,null,null,"",{"$f":"IF(AND(L381 = \"\", NOT(H381=\"\")),IF(C381< $W$10, (H381 *G381 * (C381/B381) * 'Stap 1 - Jouw gegevens'!$C$18), (H381 *G381 *'Stap 1 - Jouw gegevens'!$C$18 * ($W$10/B381))), \"\")","v":""},"",{"$f":"IF(AND(L381 = \"\", NOT(J381=\"\")),IF(C381< $W$10, 'Stap 1 - Jouw gegevens'!$C$22 *J381*G381 *C381/B381,  'Stap 1 - Jouw gegevens'!$C$22 * J381*G381 *$W$10/B381), \"\")","v":""},"",null,"","","","","",""]
[null,null,null,null,null,null,null,"",{"$f":"IF(AND(L382 = \"\", NOT(H382=\"\")),IF(C382< $W$10, (H382 *G382 * (C382/B382) * 'Stap 1 - Jouw gegevens'!$C$18), (H382 *G382 *'Stap 1 - Jouw gegevens'!$C$18 * ($W$10/B382))), \"\")","v":""},"",{"$f":"IF(AND(L382 = \"\", NOT(J382=\"\")),IF(C382< $W$10, 'Stap 1 - Jouw gegevens'!$C$22 *J382*G382 *C382/B382,  'Stap 1 - Jouw gegevens'!$C$22 * J382*G382 *$W$10/B382), \"\")","v":""},"",null,"","","","","",""]
[null,null,null,null,null,null,null,"",{"$f":"IF(AND(L383 = \"\", NOT(H383=\"\")),IF(C383< $W$10, (H383 *G383 * (C383/B383) * 'Stap 1 - Jouw gegevens'!$C$18), (H383 *G383 *'Stap 1 - Jouw gegevens'!$C$18 * ($W$10/B383))), \"\")","v":""},"",{"$f":"IF(AND(L383 = \"\", NOT(J383=\"\")),IF(C383< $W$10, 'Stap 1 - Jouw gegevens'!$C$22 *J383*G383 *C383/B383,  'Stap 1 - Jouw gegevens'!$C$22 * J383*G383 *$W$10/B383), \"\")","v":""},"",null,"","","","","",""]
[null,null,null,null,null,null,null,"",{"$f":"IF(AND(L384 = \"\", NOT(H384=\"\")),IF(C384< $W$10, (H384 *G384 * (C384/B384) * 'Stap 1 - Jouw gegevens'!$C$18), (H384 *G384 *'Stap 1 - Jouw gegevens'!$C$18 * ($W$10/B384))), \"\")","v":""},"",{"$f":"IF(AND(L384 = \"\", NOT(J384=\"\")),IF(C384< $W$10, 'Stap 1 - Jouw gegevens'!$C$22 *J384*G384 *C384/B384,  'Stap 1 - Jouw gegevens'!$C$22 * J384*G384 *$W$10/B384), \"\")","v":""},"",null,"","","","","",""]
[null,null,null,null,null,null,null,"",{"$f":"IF(AND(L385 = \"\", NOT(H385=\"\")),IF(C385< $W$10, (H385 *G385 * (C385/B385) * 'Stap 1 - Jouw gegevens'!$C$18), (H385 *G385 *'Stap 1 - Jouw gegevens'!$C$18 * ($W$10/B385))), \"\")","v":""},"",{"$f":"IF(AND(L385 = \"\", NOT(J385=\"\")),IF(C385< $W$10, 'Stap 1 - Jouw gegevens'!$C$22 *J385*G385 *C385/B385,  'Stap 1 - Jouw gegevens'!$C$22 * J385*G385 *$W$10/B385), \"\")","v":""},"",null,"","","","","",""]
[null,null,null,null,null,null,null,"",{"$f":"IF(AND(L386 = \"\", NOT(H386=\"\")),IF(C386< $W$10, (H386 *G386 * (C386/B386) * 'Stap 1 - Jouw gegevens'!$C$18), (H386 *G386 *'Stap 1 - Jouw gegevens'!$C$18 * ($W$10/B386))), \"\")","v":""},"",{"$f":"IF(AND(L386 = \"\", NOT(J386=\"\")),IF(C386< $W$10, 'Stap 1 - Jouw gegevens'!$C$22 *J386*G386 *C386/B386,  'Stap 1 - Jouw gegevens'!$C$22 * J386*G386 *$W$10/B386), \"\")","v":""},"",null,"","","","","",""]
[null,null,null,null,null,null,null,"",{"$f":"IF(AND(L387 = \"\", NOT(H387=\"\")),IF(C387< $W$10, (H387 *G387 * (C387/B387) * 'Stap 1 - Jouw gegevens'!$C$18), (H387 *G387 *'Stap 1 - Jouw gegevens'!$C$18 * ($W$10/B387))), \"\")","v":""},"",{"$f":"IF(AND(L387 = \"\", NOT(J387=\"\")),IF(C387< $W$10, 'Stap 1 - Jouw gegevens'!$C$22 *J387*G387 *C387/B387,  'Stap 1 - Jouw gegevens'!$C$22 * J387*G387 *$W$10/B387), \"\")","v":""},"",null,"","","","","",""]
[null,null,null,null,null,null,null,"",{"$f":"IF(AND(L388 = \"\", NOT(H388=\"\")),IF(C388< $W$10, (H388 *G388 * (C388/B388) * 'Stap 1 - Jouw gegevens'!$C$18), (H388 *G388 *'Stap 1 - Jouw gegevens'!$C$18 * ($W$10/B388))), \"\")","v":""},"",{"$f":"IF(AND(L388 = \"\", NOT(J388=\"\")),IF(C388< $W$10, 'Stap 1 - Jouw gegevens'!$C$22 *J388*G388 *C388/B388,  'Stap 1 - Jouw gegevens'!$C$22 * J388*G388 *$W$10/B388), \"\")","v":""},"",null,"","","","","",""]
[null,null,null,null,null,null,null,"",{"$f":"IF(AND(L389 = \"\", NOT(H389=\"\")),IF(C389< $W$10, (H389 *G389 * (C389/B389) * 'Stap 1 - Jouw gegevens'!$C$18), (H389 *G389 *'Stap 1 - Jouw gegevens'!$C$18 * ($W$10/B389))), \"\")","v":""},"",{"$f":"IF(AND(L389 = \"\", NOT(J389=\"\")),IF(C389< $W$10, 'Stap 1 - Jouw gegevens'!$C$22 *J389*G389 *C389/B389,  'Stap 1 - Jouw gegevens'!$C$22 * J389*G389 *$W$10/B389), \"\")","v":""},"",null,"","","","","",""]
[null,null,null,null,null,null,null,"",{"$f":"IF(AND(L390 = \"\", NOT(H390=\"\")),IF(C390< $W$10, (H390 *G390 * (C390/B390) * 'Stap 1 - Jouw gegevens'!$C$18), (H390 *G390 *'Stap 1 - Jouw gegevens'!$C$18 * ($W$10/B390))), \"\")","v":""},"",{"$f":"IF(AND(L390 = \"\", NOT(J390=\"\")),IF(C390< $W$10, 'Stap 1 - Jouw gegevens'!$C$22 *J390*G390 *C390/B390,  'Stap 1 - Jouw gegevens'!$C$22 * J390*G390 *$W$10/B390), \"\")","v":""},"",null,"","","","","",""]
[null,null,null,null,null,null,null,"",{"$f":"IF(AND(L391 = \"\", NOT(H391=\"\")),IF(C391< $W$10, (H391 *G391 * (C391/B391) * 'Stap 1 - Jouw gegevens'!$C$18), (H391 *G391 *'Stap 1 - Jouw gegevens'!$C$18 * ($W$10/B391))), \"\")","v":""},"",{"$f":"IF(AND(L391 = \"\", NOT(J391=\"\")),IF(C391< $W$10, 'Stap 1 - Jouw gegevens'!$C$22 *J391*G391 *C391/B391,  'Stap 1 - Jouw gegevens'!$C$22 * J391*G391 *$W$10/B391), \"\")","v":""},"",null,"","","","","",""]
[null,null,null,null,null,null,null,{"$f":"P392","v":""},{"$f":"IF(AND(L392 = \"\", NOT(H392=\"\")),IF(C392< $W$10, (H392 *G392 * (C392/B392) * 'Stap 1 - Jouw gegevens'!$C$18), (H392 *G392 *'Stap 1 - Jouw gegevens'!$C$18 * ($W$10/B392))), \"\")","v":""},{"$f":"S392","v":""},{"$f":"IF(AND(L392 = \"\", NOT(J392=\"\")),IF(C392< $W$10, 'Stap 1 - Jouw gegevens'!$C$22 *J392*G392 *C392/B392,  'Stap 1 - Jouw gegevens'!$C$22 * J392*G392 *$W$10/B392), \"\")","v":""},{"$f":"IF(ISBLANK(A392), \"\", CONCATENATE(IF(Z392 = \"X\", $AH$5, \"\"), IF( AB392 = \"X\", $AH$7, \"\"), IF( AC392 = \"X\", $AH$8, \"\"), IF( AD392 = \"X\", $AH$9, \"\"), IF( AE392 = \"X\", $AH$10, \"\"),  IF( AF392 = \"X\", $AH$11, \"\")))","v":""},null,{"$f":"IF(ISBLANK(D392),\"\",NETWORKDAYS(D392,F392))","v":""},{"$f":"IFERROR( IF(N392>$Y$5,NETWORKDAYS(E392, (Q392 - 1)), NETWORKDAYS(E392,(F392-1))), \"\")","v":""},{"$f":"IF(O392<= 0, \"\", O392)","v":""},{"$f":"IF(ISBLANK(D392),\"\",DATE(YEAR(D392)+1,MONTH(D392),DAY(D392)))","v":""},{"$f":"IFERROR(IF(N392 > $Y$5, IF(E392>=Q392,NETWORKDAYS(E392, (F392-1)), NETWORKDAYS(Q392, (F392-1))), \"\"), \"\")","v":""},{"$f":"IF(R392=\"\", \"\",  IF(R392 >= $Y$5, $Y$5,  R392))","v":""}]
[null,null,null,null,null,null,null,"",{"$f":"IF(AND(L393 = \"\", NOT(H393=\"\")),IF(C393< $W$10, (H393 *G393 * (C393/B393) * 'Stap 1 - Jouw gegevens'!$C$18), (H393 *G393 *'Stap 1 - Jouw gegevens'!$C$18 * ($W$10/B393))), \"\")","v":""},"",{"$f":"IF(AND(L393 = \"\", NOT(J393=\"\")),IF(C393< $W$10, 'Stap 1 - Jouw gegevens'!$C$22 *J393*G393 *C393/B393,  'Stap 1 - Jouw gegevens'!$C$22 * J393*G393 *$W$10/B393), \"\")","v":""},"",null,"","","","","",""]
[null,null,null,null,null,null,null,"",{"$f":"IF(AND(L394 = \"\", NOT(H394=\"\")),IF(C394< $W$10, (H394 *G394 * (C394/B394) * 'Stap 1 - Jouw gegevens'!$C$18), (H394 *G394 *'Stap 1 - Jouw gegevens'!$C$18 * ($W$10/B394))), \"\")","v":""},"",{"$f":"IF(AND(L394 = \"\", NOT(J394=\"\")),IF(C394< $W$10, 'Stap 1 - Jouw gegevens'!$C$22 *J394*G394 *C394/B394,  'Stap 1 - Jouw gegevens'!$C$22 * J394*G394 *$W$10/B394), \"\")","v":""},"",null,"","","","","",""]
[null,null,null,null,null,null,null,"",{"$f":"IF(AND(L395 = \"\", NOT(H395=\"\")),IF(C395< $W$10, (H395 *G395 * (C395/B395) * 'Stap 1 - Jouw gegevens'!$C$18), (H395 *G395 *'Stap 1 - Jouw gegevens'!$C$18 * ($W$10/B395))), \"\")","v":""},"",{"$f":"IF(AND(L395 = \"\", NOT(J395=\"\")),IF(C395< $W$10, 'Stap 1 - Jouw gegevens'!$C$22 *J395*G395 *C395/B395,  'Stap 1 - Jouw gegevens'!$C$22 * J395*G395 *$W$10/B395), \"\")","v":""},"",null,"","","","","",""]
[null,null,null,null,null,null,null,"",{"$f":"IF(AND(L396 = \"\", NOT(H396=\"\")),IF(C396< $W$10, (H396 *G396 * (C396/B396) * 'Stap 1 - Jouw gegevens'!$C$18), (H396 *G396 *'Stap 1 - Jouw gegevens'!$C$18 * ($W$10/B396))), \"\")","v":""},"",{"$f":"IF(AND(L396 = \"\", NOT(J396=\"\")),IF(C396< $W$10, 'Stap 1 - Jouw gegevens'!$C$22 *J396*G396 *C396/B396,  'Stap 1 - Jouw gegevens'!$C$22 * J396*G396 *$W$10/B396), \"\")","v":""},"",null,"","","","","",""]
[null,null,null,null,null,null,null,"",{"$f":"IF(AND(L397 = \"\", NOT(H397=\"\")),IF(C397< $W$10, (H397 *G397 * (C397/B397) * 'Stap 1 - Jouw gegevens'!$C$18), (H397 *G397 *'Stap 1 - Jouw gegevens'!$C$18 * ($W$10/B397))), \"\")","v":""},"",{"$f":"IF(AND(L397 = \"\", NOT(J397=\"\")),IF(C397< $W$10, 'Stap 1 - Jouw gegevens'!$C$22 *J397*G397 *C397/B397,  'Stap 1 - Jouw gegevens'!$C$22 * J397*G397 *$W$10/B397), \"\")","v":""},"",null,"","","","","",""]
[null,null,null,null,null,null,null,"",{"$f":"IF(AND(L398 = \"\", NOT(H398=\"\")),IF(C398< $W$10, (H398 *G398 * (C398/B398) * 'Stap 1 - Jouw gegevens'!$C$18), (H398 *G398 *'Stap 1 - Jouw gegevens'!$C$18 * ($W$10/B398))), \"\")","v":""},"",{"$f":"IF(AND(L398 = \"\", NOT(J398=\"\")),IF(C398< $W$10, 'Stap 1 - Jouw gegevens'!$C$22 *J398*G398 *C398/B398,  'Stap 1 - Jouw gegevens'!$C$22 * J398*G398 *$W$10/B398), \"\")","v":""},"",null,"","","","","",""]
[null,null,null,null,null,null,null,"",{"$f":"IF(AND(L399 = \"\", NOT(H399=\"\")),IF(C399< $W$10, (H399 *G399 * (C399/B399) * 'Stap 1 - Jouw gegevens'!$C$18), (H399 *G399 *'Stap 1 - Jouw gegevens'!$C$18 * ($W$10/B399))), \"\")","v":""},"",{"$f":"IF(AND(L399 = \"\", NOT(J399=\"\")),IF(C399< $W$10, 'Stap 1 - Jouw gegevens'!$C$22 *J399*G399 *C399/B399,  'Stap 1 - Jouw gegevens'!$C$22 * J399*G399 *$W$10/B399), \"\")","v":""},"",null,"","","","","",""]
[null,null,null,null,null,null,null,"",{"$f":"IF(AND(L400 = \"\", NOT(H400=\"\")),IF(C400< $W$10, (H400 *G400 * (C400/B400) * 'Stap 1 - Jouw gegevens'!$C$18), (H400 *G400 *'Stap 1 - Jouw gegevens'!$C$18 * ($W$10/B400))), \"\")","v":""},"",{"$f":"IF(AND(L400 = \"\", NOT(J400=\"\")),IF(C400< $W$10, 'Stap 1 - Jouw gegevens'!$C$22 *J400*G400 *C400/B400,  'Stap 1 - Jouw gegevens'!$C$22 * J400*G400 *$W$10/B400), \"\")","v":""},"",null,"","","","","",""]
[null,null,null,null,null,null,null,"",{"$f":"IF(AND(L401 = \"\", NOT(H401=\"\")),IF(C401< $W$10, (H401 *G401 * (C401/B401) * 'Stap 1 - Jouw gegevens'!$C$18), (H401 *G401 *'Stap 1 - Jouw gegevens'!$C$18 * ($W$10/B401))), \"\")","v":""},"",{"$f":"IF(AND(L401 = \"\", NOT(J401=\"\")),IF(C401< $W$10, 'Stap 1 - Jouw gegevens'!$C$22 *J401*G401 *C401/B401,  'Stap 1 - Jouw gegevens'!$C$22 * J401*G401 *$W$10/B401), \"\")","v":""},"",null,"","","","","",""]
[null,null,null,null,null,null,null,"",{"$f":"IF(AND(L402 = \"\", NOT(H402=\"\")),IF(C402< $W$10, (H402 *G402 * (C402/B402) * 'Stap 1 - Jouw gegevens'!$C$18), (H402 *G402 *'Stap 1 - Jouw gegevens'!$C$18 * ($W$10/B402))), \"\")","v":""},"",{"$f":"IF(AND(L402 = \"\", NOT(J402=\"\")),IF(C402< $W$10, 'Stap 1 - Jouw gegevens'!$C$22 *J402*G402 *C402/B402,  'Stap 1 - Jouw gegevens'!$C$22 * J402*G402 *$W$10/B402), \"\")","v":""},"",null,"","","","","",""]
[null,null,null,null,null,null,null,"",{"$f":"IF(AND(L403 = \"\", NOT(H403=\"\")),IF(C403< $W$10, (H403 *G403 * (C403/B403) * 'Stap 1 - Jouw gegevens'!$C$18), (H403 *G403 *'Stap 1 - Jouw gegevens'!$C$18 * ($W$10/B403))), \"\")","v":""},"",{"$f":"IF(AND(L403 = \"\", NOT(J403=\"\")),IF(C403< $W$10, 'Stap 1 - Jouw gegevens'!$C$22 *J403*G403 *C403/B403,  'Stap 1 - Jouw gegevens'!$C$22 * J403*G403 *$W$10/B403), \"\")","v":""},"",null,"","","","","",""]
[null,null,null,null,null,null,null,"",{"$f":"IF(AND(L404 = \"\", NOT(H404=\"\")),IF(C404< $W$10, (H404 *G404 * (C404/B404) * 'Stap 1 - Jouw gegevens'!$C$18), (H404 *G404 *'Stap 1 - Jouw gegevens'!$C$18 * ($W$10/B404))), \"\")","v":""},"",{"$f":"IF(AND(L404 = \"\", NOT(J404=\"\")),IF(C404< $W$10, 'Stap 1 - Jouw gegevens'!$C$22 *J404*G404 *C404/B404,  'Stap 1 - Jouw gegevens'!$C$22 * J404*G404 *$W$10/B404), \"\")","v":""},"",null,"","","","","",""]
[null,null,null,null,null,null,null,"",{"$f":"IF(AND(L405 = \"\", NOT(H405=\"\")),IF(C405< $W$10, (H405 *G405 * (C405/B405) * 'Stap 1 - Jouw gegevens'!$C$18), (H405 *G405 *'Stap 1 - Jouw gegevens'!$C$18 * ($W$10/B405))), \"\")","v":""},"",{"$f":"IF(AND(L405 = \"\", NOT(J405=\"\")),IF(C405< $W$10, 'Stap 1 - Jouw gegevens'!$C$22 *J405*G405 *C405/B405,  'Stap 1 - Jouw gegevens'!$C$22 * J405*G405 *$W$10/B405), \"\")","v":""},"",null,"","","","","",""]
[null,null,null,null,null,null,null,"",{"$f":"IF(AND(L406 = \"\", NOT(H406=\"\")),IF(C406< $W$10, (H406 *G406 * (C406/B406) * 'Stap 1 - Jouw gegevens'!$C$18), (H406 *G406 *'Stap 1 - Jouw gegevens'!$C$18 * ($W$10/B406))), \"\")","v":""},"",{"$f":"IF(AND(L406 = \"\", NOT(J406=\"\")),IF(C406< $W$10, 'Stap 1 - Jouw gegevens'!$C$22 *J406*G406 *C406/B406,  'Stap 1 - Jouw gegevens'!$C$22 * J406*G406 *$W$10/B406), \"\")","v":""},"",null,"","","","","",""]
[null,null,null,null,null,null,null,"",{"$f":"IF(AND(L407 = \"\", NOT(H407=\"\")),IF(C407< $W$10, (H407 *G407 * (C407/B407) * 'Stap 1 - Jouw gegevens'!$C$18), (H407 *G407 *'Stap 1 - Jouw gegevens'!$C$18 * ($W$10/B407))), \"\")","v":""},"",{"$f":"IF(AND(L407 = \"\", NOT(J407=\"\")),IF(C407< $W$10, 'Stap 1 - Jouw gegevens'!$C$22 *J407*G407 *C407/B407,  'Stap 1 - Jouw gegevens'!$C$22 * J407*G407 *$W$10/B407), \"\")","v":""},"",null,"","","","","",""]
[null,null,null,null,null,null,null,"",{"$f":"IF(AND(L408 = \"\", NOT(H408=\"\")),IF(C408< $W$10, (H408 *G408 * (C408/B408) * 'Stap 1 - Jouw gegevens'!$C$18), (H408 *G408 *'Stap 1 - Jouw gegevens'!$C$18 * ($W$10/B408))), \"\")","v":""},"",{"$f":"IF(AND(L408 = \"\", NOT(J408=\"\")),IF(C408< $W$10, 'Stap 1 - Jouw gegevens'!$C$22 *J408*G408 *C408/B408,  'Stap 1 - Jouw gegevens'!$C$22 * J408*G408 *$W$10/B408), \"\")","v":""},"",null,"","","","","",""]
[null,null,null,null,null,null,null,"",{"$f":"IF(AND(L409 = \"\", NOT(H409=\"\")),IF(C409< $W$10, (H409 *G409 * (C409/B409) * 'Stap 1 - Jouw gegevens'!$C$18), (H409 *G409 *'Stap 1 - Jouw gegevens'!$C$18 * ($W$10/B409))), \"\")","v":""},"",{"$f":"IF(AND(L409 = \"\", NOT(J409=\"\")),IF(C409< $W$10, 'Stap 1 - Jouw gegevens'!$C$22 *J409*G409 *C409/B409,  'Stap 1 - Jouw gegevens'!$C$22 * J409*G409 *$W$10/B409), \"\")","v":""},"",null,"","","","","",""]
[null,null,null,null,null,null,null,"",{"$f":"IF(AND(L410 = \"\", NOT(H410=\"\")),IF(C410< $W$10, (H410 *G410 * (C410/B410) * 'Stap 1 - Jouw gegevens'!$C$18), (H410 *G410 *'Stap 1 - Jouw gegevens'!$C$18 * ($W$10/B410))), \"\")","v":""},"",{"$f":"IF(AND(L410 = \"\", NOT(J410=\"\")),IF(C410< $W$10, 'Stap 1 - Jouw gegevens'!$C$22 *J410*G410 *C410/B410,  'Stap 1 - Jouw gegevens'!$C$22 * J410*G410 *$W$10/B410), \"\")","v":""},"",null,"","","","","",""]
[null,null,null,null,null,null,null,"",{"$f":"IF(AND(L411 = \"\", NOT(H411=\"\")),IF(C411< $W$10, (H411 *G411 * (C411/B411) * 'Stap 1 - Jouw gegevens'!$C$18), (H411 *G411 *'Stap 1 - Jouw gegevens'!$C$18 * ($W$10/B411))), \"\")","v":""},"",{"$f":"IF(AND(L411 = \"\", NOT(J411=\"\")),IF(C411< $W$10, 'Stap 1 - Jouw gegevens'!$C$22 *J411*G411 *C411/B411,  'Stap 1 - Jouw gegevens'!$C$22 * J411*G411 *$W$10/B411), \"\")","v":""},"",null,"","","","","",""]
[null,null,null,null,null,null,null,"",{"$f":"IF(AND(L412 = \"\", NOT(H412=\"\")),IF(C412< $W$10, (H412 *G412 * (C412/B412) * 'Stap 1 - Jouw gegevens'!$C$18), (H412 *G412 *'Stap 1 - Jouw gegevens'!$C$18 * ($W$10/B412))), \"\")","v":""},"",{"$f":"IF(AND(L412 = \"\", NOT(J412=\"\")),IF(C412< $W$10, 'Stap 1 - Jouw gegevens'!$C$22 *J412*G412 *C412/B412,  'Stap 1 - Jouw gegevens'!$C$22 * J412*G412 *$W$10/B412), \"\")","v":""},"",null,"","","","","",""]
[null,null,null,null,null,null,null,"",{"$f":"IF(AND(L413 = \"\", NOT(H413=\"\")),IF(C413< $W$10, (H413 *G413 * (C413/B413) * 'Stap 1 - Jouw gegevens'!$C$18), (H413 *G413 *'Stap 1 - Jouw gegevens'!$C$18 * ($W$10/B413))), \"\")","v":""},"",{"$f":"IF(AND(L413 = \"\", NOT(J413=\"\")),IF(C413< $W$10, 'Stap 1 - Jouw gegevens'!$C$22 *J413*G413 *C413/B413,  'Stap 1 - Jouw gegevens'!$C$22 * J413*G413 *$W$10/B413), \"\")","v":""},"",null,"","","","","",""]
[null,null,null,null,null,null,null,"",{"$f":"IF(AND(L414 = \"\", NOT(H414=\"\")),IF(C414< $W$10, (H414 *G414 * (C414/B414) * 'Stap 1 - Jouw gegevens'!$C$18), (H414 *G414 *'Stap 1 - Jouw gegevens'!$C$18 * ($W$10/B414))), \"\")","v":""},"",{"$f":"IF(AND(L414 = \"\", NOT(J414=\"\")),IF(C414< $W$10, 'Stap 1 - Jouw gegevens'!$C$22 *J414*G414 *C414/B414,  'Stap 1 - Jouw gegevens'!$C$22 * J414*G414 *$W$10/B414), \"\")","v":""},"",null,"","","","","",""]
[null,null,null,null,null,null,null,"",{"$f":"IF(AND(L415 = \"\", NOT(H415=\"\")),IF(C415< $W$10, (H415 *G415 * (C415/B415) * 'Stap 1 - Jouw gegevens'!$C$18), (H415 *G415 *'Stap 1 - Jouw gegevens'!$C$18 * ($W$10/B415))), \"\")","v":""},"",{"$f":"IF(AND(L415 = \"\", NOT(J415=\"\")),IF(C415< $W$10, 'Stap 1 - Jouw gegevens'!$C$22 *J415*G415 *C415/B415,  'Stap 1 - Jouw gegevens'!$C$22 * J415*G415 *$W$10/B415), \"\")","v":""},"",null,"","","","","",""]
[null,null,null,null,null,null,null,"",{"$f":"IF(AND(L416 = \"\", NOT(H416=\"\")),IF(C416< $W$10, (H416 *G416 * (C416/B416) * 'Stap 1 - Jouw gegevens'!$C$18), (H416 *G416 *'Stap 1 - Jouw gegevens'!$C$18 * ($W$10/B416))), \"\")","v":""},"",{"$f":"IF(AND(L416 = \"\", NOT(J416=\"\")),IF(C416< $W$10, 'Stap 1 - Jouw gegevens'!$C$22 *J416*G416 *C416/B416,  'Stap 1 - Jouw gegevens'!$C$22 * J416*G416 *$W$10/B416), \"\")","v":""},"",null,"","","","","",""]
[null,null,null,null,null,null,null,"",{"$f":"IF(AND(L417 = \"\", NOT(H417=\"\")),IF(C417< $W$10, (H417 *G417 * (C417/B417) * 'Stap 1 - Jouw gegevens'!$C$18), (H417 *G417 *'Stap 1 - Jouw gegevens'!$C$18 * ($W$10/B417))), \"\")","v":""},"",{"$f":"IF(AND(L417 = \"\", NOT(J417=\"\")),IF(C417< $W$10, 'Stap 1 - Jouw gegevens'!$C$22 *J417*G417 *C417/B417,  'Stap 1 - Jouw gegevens'!$C$22 * J417*G417 *$W$10/B417), \"\")","v":""},"",null,"","","","","",""]
[null,null,null,null,null,null,null,"",{"$f":"IF(AND(L418 = \"\", NOT(H418=\"\")),IF(C418< $W$10, (H418 *G418 * (C418/B418) * 'Stap 1 - Jouw gegevens'!$C$18), (H418 *G418 *'Stap 1 - Jouw gegevens'!$C$18 * ($W$10/B418))), \"\")","v":""},"",{"$f":"IF(AND(L418 = \"\", NOT(J418=\"\")),IF(C418< $W$10, 'Stap 1 - Jouw gegevens'!$C$22 *J418*G418 *C418/B418,  'Stap 1 - Jouw gegevens'!$C$22 * J418*G418 *$W$10/B418), \"\")","v":""},"",null,"","","","","",""]
[null,null,null,null,null,null,null,"",{"$f":"IF(AND(L419 = \"\", NOT(H419=\"\")),IF(C419< $W$10, (H419 *G419 * (C419/B419) * 'Stap 1 - Jouw gegevens'!$C$18), (H419 *G419 *'Stap 1 - Jouw gegevens'!$C$18 * ($W$10/B419))), \"\")","v":""},"",{"$f":"IF(AND(L419 = \"\", NOT(J419=\"\")),IF(C419< $W$10, 'Stap 1 - Jouw gegevens'!$C$22 *J419*G419 *C419/B419,  'Stap 1 - Jouw gegevens'!$C$22 * J419*G419 *$W$10/B419), \"\")","v":""},"",null,"","","","","",""]
[null,null,null,null,null,null,null,"",{"$f":"IF(AND(L420 = \"\", NOT(H420=\"\")),IF(C420< $W$10, (H420 *G420 * (C420/B420) * 'Stap 1 - Jouw gegevens'!$C$18), (H420 *G420 *'Stap 1 - Jouw gegevens'!$C$18 * ($W$10/B420))), \"\")","v":""},"",{"$f":"IF(AND(L420 = \"\", NOT(J420=\"\")),IF(C420< $W$10, 'Stap 1 - Jouw gegevens'!$C$22 *J420*G420 *C420/B420,  'Stap 1 - Jouw gegevens'!$C$22 * J420*G420 *$W$10/B420), \"\")","v":""},"",null,"","","","","",""]
[null,null,null,null,null,null,null,"",{"$f":"IF(AND(L421 = \"\", NOT(H421=\"\")),IF(C421< $W$10, (H421 *G421 * (C421/B421) * 'Stap 1 - Jouw gegevens'!$C$18), (H421 *G421 *'Stap 1 - Jouw gegevens'!$C$18 * ($W$10/B421))), \"\")","v":""},"",{"$f":"IF(AND(L421 = \"\", NOT(J421=\"\")),IF(C421< $W$10, 'Stap 1 - Jouw gegevens'!$C$22 *J421*G421 *C421/B421,  'Stap 1 - Jouw gegevens'!$C$22 * J421*G421 *$W$10/B421), \"\")","v":""},"",null,"","","","","",""]
[null,null,null,null,null,null,null,"",{"$f":"IF(AND(L422 = \"\", NOT(H422=\"\")),IF(C422< $W$10, (H422 *G422 * (C422/B422) * 'Stap 1 - Jouw gegevens'!$C$18), (H422 *G422 *'Stap 1 - Jouw gegevens'!$C$18 * ($W$10/B422))), \"\")","v":""},"",{"$f":"IF(AND(L422 = \"\", NOT(J422=\"\")),IF(C422< $W$10, 'Stap 1 - Jouw gegevens'!$C$22 *J422*G422 *C422/B422,  'Stap 1 - Jouw gegevens'!$C$22 * J422*G422 *$W$10/B422), \"\")","v":""},"",null,"","","","","",""]
[null,null,null,null,null,null,null,"",{"$f":"IF(AND(L423 = \"\", NOT(H423=\"\")),IF(C423< $W$10, (H423 *G423 * (C423/B423) * 'Stap 1 - Jouw gegevens'!$C$18), (H423 *G423 *'Stap 1 - Jouw gegevens'!$C$18 * ($W$10/B423))), \"\")","v":""},"",{"$f":"IF(AND(L423 = \"\", NOT(J423=\"\")),IF(C423< $W$10, 'Stap 1 - Jouw gegevens'!$C$22 *J423*G423 *C423/B423,  'Stap 1 - Jouw gegevens'!$C$22 * J423*G423 *$W$10/B423), \"\")","v":""},"",null,"","","","","",""]
[null,null,null,null,null,null,null,"",{"$f":"IF(AND(L424 = \"\", NOT(H424=\"\")),IF(C424< $W$10, (H424 *G424 * (C424/B424) * 'Stap 1 - Jouw gegevens'!$C$18), (H424 *G424 *'Stap 1 - Jouw gegevens'!$C$18 * ($W$10/B424))), \"\")","v":""},"",{"$f":"IF(AND(L424 = \"\", NOT(J424=\"\")),IF(C424< $W$10, 'Stap 1 - Jouw gegevens'!$C$22 *J424*G424 *C424/B424,  'Stap 1 - Jouw gegevens'!$C$22 * J424*G424 *$W$10/B424), \"\")","v":""},"",null,"","","","","",""]
[null,null,null,null,null,null,null,"",{"$f":"IF(AND(L425 = \"\", NOT(H425=\"\")),IF(C425< $W$10, (H425 *G425 * (C425/B425) * 'Stap 1 - Jouw gegevens'!$C$18), (H425 *G425 *'Stap 1 - Jouw gegevens'!$C$18 * ($W$10/B425))), \"\")","v":""},"",{"$f":"IF(AND(L425 = \"\", NOT(J425=\"\")),IF(C425< $W$10, 'Stap 1 - Jouw gegevens'!$C$22 *J425*G425 *C425/B425,  'Stap 1 - Jouw gegevens'!$C$22 * J425*G425 *$W$10/B425), \"\")","v":""},"",null,"","","","","",""]
[null,null,null,null,null,null,null,"",{"$f":"IF(AND(L426 = \"\", NOT(H426=\"\")),IF(C426< $W$10, (H426 *G426 * (C426/B426) * 'Stap 1 - Jouw gegevens'!$C$18), (H426 *G426 *'Stap 1 - Jouw gegevens'!$C$18 * ($W$10/B426))), \"\")","v":""},"",{"$f":"IF(AND(L426 = \"\", NOT(J426=\"\")),IF(C426< $W$10, 'Stap 1 - Jouw gegevens'!$C$22 *J426*G426 *C426/B426,  'Stap 1 - Jouw gegevens'!$C$22 * J426*G426 *$W$10/B426), \"\")","v":""},"",null,"","","","","",""]
[null,null,null,null,null,null,null,"",{"$f":"IF(AND(L427 = \"\", NOT(H427=\"\")),IF(C427< $W$10, (H427 *G427 * (C427/B427) * 'Stap 1 - Jouw gegevens'!$C$18), (H427 *G427 *'Stap 1 - Jouw gegevens'!$C$18 * ($W$10/B427))), \"\")","v":""},"",{"$f":"IF(AND(L427 = \"\", NOT(J427=\"\")),IF(C427< $W$10, 'Stap 1 - Jouw gegevens'!$C$22 *J427*G427 *C427/B427,  'Stap 1 - Jouw gegevens'!$C$22 * J427*G427 *$W$10/B427), \"\")","v":""},"",null,"","","","","",""]
[null,null,null,null,null,null,null,"",{"$f":"IF(AND(L428 = \"\", NOT(H428=\"\")),IF(C428< $W$10, (H428 *G428 * (C428/B428) * 'Stap 1 - Jouw gegevens'!$C$18), (H428 *G428 *'Stap 1 - Jouw gegevens'!$C$18 * ($W$10/B428))), \"\")","v":""},"",{"$f":"IF(AND(L428 = \"\", NOT(J428=\"\")),IF(C428< $W$10, 'Stap 1 - Jouw gegevens'!$C$22 *J428*G428 *C428/B428,  'Stap 1 - Jouw gegevens'!$C$22 * J428*G428 *$W$10/B428), \"\")","v":""},"",null,"","","","","",""]
[null,null,null,null,null,null,null,"",{"$f":"IF(AND(L429 = \"\", NOT(H429=\"\")),IF(C429< $W$10, (H429 *G429 * (C429/B429) * 'Stap 1 - Jouw gegevens'!$C$18), (H429 *G429 *'Stap 1 - Jouw gegevens'!$C$18 * ($W$10/B429))), \"\")","v":""},"",{"$f":"IF(AND(L429 = \"\", NOT(J429=\"\")),IF(C429< $W$10, 'Stap 1 - Jouw gegevens'!$C$22 *J429*G429 *C429/B429,  'Stap 1 - Jouw gegevens'!$C$22 * J429*G429 *$W$10/B429), \"\")","v":""},"",null,"","","","","",""]
[null,null,null,null,null,null,null,"",{"$f":"IF(AND(L430 = \"\", NOT(H430=\"\")),IF(C430< $W$10, (H430 *G430 * (C430/B430) * 'Stap 1 - Jouw gegevens'!$C$18), (H430 *G430 *'Stap 1 - Jouw gegevens'!$C$18 * ($W$10/B430))), \"\")","v":""},"",{"$f":"IF(AND(L430 = \"\", NOT(J430=\"\")),IF(C430< $W$10, 'Stap 1 - Jouw gegevens'!$C$22 *J430*G430 *C430/B430,  'Stap 1 - Jouw gegevens'!$C$22 * J430*G430 *$W$10/B430), \"\")","v":""},"",null,"","","","","",""]
[null,null,null,null,null,null,null,"",{"$f":"IF(AND(L431 = \"\", NOT(H431=\"\")),IF(C431< $W$10, (H431 *G431 * (C431/B431) * 'Stap 1 - Jouw gegevens'!$C$18), (H431 *G431 *'Stap 1 - Jouw gegevens'!$C$18 * ($W$10/B431))), \"\")","v":""},"",{"$f":"IF(AND(L431 = \"\", NOT(J431=\"\")),IF(C431< $W$10, 'Stap 1 - Jouw gegevens'!$C$22 *J431*G431 *C431/B431,  'Stap 1 - Jouw gegevens'!$C$22 * J431*G431 *$W$10/B431), \"\")","v":""},"",null,"","","","","",""]
[null,null,null,null,null,null,null,"",{"$f":"IF(AND(L432 = \"\", NOT(H432=\"\")),IF(C432< $W$10, (H432 *G432 * (C432/B432) * 'Stap 1 - Jouw gegevens'!$C$18), (H432 *G432 *'Stap 1 - Jouw gegevens'!$C$18 * ($W$10/B432))), \"\")","v":""},"",{"$f":"IF(AND(L432 = \"\", NOT(J432=\"\")),IF(C432< $W$10, 'Stap 1 - Jouw gegevens'!$C$22 *J432*G432 *C432/B432,  'Stap 1 - Jouw gegevens'!$C$22 * J432*G432 *$W$10/B432), \"\")","v":""},"",null,"","","","","",""]
[null,null,null,null,null,null,null,"",{"$f":"IF(AND(L433 = \"\", NOT(H433=\"\")),IF(C433< $W$10, (H433 *G433 * (C433/B433) * 'Stap 1 - Jouw gegevens'!$C$18), (H433 *G433 *'Stap 1 - Jouw gegevens'!$C$18 * ($W$10/B433))), \"\")","v":""},"",{"$f":"IF(AND(L433 = \"\", NOT(J433=\"\")),IF(C433< $W$10, 'Stap 1 - Jouw gegevens'!$C$22 *J433*G433 *C433/B433,  'Stap 1 - Jouw gegevens'!$C$22 * J433*G433 *$W$10/B433), \"\")","v":""},"",null,"","","","","",""]
[null,null,null,null,null,null,null,"",{"$f":"IF(AND(L434 = \"\", NOT(H434=\"\")),IF(C434< $W$10, (H434 *G434 * (C434/B434) * 'Stap 1 - Jouw gegevens'!$C$18), (H434 *G434 *'Stap 1 - Jouw gegevens'!$C$18 * ($W$10/B434))), \"\")","v":""},"",{"$f":"IF(AND(L434 = \"\", NOT(J434=\"\")),IF(C434< $W$10, 'Stap 1 - Jouw gegevens'!$C$22 *J434*G434 *C434/B434,  'Stap 1 - Jouw gegevens'!$C$22 * J434*G434 *$W$10/B434), \"\")","v":""},"",null,"","","","","",""]
[null,null,null,null,null,null,null,"",{"$f":"IF(AND(L435 = \"\", NOT(H435=\"\")),IF(C435< $W$10, (H435 *G435 * (C435/B435) * 'Stap 1 - Jouw gegevens'!$C$18), (H435 *G435 *'Stap 1 - Jouw gegevens'!$C$18 * ($W$10/B435))), \"\")","v":""},"",{"$f":"IF(AND(L435 = \"\", NOT(J435=\"\")),IF(C435< $W$10, 'Stap 1 - Jouw gegevens'!$C$22 *J435*G435 *C435/B435,  'Stap 1 - Jouw gegevens'!$C$22 * J435*G435 *$W$10/B435), \"\")","v":""},"",null,"","","","","",""]
[null,null,null,null,null,null,null,"",{"$f":"IF(AND(L436 = \"\", NOT(H436=\"\")),IF(C436< $W$10, (H436 *G436 * (C436/B436) * 'Stap 1 - Jouw gegevens'!$C$18), (H436 *G436 *'Stap 1 - Jouw gegevens'!$C$18 * ($W$10/B436))), \"\")","v":""},"",{"$f":"IF(AND(L436 = \"\", NOT(J436=\"\")),IF(C436< $W$10, 'Stap 1 - Jouw gegevens'!$C$22 *J436*G436 *C436/B436,  'Stap 1 - Jouw gegevens'!$C$22 * J436*G436 *$W$10/B436), \"\")","v":""},"",null,"","","","","",""]
[null,null,null,null,null,null,null,"",{"$f":"IF(AND(L437 = \"\", NOT(H437=\"\")),IF(C437< $W$10, (H437 *G437 * (C437/B437) * 'Stap 1 - Jouw gegevens'!$C$18), (H437 *G437 *'Stap 1 - Jouw gegevens'!$C$18 * ($W$10/B437))), \"\")","v":""},"",{"$f":"IF(AND(L437 = \"\", NOT(J437=\"\")),IF(C437< $W$10, 'Stap 1 - Jouw gegevens'!$C$22 *J437*G437 *C437/B437,  'Stap 1 - Jouw gegevens'!$C$22 * J437*G437 *$W$10/B437), \"\")","v":""},"",null,"","","","","",""]
[null,null,null,null,null,null,null,"",{"$f":"IF(AND(L438 = \"\", NOT(H438=\"\")),IF(C438< $W$10, (H438 *G438 * (C438/B438) * 'Stap 1 - Jouw gegevens'!$C$18), (H438 *G438 *'Stap 1 - Jouw gegevens'!$C$18 * ($W$10/B438))), \"\")","v":""},"",{"$f":"IF(AND(L438 = \"\", NOT(J438=\"\")),IF(C438< $W$10, 'Stap 1 - Jouw gegevens'!$C$22 *J438*G438 *C438/B438,  'Stap 1 - Jouw gegevens'!$C$22 * J438*G438 *$W$10/B438), \"\")","v":""},"",null,"","","","","",""]
[null,null,null,null,null,null,null,"",{"$f":"IF(AND(L439 = \"\", NOT(H439=\"\")),IF(C439< $W$10, (H439 *G439 * (C439/B439) * 'Stap 1 - Jouw gegevens'!$C$18), (H439 *G439 *'Stap 1 - Jouw gegevens'!$C$18 * ($W$10/B439))), \"\")","v":""},"",{"$f":"IF(AND(L439 = \"\", NOT(J439=\"\")),IF(C439< $W$10, 'Stap 1 - Jouw gegevens'!$C$22 *J439*G439 *C439/B439,  'Stap 1 - Jouw gegevens'!$C$22 * J439*G439 *$W$10/B439), \"\")","v":""},"",null,"","","","","",""]
[null,null,null,null,null,null,null,"",{"$f":"IF(AND(L440 = \"\", NOT(H440=\"\")),IF(C440< $W$10, (H440 *G440 * (C440/B440) * 'Stap 1 - Jouw gegevens'!$C$18), (H440 *G440 *'Stap 1 - Jouw gegevens'!$C$18 * ($W$10/B440))), \"\")","v":""},"",{"$f":"IF(AND(L440 = \"\", NOT(J440=\"\")),IF(C440< $W$10, 'Stap 1 - Jouw gegevens'!$C$22 *J440*G440 *C440/B440,  'Stap 1 - Jouw gegevens'!$C$22 * J440*G440 *$W$10/B440), \"\")","v":""},"",null,"","","","","",""]
[null,null,null,null,null,null,null,"",{"$f":"IF(AND(L441 = \"\", NOT(H441=\"\")),IF(C441< $W$10, (H441 *G441 * (C441/B441) * 'Stap 1 - Jouw gegevens'!$C$18), (H441 *G441 *'Stap 1 - Jouw gegevens'!$C$18 * ($W$10/B441))), \"\")","v":""},"",{"$f":"IF(AND(L441 = \"\", NOT(J441=\"\")),IF(C441< $W$10, 'Stap 1 - Jouw gegevens'!$C$22 *J441*G441 *C441/B441,  'Stap 1 - Jouw gegevens'!$C$22 * J441*G441 *$W$10/B441), \"\")","v":""},"",null,"","","","","",""]
[null,null,null,null,null,null,null,"",{"$f":"IF(AND(L442 = \"\", NOT(H442=\"\")),IF(C442< $W$10, (H442 *G442 * (C442/B442) * 'Stap 1 - Jouw gegevens'!$C$18), (H442 *G442 *'Stap 1 - Jouw gegevens'!$C$18 * ($W$10/B442))), \"\")","v":""},"",{"$f":"IF(AND(L442 = \"\", NOT(J442=\"\")),IF(C442< $W$10, 'Stap 1 - Jouw gegevens'!$C$22 *J442*G442 *C442/B442,  'Stap 1 - Jouw gegevens'!$C$22 * J442*G442 *$W$10/B442), \"\")","v":""},"",null,"","","","","",""]
[null,null,null,null,null,null,null,"",{"$f":"IF(AND(L443 = \"\", NOT(H443=\"\")),IF(C443< $W$10, (H443 *G443 * (C443/B443) * 'Stap 1 - Jouw gegevens'!$C$18), (H443 *G443 *'Stap 1 - Jouw gegevens'!$C$18 * ($W$10/B443))), \"\")","v":""},"",{"$f":"IF(AND(L443 = \"\", NOT(J443=\"\")),IF(C443< $W$10, 'Stap 1 - Jouw gegevens'!$C$22 *J443*G443 *C443/B443,  'Stap 1 - Jouw gegevens'!$C$22 * J443*G443 *$W$10/B443), \"\")","v":""},"",null,"","","","","",""]
[null,null,null,null,null,null,null,"",{"$f":"IF(AND(L444 = \"\", NOT(H444=\"\")),IF(C444< $W$10, (H444 *G444 * (C444/B444) * 'Stap 1 - Jouw gegevens'!$C$18), (H444 *G444 *'Stap 1 - Jouw gegevens'!$C$18 * ($W$10/B444))), \"\")","v":""},"",{"$f":"IF(AND(L444 = \"\", NOT(J444=\"\")),IF(C444< $W$10, 'Stap 1 - Jouw gegevens'!$C$22 *J444*G444 *C444/B444,  'Stap 1 - Jouw gegevens'!$C$22 * J444*G444 *$W$10/B444), \"\")","v":""},"",null,"","","","","",""]
[null,null,null,null,null,null,null,"",{"$f":"IF(AND(L445 = \"\", NOT(H445=\"\")),IF(C445< $W$10, (H445 *G445 * (C445/B445) * 'Stap 1 - Jouw gegevens'!$C$18), (H445 *G445 *'Stap 1 - Jouw gegevens'!$C$18 * ($W$10/B445))), \"\")","v":""},"",{"$f":"IF(AND(L445 = \"\", NOT(J445=\"\")),IF(C445< $W$10, 'Stap 1 - Jouw gegevens'!$C$22 *J445*G445 *C445/B445,  'Stap 1 - Jouw gegevens'!$C$22 * J445*G445 *$W$10/B445), \"\")","v":""},"",null,"","","","","",""]
[null,null,null,null,null,null,null,"",{"$f":"IF(AND(L446 = \"\", NOT(H446=\"\")),IF(C446< $W$10, (H446 *G446 * (C446/B446) * 'Stap 1 - Jouw gegevens'!$C$18), (H446 *G446 *'Stap 1 - Jouw gegevens'!$C$18 * ($W$10/B446))), \"\")","v":""},"",{"$f":"IF(AND(L446 = \"\", NOT(J446=\"\")),IF(C446< $W$10, 'Stap 1 - Jouw gegevens'!$C$22 *J446*G446 *C446/B446,  'Stap 1 - Jouw gegevens'!$C$22 * J446*G446 *$W$10/B446), \"\")","v":""},"",null,"","","","","",""]
[null,null,null,null,null,null,null,"",{"$f":"IF(AND(L447 = \"\", NOT(H447=\"\")),IF(C447< $W$10, (H447 *G447 * (C447/B447) * 'Stap 1 - Jouw gegevens'!$C$18), (H447 *G447 *'Stap 1 - Jouw gegevens'!$C$18 * ($W$10/B447))), \"\")","v":""},"",{"$f":"IF(AND(L447 = \"\", NOT(J447=\"\")),IF(C447< $W$10, 'Stap 1 - Jouw gegevens'!$C$22 *J447*G447 *C447/B447,  'Stap 1 - Jouw gegevens'!$C$22 * J447*G447 *$W$10/B447), \"\")","v":""},"",null,"","","","","",""]
[null,null,null,null,null,null,null,"",{"$f":"IF(AND(L448 = \"\", NOT(H448=\"\")),IF(C448< $W$10, (H448 *G448 * (C448/B448) * 'Stap 1 - Jouw gegevens'!$C$18), (H448 *G448 *'Stap 1 - Jouw gegevens'!$C$18 * ($W$10/B448))), \"\")","v":""},"",{"$f":"IF(AND(L448 = \"\", NOT(J448=\"\")),IF(C448< $W$10, 'Stap 1 - Jouw gegevens'!$C$22 *J448*G448 *C448/B448,  'Stap 1 - Jouw gegevens'!$C$22 * J448*G448 *$W$10/B448), \"\")","v":""},"",null,"","","","","",""]
[null,null,null,null,null,null,null,"",{"$f":"IF(AND(L449 = \"\", NOT(H449=\"\")),IF(C449< $W$10, (H449 *G449 * (C449/B449) * 'Stap 1 - Jouw gegevens'!$C$18), (H449 *G449 *'Stap 1 - Jouw gegevens'!$C$18 * ($W$10/B449))), \"\")","v":""},"",{"$f":"IF(AND(L449 = \"\", NOT(J449=\"\")),IF(C449< $W$10, 'Stap 1 - Jouw gegevens'!$C$22 *J449*G449 *C449/B449,  'Stap 1 - Jouw gegevens'!$C$22 * J449*G449 *$W$10/B449), \"\")","v":""},"",null,"","","","","",""]
[null,null,null,null,null,null,null,"",{"$f":"IF(AND(L450 = \"\", NOT(H450=\"\")),IF(C450< $W$10, (H450 *G450 * (C450/B450) * 'Stap 1 - Jouw gegevens'!$C$18), (H450 *G450 *'Stap 1 - Jouw gegevens'!$C$18 * ($W$10/B450))), \"\")","v":""},"",{"$f":"IF(AND(L450 = \"\", NOT(J450=\"\")),IF(C450< $W$10, 'Stap 1 - Jouw gegevens'!$C$22 *J450*G450 *C450/B450,  'Stap 1 - Jouw gegevens'!$C$22 * J450*G450 *$W$10/B450), \"\")","v":""},"",null,"","","","","",""]
[null,null,null,null,null,null,null,"",{"$f":"IF(AND(L451 = \"\", NOT(H451=\"\")),IF(C451< $W$10, (H451 *G451 * (C451/B451) * 'Stap 1 - Jouw gegevens'!$C$18), (H451 *G451 *'Stap 1 - Jouw gegevens'!$C$18 * ($W$10/B451))), \"\")","v":""},"",{"$f":"IF(AND(L451 = \"\", NOT(J451=\"\")),IF(C451< $W$10, 'Stap 1 - Jouw gegevens'!$C$22 *J451*G451 *C451/B451,  'Stap 1 - Jouw gegevens'!$C$22 * J451*G451 *$W$10/B451), \"\")","v":""},"",null,"","","","","",""]
[null,null,null,null,null,null,null,"",{"$f":"IF(AND(L452 = \"\", NOT(H452=\"\")),IF(C452< $W$10, (H452 *G452 * (C452/B452) * 'Stap 1 - Jouw gegevens'!$C$18), (H452 *G452 *'Stap 1 - Jouw gegevens'!$C$18 * ($W$10/B452))), \"\")","v":""},"",{"$f":"IF(AND(L452 = \"\", NOT(J452=\"\")),IF(C452< $W$10, 'Stap 1 - Jouw gegevens'!$C$22 *J452*G452 *C452/B452,  'Stap 1 - Jouw gegevens'!$C$22 * J452*G452 *$W$10/B452), \"\")","v":""},"",null,"","","","","",""]
[null,null,null,null,null,null,null,"",{"$f":"IF(AND(L453 = \"\", NOT(H453=\"\")),IF(C453< $W$10, (H453 *G453 * (C453/B453) * 'Stap 1 - Jouw gegevens'!$C$18), (H453 *G453 *'Stap 1 - Jouw gegevens'!$C$18 * ($W$10/B453))), \"\")","v":""},"",{"$f":"IF(AND(L453 = \"\", NOT(J453=\"\")),IF(C453< $W$10, 'Stap 1 - Jouw gegevens'!$C$22 *J453*G453 *C453/B453,  'Stap 1 - Jouw gegevens'!$C$22 * J453*G453 *$W$10/B453), \"\")","v":""},"",null,"","","","","",""]
[null,null,null,null,null,null,null,"",{"$f":"IF(AND(L454 = \"\", NOT(H454=\"\")),IF(C454< $W$10, (H454 *G454 * (C454/B454) * 'Stap 1 - Jouw gegevens'!$C$18), (H454 *G454 *'Stap 1 - Jouw gegevens'!$C$18 * ($W$10/B454))), \"\")","v":""},"",{"$f":"IF(AND(L454 = \"\", NOT(J454=\"\")),IF(C454< $W$10, 'Stap 1 - Jouw gegevens'!$C$22 *J454*G454 *C454/B454,  'Stap 1 - Jouw gegevens'!$C$22 * J454*G454 *$W$10/B454), \"\")","v":""},"",null,"","","","","",""]
[null,null,null,null,null,null,null,"",{"$f":"IF(AND(L455 = \"\", NOT(H455=\"\")),IF(C455< $W$10, (H455 *G455 * (C455/B455) * 'Stap 1 - Jouw gegevens'!$C$18), (H455 *G455 *'Stap 1 - Jouw gegevens'!$C$18 * ($W$10/B455))), \"\")","v":""},"",{"$f":"IF(AND(L455 = \"\", NOT(J455=\"\")),IF(C455< $W$10, 'Stap 1 - Jouw gegevens'!$C$22 *J455*G455 *C455/B455,  'Stap 1 - Jouw gegevens'!$C$22 * J455*G455 *$W$10/B455), \"\")","v":""},"",null,"","","","","",""]
[null,null,null,null,null,null,null,{"$f":"P456","v":""},{"$f":"IF(AND(L456 = \"\", NOT(H456=\"\")),IF(C456< $W$10, (H456 *G456 * (C456/B456) * 'Stap 1 - Jouw gegevens'!$C$18), (H456 *G456 *'Stap 1 - Jouw gegevens'!$C$18 * ($W$10/B456))), \"\")","v":""},{"$f":"S456","v":""},{"$f":"IF(AND(L456 = \"\", NOT(J456=\"\")),IF(C456< $W$10, 'Stap 1 - Jouw gegevens'!$C$22 *J456*G456 *C456/B456,  'Stap 1 - Jouw gegevens'!$C$22 * J456*G456 *$W$10/B456), \"\")","v":""},{"$f":"IF(ISBLANK(A456), \"\", CONCATENATE(IF(Z456 = \"X\", $AH$5, \"\"), IF( AB456 = \"X\", $AH$7, \"\"), IF( AC456 = \"X\", $AH$8, \"\"), IF( AD456 = \"X\", $AH$9, \"\"), IF( AE456 = \"X\", $AH$10, \"\"),  IF( AF456 = \"X\", $AH$11, \"\")))","v":""},null,{"$f":"IF(ISBLANK(D456),\"\",NETWORKDAYS(D456,F456))","v":""},{"$f":"IFERROR( IF(N456>$Y$5,NETWORKDAYS(E456, (Q456 - 1)), NETWORKDAYS(E456,(F456-1))), \"\")","v":""},{"$f":"IF(O456<= 0, \"\", O456)","v":""},{"$f":"IF(ISBLANK(D456),\"\",DATE(YEAR(D456)+1,MONTH(D456),DAY(D456)))","v":""},{"$f":"IFERROR(IF(N456 > $Y$5, IF(E456>=Q456,NETWORKDAYS(E456, (F456-1)), NETWORKDAYS(Q456, (F456-1))), \"\"), \"\")","v":""},{"$f":"IF(R456=\"\", \"\",  IF(R456 >= $Y$5, $Y$5,  R456))","v":""}]
[null,null,null,null,null,null,null,"",{"$f":"IF(AND(L457 = \"\", NOT(H457=\"\")),IF(C457< $W$10, (H457 *G457 * (C457/B457) * 'Stap 1 - Jouw gegevens'!$C$18), (H457 *G457 *'Stap 1 - Jouw gegevens'!$C$18 * ($W$10/B457))), \"\")","v":""},"",{"$f":"IF(AND(L457 = \"\", NOT(J457=\"\")),IF(C457< $W$10, 'Stap 1 - Jouw gegevens'!$C$22 *J457*G457 *C457/B457,  'Stap 1 - Jouw gegevens'!$C$22 * J457*G457 *$W$10/B457), \"\")","v":""},"",null,"","","","","",""]
[null,null,null,null,null,null,null,"",{"$f":"IF(AND(L458 = \"\", NOT(H458=\"\")),IF(C458< $W$10, (H458 *G458 * (C458/B458) * 'Stap 1 - Jouw gegevens'!$C$18), (H458 *G458 *'Stap 1 - Jouw gegevens'!$C$18 * ($W$10/B458))), \"\")","v":""},"",{"$f":"IF(AND(L458 = \"\", NOT(J458=\"\")),IF(C458< $W$10, 'Stap 1 - Jouw gegevens'!$C$22 *J458*G458 *C458/B458,  'Stap 1 - Jouw gegevens'!$C$22 * J458*G458 *$W$10/B458), \"\")","v":""},"",null,"","","","","",""]
[null,null,null,null,null,null,null,"",{"$f":"IF(AND(L459 = \"\", NOT(H459=\"\")),IF(C459< $W$10, (H459 *G459 * (C459/B459) * 'Stap 1 - Jouw gegevens'!$C$18), (H459 *G459 *'Stap 1 - Jouw gegevens'!$C$18 * ($W$10/B459))), \"\")","v":""},"",{"$f":"IF(AND(L459 = \"\", NOT(J459=\"\")),IF(C459< $W$10, 'Stap 1 - Jouw gegevens'!$C$22 *J459*G459 *C459/B459,  'Stap 1 - Jouw gegevens'!$C$22 * J459*G459 *$W$10/B459), \"\")","v":""},"",null,"","","","","",""]
[null,null,null,null,null,null,null,"",{"$f":"IF(AND(L460 = \"\", NOT(H460=\"\")),IF(C460< $W$10, (H460 *G460 * (C460/B460) * 'Stap 1 - Jouw gegevens'!$C$18), (H460 *G460 *'Stap 1 - Jouw gegevens'!$C$18 * ($W$10/B460))), \"\")","v":""},"",{"$f":"IF(AND(L460 = \"\", NOT(J460=\"\")),IF(C460< $W$10, 'Stap 1 - Jouw gegevens'!$C$22 *J460*G460 *C460/B460,  'Stap 1 - Jouw gegevens'!$C$22 * J460*G460 *$W$10/B460), \"\")","v":""},"",null,"","","","","",""]
[null,null,null,null,null,null,null,"",{"$f":"IF(AND(L461 = \"\", NOT(H461=\"\")),IF(C461< $W$10, (H461 *G461 * (C461/B461) * 'Stap 1 - Jouw gegevens'!$C$18), (H461 *G461 *'Stap 1 - Jouw gegevens'!$C$18 * ($W$10/B461))), \"\")","v":""},"",{"$f":"IF(AND(L461 = \"\", NOT(J461=\"\")),IF(C461< $W$10, 'Stap 1 - Jouw gegevens'!$C$22 *J461*G461 *C461/B461,  'Stap 1 - Jouw gegevens'!$C$22 * J461*G461 *$W$10/B461), \"\")","v":""},"",null,"","","","","",""]
[null,null,null,null,null,null,null,"",{"$f":"IF(AND(L462 = \"\", NOT(H462=\"\")),IF(C462< $W$10, (H462 *G462 * (C462/B462) * 'Stap 1 - Jouw gegevens'!$C$18), (H462 *G462 *'Stap 1 - Jouw gegevens'!$C$18 * ($W$10/B462))), \"\")","v":""},"",{"$f":"IF(AND(L462 = \"\", NOT(J462=\"\")),IF(C462< $W$10, 'Stap 1 - Jouw gegevens'!$C$22 *J462*G462 *C462/B462,  'Stap 1 - Jouw gegevens'!$C$22 * J462*G462 *$W$10/B462), \"\")","v":""},"",null,"","","","","",""]
[null,null,null,null,null,null,null,"",{"$f":"IF(AND(L463 = \"\", NOT(H463=\"\")),IF(C463< $W$10, (H463 *G463 * (C463/B463) * 'Stap 1 - Jouw gegevens'!$C$18), (H463 *G463 *'Stap 1 - Jouw gegevens'!$C$18 * ($W$10/B463))), \"\")","v":""},"",{"$f":"IF(AND(L463 = \"\", NOT(J463=\"\")),IF(C463< $W$10, 'Stap 1 - Jouw gegevens'!$C$22 *J463*G463 *C463/B463,  'Stap 1 - Jouw gegevens'!$C$22 * J463*G463 *$W$10/B463), \"\")","v":""},"",null,"","","","","",""]
[null,null,null,null,null,null,null,"",{"$f":"IF(AND(L464 = \"\", NOT(H464=\"\")),IF(C464< $W$10, (H464 *G464 * (C464/B464) * 'Stap 1 - Jouw gegevens'!$C$18), (H464 *G464 *'Stap 1 - Jouw gegevens'!$C$18 * ($W$10/B464))), \"\")","v":""},"",{"$f":"IF(AND(L464 = \"\", NOT(J464=\"\")),IF(C464< $W$10, 'Stap 1 - Jouw gegevens'!$C$22 *J464*G464 *C464/B464,  'Stap 1 - Jouw gegevens'!$C$22 * J464*G464 *$W$10/B464), \"\")","v":""},"",null,"","","","","",""]
[null,null,null,null,null,null,null,"",{"$f":"IF(AND(L465 = \"\", NOT(H465=\"\")),IF(C465< $W$10, (H465 *G465 * (C465/B465) * 'Stap 1 - Jouw gegevens'!$C$18), (H465 *G465 *'Stap 1 - Jouw gegevens'!$C$18 * ($W$10/B465))), \"\")","v":""},"",{"$f":"IF(AND(L465 = \"\", NOT(J465=\"\")),IF(C465< $W$10, 'Stap 1 - Jouw gegevens'!$C$22 *J465*G465 *C465/B465,  'Stap 1 - Jouw gegevens'!$C$22 * J465*G465 *$W$10/B465), \"\")","v":""},"",null,"","","","","",""]
[null,null,null,null,null,null,null,"",{"$f":"IF(AND(L466 = \"\", NOT(H466=\"\")),IF(C466< $W$10, (H466 *G466 * (C466/B466) * 'Stap 1 - Jouw gegevens'!$C$18), (H466 *G466 *'Stap 1 - Jouw gegevens'!$C$18 * ($W$10/B466))), \"\")","v":""},"",{"$f":"IF(AND(L466 = \"\", NOT(J466=\"\")),IF(C466< $W$10, 'Stap 1 - Jouw gegevens'!$C$22 *J466*G466 *C466/B466,  'Stap 1 - Jouw gegevens'!$C$22 * J466*G466 *$W$10/B466), \"\")","v":""},"",null,"","","","","",""]
[null,null,null,null,null,null,null,"",{"$f":"IF(AND(L467 = \"\", NOT(H467=\"\")),IF(C467< $W$10, (H467 *G467 * (C467/B467) * 'Stap 1 - Jouw gegevens'!$C$18), (H467 *G467 *'Stap 1 - Jouw gegevens'!$C$18 * ($W$10/B467))), \"\")","v":""},"",{"$f":"IF(AND(L467 = \"\", NOT(J467=\"\")),IF(C467< $W$10, 'Stap 1 - Jouw gegevens'!$C$22 *J467*G467 *C467/B467,  'Stap 1 - Jouw gegevens'!$C$22 * J467*G467 *$W$10/B467), \"\")","v":""},"",null,"","","","","",""]
[null,null,null,null,null,null,null,"",{"$f":"IF(AND(L468 = \"\", NOT(H468=\"\")),IF(C468< $W$10, (H468 *G468 * (C468/B468) * 'Stap 1 - Jouw gegevens'!$C$18), (H468 *G468 *'Stap 1 - Jouw gegevens'!$C$18 * ($W$10/B468))), \"\")","v":""},"",{"$f":"IF(AND(L468 = \"\", NOT(J468=\"\")),IF(C468< $W$10, 'Stap 1 - Jouw gegevens'!$C$22 *J468*G468 *C468/B468,  'Stap 1 - Jouw gegevens'!$C$22 * J468*G468 *$W$10/B468), \"\")","v":""},"",null,"","","","","",""]
[null,null,null,null,null,null,null,"",{"$f":"IF(AND(L469 = \"\", NOT(H469=\"\")),IF(C469< $W$10, (H469 *G469 * (C469/B469) * 'Stap 1 - Jouw gegevens'!$C$18), (H469 *G469 *'Stap 1 - Jouw gegevens'!$C$18 * ($W$10/B469))), \"\")","v":""},"",{"$f":"IF(AND(L469 = \"\", NOT(J469=\"\")),IF(C469< $W$10, 'Stap 1 - Jouw gegevens'!$C$22 *J469*G469 *C469/B469,  'Stap 1 - Jouw gegevens'!$C$22 * J469*G469 *$W$10/B469), \"\")","v":""},"",null,"","","","","",""]
[null,null,null,null,null,null,null,"",{"$f":"IF(AND(L470 = \"\", NOT(H470=\"\")),IF(C470< $W$10, (H470 *G470 * (C470/B470) * 'Stap 1 - Jouw gegevens'!$C$18), (H470 *G470 *'Stap 1 - Jouw gegevens'!$C$18 * ($W$10/B470))), \"\")","v":""},"",{"$f":"IF(AND(L470 = \"\", NOT(J470=\"\")),IF(C470< $W$10, 'Stap 1 - Jouw gegevens'!$C$22 *J470*G470 *C470/B470,  'Stap 1 - Jouw gegevens'!$C$22 * J470*G470 *$W$10/B470), \"\")","v":""},"",null,"","","","","",""]
[null,null,null,null,null,null,null,"",{"$f":"IF(AND(L471 = \"\", NOT(H471=\"\")),IF(C471< $W$10, (H471 *G471 * (C471/B471) * 'Stap 1 - Jouw gegevens'!$C$18), (H471 *G471 *'Stap 1 - Jouw gegevens'!$C$18 * ($W$10/B471))), \"\")","v":""},"",{"$f":"IF(AND(L471 = \"\", NOT(J471=\"\")),IF(C471< $W$10, 'Stap 1 - Jouw gegevens'!$C$22 *J471*G471 *C471/B471,  'Stap 1 - Jouw gegevens'!$C$22 * J471*G471 *$W$10/B471), \"\")","v":""},"",null,"","","","","",""]
[null,null,null,null,null,null,null,"",{"$f":"IF(AND(L472 = \"\", NOT(H472=\"\")),IF(C472< $W$10, (H472 *G472 * (C472/B472) * 'Stap 1 - Jouw gegevens'!$C$18), (H472 *G472 *'Stap 1 - Jouw gegevens'!$C$18 * ($W$10/B472))), \"\")","v":""},"",{"$f":"IF(AND(L472 = \"\", NOT(J472=\"\")),IF(C472< $W$10, 'Stap 1 - Jouw gegevens'!$C$22 *J472*G472 *C472/B472,  'Stap 1 - Jouw gegevens'!$C$22 * J472*G472 *$W$10/B472), \"\")","v":""},"",null,"","","","","",""]
[null,null,null,null,null,null,null,"",{"$f":"IF(AND(L473 = \"\", NOT(H473=\"\")),IF(C473< $W$10, (H473 *G473 * (C473/B473) * 'Stap 1 - Jouw gegevens'!$C$18), (H473 *G473 *'Stap 1 - Jouw gegevens'!$C$18 * ($W$10/B473))), \"\")","v":""},"",{"$f":"IF(AND(L473 = \"\", NOT(J473=\"\")),IF(C473< $W$10, 'Stap 1 - Jouw gegevens'!$C$22 *J473*G473 *C473/B473,  'Stap 1 - Jouw gegevens'!$C$22 * J473*G473 *$W$10/B473), \"\")","v":""},"",null,"","","","","",""]
[null,null,null,null,null,null,null,"",{"$f":"IF(AND(L474 = \"\", NOT(H474=\"\")),IF(C474< $W$10, (H474 *G474 * (C474/B474) * 'Stap 1 - Jouw gegevens'!$C$18), (H474 *G474 *'Stap 1 - Jouw gegevens'!$C$18 * ($W$10/B474))), \"\")","v":""},"",{"$f":"IF(AND(L474 = \"\", NOT(J474=\"\")),IF(C474< $W$10, 'Stap 1 - Jouw gegevens'!$C$22 *J474*G474 *C474/B474,  'Stap 1 - Jouw gegevens'!$C$22 * J474*G474 *$W$10/B474), \"\")","v":""},"",null,"","","","","",""]
[null,null,null,null,null,null,null,"",{"$f":"IF(AND(L475 = \"\", NOT(H475=\"\")),IF(C475< $W$10, (H475 *G475 * (C475/B475) * 'Stap 1 - Jouw gegevens'!$C$18), (H475 *G475 *'Stap 1 - Jouw gegevens'!$C$18 * ($W$10/B475))), \"\")","v":""},"",{"$f":"IF(AND(L475 = \"\", NOT(J475=\"\")),IF(C475< $W$10, 'Stap 1 - Jouw gegevens'!$C$22 *J475*G475 *C475/B475,  'Stap 1 - Jouw gegevens'!$C$22 * J475*G475 *$W$10/B475), \"\")","v":""},"",null,"","","","","",""]
[null,null,null,null,null,null,null,"",{"$f":"IF(AND(L476 = \"\", NOT(H476=\"\")),IF(C476< $W$10, (H476 *G476 * (C476/B476) * 'Stap 1 - Jouw gegevens'!$C$18), (H476 *G476 *'Stap 1 - Jouw gegevens'!$C$18 * ($W$10/B476))), \"\")","v":""},"",{"$f":"IF(AND(L476 = \"\", NOT(J476=\"\")),IF(C476< $W$10, 'Stap 1 - Jouw gegevens'!$C$22 *J476*G476 *C476/B476,  'Stap 1 - Jouw gegevens'!$C$22 * J476*G476 *$W$10/B476), \"\")","v":""},"",null,"","","","","",""]
[null,null,null,null,null,null,null,"",{"$f":"IF(AND(L477 = \"\", NOT(H477=\"\")),IF(C477< $W$10, (H477 *G477 * (C477/B477) * 'Stap 1 - Jouw gegevens'!$C$18), (H477 *G477 *'Stap 1 - Jouw gegevens'!$C$18 * ($W$10/B477))), \"\")","v":""},"",{"$f":"IF(AND(L477 = \"\", NOT(J477=\"\")),IF(C477< $W$10, 'Stap 1 - Jouw gegevens'!$C$22 *J477*G477 *C477/B477,  'Stap 1 - Jouw gegevens'!$C$22 * J477*G477 *$W$10/B477), \"\")","v":""},"",null,"","","","","",""]
[null,null,null,null,null,null,null,"",{"$f":"IF(AND(L478 = \"\", NOT(H478=\"\")),IF(C478< $W$10, (H478 *G478 * (C478/B478) * 'Stap 1 - Jouw gegevens'!$C$18), (H478 *G478 *'Stap 1 - Jouw gegevens'!$C$18 * ($W$10/B478))), \"\")","v":""},"",{"$f":"IF(AND(L478 = \"\", NOT(J478=\"\")),IF(C478< $W$10, 'Stap 1 - Jouw gegevens'!$C$22 *J478*G478 *C478/B478,  'Stap 1 - Jouw gegevens'!$C$22 * J478*G478 *$W$10/B478), \"\")","v":""},"",null,"","","","","",""]
[null,null,null,null,null,null,null,"",{"$f":"IF(AND(L479 = \"\", NOT(H479=\"\")),IF(C479< $W$10, (H479 *G479 * (C479/B479) * 'Stap 1 - Jouw gegevens'!$C$18), (H479 *G479 *'Stap 1 - Jouw gegevens'!$C$18 * ($W$10/B479))), \"\")","v":""},"",{"$f":"IF(AND(L479 = \"\", NOT(J479=\"\")),IF(C479< $W$10, 'Stap 1 - Jouw gegevens'!$C$22 *J479*G479 *C479/B479,  'Stap 1 - Jouw gegevens'!$C$22 * J479*G479 *$W$10/B479), \"\")","v":""},"",null,"","","","","",""]
[null,null,null,null,null,null,null,"",{"$f":"IF(AND(L480 = \"\", NOT(H480=\"\")),IF(C480< $W$10, (H480 *G480 * (C480/B480) * 'Stap 1 - Jouw gegevens'!$C$18), (H480 *G480 *'Stap 1 - Jouw gegevens'!$C$18 * ($W$10/B480))), \"\")","v":""},"",{"$f":"IF(AND(L480 = \"\", NOT(J480=\"\")),IF(C480< $W$10, 'Stap 1 - Jouw gegevens'!$C$22 *J480*G480 *C480/B480,  'Stap 1 - Jouw gegevens'!$C$22 * J480*G480 *$W$10/B480), \"\")","v":""},"",null,"","","","","",""]
[null,null,null,null,null,null,null,"",{"$f":"IF(AND(L481 = \"\", NOT(H481=\"\")),IF(C481< $W$10, (H481 *G481 * (C481/B481) * 'Stap 1 - Jouw gegevens'!$C$18), (H481 *G481 *'Stap 1 - Jouw gegevens'!$C$18 * ($W$10/B481))), \"\")","v":""},"",{"$f":"IF(AND(L481 = \"\", NOT(J481=\"\")),IF(C481< $W$10, 'Stap 1 - Jouw gegevens'!$C$22 *J481*G481 *C481/B481,  'Stap 1 - Jouw gegevens'!$C$22 * J481*G481 *$W$10/B481), \"\")","v":""},"",null,"","","","","",""]
[null,null,null,null,null,null,null,"",{"$f":"IF(AND(L482 = \"\", NOT(H482=\"\")),IF(C482< $W$10, (H482 *G482 * (C482/B482) * 'Stap 1 - Jouw gegevens'!$C$18), (H482 *G482 *'Stap 1 - Jouw gegevens'!$C$18 * ($W$10/B482))), \"\")","v":""},"",{"$f":"IF(AND(L482 = \"\", NOT(J482=\"\")),IF(C482< $W$10, 'Stap 1 - Jouw gegevens'!$C$22 *J482*G482 *C482/B482,  'Stap 1 - Jouw gegevens'!$C$22 * J482*G482 *$W$10/B482), \"\")","v":""},"",null,"","","","","",""]
[null,null,null,null,null,null,null,"",{"$f":"IF(AND(L483 = \"\", NOT(H483=\"\")),IF(C483< $W$10, (H483 *G483 * (C483/B483) * 'Stap 1 - Jouw gegevens'!$C$18), (H483 *G483 *'Stap 1 - Jouw gegevens'!$C$18 * ($W$10/B483))), \"\")","v":""},"",{"$f":"IF(AND(L483 = \"\", NOT(J483=\"\")),IF(C483< $W$10, 'Stap 1 - Jouw gegevens'!$C$22 *J483*G483 *C483/B483,  'Stap 1 - Jouw gegevens'!$C$22 * J483*G483 *$W$10/B483), \"\")","v":""},"",null,"","","","","",""]
[null,null,null,null,null,null,null,"",{"$f":"IF(AND(L484 = \"\", NOT(H484=\"\")),IF(C484< $W$10, (H484 *G484 * (C484/B484) * 'Stap 1 - Jouw gegevens'!$C$18), (H484 *G484 *'Stap 1 - Jouw gegevens'!$C$18 * ($W$10/B484))), \"\")","v":""},"",{"$f":"IF(AND(L484 = \"\", NOT(J484=\"\")),IF(C484< $W$10, 'Stap 1 - Jouw gegevens'!$C$22 *J484*G484 *C484/B484,  'Stap 1 - Jouw gegevens'!$C$22 * J484*G484 *$W$10/B484), \"\")","v":""},"",null,"","","","","",""]
[null,null,null,null,null,null,null,"",{"$f":"IF(AND(L485 = \"\", NOT(H485=\"\")),IF(C485< $W$10, (H485 *G485 * (C485/B485) * 'Stap 1 - Jouw gegevens'!$C$18), (H485 *G485 *'Stap 1 - Jouw gegevens'!$C$18 * ($W$10/B485))), \"\")","v":""},"",{"$f":"IF(AND(L485 = \"\", NOT(J485=\"\")),IF(C485< $W$10, 'Stap 1 - Jouw gegevens'!$C$22 *J485*G485 *C485/B485,  'Stap 1 - Jouw gegevens'!$C$22 * J485*G485 *$W$10/B485), \"\")","v":""},"",null,"","","","","",""]
[null,null,null,null,null,null,null,"",{"$f":"IF(AND(L486 = \"\", NOT(H486=\"\")),IF(C486< $W$10, (H486 *G486 * (C486/B486) * 'Stap 1 - Jouw gegevens'!$C$18), (H486 *G486 *'Stap 1 - Jouw gegevens'!$C$18 * ($W$10/B486))), \"\")","v":""},"",{"$f":"IF(AND(L486 = \"\", NOT(J486=\"\")),IF(C486< $W$10, 'Stap 1 - Jouw gegevens'!$C$22 *J486*G486 *C486/B486,  'Stap 1 - Jouw gegevens'!$C$22 * J486*G486 *$W$10/B486), \"\")","v":""},"",null,"","","","","",""]
[null,null,null,null,null,null,null,"",{"$f":"IF(AND(L487 = \"\", NOT(H487=\"\")),IF(C487< $W$10, (H487 *G487 * (C487/B487) * 'Stap 1 - Jouw gegevens'!$C$18), (H487 *G487 *'Stap 1 - Jouw gegevens'!$C$18 * ($W$10/B487))), \"\")","v":""},"",{"$f":"IF(AND(L487 = \"\", NOT(J487=\"\")),IF(C487< $W$10, 'Stap 1 - Jouw gegevens'!$C$22 *J487*G487 *C487/B487,  'Stap 1 - Jouw gegevens'!$C$22 * J487*G487 *$W$10/B487), \"\")","v":""},"",null,"","","","","",""]
[null,null,null,null,null,null,null,"",{"$f":"IF(AND(L488 = \"\", NOT(H488=\"\")),IF(C488< $W$10, (H488 *G488 * (C488/B488) * 'Stap 1 - Jouw gegevens'!$C$18), (H488 *G488 *'Stap 1 - Jouw gegevens'!$C$18 * ($W$10/B488))), \"\")","v":""},"",{"$f":"IF(AND(L488 = \"\", NOT(J488=\"\")),IF(C488< $W$10, 'Stap 1 - Jouw gegevens'!$C$22 *J488*G488 *C488/B488,  'Stap 1 - Jouw gegevens'!$C$22 * J488*G488 *$W$10/B488), \"\")","v":""},"",null,"","","","","",""]
[null,null,null,null,null,null,null,"",{"$f":"IF(AND(L489 = \"\", NOT(H489=\"\")),IF(C489< $W$10, (H489 *G489 * (C489/B489) * 'Stap 1 - Jouw gegevens'!$C$18), (H489 *G489 *'Stap 1 - Jouw gegevens'!$C$18 * ($W$10/B489))), \"\")","v":""},"",{"$f":"IF(AND(L489 = \"\", NOT(J489=\"\")),IF(C489< $W$10, 'Stap 1 - Jouw gegevens'!$C$22 *J489*G489 *C489/B489,  'Stap 1 - Jouw gegevens'!$C$22 * J489*G489 *$W$10/B489), \"\")","v":""},"",null,"","","","","",""]
[null,null,null,null,null,null,null,"",{"$f":"IF(AND(L490 = \"\", NOT(H490=\"\")),IF(C490< $W$10, (H490 *G490 * (C490/B490) * 'Stap 1 - Jouw gegevens'!$C$18), (H490 *G490 *'Stap 1 - Jouw gegevens'!$C$18 * ($W$10/B490))), \"\")","v":""},"",{"$f":"IF(AND(L490 = \"\", NOT(J490=\"\")),IF(C490< $W$10, 'Stap 1 - Jouw gegevens'!$C$22 *J490*G490 *C490/B490,  'Stap 1 - Jouw gegevens'!$C$22 * J490*G490 *$W$10/B490), \"\")","v":""},"",null,"","","","","",""]
[null,null,null,null,null,null,null,"",{"$f":"IF(AND(L491 = \"\", NOT(H491=\"\")),IF(C491< $W$10, (H491 *G491 * (C491/B491) * 'Stap 1 - Jouw gegevens'!$C$18), (H491 *G491 *'Stap 1 - Jouw gegevens'!$C$18 * ($W$10/B491))), \"\")","v":""},"",{"$f":"IF(AND(L491 = \"\", NOT(J491=\"\")),IF(C491< $W$10, 'Stap 1 - Jouw gegevens'!$C$22 *J491*G491 *C491/B491,  'Stap 1 - Jouw gegevens'!$C$22 * J491*G491 *$W$10/B491), \"\")","v":""},"",null,"","","","","",""]
[null,null,null,null,null,null,null,"",{"$f":"IF(AND(L492 = \"\", NOT(H492=\"\")),IF(C492< $W$10, (H492 *G492 * (C492/B492) * 'Stap 1 - Jouw gegevens'!$C$18), (H492 *G492 *'Stap 1 - Jouw gegevens'!$C$18 * ($W$10/B492))), \"\")","v":""},"",{"$f":"IF(AND(L492 = \"\", NOT(J492=\"\")),IF(C492< $W$10, 'Stap 1 - Jouw gegevens'!$C$22 *J492*G492 *C492/B492,  'Stap 1 - Jouw gegevens'!$C$22 * J492*G492 *$W$10/B492), \"\")","v":""},"",null,"","","","","",""]
[null,null,null,null,null,null,null,"",{"$f":"IF(AND(L493 = \"\", NOT(H493=\"\")),IF(C493< $W$10, (H493 *G493 * (C493/B493) * 'Stap 1 - Jouw gegevens'!$C$18), (H493 *G493 *'Stap 1 - Jouw gegevens'!$C$18 * ($W$10/B493))), \"\")","v":""},"",{"$f":"IF(AND(L493 = \"\", NOT(J493=\"\")),IF(C493< $W$10, 'Stap 1 - Jouw gegevens'!$C$22 *J493*G493 *C493/B493,  'Stap 1 - Jouw gegevens'!$C$22 * J493*G493 *$W$10/B493), \"\")","v":""},"",null,"","","","","",""]
[null,null,null,null,null,null,null,"",{"$f":"IF(AND(L494 = \"\", NOT(H494=\"\")),IF(C494< $W$10, (H494 *G494 * (C494/B494) * 'Stap 1 - Jouw gegevens'!$C$18), (H494 *G494 *'Stap 1 - Jouw gegevens'!$C$18 * ($W$10/B494))), \"\")","v":""},"",{"$f":"IF(AND(L494 = \"\", NOT(J494=\"\")),IF(C494< $W$10, 'Stap 1 - Jouw gegevens'!$C$22 *J494*G494 *C494/B494,  'Stap 1 - Jouw gegevens'!$C$22 * J494*G494 *$W$10/B494), \"\")","v":""},"",null,"","","","","",""]
[null,null,null,null,null,null,null,"",{"$f":"IF(AND(L495 = \"\", NOT(H495=\"\")),IF(C495< $W$10, (H495 *G495 * (C495/B495) * 'Stap 1 - Jouw gegevens'!$C$18), (H495 *G495 *'Stap 1 - Jouw gegevens'!$C$18 * ($W$10/B495))), \"\")","v":""},"",{"$f":"IF(AND(L495 = \"\", NOT(J495=\"\")),IF(C495< $W$10, 'Stap 1 - Jouw gegevens'!$C$22 *J495*G495 *C495/B495,  'Stap 1 - Jouw gegevens'!$C$22 * J495*G495 *$W$10/B495), \"\")","v":""},"",null,"","","","","",""]
[null,null,null,null,null,null,null,"",{"$f":"IF(AND(L496 = \"\", NOT(H496=\"\")),IF(C496< $W$10, (H496 *G496 * (C496/B496) * 'Stap 1 - Jouw gegevens'!$C$18), (H496 *G496 *'Stap 1 - Jouw gegevens'!$C$18 * ($W$10/B496))), \"\")","v":""},"",{"$f":"IF(AND(L496 = \"\", NOT(J496=\"\")),IF(C496< $W$10, 'Stap 1 - Jouw gegevens'!$C$22 *J496*G496 *C496/B496,  'Stap 1 - Jouw gegevens'!$C$22 * J496*G496 *$W$10/B496), \"\")","v":""},"",null,"","","","","",""]
[null,null,null,null,null,null,null,"",{"$f":"IF(AND(L497 = \"\", NOT(H497=\"\")),IF(C497< $W$10, (H497 *G497 * (C497/B497) * 'Stap 1 - Jouw gegevens'!$C$18), (H497 *G497 *'Stap 1 - Jouw gegevens'!$C$18 * ($W$10/B497))), \"\")","v":""},"",{"$f":"IF(AND(L497 = \"\", NOT(J497=\"\")),IF(C497< $W$10, 'Stap 1 - Jouw gegevens'!$C$22 *J497*G497 *C497/B497,  'Stap 1 - Jouw gegevens'!$C$22 * J497*G497 *$W$10/B497), \"\")","v":""},"",null,"","","","","",""]
[null,null,null,null,null,null,null,"",{"$f":"IF(AND(L498 = \"\", NOT(H498=\"\")),IF(C498< $W$10, (H498 *G498 * (C498/B498) * 'Stap 1 - Jouw gegevens'!$C$18), (H498 *G498 *'Stap 1 - Jouw gegevens'!$C$18 * ($W$10/B498))), \"\")","v":""},"",{"$f":"IF(AND(L498 = \"\", NOT(J498=\"\")),IF(C498< $W$10, 'Stap 1 - Jouw gegevens'!$C$22 *J498*G498 *C498/B498,  'Stap 1 - Jouw gegevens'!$C$22 * J498*G498 *$W$10/B498), \"\")","v":""},"",null,"","","","","",""]
[null,null,null,null,null,null,null,"",{"$f":"IF(AND(L499 = \"\", NOT(H499=\"\")),IF(C499< $W$10, (H499 *G499 * (C499/B499) * 'Stap 1 - Jouw gegevens'!$C$18), (H499 *G499 *'Stap 1 - Jouw gegevens'!$C$18 * ($W$10/B499))), \"\")","v":""},"",{"$f":"IF(AND(L499 = \"\", NOT(J499=\"\")),IF(C499< $W$10, 'Stap 1 - Jouw gegevens'!$C$22 *J499*G499 *C499/B499,  'Stap 1 - Jouw gegevens'!$C$22 * J499*G499 *$W$10/B499), \"\")","v":""},"",null,"","","","","",""]
[null,null,null,null,null,null,null,"",{"$f":"IF(AND(L500 = \"\", NOT(H500=\"\")),IF(C500< $W$10, (H500 *G500 * (C500/B500) * 'Stap 1 - Jouw gegevens'!$C$18), (H500 *G500 *'Stap 1 - Jouw gegevens'!$C$18 * ($W$10/B500))), \"\")","v":""},"",{"$f":"IF(AND(L500 = \"\", NOT(J500=\"\")),IF(C500< $W$10, 'Stap 1 - Jouw gegevens'!$C$22 *J500*G500 *C500/B500,  'Stap 1 - Jouw gegevens'!$C$22 * J500*G500 *$W$10/B500), \"\")","v":""},"",null,"","","","","",""]
[null,null,null,null,null,null,null,"",{"$f":"IF(AND(L501 = \"\", NOT(H501=\"\")),IF(C501< $W$10, (H501 *G501 * (C501/B501) * 'Stap 1 - Jouw gegevens'!$C$18), (H501 *G501 *'Stap 1 - Jouw gegevens'!$C$18 * ($W$10/B501))), \"\")","v":""},"",{"$f":"IF(AND(L501 = \"\", NOT(J501=\"\")),IF(C501< $W$10, 'Stap 1 - Jouw gegevens'!$C$22 *J501*G501 *C501/B501,  'Stap 1 - Jouw gegevens'!$C$22 * J501*G501 *$W$10/B501), \"\")","v":""},"",null,"","","","","",""]
[null,null,null,null,null,null,null,"",{"$f":"IF(AND(L502 = \"\", NOT(H502=\"\")),IF(C502< $W$10, (H502 *G502 * (C502/B502) * 'Stap 1 - Jouw gegevens'!$C$18), (H502 *G502 *'Stap 1 - Jouw gegevens'!$C$18 * ($W$10/B502))), \"\")","v":""},"",{"$f":"IF(AND(L502 = \"\", NOT(J502=\"\")),IF(C502< $W$10, 'Stap 1 - Jouw gegevens'!$C$22 *J502*G502 *C502/B502,  'Stap 1 - Jouw gegevens'!$C$22 * J502*G502 *$W$10/B502), \"\")","v":""},"",null,"","","","","",""]
[null,null,null,null,null,null,null,"",{"$f":"IF(AND(L503 = \"\", NOT(H503=\"\")),IF(C503< $W$10, (H503 *G503 * (C503/B503) * 'Stap 1 - Jouw gegevens'!$C$18), (H503 *G503 *'Stap 1 - Jouw gegevens'!$C$18 * ($W$10/B503))), \"\")","v":""},"",{"$f":"IF(AND(L503 = \"\", NOT(J503=\"\")),IF(C503< $W$10, 'Stap 1 - Jouw gegevens'!$C$22 *J503*G503 *C503/B503,  'Stap 1 - Jouw gegevens'!$C$22 * J503*G503 *$W$10/B503), \"\")","v":""},"",null,"","","","","",""]
[null,null,null,null,null,null,null,"",{"$f":"IF(AND(L504 = \"\", NOT(H504=\"\")),IF(C504< $W$10, (H504 *G504 * (C504/B504) * 'Stap 1 - Jouw gegevens'!$C$18), (H504 *G504 *'Stap 1 - Jouw gegevens'!$C$18 * ($W$10/B504))), \"\")","v":""},"",{"$f":"IF(AND(L504 = \"\", NOT(J504=\"\")),IF(C504< $W$10, 'Stap 1 - Jouw gegevens'!$C$22 *J504*G504 *C504/B504,  'Stap 1 - Jouw gegevens'!$C$22 * J504*G504 *$W$10/B504), \"\")","v":""},"",null,"","","","","",""]
[null,null,null,null,null,null,null,"",{"$f":"IF(AND(L505 = \"\", NOT(H505=\"\")),IF(C505< $W$10, (H505 *G505 * (C505/B505) * 'Stap 1 - Jouw gegevens'!$C$18), (H505 *G505 *'Stap 1 - Jouw gegevens'!$C$18 * ($W$10/B505))), \"\")","v":""},"",{"$f":"IF(AND(L505 = \"\", NOT(J505=\"\")),IF(C505< $W$10, 'Stap 1 - Jouw gegevens'!$C$22 *J505*G505 *C505/B505,  'Stap 1 - Jouw gegevens'!$C$22 * J505*G505 *$W$10/B505), \"\")","v":""},"",null,"","","","","",""]
[null,null,null,null,null,null,null,"",{"$f":"IF(AND(L506 = \"\", NOT(H506=\"\")),IF(C506< $W$10, (H506 *G506 * (C506/B506) * 'Stap 1 - Jouw gegevens'!$C$18), (H506 *G506 *'Stap 1 - Jouw gegevens'!$C$18 * ($W$10/B506))), \"\")","v":""},"",{"$f":"IF(AND(L506 = \"\", NOT(J506=\"\")),IF(C506< $W$10, 'Stap 1 - Jouw gegevens'!$C$22 *J506*G506 *C506/B506,  'Stap 1 - Jouw gegevens'!$C$22 * J506*G506 *$W$10/B506), \"\")","v":""},"",null,"","","","","",""]
[null,null,null,null,null,null,null,"",{"$f":"IF(AND(L507 = \"\", NOT(H507=\"\")),IF(C507< $W$10, (H507 *G507 * (C507/B507) * 'Stap 1 - Jouw gegevens'!$C$18), (H507 *G507 *'Stap 1 - Jouw gegevens'!$C$18 * ($W$10/B507))), \"\")","v":""},"",{"$f":"IF(AND(L507 = \"\", NOT(J507=\"\")),IF(C507< $W$10, 'Stap 1 - Jouw gegevens'!$C$22 *J507*G507 *C507/B507,  'Stap 1 - Jouw gegevens'!$C$22 * J507*G507 *$W$10/B507), \"\")","v":""},"",null,"","","","","",""]
[null,null,null,null,null,null,null,"",{"$f":"IF(AND(L508 = \"\", NOT(H508=\"\")),IF(C508< $W$10, (H508 *G508 * (C508/B508) * 'Stap 1 - Jouw gegevens'!$C$18), (H508 *G508 *'Stap 1 - Jouw gegevens'!$C$18 * ($W$10/B508))), \"\")","v":""},"",{"$f":"IF(AND(L508 = \"\", NOT(J508=\"\")),IF(C508< $W$10, 'Stap 1 - Jouw gegevens'!$C$22 *J508*G508 *C508/B508,  'Stap 1 - Jouw gegevens'!$C$22 * J508*G508 *$W$10/B508), \"\")","v":""},"",null,"","","","","",""]
[null,null,null,null,null,null,null,"",{"$f":"IF(AND(L509 = \"\", NOT(H509=\"\")),IF(C509< $W$10, (H509 *G509 * (C509/B509) * 'Stap 1 - Jouw gegevens'!$C$18), (H509 *G509 *'Stap 1 - Jouw gegevens'!$C$18 * ($W$10/B509))), \"\")","v":""},"",{"$f":"IF(AND(L509 = \"\", NOT(J509=\"\")),IF(C509< $W$10, 'Stap 1 - Jouw gegevens'!$C$22 *J509*G509 *C509/B509,  'Stap 1 - Jouw gegevens'!$C$22 * J509*G509 *$W$10/B509), \"\")","v":""},"",null,"","","","","",""]
[null,null,null,null,null,null,null,"",{"$f":"IF(AND(L510 = \"\", NOT(H510=\"\")),IF(C510< $W$10, (H510 *G510 * (C510/B510) * 'Stap 1 - Jouw gegevens'!$C$18), (H510 *G510 *'Stap 1 - Jouw gegevens'!$C$18 * ($W$10/B510))), \"\")","v":""},"",{"$f":"IF(AND(L510 = \"\", NOT(J510=\"\")),IF(C510< $W$10, 'Stap 1 - Jouw gegevens'!$C$22 *J510*G510 *C510/B510,  'Stap 1 - Jouw gegevens'!$C$22 * J510*G510 *$W$10/B510), \"\")","v":""},"",null,"","","","","",""]
[null,null,null,null,null,null,null,"",{"$f":"IF(AND(L511 = \"\", NOT(H511=\"\")),IF(C511< $W$10, (H511 *G511 * (C511/B511) * 'Stap 1 - Jouw gegevens'!$C$18), (H511 *G511 *'Stap 1 - Jouw gegevens'!$C$18 * ($W$10/B511))), \"\")","v":""},"",{"$f":"IF(AND(L511 = \"\", NOT(J511=\"\")),IF(C511< $W$10, 'Stap 1 - Jouw gegevens'!$C$22 *J511*G511 *C511/B511,  'Stap 1 - Jouw gegevens'!$C$22 * J511*G511 *$W$10/B511), \"\")","v":""},"",null,"","","","","",""]
[null,null,null,null,null,null,null,"",{"$f":"IF(AND(L512 = \"\", NOT(H512=\"\")),IF(C512< $W$10, (H512 *G512 * (C512/B512) * 'Stap 1 - Jouw gegevens'!$C$18), (H512 *G512 *'Stap 1 - Jouw gegevens'!$C$18 * ($W$10/B512))), \"\")","v":""},"",{"$f":"IF(AND(L512 = \"\", NOT(J512=\"\")),IF(C512< $W$10, 'Stap 1 - Jouw gegevens'!$C$22 *J512*G512 *C512/B512,  'Stap 1 - Jouw gegevens'!$C$22 * J512*G512 *$W$10/B512), \"\")","v":""},"",null,"","","","","",""]
[null,null,null,null,null,null,null,"",{"$f":"IF(AND(L513 = \"\", NOT(H513=\"\")),IF(C513< $W$10, (H513 *G513 * (C513/B513) * 'Stap 1 - Jouw gegevens'!$C$18), (H513 *G513 *'Stap 1 - Jouw gegevens'!$C$18 * ($W$10/B513))), \"\")","v":""},"",{"$f":"IF(AND(L513 = \"\", NOT(J513=\"\")),IF(C513< $W$10, 'Stap 1 - Jouw gegevens'!$C$22 *J513*G513 *C513/B513,  'Stap 1 - Jouw gegevens'!$C$22 * J513*G513 *$W$10/B513), \"\")","v":""},"",null,"","","","","",""]
[null,null,null,null,null,null,null,"",{"$f":"IF(AND(L514 = \"\", NOT(H514=\"\")),IF(C514< $W$10, (H514 *G514 * (C514/B514) * 'Stap 1 - Jouw gegevens'!$C$18), (H514 *G514 *'Stap 1 - Jouw gegevens'!$C$18 * ($W$10/B514))), \"\")","v":""},"",{"$f":"IF(AND(L514 = \"\", NOT(J514=\"\")),IF(C514< $W$10, 'Stap 1 - Jouw gegevens'!$C$22 *J514*G514 *C514/B514,  'Stap 1 - Jouw gegevens'!$C$22 * J514*G514 *$W$10/B514), \"\")","v":""},"",null,"","","","","",""]
[null,null,null,null,null,null,null,"",{"$f":"IF(AND(L515 = \"\", NOT(H515=\"\")),IF(C515< $W$10, (H515 *G515 * (C515/B515) * 'Stap 1 - Jouw gegevens'!$C$18), (H515 *G515 *'Stap 1 - Jouw gegevens'!$C$18 * ($W$10/B515))), \"\")","v":""},"",{"$f":"IF(AND(L515 = \"\", NOT(J515=\"\")),IF(C515< $W$10, 'Stap 1 - Jouw gegevens'!$C$22 *J515*G515 *C515/B515,  'Stap 1 - Jouw gegevens'!$C$22 * J515*G515 *$W$10/B515), \"\")","v":""},"",null,"","","","","",""]
[null,null,null,null,null,null,null,"",{"$f":"IF(AND(L516 = \"\", NOT(H516=\"\")),IF(C516< $W$10, (H516 *G516 * (C516/B516) * 'Stap 1 - Jouw gegevens'!$C$18), (H516 *G516 *'Stap 1 - Jouw gegevens'!$C$18 * ($W$10/B516))), \"\")","v":""},"",{"$f":"IF(AND(L516 = \"\", NOT(J516=\"\")),IF(C516< $W$10, 'Stap 1 - Jouw gegevens'!$C$22 *J516*G516 *C516/B516,  'Stap 1 - Jouw gegevens'!$C$22 * J516*G516 *$W$10/B516), \"\")","v":""},"",null,"","","","","",""]
[null,null,null,null,null,null,null,"",{"$f":"IF(AND(L517 = \"\", NOT(H517=\"\")),IF(C517< $W$10, (H517 *G517 * (C517/B517) * 'Stap 1 - Jouw gegevens'!$C$18), (H517 *G517 *'Stap 1 - Jouw gegevens'!$C$18 * ($W$10/B517))), \"\")","v":""},"",{"$f":"IF(AND(L517 = \"\", NOT(J517=\"\")),IF(C517< $W$10, 'Stap 1 - Jouw gegevens'!$C$22 *J517*G517 *C517/B517,  'Stap 1 - Jouw gegevens'!$C$22 * J517*G517 *$W$10/B517), \"\")","v":""},"",null,"","","","","",""]
[null,null,null,null,null,null,null,"",{"$f":"IF(AND(L518 = \"\", NOT(H518=\"\")),IF(C518< $W$10, (H518 *G518 * (C518/B518) * 'Stap 1 - Jouw gegevens'!$C$18), (H518 *G518 *'Stap 1 - Jouw gegevens'!$C$18 * ($W$10/B518))), \"\")","v":""},"",{"$f":"IF(AND(L518 = \"\", NOT(J518=\"\")),IF(C518< $W$10, 'Stap 1 - Jouw gegevens'!$C$22 *J518*G518 *C518/B518,  'Stap 1 - Jouw gegevens'!$C$22 * J518*G518 *$W$10/B518), \"\")","v":""},"",null,"","","","","",""]
[null,null,null,null,null,null,null,"",{"$f":"IF(AND(L519 = \"\", NOT(H519=\"\")),IF(C519< $W$10, (H519 *G519 * (C519/B519) * 'Stap 1 - Jouw gegevens'!$C$18), (H519 *G519 *'Stap 1 - Jouw gegevens'!$C$18 * ($W$10/B519))), \"\")","v":""},"",{"$f":"IF(AND(L519 = \"\", NOT(J519=\"\")),IF(C519< $W$10, 'Stap 1 - Jouw gegevens'!$C$22 *J519*G519 *C519/B519,  'Stap 1 - Jouw gegevens'!$C$22 * J519*G519 *$W$10/B519), \"\")","v":""},"",null,"","","","","",""]
[null,null,null,null,null,null,null,{"$f":"P520","v":""},{"$f":"IF(AND(L520 = \"\", NOT(H520=\"\")),IF(C520< $W$10, (H520 *G520 * (C520/B520) * 'Stap 1 - Jouw gegevens'!$C$18), (H520 *G520 *'Stap 1 - Jouw gegevens'!$C$18 * ($W$10/B520))), \"\")","v":""},{"$f":"S520","v":""},{"$f":"IF(AND(L520 = \"\", NOT(J520=\"\")),IF(C520< $W$10, 'Stap 1 - Jouw gegevens'!$C$22 *J520*G520 *C520/B520,  'Stap 1 - Jouw gegevens'!$C$22 * J520*G520 *$W$10/B520), \"\")","v":""},{"$f":"IF(ISBLANK(A520), \"\", CONCATENATE(IF(Z520 = \"X\", $AH$5, \"\"), IF( AB520 = \"X\", $AH$7, \"\"), IF( AC520 = \"X\", $AH$8, \"\"), IF( AD520 = \"X\", $AH$9, \"\"), IF( AE520 = \"X\", $AH$10, \"\"),  IF( AF520 = \"X\", $AH$11, \"\")))","v":""},null,{"$f":"IF(ISBLANK(D520),\"\",NETWORKDAYS(D520,F520))","v":""},{"$f":"IFERROR( IF(N520>$Y$5,NETWORKDAYS(E520, (Q520 - 1)), NETWORKDAYS(E520,(F520-1))), \"\")","v":""},{"$f":"IF(O520<= 0, \"\", O520)","v":""},{"$f":"IF(ISBLANK(D520),\"\",DATE(YEAR(D520)+1,MONTH(D520),DAY(D520)))","v":""},{"$f":"IFERROR(IF(N520 > $Y$5, IF(E520>=Q520,NETWORKDAYS(E520, (F520-1)), NETWORKDAYS(Q520, (F520-1))), \"\"), \"\")","v":""},{"$f":"IF(R520=\"\", \"\",  IF(R520 >= $Y$5, $Y$5,  R520))","v":""}]
[null,null,null,null,null,null,null,"",{"$f":"IF(AND(L521 = \"\", NOT(H521=\"\")),IF(C521< $W$10, (H521 *G521 * (C521/B521) * 'Stap 1 - Jouw gegevens'!$C$18), (H521 *G521 *'Stap 1 - Jouw gegevens'!$C$18 * ($W$10/B521))), \"\")","v":""},"",{"$f":"IF(AND(L521 = \"\", NOT(J521=\"\")),IF(C521< $W$10, 'Stap 1 - Jouw gegevens'!$C$22 *J521*G521 *C521/B521,  'Stap 1 - Jouw gegevens'!$C$22 * J521*G521 *$W$10/B521), \"\")","v":""},"",null,"","","","","",""]
[null,null,null,null,null,null,null,"",{"$f":"IF(AND(L522 = \"\", NOT(H522=\"\")),IF(C522< $W$10, (H522 *G522 * (C522/B522) * 'Stap 1 - Jouw gegevens'!$C$18), (H522 *G522 *'Stap 1 - Jouw gegevens'!$C$18 * ($W$10/B522))), \"\")","v":""},"",{"$f":"IF(AND(L522 = \"\", NOT(J522=\"\")),IF(C522< $W$10, 'Stap 1 - Jouw gegevens'!$C$22 *J522*G522 *C522/B522,  'Stap 1 - Jouw gegevens'!$C$22 * J522*G522 *$W$10/B522), \"\")","v":""},"",null,"","","","","",""]
[null,null,null,null,null,null,null,"",{"$f":"IF(AND(L523 = \"\", NOT(H523=\"\")),IF(C523< $W$10, (H523 *G523 * (C523/B523) * 'Stap 1 - Jouw gegevens'!$C$18), (H523 *G523 *'Stap 1 - Jouw gegevens'!$C$18 * ($W$10/B523))), \"\")","v":""},"",{"$f":"IF(AND(L523 = \"\", NOT(J523=\"\")),IF(C523< $W$10, 'Stap 1 - Jouw gegevens'!$C$22 *J523*G523 *C523/B523,  'Stap 1 - Jouw gegevens'!$C$22 * J523*G523 *$W$10/B523), \"\")","v":""},"",null,"","","","","",""]
[null,null,null,null,null,null,null,"",{"$f":"IF(AND(L524 = \"\", NOT(H524=\"\")),IF(C524< $W$10, (H524 *G524 * (C524/B524) * 'Stap 1 - Jouw gegevens'!$C$18), (H524 *G524 *'Stap 1 - Jouw gegevens'!$C$18 * ($W$10/B524))), \"\")","v":""},"",{"$f":"IF(AND(L524 = \"\", NOT(J524=\"\")),IF(C524< $W$10, 'Stap 1 - Jouw gegevens'!$C$22 *J524*G524 *C524/B524,  'Stap 1 - Jouw gegevens'!$C$22 * J524*G524 *$W$10/B524), \"\")","v":""},"",null,"","","","","",""]
[null,null,null,null,null,null,null,"",{"$f":"IF(AND(L525 = \"\", NOT(H525=\"\")),IF(C525< $W$10, (H525 *G525 * (C525/B525) * 'Stap 1 - Jouw gegevens'!$C$18), (H525 *G525 *'Stap 1 - Jouw gegevens'!$C$18 * ($W$10/B525))), \"\")","v":""},"",{"$f":"IF(AND(L525 = \"\", NOT(J525=\"\")),IF(C525< $W$10, 'Stap 1 - Jouw gegevens'!$C$22 *J525*G525 *C525/B525,  'Stap 1 - Jouw gegevens'!$C$22 * J525*G525 *$W$10/B525), \"\")","v":""},"",null,"","","","","",""]
[null,null,null,null,null,null,null,"",{"$f":"IF(AND(L526 = \"\", NOT(H526=\"\")),IF(C526< $W$10, (H526 *G526 * (C526/B526) * 'Stap 1 - Jouw gegevens'!$C$18), (H526 *G526 *'Stap 1 - Jouw gegevens'!$C$18 * ($W$10/B526))), \"\")","v":""},"",{"$f":"IF(AND(L526 = \"\", NOT(J526=\"\")),IF(C526< $W$10, 'Stap 1 - Jouw gegevens'!$C$22 *J526*G526 *C526/B526,  'Stap 1 - Jouw gegevens'!$C$22 * J526*G526 *$W$10/B526), \"\")","v":""},"",null,"","","","","",""]
[null,null,null,null,null,null,null,"",{"$f":"IF(AND(L527 = \"\", NOT(H527=\"\")),IF(C527< $W$10, (H527 *G527 * (C527/B527) * 'Stap 1 - Jouw gegevens'!$C$18), (H527 *G527 *'Stap 1 - Jouw gegevens'!$C$18 * ($W$10/B527))), \"\")","v":""},"",{"$f":"IF(AND(L527 = \"\", NOT(J527=\"\")),IF(C527< $W$10, 'Stap 1 - Jouw gegevens'!$C$22 *J527*G527 *C527/B527,  'Stap 1 - Jouw gegevens'!$C$22 * J527*G527 *$W$10/B527), \"\")","v":""},"",null,"","","","","",""]
[null,null,null,null,null,null,null,"",{"$f":"IF(AND(L528 = \"\", NOT(H528=\"\")),IF(C528< $W$10, (H528 *G528 * (C528/B528) * 'Stap 1 - Jouw gegevens'!$C$18), (H528 *G528 *'Stap 1 - Jouw gegevens'!$C$18 * ($W$10/B528))), \"\")","v":""},"",{"$f":"IF(AND(L528 = \"\", NOT(J528=\"\")),IF(C528< $W$10, 'Stap 1 - Jouw gegevens'!$C$22 *J528*G528 *C528/B528,  'Stap 1 - Jouw gegevens'!$C$22 * J528*G528 *$W$10/B528), \"\")","v":""},"",null,"","","","","",""]
[null,null,null,null,null,null,null,"",{"$f":"IF(AND(L529 = \"\", NOT(H529=\"\")),IF(C529< $W$10, (H529 *G529 * (C529/B529) * 'Stap 1 - Jouw gegevens'!$C$18), (H529 *G529 *'Stap 1 - Jouw gegevens'!$C$18 * ($W$10/B529))), \"\")","v":""},"",{"$f":"IF(AND(L529 = \"\", NOT(J529=\"\")),IF(C529< $W$10, 'Stap 1 - Jouw gegevens'!$C$22 *J529*G529 *C529/B529,  'Stap 1 - Jouw gegevens'!$C$22 * J529*G529 *$W$10/B529), \"\")","v":""},"",null,"","","","","",""]
[null,null,null,null,null,null,null,"",{"$f":"IF(AND(L530 = \"\", NOT(H530=\"\")),IF(C530< $W$10, (H530 *G530 * (C530/B530) * 'Stap 1 - Jouw gegevens'!$C$18), (H530 *G530 *'Stap 1 - Jouw gegevens'!$C$18 * ($W$10/B530))), \"\")","v":""},"",{"$f":"IF(AND(L530 = \"\", NOT(J530=\"\")),IF(C530< $W$10, 'Stap 1 - Jouw gegevens'!$C$22 *J530*G530 *C530/B530,  'Stap 1 - Jouw gegevens'!$C$22 * J530*G530 *$W$10/B530), \"\")","v":""},"",null,"","","","","",""]
[null,null,null,null,null,null,null,"",{"$f":"IF(AND(L531 = \"\", NOT(H531=\"\")),IF(C531< $W$10, (H531 *G531 * (C531/B531) * 'Stap 1 - Jouw gegevens'!$C$18), (H531 *G531 *'Stap 1 - Jouw gegevens'!$C$18 * ($W$10/B531))), \"\")","v":""},"",{"$f":"IF(AND(L531 = \"\", NOT(J531=\"\")),IF(C531< $W$10, 'Stap 1 - Jouw gegevens'!$C$22 *J531*G531 *C531/B531,  'Stap 1 - Jouw gegevens'!$C$22 * J531*G531 *$W$10/B531), \"\")","v":""},"",null,"","","","","",""]
[null,null,null,null,null,null,null,"",{"$f":"IF(AND(L532 = \"\", NOT(H532=\"\")),IF(C532< $W$10, (H532 *G532 * (C532/B532) * 'Stap 1 - Jouw gegevens'!$C$18), (H532 *G532 *'Stap 1 - Jouw gegevens'!$C$18 * ($W$10/B532))), \"\")","v":""},"",{"$f":"IF(AND(L532 = \"\", NOT(J532=\"\")),IF(C532< $W$10, 'Stap 1 - Jouw gegevens'!$C$22 *J532*G532 *C532/B532,  'Stap 1 - Jouw gegevens'!$C$22 * J532*G532 *$W$10/B532), \"\")","v":""},"",null,"","","","","",""]
[null,null,null,null,null,null,null,"",{"$f":"IF(AND(L533 = \"\", NOT(H533=\"\")),IF(C533< $W$10, (H533 *G533 * (C533/B533) * 'Stap 1 - Jouw gegevens'!$C$18), (H533 *G533 *'Stap 1 - Jouw gegevens'!$C$18 * ($W$10/B533))), \"\")","v":""},"",{"$f":"IF(AND(L533 = \"\", NOT(J533=\"\")),IF(C533< $W$10, 'Stap 1 - Jouw gegevens'!$C$22 *J533*G533 *C533/B533,  'Stap 1 - Jouw gegevens'!$C$22 * J533*G533 *$W$10/B533), \"\")","v":""},"",null,"","","","","",""]
[null,null,null,null,null,null,null,"",{"$f":"IF(AND(L534 = \"\", NOT(H534=\"\")),IF(C534< $W$10, (H534 *G534 * (C534/B534) * 'Stap 1 - Jouw gegevens'!$C$18), (H534 *G534 *'Stap 1 - Jouw gegevens'!$C$18 * ($W$10/B534))), \"\")","v":""},"",{"$f":"IF(AND(L534 = \"\", NOT(J534=\"\")),IF(C534< $W$10, 'Stap 1 - Jouw gegevens'!$C$22 *J534*G534 *C534/B534,  'Stap 1 - Jouw gegevens'!$C$22 * J534*G534 *$W$10/B534), \"\")","v":""},"",null,"","","","","",""]
[null,null,null,null,null,null,null,"",{"$f":"IF(AND(L535 = \"\", NOT(H535=\"\")),IF(C535< $W$10, (H535 *G535 * (C535/B535) * 'Stap 1 - Jouw gegevens'!$C$18), (H535 *G535 *'Stap 1 - Jouw gegevens'!$C$18 * ($W$10/B535))), \"\")","v":""},"",{"$f":"IF(AND(L535 = \"\", NOT(J535=\"\")),IF(C535< $W$10, 'Stap 1 - Jouw gegevens'!$C$22 *J535*G535 *C535/B535,  'Stap 1 - Jouw gegevens'!$C$22 * J535*G535 *$W$10/B535), \"\")","v":""},"",null,"","","","","",""]
[null,null,null,null,null,null,null,"",{"$f":"IF(AND(L536 = \"\", NOT(H536=\"\")),IF(C536< $W$10, (H536 *G536 * (C536/B536) * 'Stap 1 - Jouw gegevens'!$C$18), (H536 *G536 *'Stap 1 - Jouw gegevens'!$C$18 * ($W$10/B536))), \"\")","v":""},"",{"$f":"IF(AND(L536 = \"\", NOT(J536=\"\")),IF(C536< $W$10, 'Stap 1 - Jouw gegevens'!$C$22 *J536*G536 *C536/B536,  'Stap 1 - Jouw gegevens'!$C$22 * J536*G536 *$W$10/B536), \"\")","v":""},"",null,"","","","","",""]
[null,null,null,null,null,null,null,"",{"$f":"IF(AND(L537 = \"\", NOT(H537=\"\")),IF(C537< $W$10, (H537 *G537 * (C537/B537) * 'Stap 1 - Jouw gegevens'!$C$18), (H537 *G537 *'Stap 1 - Jouw gegevens'!$C$18 * ($W$10/B537))), \"\")","v":""},"",{"$f":"IF(AND(L537 = \"\", NOT(J537=\"\")),IF(C537< $W$10, 'Stap 1 - Jouw gegevens'!$C$22 *J537*G537 *C537/B537,  'Stap 1 - Jouw gegevens'!$C$22 * J537*G537 *$W$10/B537), \"\")","v":""},"",null,"","","","","",""]
[null,null,null,null,null,null,null,"",{"$f":"IF(AND(L538 = \"\", NOT(H538=\"\")),IF(C538< $W$10, (H538 *G538 * (C538/B538) * 'Stap 1 - Jouw gegevens'!$C$18), (H538 *G538 *'Stap 1 - Jouw gegevens'!$C$18 * ($W$10/B538))), \"\")","v":""},"",{"$f":"IF(AND(L538 = \"\", NOT(J538=\"\")),IF(C538< $W$10, 'Stap 1 - Jouw gegevens'!$C$22 *J538*G538 *C538/B538,  'Stap 1 - Jouw gegevens'!$C$22 * J538*G538 *$W$10/B538), \"\")","v":""},"",null,"","","","","",""]
[null,null,null,null,null,null,null,"",{"$f":"IF(AND(L539 = \"\", NOT(H539=\"\")),IF(C539< $W$10, (H539 *G539 * (C539/B539) * 'Stap 1 - Jouw gegevens'!$C$18), (H539 *G539 *'Stap 1 - Jouw gegevens'!$C$18 * ($W$10/B539))), \"\")","v":""},"",{"$f":"IF(AND(L539 = \"\", NOT(J539=\"\")),IF(C539< $W$10, 'Stap 1 - Jouw gegevens'!$C$22 *J539*G539 *C539/B539,  'Stap 1 - Jouw gegevens'!$C$22 * J539*G539 *$W$10/B539), \"\")","v":""},"",null,"","","","","",""]
[null,null,null,null,null,null,null,"",{"$f":"IF(AND(L540 = \"\", NOT(H540=\"\")),IF(C540< $W$10, (H540 *G540 * (C540/B540) * 'Stap 1 - Jouw gegevens'!$C$18), (H540 *G540 *'Stap 1 - Jouw gegevens'!$C$18 * ($W$10/B540))), \"\")","v":""},"",{"$f":"IF(AND(L540 = \"\", NOT(J540=\"\")),IF(C540< $W$10, 'Stap 1 - Jouw gegevens'!$C$22 *J540*G540 *C540/B540,  'Stap 1 - Jouw gegevens'!$C$22 * J540*G540 *$W$10/B540), \"\")","v":""},"",null,"","","","","",""]
[null,null,null,null,null,null,null,"",{"$f":"IF(AND(L541 = \"\", NOT(H541=\"\")),IF(C541< $W$10, (H541 *G541 * (C541/B541) * 'Stap 1 - Jouw gegevens'!$C$18), (H541 *G541 *'Stap 1 - Jouw gegevens'!$C$18 * ($W$10/B541))), \"\")","v":""},"",{"$f":"IF(AND(L541 = \"\", NOT(J541=\"\")),IF(C541< $W$10, 'Stap 1 - Jouw gegevens'!$C$22 *J541*G541 *C541/B541,  'Stap 1 - Jouw gegevens'!$C$22 * J541*G541 *$W$10/B541), \"\")","v":""},"",null,"","","","","",""]
[null,null,null,null,null,null,null,"",{"$f":"IF(AND(L542 = \"\", NOT(H542=\"\")),IF(C542< $W$10, (H542 *G542 * (C542/B542) * 'Stap 1 - Jouw gegevens'!$C$18), (H542 *G542 *'Stap 1 - Jouw gegevens'!$C$18 * ($W$10/B542))), \"\")","v":""},"",{"$f":"IF(AND(L542 = \"\", NOT(J542=\"\")),IF(C542< $W$10, 'Stap 1 - Jouw gegevens'!$C$22 *J542*G542 *C542/B542,  'Stap 1 - Jouw gegevens'!$C$22 * J542*G542 *$W$10/B542), \"\")","v":""},"",null,"","","","","",""]
[null,null,null,null,null,null,null,"",{"$f":"IF(AND(L543 = \"\", NOT(H543=\"\")),IF(C543< $W$10, (H543 *G543 * (C543/B543) * 'Stap 1 - Jouw gegevens'!$C$18), (H543 *G543 *'Stap 1 - Jouw gegevens'!$C$18 * ($W$10/B543))), \"\")","v":""},"",{"$f":"IF(AND(L543 = \"\", NOT(J543=\"\")),IF(C543< $W$10, 'Stap 1 - Jouw gegevens'!$C$22 *J543*G543 *C543/B543,  'Stap 1 - Jouw gegevens'!$C$22 * J543*G543 *$W$10/B543), \"\")","v":""},"",null,"","","","","",""]
[null,null,null,null,null,null,null,"",{"$f":"IF(AND(L544 = \"\", NOT(H544=\"\")),IF(C544< $W$10, (H544 *G544 * (C544/B544) * 'Stap 1 - Jouw gegevens'!$C$18), (H544 *G544 *'Stap 1 - Jouw gegevens'!$C$18 * ($W$10/B544))), \"\")","v":""},"",{"$f":"IF(AND(L544 = \"\", NOT(J544=\"\")),IF(C544< $W$10, 'Stap 1 - Jouw gegevens'!$C$22 *J544*G544 *C544/B544,  'Stap 1 - Jouw gegevens'!$C$22 * J544*G544 *$W$10/B544), \"\")","v":""},"",null,"","","","","",""]
[null,null,null,null,null,null,null,"",{"$f":"IF(AND(L545 = \"\", NOT(H545=\"\")),IF(C545< $W$10, (H545 *G545 * (C545/B545) * 'Stap 1 - Jouw gegevens'!$C$18), (H545 *G545 *'Stap 1 - Jouw gegevens'!$C$18 * ($W$10/B545))), \"\")","v":""},"",{"$f":"IF(AND(L545 = \"\", NOT(J545=\"\")),IF(C545< $W$10, 'Stap 1 - Jouw gegevens'!$C$22 *J545*G545 *C545/B545,  'Stap 1 - Jouw gegevens'!$C$22 * J545*G545 *$W$10/B545), \"\")","v":""},"",null,"","","","","",""]
[null,null,null,null,null,null,null,"",{"$f":"IF(AND(L546 = \"\", NOT(H546=\"\")),IF(C546< $W$10, (H546 *G546 * (C546/B546) * 'Stap 1 - Jouw gegevens'!$C$18), (H546 *G546 *'Stap 1 - Jouw gegevens'!$C$18 * ($W$10/B546))), \"\")","v":""},"",{"$f":"IF(AND(L546 = \"\", NOT(J546=\"\")),IF(C546< $W$10, 'Stap 1 - Jouw gegevens'!$C$22 *J546*G546 *C546/B546,  'Stap 1 - Jouw gegevens'!$C$22 * J546*G546 *$W$10/B546), \"\")","v":""},"",null,"","","","","",""]
[null,null,null,null,null,null,null,"",{"$f":"IF(AND(L547 = \"\", NOT(H547=\"\")),IF(C547< $W$10, (H547 *G547 * (C547/B547) * 'Stap 1 - Jouw gegevens'!$C$18), (H547 *G547 *'Stap 1 - Jouw gegevens'!$C$18 * ($W$10/B547))), \"\")","v":""},"",{"$f":"IF(AND(L547 = \"\", NOT(J547=\"\")),IF(C547< $W$10, 'Stap 1 - Jouw gegevens'!$C$22 *J547*G547 *C547/B547,  'Stap 1 - Jouw gegevens'!$C$22 * J547*G547 *$W$10/B547), \"\")","v":""},"",null,"","","","","",""]
[null,null,null,null,null,null,null,"",{"$f":"IF(AND(L548 = \"\", NOT(H548=\"\")),IF(C548< $W$10, (H548 *G548 * (C548/B548) * 'Stap 1 - Jouw gegevens'!$C$18), (H548 *G548 *'Stap 1 - Jouw gegevens'!$C$18 * ($W$10/B548))), \"\")","v":""},"",{"$f":"IF(AND(L548 = \"\", NOT(J548=\"\")),IF(C548< $W$10, 'Stap 1 - Jouw gegevens'!$C$22 *J548*G548 *C548/B548,  'Stap 1 - Jouw gegevens'!$C$22 * J548*G548 *$W$10/B548), \"\")","v":""},"",null,"","","","","",""]
[null,null,null,null,null,null,null,"",{"$f":"IF(AND(L549 = \"\", NOT(H549=\"\")),IF(C549< $W$10, (H549 *G549 * (C549/B549) * 'Stap 1 - Jouw gegevens'!$C$18), (H549 *G549 *'Stap 1 - Jouw gegevens'!$C$18 * ($W$10/B549))), \"\")","v":""},"",{"$f":"IF(AND(L549 = \"\", NOT(J549=\"\")),IF(C549< $W$10, 'Stap 1 - Jouw gegevens'!$C$22 *J549*G549 *C549/B549,  'Stap 1 - Jouw gegevens'!$C$22 * J549*G549 *$W$10/B549), \"\")","v":""},"",null,"","","","","",""]
[null,null,null,null,null,null,null,"",{"$f":"IF(AND(L550 = \"\", NOT(H550=\"\")),IF(C550< $W$10, (H550 *G550 * (C550/B550) * 'Stap 1 - Jouw gegevens'!$C$18), (H550 *G550 *'Stap 1 - Jouw gegevens'!$C$18 * ($W$10/B550))), \"\")","v":""},"",{"$f":"IF(AND(L550 = \"\", NOT(J550=\"\")),IF(C550< $W$10, 'Stap 1 - Jouw gegevens'!$C$22 *J550*G550 *C550/B550,  'Stap 1 - Jouw gegevens'!$C$22 * J550*G550 *$W$10/B550), \"\")","v":""},"",null,"","","","","",""]
[null,null,null,null,null,null,null,"",{"$f":"IF(AND(L551 = \"\", NOT(H551=\"\")),IF(C551< $W$10, (H551 *G551 * (C551/B551) * 'Stap 1 - Jouw gegevens'!$C$18), (H551 *G551 *'Stap 1 - Jouw gegevens'!$C$18 * ($W$10/B551))), \"\")","v":""},"",{"$f":"IF(AND(L551 = \"\", NOT(J551=\"\")),IF(C551< $W$10, 'Stap 1 - Jouw gegevens'!$C$22 *J551*G551 *C551/B551,  'Stap 1 - Jouw gegevens'!$C$22 * J551*G551 *$W$10/B551), \"\")","v":""},"",null,"","","","","",""]
[null,null,null,null,null,null,null,"",{"$f":"IF(AND(L552 = \"\", NOT(H552=\"\")),IF(C552< $W$10, (H552 *G552 * (C552/B552) * 'Stap 1 - Jouw gegevens'!$C$18), (H552 *G552 *'Stap 1 - Jouw gegevens'!$C$18 * ($W$10/B552))), \"\")","v":""},"",{"$f":"IF(AND(L552 = \"\", NOT(J552=\"\")),IF(C552< $W$10, 'Stap 1 - Jouw gegevens'!$C$22 *J552*G552 *C552/B552,  'Stap 1 - Jouw gegevens'!$C$22 * J552*G552 *$W$10/B552), \"\")","v":""},"",null,"","","","","",""]
[null,null,null,null,null,null,null,"",{"$f":"IF(AND(L553 = \"\", NOT(H553=\"\")),IF(C553< $W$10, (H553 *G553 * (C553/B553) * 'Stap 1 - Jouw gegevens'!$C$18), (H553 *G553 *'Stap 1 - Jouw gegevens'!$C$18 * ($W$10/B553))), \"\")","v":""},"",{"$f":"IF(AND(L553 = \"\", NOT(J553=\"\")),IF(C553< $W$10, 'Stap 1 - Jouw gegevens'!$C$22 *J553*G553 *C553/B553,  'Stap 1 - Jouw gegevens'!$C$22 * J553*G553 *$W$10/B553), \"\")","v":""},"",null,"","","","","",""]
[null,null,null,null,null,null,null,"",{"$f":"IF(AND(L554 = \"\", NOT(H554=\"\")),IF(C554< $W$10, (H554 *G554 * (C554/B554) * 'Stap 1 - Jouw gegevens'!$C$18), (H554 *G554 *'Stap 1 - Jouw gegevens'!$C$18 * ($W$10/B554))), \"\")","v":""},"",{"$f":"IF(AND(L554 = \"\", NOT(J554=\"\")),IF(C554< $W$10, 'Stap 1 - Jouw gegevens'!$C$22 *J554*G554 *C554/B554,  'Stap 1 - Jouw gegevens'!$C$22 * J554*G554 *$W$10/B554), \"\")","v":""},"",null,"","","","","",""]
[null,null,null,null,null,null,null,"",{"$f":"IF(AND(L555 = \"\", NOT(H555=\"\")),IF(C555< $W$10, (H555 *G555 * (C555/B555) * 'Stap 1 - Jouw gegevens'!$C$18), (H555 *G555 *'Stap 1 - Jouw gegevens'!$C$18 * ($W$10/B555))), \"\")","v":""},"",{"$f":"IF(AND(L555 = \"\", NOT(J555=\"\")),IF(C555< $W$10, 'Stap 1 - Jouw gegevens'!$C$22 *J555*G555 *C555/B555,  'Stap 1 - Jouw gegevens'!$C$22 * J555*G555 *$W$10/B555), \"\")","v":""},"",null,"","","","","",""]
[null,null,null,null,null,null,null,"",{"$f":"IF(AND(L556 = \"\", NOT(H556=\"\")),IF(C556< $W$10, (H556 *G556 * (C556/B556) * 'Stap 1 - Jouw gegevens'!$C$18), (H556 *G556 *'Stap 1 - Jouw gegevens'!$C$18 * ($W$10/B556))), \"\")","v":""},"",{"$f":"IF(AND(L556 = \"\", NOT(J556=\"\")),IF(C556< $W$10, 'Stap 1 - Jouw gegevens'!$C$22 *J556*G556 *C556/B556,  'Stap 1 - Jouw gegevens'!$C$22 * J556*G556 *$W$10/B556), \"\")","v":""},"",null,"","","","","",""]
[null,null,null,null,null,null,null,"",{"$f":"IF(AND(L557 = \"\", NOT(H557=\"\")),IF(C557< $W$10, (H557 *G557 * (C557/B557) * 'Stap 1 - Jouw gegevens'!$C$18), (H557 *G557 *'Stap 1 - Jouw gegevens'!$C$18 * ($W$10/B557))), \"\")","v":""},"",{"$f":"IF(AND(L557 = \"\", NOT(J557=\"\")),IF(C557< $W$10, 'Stap 1 - Jouw gegevens'!$C$22 *J557*G557 *C557/B557,  'Stap 1 - Jouw gegevens'!$C$22 * J557*G557 *$W$10/B557), \"\")","v":""},"",null,"","","","","",""]
[null,null,null,null,null,null,null,"",{"$f":"IF(AND(L558 = \"\", NOT(H558=\"\")),IF(C558< $W$10, (H558 *G558 * (C558/B558) * 'Stap 1 - Jouw gegevens'!$C$18), (H558 *G558 *'Stap 1 - Jouw gegevens'!$C$18 * ($W$10/B558))), \"\")","v":""},"",{"$f":"IF(AND(L558 = \"\", NOT(J558=\"\")),IF(C558< $W$10, 'Stap 1 - Jouw gegevens'!$C$22 *J558*G558 *C558/B558,  'Stap 1 - Jouw gegevens'!$C$22 * J558*G558 *$W$10/B558), \"\")","v":""},"",null,"","","","","",""]
[null,null,null,null,null,null,null,"",{"$f":"IF(AND(L559 = \"\", NOT(H559=\"\")),IF(C559< $W$10, (H559 *G559 * (C559/B559) * 'Stap 1 - Jouw gegevens'!$C$18), (H559 *G559 *'Stap 1 - Jouw gegevens'!$C$18 * ($W$10/B559))), \"\")","v":""},"",{"$f":"IF(AND(L559 = \"\", NOT(J559=\"\")),IF(C559< $W$10, 'Stap 1 - Jouw gegevens'!$C$22 *J559*G559 *C559/B559,  'Stap 1 - Jouw gegevens'!$C$22 * J559*G559 *$W$10/B559), \"\")","v":""},"",null,"","","","","",""]
[null,null,null,null,null,null,null,"",{"$f":"IF(AND(L560 = \"\", NOT(H560=\"\")),IF(C560< $W$10, (H560 *G560 * (C560/B560) * 'Stap 1 - Jouw gegevens'!$C$18), (H560 *G560 *'Stap 1 - Jouw gegevens'!$C$18 * ($W$10/B560))), \"\")","v":""},"",{"$f":"IF(AND(L560 = \"\", NOT(J560=\"\")),IF(C560< $W$10, 'Stap 1 - Jouw gegevens'!$C$22 *J560*G560 *C560/B560,  'Stap 1 - Jouw gegevens'!$C$22 * J560*G560 *$W$10/B560), \"\")","v":""},"",null,"","","","","",""]
[null,null,null,null,null,null,null,"",{"$f":"IF(AND(L561 = \"\", NOT(H561=\"\")),IF(C561< $W$10, (H561 *G561 * (C561/B561) * 'Stap 1 - Jouw gegevens'!$C$18), (H561 *G561 *'Stap 1 - Jouw gegevens'!$C$18 * ($W$10/B561))), \"\")","v":""},"",{"$f":"IF(AND(L561 = \"\", NOT(J561=\"\")),IF(C561< $W$10, 'Stap 1 - Jouw gegevens'!$C$22 *J561*G561 *C561/B561,  'Stap 1 - Jouw gegevens'!$C$22 * J561*G561 *$W$10/B561), \"\")","v":""},"",null,"","","","","",""]
[null,null,null,null,null,null,null,"",{"$f":"IF(AND(L562 = \"\", NOT(H562=\"\")),IF(C562< $W$10, (H562 *G562 * (C562/B562) * 'Stap 1 - Jouw gegevens'!$C$18), (H562 *G562 *'Stap 1 - Jouw gegevens'!$C$18 * ($W$10/B562))), \"\")","v":""},"",{"$f":"IF(AND(L562 = \"\", NOT(J562=\"\")),IF(C562< $W$10, 'Stap 1 - Jouw gegevens'!$C$22 *J562*G562 *C562/B562,  'Stap 1 - Jouw gegevens'!$C$22 * J562*G562 *$W$10/B562), \"\")","v":""},"",null,"","","","","",""]
[null,null,null,null,null,null,null,"",{"$f":"IF(AND(L563 = \"\", NOT(H563=\"\")),IF(C563< $W$10, (H563 *G563 * (C563/B563) * 'Stap 1 - Jouw gegevens'!$C$18), (H563 *G563 *'Stap 1 - Jouw gegevens'!$C$18 * ($W$10/B563))), \"\")","v":""},"",{"$f":"IF(AND(L563 = \"\", NOT(J563=\"\")),IF(C563< $W$10, 'Stap 1 - Jouw gegevens'!$C$22 *J563*G563 *C563/B563,  'Stap 1 - Jouw gegevens'!$C$22 * J563*G563 *$W$10/B563), \"\")","v":""},"",null,"","","","","",""]
[null,null,null,null,null,null,null,"",{"$f":"IF(AND(L564 = \"\", NOT(H564=\"\")),IF(C564< $W$10, (H564 *G564 * (C564/B564) * 'Stap 1 - Jouw gegevens'!$C$18), (H564 *G564 *'Stap 1 - Jouw gegevens'!$C$18 * ($W$10/B564))), \"\")","v":""},"",{"$f":"IF(AND(L564 = \"\", NOT(J564=\"\")),IF(C564< $W$10, 'Stap 1 - Jouw gegevens'!$C$22 *J564*G564 *C564/B564,  'Stap 1 - Jouw gegevens'!$C$22 * J564*G564 *$W$10/B564), \"\")","v":""},"",null,"","","","","",""]
[null,null,null,null,null,null,null,"",{"$f":"IF(AND(L565 = \"\", NOT(H565=\"\")),IF(C565< $W$10, (H565 *G565 * (C565/B565) * 'Stap 1 - Jouw gegevens'!$C$18), (H565 *G565 *'Stap 1 - Jouw gegevens'!$C$18 * ($W$10/B565))), \"\")","v":""},"",{"$f":"IF(AND(L565 = \"\", NOT(J565=\"\")),IF(C565< $W$10, 'Stap 1 - Jouw gegevens'!$C$22 *J565*G565 *C565/B565,  'Stap 1 - Jouw gegevens'!$C$22 * J565*G565 *$W$10/B565), \"\")","v":""},"",null,"","","","","",""]
[null,null,null,null,null,null,null,"",{"$f":"IF(AND(L566 = \"\", NOT(H566=\"\")),IF(C566< $W$10, (H566 *G566 * (C566/B566) * 'Stap 1 - Jouw gegevens'!$C$18), (H566 *G566 *'Stap 1 - Jouw gegevens'!$C$18 * ($W$10/B566))), \"\")","v":""},"",{"$f":"IF(AND(L566 = \"\", NOT(J566=\"\")),IF(C566< $W$10, 'Stap 1 - Jouw gegevens'!$C$22 *J566*G566 *C566/B566,  'Stap 1 - Jouw gegevens'!$C$22 * J566*G566 *$W$10/B566), \"\")","v":""},"",null,"","","","","",""]
[null,null,null,null,null,null,null,"",{"$f":"IF(AND(L567 = \"\", NOT(H567=\"\")),IF(C567< $W$10, (H567 *G567 * (C567/B567) * 'Stap 1 - Jouw gegevens'!$C$18), (H567 *G567 *'Stap 1 - Jouw gegevens'!$C$18 * ($W$10/B567))), \"\")","v":""},"",{"$f":"IF(AND(L567 = \"\", NOT(J567=\"\")),IF(C567< $W$10, 'Stap 1 - Jouw gegevens'!$C$22 *J567*G567 *C567/B567,  'Stap 1 - Jouw gegevens'!$C$22 * J567*G567 *$W$10/B567), \"\")","v":""},"",null,"","","","","",""]
[null,null,null,null,null,null,null,"",{"$f":"IF(AND(L568 = \"\", NOT(H568=\"\")),IF(C568< $W$10, (H568 *G568 * (C568/B568) * 'Stap 1 - Jouw gegevens'!$C$18), (H568 *G568 *'Stap 1 - Jouw gegevens'!$C$18 * ($W$10/B568))), \"\")","v":""},"",{"$f":"IF(AND(L568 = \"\", NOT(J568=\"\")),IF(C568< $W$10, 'Stap 1 - Jouw gegevens'!$C$22 *J568*G568 *C568/B568,  'Stap 1 - Jouw gegevens'!$C$22 * J568*G568 *$W$10/B568), \"\")","v":""},"",null,"","","","","",""]
[null,null,null,null,null,null,null,"",{"$f":"IF(AND(L569 = \"\", NOT(H569=\"\")),IF(C569< $W$10, (H569 *G569 * (C569/B569) * 'Stap 1 - Jouw gegevens'!$C$18), (H569 *G569 *'Stap 1 - Jouw gegevens'!$C$18 * ($W$10/B569))), \"\")","v":""},"",{"$f":"IF(AND(L569 = \"\", NOT(J569=\"\")),IF(C569< $W$10, 'Stap 1 - Jouw gegevens'!$C$22 *J569*G569 *C569/B569,  'Stap 1 - Jouw gegevens'!$C$22 * J569*G569 *$W$10/B569), \"\")","v":""},"",null,"","","","","",""]
[null,null,null,null,null,null,null,"",{"$f":"IF(AND(L570 = \"\", NOT(H570=\"\")),IF(C570< $W$10, (H570 *G570 * (C570/B570) * 'Stap 1 - Jouw gegevens'!$C$18), (H570 *G570 *'Stap 1 - Jouw gegevens'!$C$18 * ($W$10/B570))), \"\")","v":""},"",{"$f":"IF(AND(L570 = \"\", NOT(J570=\"\")),IF(C570< $W$10, 'Stap 1 - Jouw gegevens'!$C$22 *J570*G570 *C570/B570,  'Stap 1 - Jouw gegevens'!$C$22 * J570*G570 *$W$10/B570), \"\")","v":""},"",null,"","","","","",""]
[null,null,null,null,null,null,null,"",{"$f":"IF(AND(L571 = \"\", NOT(H571=\"\")),IF(C571< $W$10, (H571 *G571 * (C571/B571) * 'Stap 1 - Jouw gegevens'!$C$18), (H571 *G571 *'Stap 1 - Jouw gegevens'!$C$18 * ($W$10/B571))), \"\")","v":""},"",{"$f":"IF(AND(L571 = \"\", NOT(J571=\"\")),IF(C571< $W$10, 'Stap 1 - Jouw gegevens'!$C$22 *J571*G571 *C571/B571,  'Stap 1 - Jouw gegevens'!$C$22 * J571*G571 *$W$10/B571), \"\")","v":""},"",null,"","","","","",""]
[null,null,null,null,null,null,null,"",{"$f":"IF(AND(L572 = \"\", NOT(H572=\"\")),IF(C572< $W$10, (H572 *G572 * (C572/B572) * 'Stap 1 - Jouw gegevens'!$C$18), (H572 *G572 *'Stap 1 - Jouw gegevens'!$C$18 * ($W$10/B572))), \"\")","v":""},"",{"$f":"IF(AND(L572 = \"\", NOT(J572=\"\")),IF(C572< $W$10, 'Stap 1 - Jouw gegevens'!$C$22 *J572*G572 *C572/B572,  'Stap 1 - Jouw gegevens'!$C$22 * J572*G572 *$W$10/B572), \"\")","v":""},"",null,"","","","","",""]
[null,null,null,null,null,null,null,"",{"$f":"IF(AND(L573 = \"\", NOT(H573=\"\")),IF(C573< $W$10, (H573 *G573 * (C573/B573) * 'Stap 1 - Jouw gegevens'!$C$18), (H573 *G573 *'Stap 1 - Jouw gegevens'!$C$18 * ($W$10/B573))), \"\")","v":""},"",{"$f":"IF(AND(L573 = \"\", NOT(J573=\"\")),IF(C573< $W$10, 'Stap 1 - Jouw gegevens'!$C$22 *J573*G573 *C573/B573,  'Stap 1 - Jouw gegevens'!$C$22 * J573*G573 *$W$10/B573), \"\")","v":""},"",null,"","","","","",""]
[null,null,null,null,null,null,null,"",{"$f":"IF(AND(L574 = \"\", NOT(H574=\"\")),IF(C574< $W$10, (H574 *G574 * (C574/B574) * 'Stap 1 - Jouw gegevens'!$C$18), (H574 *G574 *'Stap 1 - Jouw gegevens'!$C$18 * ($W$10/B574))), \"\")","v":""},"",{"$f":"IF(AND(L574 = \"\", NOT(J574=\"\")),IF(C574< $W$10, 'Stap 1 - Jouw gegevens'!$C$22 *J574*G574 *C574/B574,  'Stap 1 - Jouw gegevens'!$C$22 * J574*G574 *$W$10/B574), \"\")","v":""},"",null,"","","","","",""]
[null,null,null,null,null,null,null,"",{"$f":"IF(AND(L575 = \"\", NOT(H575=\"\")),IF(C575< $W$10, (H575 *G575 * (C575/B575) * 'Stap 1 - Jouw gegevens'!$C$18), (H575 *G575 *'Stap 1 - Jouw gegevens'!$C$18 * ($W$10/B575))), \"\")","v":""},"",{"$f":"IF(AND(L575 = \"\", NOT(J575=\"\")),IF(C575< $W$10, 'Stap 1 - Jouw gegevens'!$C$22 *J575*G575 *C575/B575,  'Stap 1 - Jouw gegevens'!$C$22 * J575*G575 *$W$10/B575), \"\")","v":""},"",null,"","","","","",""]
[null,null,null,null,null,null,null,"",{"$f":"IF(AND(L576 = \"\", NOT(H576=\"\")),IF(C576< $W$10, (H576 *G576 * (C576/B576) * 'Stap 1 - Jouw gegevens'!$C$18), (H576 *G576 *'Stap 1 - Jouw gegevens'!$C$18 * ($W$10/B576))), \"\")","v":""},"",{"$f":"IF(AND(L576 = \"\", NOT(J576=\"\")),IF(C576< $W$10, 'Stap 1 - Jouw gegevens'!$C$22 *J576*G576 *C576/B576,  'Stap 1 - Jouw gegevens'!$C$22 * J576*G576 *$W$10/B576), \"\")","v":""},"",null,"","","","","",""]
[null,null,null,null,null,null,null,"",{"$f":"IF(AND(L577 = \"\", NOT(H577=\"\")),IF(C577< $W$10, (H577 *G577 * (C577/B577) * 'Stap 1 - Jouw gegevens'!$C$18), (H577 *G577 *'Stap 1 - Jouw gegevens'!$C$18 * ($W$10/B577))), \"\")","v":""},"",{"$f":"IF(AND(L577 = \"\", NOT(J577=\"\")),IF(C577< $W$10, 'Stap 1 - Jouw gegevens'!$C$22 *J577*G577 *C577/B577,  'Stap 1 - Jouw gegevens'!$C$22 * J577*G577 *$W$10/B577), \"\")","v":""},"",null,"","","","","",""]
[null,null,null,null,null,null,null,"",{"$f":"IF(AND(L578 = \"\", NOT(H578=\"\")),IF(C578< $W$10, (H578 *G578 * (C578/B578) * 'Stap 1 - Jouw gegevens'!$C$18), (H578 *G578 *'Stap 1 - Jouw gegevens'!$C$18 * ($W$10/B578))), \"\")","v":""},"",{"$f":"IF(AND(L578 = \"\", NOT(J578=\"\")),IF(C578< $W$10, 'Stap 1 - Jouw gegevens'!$C$22 *J578*G578 *C578/B578,  'Stap 1 - Jouw gegevens'!$C$22 * J578*G578 *$W$10/B578), \"\")","v":""},"",null,"","","","","",""]
[null,null,null,null,null,null,null,"",{"$f":"IF(AND(L579 = \"\", NOT(H579=\"\")),IF(C579< $W$10, (H579 *G579 * (C579/B579) * 'Stap 1 - Jouw gegevens'!$C$18), (H579 *G579 *'Stap 1 - Jouw gegevens'!$C$18 * ($W$10/B579))), \"\")","v":""},"",{"$f":"IF(AND(L579 = \"\", NOT(J579=\"\")),IF(C579< $W$10, 'Stap 1 - Jouw gegevens'!$C$22 *J579*G579 *C579/B579,  'Stap 1 - Jouw gegevens'!$C$22 * J579*G579 *$W$10/B579), \"\")","v":""},"",null,"","","","","",""]
[null,null,null,null,null,null,null,"",{"$f":"IF(AND(L580 = \"\", NOT(H580=\"\")),IF(C580< $W$10, (H580 *G580 * (C580/B580) * 'Stap 1 - Jouw gegevens'!$C$18), (H580 *G580 *'Stap 1 - Jouw gegevens'!$C$18 * ($W$10/B580))), \"\")","v":""},"",{"$f":"IF(AND(L580 = \"\", NOT(J580=\"\")),IF(C580< $W$10, 'Stap 1 - Jouw gegevens'!$C$22 *J580*G580 *C580/B580,  'Stap 1 - Jouw gegevens'!$C$22 * J580*G580 *$W$10/B580), \"\")","v":""},"",null,"","","","","",""]
[null,null,null,null,null,null,null,"",{"$f":"IF(AND(L581 = \"\", NOT(H581=\"\")),IF(C581< $W$10, (H581 *G581 * (C581/B581) * 'Stap 1 - Jouw gegevens'!$C$18), (H581 *G581 *'Stap 1 - Jouw gegevens'!$C$18 * ($W$10/B581))), \"\")","v":""},"",{"$f":"IF(AND(L581 = \"\", NOT(J581=\"\")),IF(C581< $W$10, 'Stap 1 - Jouw gegevens'!$C$22 *J581*G581 *C581/B581,  'Stap 1 - Jouw gegevens'!$C$22 * J581*G581 *$W$10/B581), \"\")","v":""},"",null,"","","","","",""]
[null,null,null,null,null,null,null,"",{"$f":"IF(AND(L582 = \"\", NOT(H582=\"\")),IF(C582< $W$10, (H582 *G582 * (C582/B582) * 'Stap 1 - Jouw gegevens'!$C$18), (H582 *G582 *'Stap 1 - Jouw gegevens'!$C$18 * ($W$10/B582))), \"\")","v":""},"",{"$f":"IF(AND(L582 = \"\", NOT(J582=\"\")),IF(C582< $W$10, 'Stap 1 - Jouw gegevens'!$C$22 *J582*G582 *C582/B582,  'Stap 1 - Jouw gegevens'!$C$22 * J582*G582 *$W$10/B582), \"\")","v":""},"",null,"","","","","",""]
[null,null,null,null,null,null,null,"",{"$f":"IF(AND(L583 = \"\", NOT(H583=\"\")),IF(C583< $W$10, (H583 *G583 * (C583/B583) * 'Stap 1 - Jouw gegevens'!$C$18), (H583 *G583 *'Stap 1 - Jouw gegevens'!$C$18 * ($W$10/B583))), \"\")","v":""},"",{"$f":"IF(AND(L583 = \"\", NOT(J583=\"\")),IF(C583< $W$10, 'Stap 1 - Jouw gegevens'!$C$22 *J583*G583 *C583/B583,  'Stap 1 - Jouw gegevens'!$C$22 * J583*G583 *$W$10/B583), \"\")","v":""},"",null,"","","","","",""]
[null,null,null,null,null,null,null,{"$f":"P584","v":""},{"$f":"IF(AND(L584 = \"\", NOT(H584=\"\")),IF(C584< $W$10, (H584 *G584 * (C584/B584) * 'Stap 1 - Jouw gegevens'!$C$18), (H584 *G584 *'Stap 1 - Jouw gegevens'!$C$18 * ($W$10/B584))), \"\")","v":""},{"$f":"S584","v":""},{"$f":"IF(AND(L584 = \"\", NOT(J584=\"\")),IF(C584< $W$10, 'Stap 1 - Jouw gegevens'!$C$22 *J584*G584 *C584/B584,  'Stap 1 - Jouw gegevens'!$C$22 * J584*G584 *$W$10/B584), \"\")","v":""},{"$f":"IF(ISBLANK(A584), \"\", CONCATENATE(IF(Z584 = \"X\", $AH$5, \"\"), IF( AB584 = \"X\", $AH$7, \"\"), IF( AC584 = \"X\", $AH$8, \"\"), IF( AD584 = \"X\", $AH$9, \"\"), IF( AE584 = \"X\", $AH$10, \"\"),  IF( AF584 = \"X\", $AH$11, \"\")))","v":""},null,{"$f":"IF(ISBLANK(D584),\"\",NETWORKDAYS(D584,F584))","v":""},{"$f":"IFERROR( IF(N584>$Y$5,NETWORKDAYS(E584, (Q584 - 1)), NETWORKDAYS(E584,(F584-1))), \"\")","v":""},{"$f":"IF(O584<= 0, \"\", O584)","v":""},{"$f":"IF(ISBLANK(D584),\"\",DATE(YEAR(D584)+1,MONTH(D584),DAY(D584)))","v":""},{"$f":"IFERROR(IF(N584 > $Y$5, IF(E584>=Q584,NETWORKDAYS(E584, (F584-1)), NETWORKDAYS(Q584, (F584-1))), \"\"), \"\")","v":""},{"$f":"IF(R584=\"\", \"\",  IF(R584 >= $Y$5, $Y$5,  R584))","v":""}]
[null,null,null,null,null,null,null,"",{"$f":"IF(AND(L585 = \"\", NOT(H585=\"\")),IF(C585< $W$10, (H585 *G585 * (C585/B585) * 'Stap 1 - Jouw gegevens'!$C$18), (H585 *G585 *'Stap 1 - Jouw gegevens'!$C$18 * ($W$10/B585))), \"\")","v":""},"",{"$f":"IF(AND(L585 = \"\", NOT(J585=\"\")),IF(C585< $W$10, 'Stap 1 - Jouw gegevens'!$C$22 *J585*G585 *C585/B585,  'Stap 1 - Jouw gegevens'!$C$22 * J585*G585 *$W$10/B585), \"\")","v":""},"",null,"","","","","",""]
[null,null,null,null,null,null,null,"",{"$f":"IF(AND(L586 = \"\", NOT(H586=\"\")),IF(C586< $W$10, (H586 *G586 * (C586/B586) * 'Stap 1 - Jouw gegevens'!$C$18), (H586 *G586 *'Stap 1 - Jouw gegevens'!$C$18 * ($W$10/B586))), \"\")","v":""},"",{"$f":"IF(AND(L586 = \"\", NOT(J586=\"\")),IF(C586< $W$10, 'Stap 1 - Jouw gegevens'!$C$22 *J586*G586 *C586/B586,  'Stap 1 - Jouw gegevens'!$C$22 * J586*G586 *$W$10/B586), \"\")","v":""},"",null,"","","","","",""]
[null,null,null,null,null,null,null,"",{"$f":"IF(AND(L587 = \"\", NOT(H587=\"\")),IF(C587< $W$10, (H587 *G587 * (C587/B587) * 'Stap 1 - Jouw gegevens'!$C$18), (H587 *G587 *'Stap 1 - Jouw gegevens'!$C$18 * ($W$10/B587))), \"\")","v":""},"",{"$f":"IF(AND(L587 = \"\", NOT(J587=\"\")),IF(C587< $W$10, 'Stap 1 - Jouw gegevens'!$C$22 *J587*G587 *C587/B587,  'Stap 1 - Jouw gegevens'!$C$22 * J587*G587 *$W$10/B587), \"\")","v":""},"",null,"","","","","",""]
[null,null,null,null,null,null,null,"",{"$f":"IF(AND(L588 = \"\", NOT(H588=\"\")),IF(C588< $W$10, (H588 *G588 * (C588/B588) * 'Stap 1 - Jouw gegevens'!$C$18), (H588 *G588 *'Stap 1 - Jouw gegevens'!$C$18 * ($W$10/B588))), \"\")","v":""},"",{"$f":"IF(AND(L588 = \"\", NOT(J588=\"\")),IF(C588< $W$10, 'Stap 1 - Jouw gegevens'!$C$22 *J588*G588 *C588/B588,  'Stap 1 - Jouw gegevens'!$C$22 * J588*G588 *$W$10/B588), \"\")","v":""},"",null,"","","","","",""]
[null,null,null,null,null,null,null,"",{"$f":"IF(AND(L589 = \"\", NOT(H589=\"\")),IF(C589< $W$10, (H589 *G589 * (C589/B589) * 'Stap 1 - Jouw gegevens'!$C$18), (H589 *G589 *'Stap 1 - Jouw gegevens'!$C$18 * ($W$10/B589))), \"\")","v":""},"",{"$f":"IF(AND(L589 = \"\", NOT(J589=\"\")),IF(C589< $W$10, 'Stap 1 - Jouw gegevens'!$C$22 *J589*G589 *C589/B589,  'Stap 1 - Jouw gegevens'!$C$22 * J589*G589 *$W$10/B589), \"\")","v":""},"",null,"","","","","",""]
[null,null,null,null,null,null,null,"",{"$f":"IF(AND(L590 = \"\", NOT(H590=\"\")),IF(C590< $W$10, (H590 *G590 * (C590/B590) * 'Stap 1 - Jouw gegevens'!$C$18), (H590 *G590 *'Stap 1 - Jouw gegevens'!$C$18 * ($W$10/B590))), \"\")","v":""},"",{"$f":"IF(AND(L590 = \"\", NOT(J590=\"\")),IF(C590< $W$10, 'Stap 1 - Jouw gegevens'!$C$22 *J590*G590 *C590/B590,  'Stap 1 - Jouw gegevens'!$C$22 * J590*G590 *$W$10/B590), \"\")","v":""},"",null,"","","","","",""]
[null,null,null,null,null,null,null,"",{"$f":"IF(AND(L591 = \"\", NOT(H591=\"\")),IF(C591< $W$10, (H591 *G591 * (C591/B591) * 'Stap 1 - Jouw gegevens'!$C$18), (H591 *G591 *'Stap 1 - Jouw gegevens'!$C$18 * ($W$10/B591))), \"\")","v":""},"",{"$f":"IF(AND(L591 = \"\", NOT(J591=\"\")),IF(C591< $W$10, 'Stap 1 - Jouw gegevens'!$C$22 *J591*G591 *C591/B591,  'Stap 1 - Jouw gegevens'!$C$22 * J591*G591 *$W$10/B591), \"\")","v":""},"",null,"","","","","",""]
[null,null,null,null,null,null,null,"",{"$f":"IF(AND(L592 = \"\", NOT(H592=\"\")),IF(C592< $W$10, (H592 *G592 * (C592/B592) * 'Stap 1 - Jouw gegevens'!$C$18), (H592 *G592 *'Stap 1 - Jouw gegevens'!$C$18 * ($W$10/B592))), \"\")","v":""},"",{"$f":"IF(AND(L592 = \"\", NOT(J592=\"\")),IF(C592< $W$10, 'Stap 1 - Jouw gegevens'!$C$22 *J592*G592 *C592/B592,  'Stap 1 - Jouw gegevens'!$C$22 * J592*G592 *$W$10/B592), \"\")","v":""},"",null,"","","","","",""]
[null,null,null,null,null,null,null,"",{"$f":"IF(AND(L593 = \"\", NOT(H593=\"\")),IF(C593< $W$10, (H593 *G593 * (C593/B593) * 'Stap 1 - Jouw gegevens'!$C$18), (H593 *G593 *'Stap 1 - Jouw gegevens'!$C$18 * ($W$10/B593))), \"\")","v":""},"",{"$f":"IF(AND(L593 = \"\", NOT(J593=\"\")),IF(C593< $W$10, 'Stap 1 - Jouw gegevens'!$C$22 *J593*G593 *C593/B593,  'Stap 1 - Jouw gegevens'!$C$22 * J593*G593 *$W$10/B593), \"\")","v":""},"",null,"","","","","",""]
[null,null,null,null,null,null,null,"",{"$f":"IF(AND(L594 = \"\", NOT(H594=\"\")),IF(C594< $W$10, (H594 *G594 * (C594/B594) * 'Stap 1 - Jouw gegevens'!$C$18), (H594 *G594 *'Stap 1 - Jouw gegevens'!$C$18 * ($W$10/B594))), \"\")","v":""},"",{"$f":"IF(AND(L594 = \"\", NOT(J594=\"\")),IF(C594< $W$10, 'Stap 1 - Jouw gegevens'!$C$22 *J594*G594 *C594/B594,  'Stap 1 - Jouw gegevens'!$C$22 * J594*G594 *$W$10/B594), \"\")","v":""},"",null,"","","","","",""]
[null,null,null,null,null,null,null,"",{"$f":"IF(AND(L595 = \"\", NOT(H595=\"\")),IF(C595< $W$10, (H595 *G595 * (C595/B595) * 'Stap 1 - Jouw gegevens'!$C$18), (H595 *G595 *'Stap 1 - Jouw gegevens'!$C$18 * ($W$10/B595))), \"\")","v":""},"",{"$f":"IF(AND(L595 = \"\", NOT(J595=\"\")),IF(C595< $W$10, 'Stap 1 - Jouw gegevens'!$C$22 *J595*G595 *C595/B595,  'Stap 1 - Jouw gegevens'!$C$22 * J595*G595 *$W$10/B595), \"\")","v":""},"",null,"","","","","",""]
[null,null,null,null,null,null,null,"",{"$f":"IF(AND(L596 = \"\", NOT(H596=\"\")),IF(C596< $W$10, (H596 *G596 * (C596/B596) * 'Stap 1 - Jouw gegevens'!$C$18), (H596 *G596 *'Stap 1 - Jouw gegevens'!$C$18 * ($W$10/B596))), \"\")","v":""},"",{"$f":"IF(AND(L596 = \"\", NOT(J596=\"\")),IF(C596< $W$10, 'Stap 1 - Jouw gegevens'!$C$22 *J596*G596 *C596/B596,  'Stap 1 - Jouw gegevens'!$C$22 * J596*G596 *$W$10/B596), \"\")","v":""},"",null,"","","","","",""]
[null,null,null,null,null,null,null,"",{"$f":"IF(AND(L597 = \"\", NOT(H597=\"\")),IF(C597< $W$10, (H597 *G597 * (C597/B597) * 'Stap 1 - Jouw gegevens'!$C$18), (H597 *G597 *'Stap 1 - Jouw gegevens'!$C$18 * ($W$10/B597))), \"\")","v":""},"",{"$f":"IF(AND(L597 = \"\", NOT(J597=\"\")),IF(C597< $W$10, 'Stap 1 - Jouw gegevens'!$C$22 *J597*G597 *C597/B597,  'Stap 1 - Jouw gegevens'!$C$22 * J597*G597 *$W$10/B597), \"\")","v":""},"",null,"","","","","",""]
[null,null,null,null,null,null,null,"",{"$f":"IF(AND(L598 = \"\", NOT(H598=\"\")),IF(C598< $W$10, (H598 *G598 * (C598/B598) * 'Stap 1 - Jouw gegevens'!$C$18), (H598 *G598 *'Stap 1 - Jouw gegevens'!$C$18 * ($W$10/B598))), \"\")","v":""},"",{"$f":"IF(AND(L598 = \"\", NOT(J598=\"\")),IF(C598< $W$10, 'Stap 1 - Jouw gegevens'!$C$22 *J598*G598 *C598/B598,  'Stap 1 - Jouw gegevens'!$C$22 * J598*G598 *$W$10/B598), \"\")","v":""},"",null,"","","","","",""]
[null,null,null,null,null,null,null,"",{"$f":"IF(AND(L599 = \"\", NOT(H599=\"\")),IF(C599< $W$10, (H599 *G599 * (C599/B599) * 'Stap 1 - Jouw gegevens'!$C$18), (H599 *G599 *'Stap 1 - Jouw gegevens'!$C$18 * ($W$10/B599))), \"\")","v":""},"",{"$f":"IF(AND(L599 = \"\", NOT(J599=\"\")),IF(C599< $W$10, 'Stap 1 - Jouw gegevens'!$C$22 *J599*G599 *C599/B599,  'Stap 1 - Jouw gegevens'!$C$22 * J599*G599 *$W$10/B599), \"\")","v":""},"",null,"","","","","",""]
[null,null,null,null,null,null,null,"",{"$f":"IF(AND(L600 = \"\", NOT(H600=\"\")),IF(C600< $W$10, (H600 *G600 * (C600/B600) * 'Stap 1 - Jouw gegevens'!$C$18), (H600 *G600 *'Stap 1 - Jouw gegevens'!$C$18 * ($W$10/B600))), \"\")","v":""},"",{"$f":"IF(AND(L600 = \"\", NOT(J600=\"\")),IF(C600< $W$10, 'Stap 1 - Jouw gegevens'!$C$22 *J600*G600 *C600/B600,  'Stap 1 - Jouw gegevens'!$C$22 * J600*G600 *$W$10/B600), \"\")","v":""},"",null,"","","","","",""]
[null,null,null,null,null,null,null,"",{"$f":"IF(AND(L601 = \"\", NOT(H601=\"\")),IF(C601< $W$10, (H601 *G601 * (C601/B601) * 'Stap 1 - Jouw gegevens'!$C$18), (H601 *G601 *'Stap 1 - Jouw gegevens'!$C$18 * ($W$10/B601))), \"\")","v":""},"",{"$f":"IF(AND(L601 = \"\", NOT(J601=\"\")),IF(C601< $W$10, 'Stap 1 - Jouw gegevens'!$C$22 *J601*G601 *C601/B601,  'Stap 1 - Jouw gegevens'!$C$22 * J601*G601 *$W$10/B601), \"\")","v":""},"",null,"","","","","",""]
[null,null,null,null,null,null,null,"",{"$f":"IF(AND(L602 = \"\", NOT(H602=\"\")),IF(C602< $W$10, (H602 *G602 * (C602/B602) * 'Stap 1 - Jouw gegevens'!$C$18), (H602 *G602 *'Stap 1 - Jouw gegevens'!$C$18 * ($W$10/B602))), \"\")","v":""},"",{"$f":"IF(AND(L602 = \"\", NOT(J602=\"\")),IF(C602< $W$10, 'Stap 1 - Jouw gegevens'!$C$22 *J602*G602 *C602/B602,  'Stap 1 - Jouw gegevens'!$C$22 * J602*G602 *$W$10/B602), \"\")","v":""},"",null,"","","","","",""]
[null,null,null,null,null,null,null,"",{"$f":"IF(AND(L603 = \"\", NOT(H603=\"\")),IF(C603< $W$10, (H603 *G603 * (C603/B603) * 'Stap 1 - Jouw gegevens'!$C$18), (H603 *G603 *'Stap 1 - Jouw gegevens'!$C$18 * ($W$10/B603))), \"\")","v":""},"",{"$f":"IF(AND(L603 = \"\", NOT(J603=\"\")),IF(C603< $W$10, 'Stap 1 - Jouw gegevens'!$C$22 *J603*G603 *C603/B603,  'Stap 1 - Jouw gegevens'!$C$22 * J603*G603 *$W$10/B603), \"\")","v":""},"",null,"","","","","",""]
[null,null,null,null,null,null,null,"",{"$f":"IF(AND(L604 = \"\", NOT(H604=\"\")),IF(C604< $W$10, (H604 *G604 * (C604/B604) * 'Stap 1 - Jouw gegevens'!$C$18), (H604 *G604 *'Stap 1 - Jouw gegevens'!$C$18 * ($W$10/B604))), \"\")","v":""},"",{"$f":"IF(AND(L604 = \"\", NOT(J604=\"\")),IF(C604< $W$10, 'Stap 1 - Jouw gegevens'!$C$22 *J604*G604 *C604/B604,  'Stap 1 - Jouw gegevens'!$C$22 * J604*G604 *$W$10/B604), \"\")","v":""},"",null,"","","","","",""]
[null,null,null,null,null,null,null,"",{"$f":"IF(AND(L605 = \"\", NOT(H605=\"\")),IF(C605< $W$10, (H605 *G605 * (C605/B605) * 'Stap 1 - Jouw gegevens'!$C$18), (H605 *G605 *'Stap 1 - Jouw gegevens'!$C$18 * ($W$10/B605))), \"\")","v":""},"",{"$f":"IF(AND(L605 = \"\", NOT(J605=\"\")),IF(C605< $W$10, 'Stap 1 - Jouw gegevens'!$C$22 *J605*G605 *C605/B605,  'Stap 1 - Jouw gegevens'!$C$22 * J605*G605 *$W$10/B605), \"\")","v":""},"",null,"","","","","",""]
[null,null,null,null,null,null,null,"",{"$f":"IF(AND(L606 = \"\", NOT(H606=\"\")),IF(C606< $W$10, (H606 *G606 * (C606/B606) * 'Stap 1 - Jouw gegevens'!$C$18), (H606 *G606 *'Stap 1 - Jouw gegevens'!$C$18 * ($W$10/B606))), \"\")","v":""},"",{"$f":"IF(AND(L606 = \"\", NOT(J606=\"\")),IF(C606< $W$10, 'Stap 1 - Jouw gegevens'!$C$22 *J606*G606 *C606/B606,  'Stap 1 - Jouw gegevens'!$C$22 * J606*G606 *$W$10/B606), \"\")","v":""},"",null,"","","","","",""]
[null,null,null,null,null,null,null,"",{"$f":"IF(AND(L607 = \"\", NOT(H607=\"\")),IF(C607< $W$10, (H607 *G607 * (C607/B607) * 'Stap 1 - Jouw gegevens'!$C$18), (H607 *G607 *'Stap 1 - Jouw gegevens'!$C$18 * ($W$10/B607))), \"\")","v":""},"",{"$f":"IF(AND(L607 = \"\", NOT(J607=\"\")),IF(C607< $W$10, 'Stap 1 - Jouw gegevens'!$C$22 *J607*G607 *C607/B607,  'Stap 1 - Jouw gegevens'!$C$22 * J607*G607 *$W$10/B607), \"\")","v":""},"",null,"","","","","",""]
[null,null,null,null,null,null,null,"",{"$f":"IF(AND(L608 = \"\", NOT(H608=\"\")),IF(C608< $W$10, (H608 *G608 * (C608/B608) * 'Stap 1 - Jouw gegevens'!$C$18), (H608 *G608 *'Stap 1 - Jouw gegevens'!$C$18 * ($W$10/B608))), \"\")","v":""},"",{"$f":"IF(AND(L608 = \"\", NOT(J608=\"\")),IF(C608< $W$10, 'Stap 1 - Jouw gegevens'!$C$22 *J608*G608 *C608/B608,  'Stap 1 - Jouw gegevens'!$C$22 * J608*G608 *$W$10/B608), \"\")","v":""},"",null,"","","","","",""]
[null,null,null,null,null,null,null,"",{"$f":"IF(AND(L609 = \"\", NOT(H609=\"\")),IF(C609< $W$10, (H609 *G609 * (C609/B609) * 'Stap 1 - Jouw gegevens'!$C$18), (H609 *G609 *'Stap 1 - Jouw gegevens'!$C$18 * ($W$10/B609))), \"\")","v":""},"",{"$f":"IF(AND(L609 = \"\", NOT(J609=\"\")),IF(C609< $W$10, 'Stap 1 - Jouw gegevens'!$C$22 *J609*G609 *C609/B609,  'Stap 1 - Jouw gegevens'!$C$22 * J609*G609 *$W$10/B609), \"\")","v":""},"",null,"","","","","",""]
[null,null,null,null,null,null,null,"",{"$f":"IF(AND(L610 = \"\", NOT(H610=\"\")),IF(C610< $W$10, (H610 *G610 * (C610/B610) * 'Stap 1 - Jouw gegevens'!$C$18), (H610 *G610 *'Stap 1 - Jouw gegevens'!$C$18 * ($W$10/B610))), \"\")","v":""},"",{"$f":"IF(AND(L610 = \"\", NOT(J610=\"\")),IF(C610< $W$10, 'Stap 1 - Jouw gegevens'!$C$22 *J610*G610 *C610/B610,  'Stap 1 - Jouw gegevens'!$C$22 * J610*G610 *$W$10/B610), \"\")","v":""},"",null,"","","","","",""]
[null,null,null,null,null,null,null,"",{"$f":"IF(AND(L611 = \"\", NOT(H611=\"\")),IF(C611< $W$10, (H611 *G611 * (C611/B611) * 'Stap 1 - Jouw gegevens'!$C$18), (H611 *G611 *'Stap 1 - Jouw gegevens'!$C$18 * ($W$10/B611))), \"\")","v":""},"",{"$f":"IF(AND(L611 = \"\", NOT(J611=\"\")),IF(C611< $W$10, 'Stap 1 - Jouw gegevens'!$C$22 *J611*G611 *C611/B611,  'Stap 1 - Jouw gegevens'!$C$22 * J611*G611 *$W$10/B611), \"\")","v":""},"",null,"","","","","",""]
[null,null,null,null,null,null,null,"",{"$f":"IF(AND(L612 = \"\", NOT(H612=\"\")),IF(C612< $W$10, (H612 *G612 * (C612/B612) * 'Stap 1 - Jouw gegevens'!$C$18), (H612 *G612 *'Stap 1 - Jouw gegevens'!$C$18 * ($W$10/B612))), \"\")","v":""},"",{"$f":"IF(AND(L612 = \"\", NOT(J612=\"\")),IF(C612< $W$10, 'Stap 1 - Jouw gegevens'!$C$22 *J612*G612 *C612/B612,  'Stap 1 - Jouw gegevens'!$C$22 * J612*G612 *$W$10/B612), \"\")","v":""},"",null,"","","","","",""]
[null,null,null,null,null,null,null,"",{"$f":"IF(AND(L613 = \"\", NOT(H613=\"\")),IF(C613< $W$10, (H613 *G613 * (C613/B613) * 'Stap 1 - Jouw gegevens'!$C$18), (H613 *G613 *'Stap 1 - Jouw gegevens'!$C$18 * ($W$10/B613))), \"\")","v":""},"",{"$f":"IF(AND(L613 = \"\", NOT(J613=\"\")),IF(C613< $W$10, 'Stap 1 - Jouw gegevens'!$C$22 *J613*G613 *C613/B613,  'Stap 1 - Jouw gegevens'!$C$22 * J613*G613 *$W$10/B613), \"\")","v":""},"",null,"","","","","",""]
[null,null,null,null,null,null,null,"",{"$f":"IF(AND(L614 = \"\", NOT(H614=\"\")),IF(C614< $W$10, (H614 *G614 * (C614/B614) * 'Stap 1 - Jouw gegevens'!$C$18), (H614 *G614 *'Stap 1 - Jouw gegevens'!$C$18 * ($W$10/B614))), \"\")","v":""},"",{"$f":"IF(AND(L614 = \"\", NOT(J614=\"\")),IF(C614< $W$10, 'Stap 1 - Jouw gegevens'!$C$22 *J614*G614 *C614/B614,  'Stap 1 - Jouw gegevens'!$C$22 * J614*G614 *$W$10/B614), \"\")","v":""},"",null,"","","","","",""]
[null,null,null,null,null,null,null,"",{"$f":"IF(AND(L615 = \"\", NOT(H615=\"\")),IF(C615< $W$10, (H615 *G615 * (C615/B615) * 'Stap 1 - Jouw gegevens'!$C$18), (H615 *G615 *'Stap 1 - Jouw gegevens'!$C$18 * ($W$10/B615))), \"\")","v":""},"",{"$f":"IF(AND(L615 = \"\", NOT(J615=\"\")),IF(C615< $W$10, 'Stap 1 - Jouw gegevens'!$C$22 *J615*G615 *C615/B615,  'Stap 1 - Jouw gegevens'!$C$22 * J615*G615 *$W$10/B615), \"\")","v":""},"",null,"","","","","",""]
[null,null,null,null,null,null,null,"",{"$f":"IF(AND(L616 = \"\", NOT(H616=\"\")),IF(C616< $W$10, (H616 *G616 * (C616/B616) * 'Stap 1 - Jouw gegevens'!$C$18), (H616 *G616 *'Stap 1 - Jouw gegevens'!$C$18 * ($W$10/B616))), \"\")","v":""},"",{"$f":"IF(AND(L616 = \"\", NOT(J616=\"\")),IF(C616< $W$10, 'Stap 1 - Jouw gegevens'!$C$22 *J616*G616 *C616/B616,  'Stap 1 - Jouw gegevens'!$C$22 * J616*G616 *$W$10/B616), \"\")","v":""},"",null,"","","","","",""]
[null,null,null,null,null,null,null,"",{"$f":"IF(AND(L617 = \"\", NOT(H617=\"\")),IF(C617< $W$10, (H617 *G617 * (C617/B617) * 'Stap 1 - Jouw gegevens'!$C$18), (H617 *G617 *'Stap 1 - Jouw gegevens'!$C$18 * ($W$10/B617))), \"\")","v":""},"",{"$f":"IF(AND(L617 = \"\", NOT(J617=\"\")),IF(C617< $W$10, 'Stap 1 - Jouw gegevens'!$C$22 *J617*G617 *C617/B617,  'Stap 1 - Jouw gegevens'!$C$22 * J617*G617 *$W$10/B617), \"\")","v":""},"",null,"","","","","",""]
[null,null,null,null,null,null,null,"",{"$f":"IF(AND(L618 = \"\", NOT(H618=\"\")),IF(C618< $W$10, (H618 *G618 * (C618/B618) * 'Stap 1 - Jouw gegevens'!$C$18), (H618 *G618 *'Stap 1 - Jouw gegevens'!$C$18 * ($W$10/B618))), \"\")","v":""},"",{"$f":"IF(AND(L618 = \"\", NOT(J618=\"\")),IF(C618< $W$10, 'Stap 1 - Jouw gegevens'!$C$22 *J618*G618 *C618/B618,  'Stap 1 - Jouw gegevens'!$C$22 * J618*G618 *$W$10/B618), \"\")","v":""},"",null,"","","","","",""]
[null,null,null,null,null,null,null,"",{"$f":"IF(AND(L619 = \"\", NOT(H619=\"\")),IF(C619< $W$10, (H619 *G619 * (C619/B619) * 'Stap 1 - Jouw gegevens'!$C$18), (H619 *G619 *'Stap 1 - Jouw gegevens'!$C$18 * ($W$10/B619))), \"\")","v":""},"",{"$f":"IF(AND(L619 = \"\", NOT(J619=\"\")),IF(C619< $W$10, 'Stap 1 - Jouw gegevens'!$C$22 *J619*G619 *C619/B619,  'Stap 1 - Jouw gegevens'!$C$22 * J619*G619 *$W$10/B619), \"\")","v":""},"",null,"","","","","",""]
[null,null,null,null,null,null,null,"",{"$f":"IF(AND(L620 = \"\", NOT(H620=\"\")),IF(C620< $W$10, (H620 *G620 * (C620/B620) * 'Stap 1 - Jouw gegevens'!$C$18), (H620 *G620 *'Stap 1 - Jouw gegevens'!$C$18 * ($W$10/B620))), \"\")","v":""},"",{"$f":"IF(AND(L620 = \"\", NOT(J620=\"\")),IF(C620< $W$10, 'Stap 1 - Jouw gegevens'!$C$22 *J620*G620 *C620/B620,  'Stap 1 - Jouw gegevens'!$C$22 * J620*G620 *$W$10/B620), \"\")","v":""},"",null,"","","","","",""]
[null,null,null,null,null,null,null,"",{"$f":"IF(AND(L621 = \"\", NOT(H621=\"\")),IF(C621< $W$10, (H621 *G621 * (C621/B621) * 'Stap 1 - Jouw gegevens'!$C$18), (H621 *G621 *'Stap 1 - Jouw gegevens'!$C$18 * ($W$10/B621))), \"\")","v":""},"",{"$f":"IF(AND(L621 = \"\", NOT(J621=\"\")),IF(C621< $W$10, 'Stap 1 - Jouw gegevens'!$C$22 *J621*G621 *C621/B621,  'Stap 1 - Jouw gegevens'!$C$22 * J621*G621 *$W$10/B621), \"\")","v":""},"",null,"","","","","",""]
[null,null,null,null,null,null,null,"",{"$f":"IF(AND(L622 = \"\", NOT(H622=\"\")),IF(C622< $W$10, (H622 *G622 * (C622/B622) * 'Stap 1 - Jouw gegevens'!$C$18), (H622 *G622 *'Stap 1 - Jouw gegevens'!$C$18 * ($W$10/B622))), \"\")","v":""},"",{"$f":"IF(AND(L622 = \"\", NOT(J622=\"\")),IF(C622< $W$10, 'Stap 1 - Jouw gegevens'!$C$22 *J622*G622 *C622/B622,  'Stap 1 - Jouw gegevens'!$C$22 * J622*G622 *$W$10/B622), \"\")","v":""},"",null,"","","","","",""]
[null,null,null,null,null,null,null,"",{"$f":"IF(AND(L623 = \"\", NOT(H623=\"\")),IF(C623< $W$10, (H623 *G623 * (C623/B623) * 'Stap 1 - Jouw gegevens'!$C$18), (H623 *G623 *'Stap 1 - Jouw gegevens'!$C$18 * ($W$10/B623))), \"\")","v":""},"",{"$f":"IF(AND(L623 = \"\", NOT(J623=\"\")),IF(C623< $W$10, 'Stap 1 - Jouw gegevens'!$C$22 *J623*G623 *C623/B623,  'Stap 1 - Jouw gegevens'!$C$22 * J623*G623 *$W$10/B623), \"\")","v":""},"",null,"","","","","",""]
[null,null,null,null,null,null,null,"",{"$f":"IF(AND(L624 = \"\", NOT(H624=\"\")),IF(C624< $W$10, (H624 *G624 * (C624/B624) * 'Stap 1 - Jouw gegevens'!$C$18), (H624 *G624 *'Stap 1 - Jouw gegevens'!$C$18 * ($W$10/B624))), \"\")","v":""},"",{"$f":"IF(AND(L624 = \"\", NOT(J624=\"\")),IF(C624< $W$10, 'Stap 1 - Jouw gegevens'!$C$22 *J624*G624 *C624/B624,  'Stap 1 - Jouw gegevens'!$C$22 * J624*G624 *$W$10/B624), \"\")","v":""},"",null,"","","","","",""]
[null,null,null,null,null,null,null,"",{"$f":"IF(AND(L625 = \"\", NOT(H625=\"\")),IF(C625< $W$10, (H625 *G625 * (C625/B625) * 'Stap 1 - Jouw gegevens'!$C$18), (H625 *G625 *'Stap 1 - Jouw gegevens'!$C$18 * ($W$10/B625))), \"\")","v":""},"",{"$f":"IF(AND(L625 = \"\", NOT(J625=\"\")),IF(C625< $W$10, 'Stap 1 - Jouw gegevens'!$C$22 *J625*G625 *C625/B625,  'Stap 1 - Jouw gegevens'!$C$22 * J625*G625 *$W$10/B625), \"\")","v":""},"",null,"","","","","",""]
[null,null,null,null,null,null,null,"",{"$f":"IF(AND(L626 = \"\", NOT(H626=\"\")),IF(C626< $W$10, (H626 *G626 * (C626/B626) * 'Stap 1 - Jouw gegevens'!$C$18), (H626 *G626 *'Stap 1 - Jouw gegevens'!$C$18 * ($W$10/B626))), \"\")","v":""},"",{"$f":"IF(AND(L626 = \"\", NOT(J626=\"\")),IF(C626< $W$10, 'Stap 1 - Jouw gegevens'!$C$22 *J626*G626 *C626/B626,  'Stap 1 - Jouw gegevens'!$C$22 * J626*G626 *$W$10/B626), \"\")","v":""},"",null,"","","","","",""]
[null,null,null,null,null,null,null,"",{"$f":"IF(AND(L627 = \"\", NOT(H627=\"\")),IF(C627< $W$10, (H627 *G627 * (C627/B627) * 'Stap 1 - Jouw gegevens'!$C$18), (H627 *G627 *'Stap 1 - Jouw gegevens'!$C$18 * ($W$10/B627))), \"\")","v":""},"",{"$f":"IF(AND(L627 = \"\", NOT(J627=\"\")),IF(C627< $W$10, 'Stap 1 - Jouw gegevens'!$C$22 *J627*G627 *C627/B627,  'Stap 1 - Jouw gegevens'!$C$22 * J627*G627 *$W$10/B627), \"\")","v":""},"",null,"","","","","",""]
[null,null,null,null,null,null,null,"",{"$f":"IF(AND(L628 = \"\", NOT(H628=\"\")),IF(C628< $W$10, (H628 *G628 * (C628/B628) * 'Stap 1 - Jouw gegevens'!$C$18), (H628 *G628 *'Stap 1 - Jouw gegevens'!$C$18 * ($W$10/B628))), \"\")","v":""},"",{"$f":"IF(AND(L628 = \"\", NOT(J628=\"\")),IF(C628< $W$10, 'Stap 1 - Jouw gegevens'!$C$22 *J628*G628 *C628/B628,  'Stap 1 - Jouw gegevens'!$C$22 * J628*G628 *$W$10/B628), \"\")","v":""},"",null,"","","","","",""]
[null,null,null,null,null,null,null,"",{"$f":"IF(AND(L629 = \"\", NOT(H629=\"\")),IF(C629< $W$10, (H629 *G629 * (C629/B629) * 'Stap 1 - Jouw gegevens'!$C$18), (H629 *G629 *'Stap 1 - Jouw gegevens'!$C$18 * ($W$10/B629))), \"\")","v":""},"",{"$f":"IF(AND(L629 = \"\", NOT(J629=\"\")),IF(C629< $W$10, 'Stap 1 - Jouw gegevens'!$C$22 *J629*G629 *C629/B629,  'Stap 1 - Jouw gegevens'!$C$22 * J629*G629 *$W$10/B629), \"\")","v":""},"",null,"","","","","",""]
[null,null,null,null,null,null,null,"",{"$f":"IF(AND(L630 = \"\", NOT(H630=\"\")),IF(C630< $W$10, (H630 *G630 * (C630/B630) * 'Stap 1 - Jouw gegevens'!$C$18), (H630 *G630 *'Stap 1 - Jouw gegevens'!$C$18 * ($W$10/B630))), \"\")","v":""},"",{"$f":"IF(AND(L630 = \"\", NOT(J630=\"\")),IF(C630< $W$10, 'Stap 1 - Jouw gegevens'!$C$22 *J630*G630 *C630/B630,  'Stap 1 - Jouw gegevens'!$C$22 * J630*G630 *$W$10/B630), \"\")","v":""},"",null,"","","","","",""]
[null,null,null,null,null,null,null,"",{"$f":"IF(AND(L631 = \"\", NOT(H631=\"\")),IF(C631< $W$10, (H631 *G631 * (C631/B631) * 'Stap 1 - Jouw gegevens'!$C$18), (H631 *G631 *'Stap 1 - Jouw gegevens'!$C$18 * ($W$10/B631))), \"\")","v":""},"",{"$f":"IF(AND(L631 = \"\", NOT(J631=\"\")),IF(C631< $W$10, 'Stap 1 - Jouw gegevens'!$C$22 *J631*G631 *C631/B631,  'Stap 1 - Jouw gegevens'!$C$22 * J631*G631 *$W$10/B631), \"\")","v":""},"",null,"","","","","",""]
[null,null,null,null,null,null,null,"",{"$f":"IF(AND(L632 = \"\", NOT(H632=\"\")),IF(C632< $W$10, (H632 *G632 * (C632/B632) * 'Stap 1 - Jouw gegevens'!$C$18), (H632 *G632 *'Stap 1 - Jouw gegevens'!$C$18 * ($W$10/B632))), \"\")","v":""},"",{"$f":"IF(AND(L632 = \"\", NOT(J632=\"\")),IF(C632< $W$10, 'Stap 1 - Jouw gegevens'!$C$22 *J632*G632 *C632/B632,  'Stap 1 - Jouw gegevens'!$C$22 * J632*G632 *$W$10/B632), \"\")","v":""},"",null,"","","","","",""]
[null,null,null,null,null,null,null,"",{"$f":"IF(AND(L633 = \"\", NOT(H633=\"\")),IF(C633< $W$10, (H633 *G633 * (C633/B633) * 'Stap 1 - Jouw gegevens'!$C$18), (H633 *G633 *'Stap 1 - Jouw gegevens'!$C$18 * ($W$10/B633))), \"\")","v":""},"",{"$f":"IF(AND(L633 = \"\", NOT(J633=\"\")),IF(C633< $W$10, 'Stap 1 - Jouw gegevens'!$C$22 *J633*G633 *C633/B633,  'Stap 1 - Jouw gegevens'!$C$22 * J633*G633 *$W$10/B633), \"\")","v":""},"",null,"","","","","",""]
[null,null,null,null,null,null,null,"",{"$f":"IF(AND(L634 = \"\", NOT(H634=\"\")),IF(C634< $W$10, (H634 *G634 * (C634/B634) * 'Stap 1 - Jouw gegevens'!$C$18), (H634 *G634 *'Stap 1 - Jouw gegevens'!$C$18 * ($W$10/B634))), \"\")","v":""},"",{"$f":"IF(AND(L634 = \"\", NOT(J634=\"\")),IF(C634< $W$10, 'Stap 1 - Jouw gegevens'!$C$22 *J634*G634 *C634/B634,  'Stap 1 - Jouw gegevens'!$C$22 * J634*G634 *$W$10/B634), \"\")","v":""},"",null,"","","","","",""]
[null,null,null,null,null,null,null,"",{"$f":"IF(AND(L635 = \"\", NOT(H635=\"\")),IF(C635< $W$10, (H635 *G635 * (C635/B635) * 'Stap 1 - Jouw gegevens'!$C$18), (H635 *G635 *'Stap 1 - Jouw gegevens'!$C$18 * ($W$10/B635))), \"\")","v":""},"",{"$f":"IF(AND(L635 = \"\", NOT(J635=\"\")),IF(C635< $W$10, 'Stap 1 - Jouw gegevens'!$C$22 *J635*G635 *C635/B635,  'Stap 1 - Jouw gegevens'!$C$22 * J635*G635 *$W$10/B635), \"\")","v":""},"",null,"","","","","",""]
[null,null,null,null,null,null,null,"",{"$f":"IF(AND(L636 = \"\", NOT(H636=\"\")),IF(C636< $W$10, (H636 *G636 * (C636/B636) * 'Stap 1 - Jouw gegevens'!$C$18), (H636 *G636 *'Stap 1 - Jouw gegevens'!$C$18 * ($W$10/B636))), \"\")","v":""},"",{"$f":"IF(AND(L636 = \"\", NOT(J636=\"\")),IF(C636< $W$10, 'Stap 1 - Jouw gegevens'!$C$22 *J636*G636 *C636/B636,  'Stap 1 - Jouw gegevens'!$C$22 * J636*G636 *$W$10/B636), \"\")","v":""},"",null,"","","","","",""]
[null,null,null,null,null,null,null,"",{"$f":"IF(AND(L637 = \"\", NOT(H637=\"\")),IF(C637< $W$10, (H637 *G637 * (C637/B637) * 'Stap 1 - Jouw gegevens'!$C$18), (H637 *G637 *'Stap 1 - Jouw gegevens'!$C$18 * ($W$10/B637))), \"\")","v":""},"",{"$f":"IF(AND(L637 = \"\", NOT(J637=\"\")),IF(C637< $W$10, 'Stap 1 - Jouw gegevens'!$C$22 *J637*G637 *C637/B637,  'Stap 1 - Jouw gegevens'!$C$22 * J637*G637 *$W$10/B637), \"\")","v":""},"",null,"","","","","",""]
[null,null,null,null,null,null,null,"",{"$f":"IF(AND(L638 = \"\", NOT(H638=\"\")),IF(C638< $W$10, (H638 *G638 * (C638/B638) * 'Stap 1 - Jouw gegevens'!$C$18), (H638 *G638 *'Stap 1 - Jouw gegevens'!$C$18 * ($W$10/B638))), \"\")","v":""},"",{"$f":"IF(AND(L638 = \"\", NOT(J638=\"\")),IF(C638< $W$10, 'Stap 1 - Jouw gegevens'!$C$22 *J638*G638 *C638/B638,  'Stap 1 - Jouw gegevens'!$C$22 * J638*G638 *$W$10/B638), \"\")","v":""},"",null,"","","","","",""]
[null,null,null,null,null,null,null,"",{"$f":"IF(AND(L639 = \"\", NOT(H639=\"\")),IF(C639< $W$10, (H639 *G639 * (C639/B639) * 'Stap 1 - Jouw gegevens'!$C$18), (H639 *G639 *'Stap 1 - Jouw gegevens'!$C$18 * ($W$10/B639))), \"\")","v":""},"",{"$f":"IF(AND(L639 = \"\", NOT(J639=\"\")),IF(C639< $W$10, 'Stap 1 - Jouw gegevens'!$C$22 *J639*G639 *C639/B639,  'Stap 1 - Jouw gegevens'!$C$22 * J639*G639 *$W$10/B639), \"\")","v":""},"",null,"","","","","",""]
[null,null,null,null,null,null,null,"",{"$f":"IF(AND(L640 = \"\", NOT(H640=\"\")),IF(C640< $W$10, (H640 *G640 * (C640/B640) * 'Stap 1 - Jouw gegevens'!$C$18), (H640 *G640 *'Stap 1 - Jouw gegevens'!$C$18 * ($W$10/B640))), \"\")","v":""},"",{"$f":"IF(AND(L640 = \"\", NOT(J640=\"\")),IF(C640< $W$10, 'Stap 1 - Jouw gegevens'!$C$22 *J640*G640 *C640/B640,  'Stap 1 - Jouw gegevens'!$C$22 * J640*G640 *$W$10/B640), \"\")","v":""},"",null,"","","","","",""]
[null,null,null,null,null,null,null,"",{"$f":"IF(AND(L641 = \"\", NOT(H641=\"\")),IF(C641< $W$10, (H641 *G641 * (C641/B641) * 'Stap 1 - Jouw gegevens'!$C$18), (H641 *G641 *'Stap 1 - Jouw gegevens'!$C$18 * ($W$10/B641))), \"\")","v":""},"",{"$f":"IF(AND(L641 = \"\", NOT(J641=\"\")),IF(C641< $W$10, 'Stap 1 - Jouw gegevens'!$C$22 *J641*G641 *C641/B641,  'Stap 1 - Jouw gegevens'!$C$22 * J641*G641 *$W$10/B641), \"\")","v":""},"",null,"","","","","",""]
[null,null,null,null,null,null,null,"",{"$f":"IF(AND(L642 = \"\", NOT(H642=\"\")),IF(C642< $W$10, (H642 *G642 * (C642/B642) * 'Stap 1 - Jouw gegevens'!$C$18), (H642 *G642 *'Stap 1 - Jouw gegevens'!$C$18 * ($W$10/B642))), \"\")","v":""},"",{"$f":"IF(AND(L642 = \"\", NOT(J642=\"\")),IF(C642< $W$10, 'Stap 1 - Jouw gegevens'!$C$22 *J642*G642 *C642/B642,  'Stap 1 - Jouw gegevens'!$C$22 * J642*G642 *$W$10/B642), \"\")","v":""},"",null,"","","","","",""]
[null,null,null,null,null,null,null,"",{"$f":"IF(AND(L643 = \"\", NOT(H643=\"\")),IF(C643< $W$10, (H643 *G643 * (C643/B643) * 'Stap 1 - Jouw gegevens'!$C$18), (H643 *G643 *'Stap 1 - Jouw gegevens'!$C$18 * ($W$10/B643))), \"\")","v":""},"",{"$f":"IF(AND(L643 = \"\", NOT(J643=\"\")),IF(C643< $W$10, 'Stap 1 - Jouw gegevens'!$C$22 *J643*G643 *C643/B643,  'Stap 1 - Jouw gegevens'!$C$22 * J643*G643 *$W$10/B643), \"\")","v":""},"",null,"","","","","",""]
[null,null,null,null,null,null,null,"",{"$f":"IF(AND(L644 = \"\", NOT(H644=\"\")),IF(C644< $W$10, (H644 *G644 * (C644/B644) * 'Stap 1 - Jouw gegevens'!$C$18), (H644 *G644 *'Stap 1 - Jouw gegevens'!$C$18 * ($W$10/B644))), \"\")","v":""},"",{"$f":"IF(AND(L644 = \"\", NOT(J644=\"\")),IF(C644< $W$10, 'Stap 1 - Jouw gegevens'!$C$22 *J644*G644 *C644/B644,  'Stap 1 - Jouw gegevens'!$C$22 * J644*G644 *$W$10/B644), \"\")","v":""},"",null,"","","","","",""]
[null,null,null,null,null,null,null,"",{"$f":"IF(AND(L645 = \"\", NOT(H645=\"\")),IF(C645< $W$10, (H645 *G645 * (C645/B645) * 'Stap 1 - Jouw gegevens'!$C$18), (H645 *G645 *'Stap 1 - Jouw gegevens'!$C$18 * ($W$10/B645))), \"\")","v":""},"",{"$f":"IF(AND(L645 = \"\", NOT(J645=\"\")),IF(C645< $W$10, 'Stap 1 - Jouw gegevens'!$C$22 *J645*G645 *C645/B645,  'Stap 1 - Jouw gegevens'!$C$22 * J645*G645 *$W$10/B645), \"\")","v":""},"",null,"","","","","",""]
[null,null,null,null,null,null,null,"",{"$f":"IF(AND(L646 = \"\", NOT(H646=\"\")),IF(C646< $W$10, (H646 *G646 * (C646/B646) * 'Stap 1 - Jouw gegevens'!$C$18), (H646 *G646 *'Stap 1 - Jouw gegevens'!$C$18 * ($W$10/B646))), \"\")","v":""},"",{"$f":"IF(AND(L646 = \"\", NOT(J646=\"\")),IF(C646< $W$10, 'Stap 1 - Jouw gegevens'!$C$22 *J646*G646 *C646/B646,  'Stap 1 - Jouw gegevens'!$C$22 * J646*G646 *$W$10/B646), \"\")","v":""},"",null,"","","","","",""]
[null,null,null,null,null,null,null,"",{"$f":"IF(AND(L647 = \"\", NOT(H647=\"\")),IF(C647< $W$10, (H647 *G647 * (C647/B647) * 'Stap 1 - Jouw gegevens'!$C$18), (H647 *G647 *'Stap 1 - Jouw gegevens'!$C$18 * ($W$10/B647))), \"\")","v":""},"",{"$f":"IF(AND(L647 = \"\", NOT(J647=\"\")),IF(C647< $W$10, 'Stap 1 - Jouw gegevens'!$C$22 *J647*G647 *C647/B647,  'Stap 1 - Jouw gegevens'!$C$22 * J647*G647 *$W$10/B647), \"\")","v":""},"",null,"","","","","",""]
[null,null,null,null,null,null,null,{"$f":"P648","v":""},{"$f":"IF(AND(L648 = \"\", NOT(H648=\"\")),IF(C648< $W$10, (H648 *G648 * (C648/B648) * 'Stap 1 - Jouw gegevens'!$C$18), (H648 *G648 *'Stap 1 - Jouw gegevens'!$C$18 * ($W$10/B648))), \"\")","v":""},{"$f":"S648","v":""},{"$f":"IF(AND(L648 = \"\", NOT(J648=\"\")),IF(C648< $W$10, 'Stap 1 - Jouw gegevens'!$C$22 *J648*G648 *C648/B648,  'Stap 1 - Jouw gegevens'!$C$22 * J648*G648 *$W$10/B648), \"\")","v":""},{"$f":"IF(ISBLANK(A648), \"\", CONCATENATE(IF(Z648 = \"X\", $AH$5, \"\"), IF( AB648 = \"X\", $AH$7, \"\"), IF( AC648 = \"X\", $AH$8, \"\"), IF( AD648 = \"X\", $AH$9, \"\"), IF( AE648 = \"X\", $AH$10, \"\"),  IF( AF648 = \"X\", $AH$11, \"\")))","v":""},null,{"$f":"IF(ISBLANK(D648),\"\",NETWORKDAYS(D648,F648))","v":""},{"$f":"IFERROR( IF(N648>$Y$5,NETWORKDAYS(E648, (Q648 - 1)), NETWORKDAYS(E648,(F648-1))), \"\")","v":""},{"$f":"IF(O648<= 0, \"\", O648)","v":""},{"$f":"IF(ISBLANK(D648),\"\",DATE(YEAR(D648)+1,MONTH(D648),DAY(D648)))","v":""},{"$f":"IFERROR(IF(N648 > $Y$5, IF(E648>=Q648,NETWORKDAYS(E648, (F648-1)), NETWORKDAYS(Q648, (F648-1))), \"\"), \"\")","v":""},{"$f":"IF(R648=\"\", \"\",  IF(R648 >= $Y$5, $Y$5,  R648))","v":""}]
[null,null,null,null,null,null,null,"",{"$f":"IF(AND(L649 = \"\", NOT(H649=\"\")),IF(C649< $W$10, (H649 *G649 * (C649/B649) * 'Stap 1 - Jouw gegevens'!$C$18), (H649 *G649 *'Stap 1 - Jouw gegevens'!$C$18 * ($W$10/B649))), \"\")","v":""},"",{"$f":"IF(AND(L649 = \"\", NOT(J649=\"\")),IF(C649< $W$10, 'Stap 1 - Jouw gegevens'!$C$22 *J649*G649 *C649/B649,  'Stap 1 - Jouw gegevens'!$C$22 * J649*G649 *$W$10/B649), \"\")","v":""},"",null,"","","","","",""]
[null,null,null,null,null,null,null,"",{"$f":"IF(AND(L650 = \"\", NOT(H650=\"\")),IF(C650< $W$10, (H650 *G650 * (C650/B650) * 'Stap 1 - Jouw gegevens'!$C$18), (H650 *G650 *'Stap 1 - Jouw gegevens'!$C$18 * ($W$10/B650))), \"\")","v":""},"",{"$f":"IF(AND(L650 = \"\", NOT(J650=\"\")),IF(C650< $W$10, 'Stap 1 - Jouw gegevens'!$C$22 *J650*G650 *C650/B650,  'Stap 1 - Jouw gegevens'!$C$22 * J650*G650 *$W$10/B650), \"\")","v":""},"",null,"","","","","",""]
[null,null,null,null,null,null,null,"",{"$f":"IF(AND(L651 = \"\", NOT(H651=\"\")),IF(C651< $W$10, (H651 *G651 * (C651/B651) * 'Stap 1 - Jouw gegevens'!$C$18), (H651 *G651 *'Stap 1 - Jouw gegevens'!$C$18 * ($W$10/B651))), \"\")","v":""},"",{"$f":"IF(AND(L651 = \"\", NOT(J651=\"\")),IF(C651< $W$10, 'Stap 1 - Jouw gegevens'!$C$22 *J651*G651 *C651/B651,  'Stap 1 - Jouw gegevens'!$C$22 * J651*G651 *$W$10/B651), \"\")","v":""},"",null,"","","","","",""]
[null,null,null,null,null,null,null,"",{"$f":"IF(AND(L652 = \"\", NOT(H652=\"\")),IF(C652< $W$10, (H652 *G652 * (C652/B652) * 'Stap 1 - Jouw gegevens'!$C$18), (H652 *G652 *'Stap 1 - Jouw gegevens'!$C$18 * ($W$10/B652))), \"\")","v":""},"",{"$f":"IF(AND(L652 = \"\", NOT(J652=\"\")),IF(C652< $W$10, 'Stap 1 - Jouw gegevens'!$C$22 *J652*G652 *C652/B652,  'Stap 1 - Jouw gegevens'!$C$22 * J652*G652 *$W$10/B652), \"\")","v":""},"",null,"","","","","",""]
[null,null,null,null,null,null,null,"",{"$f":"IF(AND(L653 = \"\", NOT(H653=\"\")),IF(C653< $W$10, (H653 *G653 * (C653/B653) * 'Stap 1 - Jouw gegevens'!$C$18), (H653 *G653 *'Stap 1 - Jouw gegevens'!$C$18 * ($W$10/B653))), \"\")","v":""},"",{"$f":"IF(AND(L653 = \"\", NOT(J653=\"\")),IF(C653< $W$10, 'Stap 1 - Jouw gegevens'!$C$22 *J653*G653 *C653/B653,  'Stap 1 - Jouw gegevens'!$C$22 * J653*G653 *$W$10/B653), \"\")","v":""},"",null,"","","","","",""]
[null,null,null,null,null,null,null,"",{"$f":"IF(AND(L654 = \"\", NOT(H654=\"\")),IF(C654< $W$10, (H654 *G654 * (C654/B654) * 'Stap 1 - Jouw gegevens'!$C$18), (H654 *G654 *'Stap 1 - Jouw gegevens'!$C$18 * ($W$10/B654))), \"\")","v":""},"",{"$f":"IF(AND(L654 = \"\", NOT(J654=\"\")),IF(C654< $W$10, 'Stap 1 - Jouw gegevens'!$C$22 *J654*G654 *C654/B654,  'Stap 1 - Jouw gegevens'!$C$22 * J654*G654 *$W$10/B654), \"\")","v":""},"",null,"","","","","",""]
[null,null,null,null,null,null,null,"",{"$f":"IF(AND(L655 = \"\", NOT(H655=\"\")),IF(C655< $W$10, (H655 *G655 * (C655/B655) * 'Stap 1 - Jouw gegevens'!$C$18), (H655 *G655 *'Stap 1 - Jouw gegevens'!$C$18 * ($W$10/B655))), \"\")","v":""},"",{"$f":"IF(AND(L655 = \"\", NOT(J655=\"\")),IF(C655< $W$10, 'Stap 1 - Jouw gegevens'!$C$22 *J655*G655 *C655/B655,  'Stap 1 - Jouw gegevens'!$C$22 * J655*G655 *$W$10/B655), \"\")","v":""},"",null,"","","","","",""]
[null,null,null,null,null,null,null,"",{"$f":"IF(AND(L656 = \"\", NOT(H656=\"\")),IF(C656< $W$10, (H656 *G656 * (C656/B656) * 'Stap 1 - Jouw gegevens'!$C$18), (H656 *G656 *'Stap 1 - Jouw gegevens'!$C$18 * ($W$10/B656))), \"\")","v":""},"",{"$f":"IF(AND(L656 = \"\", NOT(J656=\"\")),IF(C656< $W$10, 'Stap 1 - Jouw gegevens'!$C$22 *J656*G656 *C656/B656,  'Stap 1 - Jouw gegevens'!$C$22 * J656*G656 *$W$10/B656), \"\")","v":""},"",null,"","","","","",""]
[null,null,null,null,null,null,null,"",{"$f":"IF(AND(L657 = \"\", NOT(H657=\"\")),IF(C657< $W$10, (H657 *G657 * (C657/B657) * 'Stap 1 - Jouw gegevens'!$C$18), (H657 *G657 *'Stap 1 - Jouw gegevens'!$C$18 * ($W$10/B657))), \"\")","v":""},"",{"$f":"IF(AND(L657 = \"\", NOT(J657=\"\")),IF(C657< $W$10, 'Stap 1 - Jouw gegevens'!$C$22 *J657*G657 *C657/B657,  'Stap 1 - Jouw gegevens'!$C$22 * J657*G657 *$W$10/B657), \"\")","v":""},"",null,"","","","","",""]
[null,null,null,null,null,null,null,"",{"$f":"IF(AND(L658 = \"\", NOT(H658=\"\")),IF(C658< $W$10, (H658 *G658 * (C658/B658) * 'Stap 1 - Jouw gegevens'!$C$18), (H658 *G658 *'Stap 1 - Jouw gegevens'!$C$18 * ($W$10/B658))), \"\")","v":""},"",{"$f":"IF(AND(L658 = \"\", NOT(J658=\"\")),IF(C658< $W$10, 'Stap 1 - Jouw gegevens'!$C$22 *J658*G658 *C658/B658,  'Stap 1 - Jouw gegevens'!$C$22 * J658*G658 *$W$10/B658), \"\")","v":""},"",null,"","","","","",""]
[null,null,null,null,null,null,null,"",{"$f":"IF(AND(L659 = \"\", NOT(H659=\"\")),IF(C659< $W$10, (H659 *G659 * (C659/B659) * 'Stap 1 - Jouw gegevens'!$C$18), (H659 *G659 *'Stap 1 - Jouw gegevens'!$C$18 * ($W$10/B659))), \"\")","v":""},"",{"$f":"IF(AND(L659 = \"\", NOT(J659=\"\")),IF(C659< $W$10, 'Stap 1 - Jouw gegevens'!$C$22 *J659*G659 *C659/B659,  'Stap 1 - Jouw gegevens'!$C$22 * J659*G659 *$W$10/B659), \"\")","v":""},"",null,"","","","","",""]
[null,null,null,null,null,null,null,"",{"$f":"IF(AND(L660 = \"\", NOT(H660=\"\")),IF(C660< $W$10, (H660 *G660 * (C660/B660) * 'Stap 1 - Jouw gegevens'!$C$18), (H660 *G660 *'Stap 1 - Jouw gegevens'!$C$18 * ($W$10/B660))), \"\")","v":""},"",{"$f":"IF(AND(L660 = \"\", NOT(J660=\"\")),IF(C660< $W$10, 'Stap 1 - Jouw gegevens'!$C$22 *J660*G660 *C660/B660,  'Stap 1 - Jouw gegevens'!$C$22 * J660*G660 *$W$10/B660), \"\")","v":""},"",null,"","","","","",""]
[null,null,null,null,null,null,null,"",{"$f":"IF(AND(L661 = \"\", NOT(H661=\"\")),IF(C661< $W$10, (H661 *G661 * (C661/B661) * 'Stap 1 - Jouw gegevens'!$C$18), (H661 *G661 *'Stap 1 - Jouw gegevens'!$C$18 * ($W$10/B661))), \"\")","v":""},"",{"$f":"IF(AND(L661 = \"\", NOT(J661=\"\")),IF(C661< $W$10, 'Stap 1 - Jouw gegevens'!$C$22 *J661*G661 *C661/B661,  'Stap 1 - Jouw gegevens'!$C$22 * J661*G661 *$W$10/B661), \"\")","v":""},"",null,"","","","","",""]
[null,null,null,null,null,null,null,"",{"$f":"IF(AND(L662 = \"\", NOT(H662=\"\")),IF(C662< $W$10, (H662 *G662 * (C662/B662) * 'Stap 1 - Jouw gegevens'!$C$18), (H662 *G662 *'Stap 1 - Jouw gegevens'!$C$18 * ($W$10/B662))), \"\")","v":""},"",{"$f":"IF(AND(L662 = \"\", NOT(J662=\"\")),IF(C662< $W$10, 'Stap 1 - Jouw gegevens'!$C$22 *J662*G662 *C662/B662,  'Stap 1 - Jouw gegevens'!$C$22 * J662*G662 *$W$10/B662), \"\")","v":""},"",null,"","","","","",""]
[null,null,null,null,null,null,null,"",{"$f":"IF(AND(L663 = \"\", NOT(H663=\"\")),IF(C663< $W$10, (H663 *G663 * (C663/B663) * 'Stap 1 - Jouw gegevens'!$C$18), (H663 *G663 *'Stap 1 - Jouw gegevens'!$C$18 * ($W$10/B663))), \"\")","v":""},"",{"$f":"IF(AND(L663 = \"\", NOT(J663=\"\")),IF(C663< $W$10, 'Stap 1 - Jouw gegevens'!$C$22 *J663*G663 *C663/B663,  'Stap 1 - Jouw gegevens'!$C$22 * J663*G663 *$W$10/B663), \"\")","v":""},"",null,"","","","","",""]
[null,null,null,null,null,null,null,"",{"$f":"IF(AND(L664 = \"\", NOT(H664=\"\")),IF(C664< $W$10, (H664 *G664 * (C664/B664) * 'Stap 1 - Jouw gegevens'!$C$18), (H664 *G664 *'Stap 1 - Jouw gegevens'!$C$18 * ($W$10/B664))), \"\")","v":""},"",{"$f":"IF(AND(L664 = \"\", NOT(J664=\"\")),IF(C664< $W$10, 'Stap 1 - Jouw gegevens'!$C$22 *J664*G664 *C664/B664,  'Stap 1 - Jouw gegevens'!$C$22 * J664*G664 *$W$10/B664), \"\")","v":""},"",null,"","","","","",""]
[null,null,null,null,null,null,null,"",{"$f":"IF(AND(L665 = \"\", NOT(H665=\"\")),IF(C665< $W$10, (H665 *G665 * (C665/B665) * 'Stap 1 - Jouw gegevens'!$C$18), (H665 *G665 *'Stap 1 - Jouw gegevens'!$C$18 * ($W$10/B665))), \"\")","v":""},"",{"$f":"IF(AND(L665 = \"\", NOT(J665=\"\")),IF(C665< $W$10, 'Stap 1 - Jouw gegevens'!$C$22 *J665*G665 *C665/B665,  'Stap 1 - Jouw gegevens'!$C$22 * J665*G665 *$W$10/B665), \"\")","v":""},"",null,"","","","","",""]
[null,null,null,null,null,null,null,"",{"$f":"IF(AND(L666 = \"\", NOT(H666=\"\")),IF(C666< $W$10, (H666 *G666 * (C666/B666) * 'Stap 1 - Jouw gegevens'!$C$18), (H666 *G666 *'Stap 1 - Jouw gegevens'!$C$18 * ($W$10/B666))), \"\")","v":""},"",{"$f":"IF(AND(L666 = \"\", NOT(J666=\"\")),IF(C666< $W$10, 'Stap 1 - Jouw gegevens'!$C$22 *J666*G666 *C666/B666,  'Stap 1 - Jouw gegevens'!$C$22 * J666*G666 *$W$10/B666), \"\")","v":""},"",null,"","","","","",""]
[null,null,null,null,null,null,null,"",{"$f":"IF(AND(L667 = \"\", NOT(H667=\"\")),IF(C667< $W$10, (H667 *G667 * (C667/B667) * 'Stap 1 - Jouw gegevens'!$C$18), (H667 *G667 *'Stap 1 - Jouw gegevens'!$C$18 * ($W$10/B667))), \"\")","v":""},"",{"$f":"IF(AND(L667 = \"\", NOT(J667=\"\")),IF(C667< $W$10, 'Stap 1 - Jouw gegevens'!$C$22 *J667*G667 *C667/B667,  'Stap 1 - Jouw gegevens'!$C$22 * J667*G667 *$W$10/B667), \"\")","v":""},"",null,"","","","","",""]
[null,null,null,null,null,null,null,"",{"$f":"IF(AND(L668 = \"\", NOT(H668=\"\")),IF(C668< $W$10, (H668 *G668 * (C668/B668) * 'Stap 1 - Jouw gegevens'!$C$18), (H668 *G668 *'Stap 1 - Jouw gegevens'!$C$18 * ($W$10/B668))), \"\")","v":""},"",{"$f":"IF(AND(L668 = \"\", NOT(J668=\"\")),IF(C668< $W$10, 'Stap 1 - Jouw gegevens'!$C$22 *J668*G668 *C668/B668,  'Stap 1 - Jouw gegevens'!$C$22 * J668*G668 *$W$10/B668), \"\")","v":""},"",null,"","","","","",""]
[null,null,null,null,null,null,null,"",{"$f":"IF(AND(L669 = \"\", NOT(H669=\"\")),IF(C669< $W$10, (H669 *G669 * (C669/B669) * 'Stap 1 - Jouw gegevens'!$C$18), (H669 *G669 *'Stap 1 - Jouw gegevens'!$C$18 * ($W$10/B669))), \"\")","v":""},"",{"$f":"IF(AND(L669 = \"\", NOT(J669=\"\")),IF(C669< $W$10, 'Stap 1 - Jouw gegevens'!$C$22 *J669*G669 *C669/B669,  'Stap 1 - Jouw gegevens'!$C$22 * J669*G669 *$W$10/B669), \"\")","v":""},"",null,"","","","","",""]
[null,null,null,null,null,null,null,"",{"$f":"IF(AND(L670 = \"\", NOT(H670=\"\")),IF(C670< $W$10, (H670 *G670 * (C670/B670) * 'Stap 1 - Jouw gegevens'!$C$18), (H670 *G670 *'Stap 1 - Jouw gegevens'!$C$18 * ($W$10/B670))), \"\")","v":""},"",{"$f":"IF(AND(L670 = \"\", NOT(J670=\"\")),IF(C670< $W$10, 'Stap 1 - Jouw gegevens'!$C$22 *J670*G670 *C670/B670,  'Stap 1 - Jouw gegevens'!$C$22 * J670*G670 *$W$10/B670), \"\")","v":""},"",null,"","","","","",""]
[null,null,null,null,null,null,null,"",{"$f":"IF(AND(L671 = \"\", NOT(H671=\"\")),IF(C671< $W$10, (H671 *G671 * (C671/B671) * 'Stap 1 - Jouw gegevens'!$C$18), (H671 *G671 *'Stap 1 - Jouw gegevens'!$C$18 * ($W$10/B671))), \"\")","v":""},"",{"$f":"IF(AND(L671 = \"\", NOT(J671=\"\")),IF(C671< $W$10, 'Stap 1 - Jouw gegevens'!$C$22 *J671*G671 *C671/B671,  'Stap 1 - Jouw gegevens'!$C$22 * J671*G671 *$W$10/B671), \"\")","v":""},"",null,"","","","","",""]
[null,null,null,null,null,null,null,"",{"$f":"IF(AND(L672 = \"\", NOT(H672=\"\")),IF(C672< $W$10, (H672 *G672 * (C672/B672) * 'Stap 1 - Jouw gegevens'!$C$18), (H672 *G672 *'Stap 1 - Jouw gegevens'!$C$18 * ($W$10/B672))), \"\")","v":""},"",{"$f":"IF(AND(L672 = \"\", NOT(J672=\"\")),IF(C672< $W$10, 'Stap 1 - Jouw gegevens'!$C$22 *J672*G672 *C672/B672,  'Stap 1 - Jouw gegevens'!$C$22 * J672*G672 *$W$10/B672), \"\")","v":""},"",null,"","","","","",""]
[null,null,null,null,null,null,null,"",{"$f":"IF(AND(L673 = \"\", NOT(H673=\"\")),IF(C673< $W$10, (H673 *G673 * (C673/B673) * 'Stap 1 - Jouw gegevens'!$C$18), (H673 *G673 *'Stap 1 - Jouw gegevens'!$C$18 * ($W$10/B673))), \"\")","v":""},"",{"$f":"IF(AND(L673 = \"\", NOT(J673=\"\")),IF(C673< $W$10, 'Stap 1 - Jouw gegevens'!$C$22 *J673*G673 *C673/B673,  'Stap 1 - Jouw gegevens'!$C$22 * J673*G673 *$W$10/B673), \"\")","v":""},"",null,"","","","","",""]
[null,null,null,null,null,null,null,"",{"$f":"IF(AND(L674 = \"\", NOT(H674=\"\")),IF(C674< $W$10, (H674 *G674 * (C674/B674) * 'Stap 1 - Jouw gegevens'!$C$18), (H674 *G674 *'Stap 1 - Jouw gegevens'!$C$18 * ($W$10/B674))), \"\")","v":""},"",{"$f":"IF(AND(L674 = \"\", NOT(J674=\"\")),IF(C674< $W$10, 'Stap 1 - Jouw gegevens'!$C$22 *J674*G674 *C674/B674,  'Stap 1 - Jouw gegevens'!$C$22 * J674*G674 *$W$10/B674), \"\")","v":""},"",null,"","","","","",""]
[null,null,null,null,null,null,null,"",{"$f":"IF(AND(L675 = \"\", NOT(H675=\"\")),IF(C675< $W$10, (H675 *G675 * (C675/B675) * 'Stap 1 - Jouw gegevens'!$C$18), (H675 *G675 *'Stap 1 - Jouw gegevens'!$C$18 * ($W$10/B675))), \"\")","v":""},"",{"$f":"IF(AND(L675 = \"\", NOT(J675=\"\")),IF(C675< $W$10, 'Stap 1 - Jouw gegevens'!$C$22 *J675*G675 *C675/B675,  'Stap 1 - Jouw gegevens'!$C$22 * J675*G675 *$W$10/B675), \"\")","v":""},"",null,"","","","","",""]
[null,null,null,null,null,null,null,"",{"$f":"IF(AND(L676 = \"\", NOT(H676=\"\")),IF(C676< $W$10, (H676 *G676 * (C676/B676) * 'Stap 1 - Jouw gegevens'!$C$18), (H676 *G676 *'Stap 1 - Jouw gegevens'!$C$18 * ($W$10/B676))), \"\")","v":""},"",{"$f":"IF(AND(L676 = \"\", NOT(J676=\"\")),IF(C676< $W$10, 'Stap 1 - Jouw gegevens'!$C$22 *J676*G676 *C676/B676,  'Stap 1 - Jouw gegevens'!$C$22 * J676*G676 *$W$10/B676), \"\")","v":""},"",null,"","","","","",""]
[null,null,null,null,null,null,null,"",{"$f":"IF(AND(L677 = \"\", NOT(H677=\"\")),IF(C677< $W$10, (H677 *G677 * (C677/B677) * 'Stap 1 - Jouw gegevens'!$C$18), (H677 *G677 *'Stap 1 - Jouw gegevens'!$C$18 * ($W$10/B677))), \"\")","v":""},"",{"$f":"IF(AND(L677 = \"\", NOT(J677=\"\")),IF(C677< $W$10, 'Stap 1 - Jouw gegevens'!$C$22 *J677*G677 *C677/B677,  'Stap 1 - Jouw gegevens'!$C$22 * J677*G677 *$W$10/B677), \"\")","v":""},"",null,"","","","","",""]
[null,null,null,null,null,null,null,"",{"$f":"IF(AND(L678 = \"\", NOT(H678=\"\")),IF(C678< $W$10, (H678 *G678 * (C678/B678) * 'Stap 1 - Jouw gegevens'!$C$18), (H678 *G678 *'Stap 1 - Jouw gegevens'!$C$18 * ($W$10/B678))), \"\")","v":""},"",{"$f":"IF(AND(L678 = \"\", NOT(J678=\"\")),IF(C678< $W$10, 'Stap 1 - Jouw gegevens'!$C$22 *J678*G678 *C678/B678,  'Stap 1 - Jouw gegevens'!$C$22 * J678*G678 *$W$10/B678), \"\")","v":""},"",null,"","","","","",""]
[null,null,null,null,null,null,null,"",{"$f":"IF(AND(L679 = \"\", NOT(H679=\"\")),IF(C679< $W$10, (H679 *G679 * (C679/B679) * 'Stap 1 - Jouw gegevens'!$C$18), (H679 *G679 *'Stap 1 - Jouw gegevens'!$C$18 * ($W$10/B679))), \"\")","v":""},"",{"$f":"IF(AND(L679 = \"\", NOT(J679=\"\")),IF(C679< $W$10, 'Stap 1 - Jouw gegevens'!$C$22 *J679*G679 *C679/B679,  'Stap 1 - Jouw gegevens'!$C$22 * J679*G679 *$W$10/B679), \"\")","v":""},"",null,"","","","","",""]
[null,null,null,null,null,null,null,"",{"$f":"IF(AND(L680 = \"\", NOT(H680=\"\")),IF(C680< $W$10, (H680 *G680 * (C680/B680) * 'Stap 1 - Jouw gegevens'!$C$18), (H680 *G680 *'Stap 1 - Jouw gegevens'!$C$18 * ($W$10/B680))), \"\")","v":""},"",{"$f":"IF(AND(L680 = \"\", NOT(J680=\"\")),IF(C680< $W$10, 'Stap 1 - Jouw gegevens'!$C$22 *J680*G680 *C680/B680,  'Stap 1 - Jouw gegevens'!$C$22 * J680*G680 *$W$10/B680), \"\")","v":""},"",null,"","","","","",""]
[null,null,null,null,null,null,null,"",{"$f":"IF(AND(L681 = \"\", NOT(H681=\"\")),IF(C681< $W$10, (H681 *G681 * (C681/B681) * 'Stap 1 - Jouw gegevens'!$C$18), (H681 *G681 *'Stap 1 - Jouw gegevens'!$C$18 * ($W$10/B681))), \"\")","v":""},"",{"$f":"IF(AND(L681 = \"\", NOT(J681=\"\")),IF(C681< $W$10, 'Stap 1 - Jouw gegevens'!$C$22 *J681*G681 *C681/B681,  'Stap 1 - Jouw gegevens'!$C$22 * J681*G681 *$W$10/B681), \"\")","v":""},"",null,"","","","","",""]
[null,null,null,null,null,null,null,"",{"$f":"IF(AND(L682 = \"\", NOT(H682=\"\")),IF(C682< $W$10, (H682 *G682 * (C682/B682) * 'Stap 1 - Jouw gegevens'!$C$18), (H682 *G682 *'Stap 1 - Jouw gegevens'!$C$18 * ($W$10/B682))), \"\")","v":""},"",{"$f":"IF(AND(L682 = \"\", NOT(J682=\"\")),IF(C682< $W$10, 'Stap 1 - Jouw gegevens'!$C$22 *J682*G682 *C682/B682,  'Stap 1 - Jouw gegevens'!$C$22 * J682*G682 *$W$10/B682), \"\")","v":""},"",null,"","","","","",""]
[null,null,null,null,null,null,null,"",{"$f":"IF(AND(L683 = \"\", NOT(H683=\"\")),IF(C683< $W$10, (H683 *G683 * (C683/B683) * 'Stap 1 - Jouw gegevens'!$C$18), (H683 *G683 *'Stap 1 - Jouw gegevens'!$C$18 * ($W$10/B683))), \"\")","v":""},"",{"$f":"IF(AND(L683 = \"\", NOT(J683=\"\")),IF(C683< $W$10, 'Stap 1 - Jouw gegevens'!$C$22 *J683*G683 *C683/B683,  'Stap 1 - Jouw gegevens'!$C$22 * J683*G683 *$W$10/B683), \"\")","v":""},"",null,"","","","","",""]
[null,null,null,null,null,null,null,"",{"$f":"IF(AND(L684 = \"\", NOT(H684=\"\")),IF(C684< $W$10, (H684 *G684 * (C684/B684) * 'Stap 1 - Jouw gegevens'!$C$18), (H684 *G684 *'Stap 1 - Jouw gegevens'!$C$18 * ($W$10/B684))), \"\")","v":""},"",{"$f":"IF(AND(L684 = \"\", NOT(J684=\"\")),IF(C684< $W$10, 'Stap 1 - Jouw gegevens'!$C$22 *J684*G684 *C684/B684,  'Stap 1 - Jouw gegevens'!$C$22 * J684*G684 *$W$10/B684), \"\")","v":""},"",null,"","","","","",""]
[null,null,null,null,null,null,null,"",{"$f":"IF(AND(L685 = \"\", NOT(H685=\"\")),IF(C685< $W$10, (H685 *G685 * (C685/B685) * 'Stap 1 - Jouw gegevens'!$C$18), (H685 *G685 *'Stap 1 - Jouw gegevens'!$C$18 * ($W$10/B685))), \"\")","v":""},"",{"$f":"IF(AND(L685 = \"\", NOT(J685=\"\")),IF(C685< $W$10, 'Stap 1 - Jouw gegevens'!$C$22 *J685*G685 *C685/B685,  'Stap 1 - Jouw gegevens'!$C$22 * J685*G685 *$W$10/B685), \"\")","v":""},"",null,"","","","","",""]
[null,null,null,null,null,null,null,"",{"$f":"IF(AND(L686 = \"\", NOT(H686=\"\")),IF(C686< $W$10, (H686 *G686 * (C686/B686) * 'Stap 1 - Jouw gegevens'!$C$18), (H686 *G686 *'Stap 1 - Jouw gegevens'!$C$18 * ($W$10/B686))), \"\")","v":""},"",{"$f":"IF(AND(L686 = \"\", NOT(J686=\"\")),IF(C686< $W$10, 'Stap 1 - Jouw gegevens'!$C$22 *J686*G686 *C686/B686,  'Stap 1 - Jouw gegevens'!$C$22 * J686*G686 *$W$10/B686), \"\")","v":""},"",null,"","","","","",""]
[null,null,null,null,null,null,null,"",{"$f":"IF(AND(L687 = \"\", NOT(H687=\"\")),IF(C687< $W$10, (H687 *G687 * (C687/B687) * 'Stap 1 - Jouw gegevens'!$C$18), (H687 *G687 *'Stap 1 - Jouw gegevens'!$C$18 * ($W$10/B687))), \"\")","v":""},"",{"$f":"IF(AND(L687 = \"\", NOT(J687=\"\")),IF(C687< $W$10, 'Stap 1 - Jouw gegevens'!$C$22 *J687*G687 *C687/B687,  'Stap 1 - Jouw gegevens'!$C$22 * J687*G687 *$W$10/B687), \"\")","v":""},"",null,"","","","","",""]
[null,null,null,null,null,null,null,"",{"$f":"IF(AND(L688 = \"\", NOT(H688=\"\")),IF(C688< $W$10, (H688 *G688 * (C688/B688) * 'Stap 1 - Jouw gegevens'!$C$18), (H688 *G688 *'Stap 1 - Jouw gegevens'!$C$18 * ($W$10/B688))), \"\")","v":""},"",{"$f":"IF(AND(L688 = \"\", NOT(J688=\"\")),IF(C688< $W$10, 'Stap 1 - Jouw gegevens'!$C$22 *J688*G688 *C688/B688,  'Stap 1 - Jouw gegevens'!$C$22 * J688*G688 *$W$10/B688), \"\")","v":""},"",null,"","","","","",""]
[null,null,null,null,null,null,null,"",{"$f":"IF(AND(L689 = \"\", NOT(H689=\"\")),IF(C689< $W$10, (H689 *G689 * (C689/B689) * 'Stap 1 - Jouw gegevens'!$C$18), (H689 *G689 *'Stap 1 - Jouw gegevens'!$C$18 * ($W$10/B689))), \"\")","v":""},"",{"$f":"IF(AND(L689 = \"\", NOT(J689=\"\")),IF(C689< $W$10, 'Stap 1 - Jouw gegevens'!$C$22 *J689*G689 *C689/B689,  'Stap 1 - Jouw gegevens'!$C$22 * J689*G689 *$W$10/B689), \"\")","v":""},"",null,"","","","","",""]
[null,null,null,null,null,null,null,"",{"$f":"IF(AND(L690 = \"\", NOT(H690=\"\")),IF(C690< $W$10, (H690 *G690 * (C690/B690) * 'Stap 1 - Jouw gegevens'!$C$18), (H690 *G690 *'Stap 1 - Jouw gegevens'!$C$18 * ($W$10/B690))), \"\")","v":""},"",{"$f":"IF(AND(L690 = \"\", NOT(J690=\"\")),IF(C690< $W$10, 'Stap 1 - Jouw gegevens'!$C$22 *J690*G690 *C690/B690,  'Stap 1 - Jouw gegevens'!$C$22 * J690*G690 *$W$10/B690), \"\")","v":""},"",null,"","","","","",""]
[null,null,null,null,null,null,null,"",{"$f":"IF(AND(L691 = \"\", NOT(H691=\"\")),IF(C691< $W$10, (H691 *G691 * (C691/B691) * 'Stap 1 - Jouw gegevens'!$C$18), (H691 *G691 *'Stap 1 - Jouw gegevens'!$C$18 * ($W$10/B691))), \"\")","v":""},"",{"$f":"IF(AND(L691 = \"\", NOT(J691=\"\")),IF(C691< $W$10, 'Stap 1 - Jouw gegevens'!$C$22 *J691*G691 *C691/B691,  'Stap 1 - Jouw gegevens'!$C$22 * J691*G691 *$W$10/B691), \"\")","v":""},"",null,"","","","","",""]
[null,null,null,null,null,null,null,"",{"$f":"IF(AND(L692 = \"\", NOT(H692=\"\")),IF(C692< $W$10, (H692 *G692 * (C692/B692) * 'Stap 1 - Jouw gegevens'!$C$18), (H692 *G692 *'Stap 1 - Jouw gegevens'!$C$18 * ($W$10/B692))), \"\")","v":""},"",{"$f":"IF(AND(L692 = \"\", NOT(J692=\"\")),IF(C692< $W$10, 'Stap 1 - Jouw gegevens'!$C$22 *J692*G692 *C692/B692,  'Stap 1 - Jouw gegevens'!$C$22 * J692*G692 *$W$10/B692), \"\")","v":""},"",null,"","","","","",""]
[null,null,null,null,null,null,null,"",{"$f":"IF(AND(L693 = \"\", NOT(H693=\"\")),IF(C693< $W$10, (H693 *G693 * (C693/B693) * 'Stap 1 - Jouw gegevens'!$C$18), (H693 *G693 *'Stap 1 - Jouw gegevens'!$C$18 * ($W$10/B693))), \"\")","v":""},"",{"$f":"IF(AND(L693 = \"\", NOT(J693=\"\")),IF(C693< $W$10, 'Stap 1 - Jouw gegevens'!$C$22 *J693*G693 *C693/B693,  'Stap 1 - Jouw gegevens'!$C$22 * J693*G693 *$W$10/B693), \"\")","v":""},"",null,"","","","","",""]
[null,null,null,null,null,null,null,"",{"$f":"IF(AND(L694 = \"\", NOT(H694=\"\")),IF(C694< $W$10, (H694 *G694 * (C694/B694) * 'Stap 1 - Jouw gegevens'!$C$18), (H694 *G694 *'Stap 1 - Jouw gegevens'!$C$18 * ($W$10/B694))), \"\")","v":""},"",{"$f":"IF(AND(L694 = \"\", NOT(J694=\"\")),IF(C694< $W$10, 'Stap 1 - Jouw gegevens'!$C$22 *J694*G694 *C694/B694,  'Stap 1 - Jouw gegevens'!$C$22 * J694*G694 *$W$10/B694), \"\")","v":""},"",null,"","","","","",""]
[null,null,null,null,null,null,null,"",{"$f":"IF(AND(L695 = \"\", NOT(H695=\"\")),IF(C695< $W$10, (H695 *G695 * (C695/B695) * 'Stap 1 - Jouw gegevens'!$C$18), (H695 *G695 *'Stap 1 - Jouw gegevens'!$C$18 * ($W$10/B695))), \"\")","v":""},"",{"$f":"IF(AND(L695 = \"\", NOT(J695=\"\")),IF(C695< $W$10, 'Stap 1 - Jouw gegevens'!$C$22 *J695*G695 *C695/B695,  'Stap 1 - Jouw gegevens'!$C$22 * J695*G695 *$W$10/B695), \"\")","v":""},"",null,"","","","","",""]
[null,null,null,null,null,null,null,"",{"$f":"IF(AND(L696 = \"\", NOT(H696=\"\")),IF(C696< $W$10, (H696 *G696 * (C696/B696) * 'Stap 1 - Jouw gegevens'!$C$18), (H696 *G696 *'Stap 1 - Jouw gegevens'!$C$18 * ($W$10/B696))), \"\")","v":""},"",{"$f":"IF(AND(L696 = \"\", NOT(J696=\"\")),IF(C696< $W$10, 'Stap 1 - Jouw gegevens'!$C$22 *J696*G696 *C696/B696,  'Stap 1 - Jouw gegevens'!$C$22 * J696*G696 *$W$10/B696), \"\")","v":""},"",null,"","","","","",""]
[null,null,null,null,null,null,null,"",{"$f":"IF(AND(L697 = \"\", NOT(H697=\"\")),IF(C697< $W$10, (H697 *G697 * (C697/B697) * 'Stap 1 - Jouw gegevens'!$C$18), (H697 *G697 *'Stap 1 - Jouw gegevens'!$C$18 * ($W$10/B697))), \"\")","v":""},"",{"$f":"IF(AND(L697 = \"\", NOT(J697=\"\")),IF(C697< $W$10, 'Stap 1 - Jouw gegevens'!$C$22 *J697*G697 *C697/B697,  'Stap 1 - Jouw gegevens'!$C$22 * J697*G697 *$W$10/B697), \"\")","v":""},"",null,"","","","","",""]
[null,null,null,null,null,null,null,"",{"$f":"IF(AND(L698 = \"\", NOT(H698=\"\")),IF(C698< $W$10, (H698 *G698 * (C698/B698) * 'Stap 1 - Jouw gegevens'!$C$18), (H698 *G698 *'Stap 1 - Jouw gegevens'!$C$18 * ($W$10/B698))), \"\")","v":""},"",{"$f":"IF(AND(L698 = \"\", NOT(J698=\"\")),IF(C698< $W$10, 'Stap 1 - Jouw gegevens'!$C$22 *J698*G698 *C698/B698,  'Stap 1 - Jouw gegevens'!$C$22 * J698*G698 *$W$10/B698), \"\")","v":""},"",null,"","","","","",""]
[null,null,null,null,null,null,null,"",{"$f":"IF(AND(L699 = \"\", NOT(H699=\"\")),IF(C699< $W$10, (H699 *G699 * (C699/B699) * 'Stap 1 - Jouw gegevens'!$C$18), (H699 *G699 *'Stap 1 - Jouw gegevens'!$C$18 * ($W$10/B699))), \"\")","v":""},"",{"$f":"IF(AND(L699 = \"\", NOT(J699=\"\")),IF(C699< $W$10, 'Stap 1 - Jouw gegevens'!$C$22 *J699*G699 *C699/B699,  'Stap 1 - Jouw gegevens'!$C$22 * J699*G699 *$W$10/B699), \"\")","v":""},"",null,"","","","","",""]
[null,null,null,null,null,null,null,"",{"$f":"IF(AND(L700 = \"\", NOT(H700=\"\")),IF(C700< $W$10, (H700 *G700 * (C700/B700) * 'Stap 1 - Jouw gegevens'!$C$18), (H700 *G700 *'Stap 1 - Jouw gegevens'!$C$18 * ($W$10/B700))), \"\")","v":""},"",{"$f":"IF(AND(L700 = \"\", NOT(J700=\"\")),IF(C700< $W$10, 'Stap 1 - Jouw gegevens'!$C$22 *J700*G700 *C700/B700,  'Stap 1 - Jouw gegevens'!$C$22 * J700*G700 *$W$10/B700), \"\")","v":""},"",null,"","","","","",""]
[null,null,null,null,null,null,null,"",{"$f":"IF(AND(L701 = \"\", NOT(H701=\"\")),IF(C701< $W$10, (H701 *G701 * (C701/B701) * 'Stap 1 - Jouw gegevens'!$C$18), (H701 *G701 *'Stap 1 - Jouw gegevens'!$C$18 * ($W$10/B701))), \"\")","v":""},"",{"$f":"IF(AND(L701 = \"\", NOT(J701=\"\")),IF(C701< $W$10, 'Stap 1 - Jouw gegevens'!$C$22 *J701*G701 *C701/B701,  'Stap 1 - Jouw gegevens'!$C$22 * J701*G701 *$W$10/B701), \"\")","v":""},"",null,"","","","","",""]
[null,null,null,null,null,null,null,"",{"$f":"IF(AND(L702 = \"\", NOT(H702=\"\")),IF(C702< $W$10, (H702 *G702 * (C702/B702) * 'Stap 1 - Jouw gegevens'!$C$18), (H702 *G702 *'Stap 1 - Jouw gegevens'!$C$18 * ($W$10/B702))), \"\")","v":""},"",{"$f":"IF(AND(L702 = \"\", NOT(J702=\"\")),IF(C702< $W$10, 'Stap 1 - Jouw gegevens'!$C$22 *J702*G702 *C702/B702,  'Stap 1 - Jouw gegevens'!$C$22 * J702*G702 *$W$10/B702), \"\")","v":""},"",null,"","","","","",""]
[null,null,null,null,null,null,null,"",{"$f":"IF(AND(L703 = \"\", NOT(H703=\"\")),IF(C703< $W$10, (H703 *G703 * (C703/B703) * 'Stap 1 - Jouw gegevens'!$C$18), (H703 *G703 *'Stap 1 - Jouw gegevens'!$C$18 * ($W$10/B703))), \"\")","v":""},"",{"$f":"IF(AND(L703 = \"\", NOT(J703=\"\")),IF(C703< $W$10, 'Stap 1 - Jouw gegevens'!$C$22 *J703*G703 *C703/B703,  'Stap 1 - Jouw gegevens'!$C$22 * J703*G703 *$W$10/B703), \"\")","v":""},"",null,"","","","","",""]
[null,null,null,null,null,null,null,"",{"$f":"IF(AND(L704 = \"\", NOT(H704=\"\")),IF(C704< $W$10, (H704 *G704 * (C704/B704) * 'Stap 1 - Jouw gegevens'!$C$18), (H704 *G704 *'Stap 1 - Jouw gegevens'!$C$18 * ($W$10/B704))), \"\")","v":""},"",{"$f":"IF(AND(L704 = \"\", NOT(J704=\"\")),IF(C704< $W$10, 'Stap 1 - Jouw gegevens'!$C$22 *J704*G704 *C704/B704,  'Stap 1 - Jouw gegevens'!$C$22 * J704*G704 *$W$10/B704), \"\")","v":""},"",null,"","","","","",""]
[null,null,null,null,null,null,null,"",{"$f":"IF(AND(L705 = \"\", NOT(H705=\"\")),IF(C705< $W$10, (H705 *G705 * (C705/B705) * 'Stap 1 - Jouw gegevens'!$C$18), (H705 *G705 *'Stap 1 - Jouw gegevens'!$C$18 * ($W$10/B705))), \"\")","v":""},"",{"$f":"IF(AND(L705 = \"\", NOT(J705=\"\")),IF(C705< $W$10, 'Stap 1 - Jouw gegevens'!$C$22 *J705*G705 *C705/B705,  'Stap 1 - Jouw gegevens'!$C$22 * J705*G705 *$W$10/B705), \"\")","v":""},"",null,"","","","","",""]
[null,null,null,null,null,null,null,"",{"$f":"IF(AND(L706 = \"\", NOT(H706=\"\")),IF(C706< $W$10, (H706 *G706 * (C706/B706) * 'Stap 1 - Jouw gegevens'!$C$18), (H706 *G706 *'Stap 1 - Jouw gegevens'!$C$18 * ($W$10/B706))), \"\")","v":""},"",{"$f":"IF(AND(L706 = \"\", NOT(J706=\"\")),IF(C706< $W$10, 'Stap 1 - Jouw gegevens'!$C$22 *J706*G706 *C706/B706,  'Stap 1 - Jouw gegevens'!$C$22 * J706*G706 *$W$10/B706), \"\")","v":""},"",null,"","","","","",""]
[null,null,null,null,null,null,null,"",{"$f":"IF(AND(L707 = \"\", NOT(H707=\"\")),IF(C707< $W$10, (H707 *G707 * (C707/B707) * 'Stap 1 - Jouw gegevens'!$C$18), (H707 *G707 *'Stap 1 - Jouw gegevens'!$C$18 * ($W$10/B707))), \"\")","v":""},"",{"$f":"IF(AND(L707 = \"\", NOT(J707=\"\")),IF(C707< $W$10, 'Stap 1 - Jouw gegevens'!$C$22 *J707*G707 *C707/B707,  'Stap 1 - Jouw gegevens'!$C$22 * J707*G707 *$W$10/B707), \"\")","v":""},"",null,"","","","","",""]
[null,null,null,null,null,null,null,"",{"$f":"IF(AND(L708 = \"\", NOT(H708=\"\")),IF(C708< $W$10, (H708 *G708 * (C708/B708) * 'Stap 1 - Jouw gegevens'!$C$18), (H708 *G708 *'Stap 1 - Jouw gegevens'!$C$18 * ($W$10/B708))), \"\")","v":""},"",{"$f":"IF(AND(L708 = \"\", NOT(J708=\"\")),IF(C708< $W$10, 'Stap 1 - Jouw gegevens'!$C$22 *J708*G708 *C708/B708,  'Stap 1 - Jouw gegevens'!$C$22 * J708*G708 *$W$10/B708), \"\")","v":""},"",null,"","","","","",""]
[null,null,null,null,null,null,null,"",{"$f":"IF(AND(L709 = \"\", NOT(H709=\"\")),IF(C709< $W$10, (H709 *G709 * (C709/B709) * 'Stap 1 - Jouw gegevens'!$C$18), (H709 *G709 *'Stap 1 - Jouw gegevens'!$C$18 * ($W$10/B709))), \"\")","v":""},"",{"$f":"IF(AND(L709 = \"\", NOT(J709=\"\")),IF(C709< $W$10, 'Stap 1 - Jouw gegevens'!$C$22 *J709*G709 *C709/B709,  'Stap 1 - Jouw gegevens'!$C$22 * J709*G709 *$W$10/B709), \"\")","v":""},"",null,"","","","","",""]
[null,null,null,null,null,null,null,"",{"$f":"IF(AND(L710 = \"\", NOT(H710=\"\")),IF(C710< $W$10, (H710 *G710 * (C710/B710) * 'Stap 1 - Jouw gegevens'!$C$18), (H710 *G710 *'Stap 1 - Jouw gegevens'!$C$18 * ($W$10/B710))), \"\")","v":""},"",{"$f":"IF(AND(L710 = \"\", NOT(J710=\"\")),IF(C710< $W$10, 'Stap 1 - Jouw gegevens'!$C$22 *J710*G710 *C710/B710,  'Stap 1 - Jouw gegevens'!$C$22 * J710*G710 *$W$10/B710), \"\")","v":""},"",null,"","","","","",""]
[null,null,null,null,null,null,null,"",{"$f":"IF(AND(L711 = \"\", NOT(H711=\"\")),IF(C711< $W$10, (H711 *G711 * (C711/B711) * 'Stap 1 - Jouw gegevens'!$C$18), (H711 *G711 *'Stap 1 - Jouw gegevens'!$C$18 * ($W$10/B711))), \"\")","v":""},"",{"$f":"IF(AND(L711 = \"\", NOT(J711=\"\")),IF(C711< $W$10, 'Stap 1 - Jouw gegevens'!$C$22 *J711*G711 *C711/B711,  'Stap 1 - Jouw gegevens'!$C$22 * J711*G711 *$W$10/B711), \"\")","v":""},"",null,"","","","","",""]
[null,null,null,null,null,null,null,{"$f":"P712","v":""},{"$f":"IF(AND(L712 = \"\", NOT(H712=\"\")),IF(C712< $W$10, (H712 *G712 * (C712/B712) * 'Stap 1 - Jouw gegevens'!$C$18), (H712 *G712 *'Stap 1 - Jouw gegevens'!$C$18 * ($W$10/B712))), \"\")","v":""},{"$f":"S712","v":""},{"$f":"IF(AND(L712 = \"\", NOT(J712=\"\")),IF(C712< $W$10, 'Stap 1 - Jouw gegevens'!$C$22 *J712*G712 *C712/B712,  'Stap 1 - Jouw gegevens'!$C$22 * J712*G712 *$W$10/B712), \"\")","v":""},{"$f":"IF(ISBLANK(A712), \"\", CONCATENATE(IF(Z712 = \"X\", $AH$5, \"\"), IF( AB712 = \"X\", $AH$7, \"\"), IF( AC712 = \"X\", $AH$8, \"\"), IF( AD712 = \"X\", $AH$9, \"\"), IF( AE712 = \"X\", $AH$10, \"\"),  IF( AF712 = \"X\", $AH$11, \"\")))","v":""},null,{"$f":"IF(ISBLANK(D712),\"\",NETWORKDAYS(D712,F712))","v":""},{"$f":"IFERROR( IF(N712>$Y$5,NETWORKDAYS(E712, (Q712 - 1)), NETWORKDAYS(E712,(F712-1))), \"\")","v":""},{"$f":"IF(O712<= 0, \"\", O712)","v":""},{"$f":"IF(ISBLANK(D712),\"\",DATE(YEAR(D712)+1,MONTH(D712),DAY(D712)))","v":""},{"$f":"IFERROR(IF(N712 > $Y$5, IF(E712>=Q712,NETWORKDAYS(E712, (F712-1)), NETWORKDAYS(Q712, (F712-1))), \"\"), \"\")","v":""},{"$f":"IF(R712=\"\", \"\",  IF(R712 >= $Y$5, $Y$5,  R712))","v":""}]
[null,null,null,null,null,null,null,"",{"$f":"IF(AND(L713 = \"\", NOT(H713=\"\")),IF(C713< $W$10, (H713 *G713 * (C713/B713) * 'Stap 1 - Jouw gegevens'!$C$18), (H713 *G713 *'Stap 1 - Jouw gegevens'!$C$18 * ($W$10/B713))), \"\")","v":""},"",{"$f":"IF(AND(L713 = \"\", NOT(J713=\"\")),IF(C713< $W$10, 'Stap 1 - Jouw gegevens'!$C$22 *J713*G713 *C713/B713,  'Stap 1 - Jouw gegevens'!$C$22 * J713*G713 *$W$10/B713), \"\")","v":""},"",null,"","","","","",""]
[null,null,null,null,null,null,null,"",{"$f":"IF(AND(L714 = \"\", NOT(H714=\"\")),IF(C714< $W$10, (H714 *G714 * (C714/B714) * 'Stap 1 - Jouw gegevens'!$C$18), (H714 *G714 *'Stap 1 - Jouw gegevens'!$C$18 * ($W$10/B714))), \"\")","v":""},"",{"$f":"IF(AND(L714 = \"\", NOT(J714=\"\")),IF(C714< $W$10, 'Stap 1 - Jouw gegevens'!$C$22 *J714*G714 *C714/B714,  'Stap 1 - Jouw gegevens'!$C$22 * J714*G714 *$W$10/B714), \"\")","v":""},"",null,"","","","","",""]
[null,null,null,null,null,null,null,"",{"$f":"IF(AND(L715 = \"\", NOT(H715=\"\")),IF(C715< $W$10, (H715 *G715 * (C715/B715) * 'Stap 1 - Jouw gegevens'!$C$18), (H715 *G715 *'Stap 1 - Jouw gegevens'!$C$18 * ($W$10/B715))), \"\")","v":""},"",{"$f":"IF(AND(L715 = \"\", NOT(J715=\"\")),IF(C715< $W$10, 'Stap 1 - Jouw gegevens'!$C$22 *J715*G715 *C715/B715,  'Stap 1 - Jouw gegevens'!$C$22 * J715*G715 *$W$10/B715), \"\")","v":""},"",null,"","","","","",""]
[null,null,null,null,null,null,null,"",{"$f":"IF(AND(L716 = \"\", NOT(H716=\"\")),IF(C716< $W$10, (H716 *G716 * (C716/B716) * 'Stap 1 - Jouw gegevens'!$C$18), (H716 *G716 *'Stap 1 - Jouw gegevens'!$C$18 * ($W$10/B716))), \"\")","v":""},"",{"$f":"IF(AND(L716 = \"\", NOT(J716=\"\")),IF(C716< $W$10, 'Stap 1 - Jouw gegevens'!$C$22 *J716*G716 *C716/B716,  'Stap 1 - Jouw gegevens'!$C$22 * J716*G716 *$W$10/B716), \"\")","v":""},"",null,"","","","","",""]
[null,null,null,null,null,null,null,"",{"$f":"IF(AND(L717 = \"\", NOT(H717=\"\")),IF(C717< $W$10, (H717 *G717 * (C717/B717) * 'Stap 1 - Jouw gegevens'!$C$18), (H717 *G717 *'Stap 1 - Jouw gegevens'!$C$18 * ($W$10/B717))), \"\")","v":""},"",{"$f":"IF(AND(L717 = \"\", NOT(J717=\"\")),IF(C717< $W$10, 'Stap 1 - Jouw gegevens'!$C$22 *J717*G717 *C717/B717,  'Stap 1 - Jouw gegevens'!$C$22 * J717*G717 *$W$10/B717), \"\")","v":""},"",null,"","","","","",""]
[null,null,null,null,null,null,null,"",{"$f":"IF(AND(L718 = \"\", NOT(H718=\"\")),IF(C718< $W$10, (H718 *G718 * (C718/B718) * 'Stap 1 - Jouw gegevens'!$C$18), (H718 *G718 *'Stap 1 - Jouw gegevens'!$C$18 * ($W$10/B718))), \"\")","v":""},"",{"$f":"IF(AND(L718 = \"\", NOT(J718=\"\")),IF(C718< $W$10, 'Stap 1 - Jouw gegevens'!$C$22 *J718*G718 *C718/B718,  'Stap 1 - Jouw gegevens'!$C$22 * J718*G718 *$W$10/B718), \"\")","v":""},"",null,"","","","","",""]
[null,null,null,null,null,null,null,"",{"$f":"IF(AND(L719 = \"\", NOT(H719=\"\")),IF(C719< $W$10, (H719 *G719 * (C719/B719) * 'Stap 1 - Jouw gegevens'!$C$18), (H719 *G719 *'Stap 1 - Jouw gegevens'!$C$18 * ($W$10/B719))), \"\")","v":""},"",{"$f":"IF(AND(L719 = \"\", NOT(J719=\"\")),IF(C719< $W$10, 'Stap 1 - Jouw gegevens'!$C$22 *J719*G719 *C719/B719,  'Stap 1 - Jouw gegevens'!$C$22 * J719*G719 *$W$10/B719), \"\")","v":""},"",null,"","","","","",""]
[null,null,null,null,null,null,null,"",{"$f":"IF(AND(L720 = \"\", NOT(H720=\"\")),IF(C720< $W$10, (H720 *G720 * (C720/B720) * 'Stap 1 - Jouw gegevens'!$C$18), (H720 *G720 *'Stap 1 - Jouw gegevens'!$C$18 * ($W$10/B720))), \"\")","v":""},"",{"$f":"IF(AND(L720 = \"\", NOT(J720=\"\")),IF(C720< $W$10, 'Stap 1 - Jouw gegevens'!$C$22 *J720*G720 *C720/B720,  'Stap 1 - Jouw gegevens'!$C$22 * J720*G720 *$W$10/B720), \"\")","v":""},"",null,"","","","","",""]
[null,null,null,null,null,null,null,"",{"$f":"IF(AND(L721 = \"\", NOT(H721=\"\")),IF(C721< $W$10, (H721 *G721 * (C721/B721) * 'Stap 1 - Jouw gegevens'!$C$18), (H721 *G721 *'Stap 1 - Jouw gegevens'!$C$18 * ($W$10/B721))), \"\")","v":""},"",{"$f":"IF(AND(L721 = \"\", NOT(J721=\"\")),IF(C721< $W$10, 'Stap 1 - Jouw gegevens'!$C$22 *J721*G721 *C721/B721,  'Stap 1 - Jouw gegevens'!$C$22 * J721*G721 *$W$10/B721), \"\")","v":""},"",null,"","","","","",""]
[null,null,null,null,null,null,null,"",{"$f":"IF(AND(L722 = \"\", NOT(H722=\"\")),IF(C722< $W$10, (H722 *G722 * (C722/B722) * 'Stap 1 - Jouw gegevens'!$C$18), (H722 *G722 *'Stap 1 - Jouw gegevens'!$C$18 * ($W$10/B722))), \"\")","v":""},"",{"$f":"IF(AND(L722 = \"\", NOT(J722=\"\")),IF(C722< $W$10, 'Stap 1 - Jouw gegevens'!$C$22 *J722*G722 *C722/B722,  'Stap 1 - Jouw gegevens'!$C$22 * J722*G722 *$W$10/B722), \"\")","v":""},"",null,"","","","","",""]
[null,null,null,null,null,null,null,"",{"$f":"IF(AND(L723 = \"\", NOT(H723=\"\")),IF(C723< $W$10, (H723 *G723 * (C723/B723) * 'Stap 1 - Jouw gegevens'!$C$18), (H723 *G723 *'Stap 1 - Jouw gegevens'!$C$18 * ($W$10/B723))), \"\")","v":""},"",{"$f":"IF(AND(L723 = \"\", NOT(J723=\"\")),IF(C723< $W$10, 'Stap 1 - Jouw gegevens'!$C$22 *J723*G723 *C723/B723,  'Stap 1 - Jouw gegevens'!$C$22 * J723*G723 *$W$10/B723), \"\")","v":""},"",null,"","","","","",""]
[null,null,null,null,null,null,null,"",{"$f":"IF(AND(L724 = \"\", NOT(H724=\"\")),IF(C724< $W$10, (H724 *G724 * (C724/B724) * 'Stap 1 - Jouw gegevens'!$C$18), (H724 *G724 *'Stap 1 - Jouw gegevens'!$C$18 * ($W$10/B724))), \"\")","v":""},"",{"$f":"IF(AND(L724 = \"\", NOT(J724=\"\")),IF(C724< $W$10, 'Stap 1 - Jouw gegevens'!$C$22 *J724*G724 *C724/B724,  'Stap 1 - Jouw gegevens'!$C$22 * J724*G724 *$W$10/B724), \"\")","v":""},"",null,"","","","","",""]
[null,null,null,null,null,null,null,"",{"$f":"IF(AND(L725 = \"\", NOT(H725=\"\")),IF(C725< $W$10, (H725 *G725 * (C725/B725) * 'Stap 1 - Jouw gegevens'!$C$18), (H725 *G725 *'Stap 1 - Jouw gegevens'!$C$18 * ($W$10/B725))), \"\")","v":""},"",{"$f":"IF(AND(L725 = \"\", NOT(J725=\"\")),IF(C725< $W$10, 'Stap 1 - Jouw gegevens'!$C$22 *J725*G725 *C725/B725,  'Stap 1 - Jouw gegevens'!$C$22 * J725*G725 *$W$10/B725), \"\")","v":""},"",null,"","","","","",""]
[null,null,null,null,null,null,null,"",{"$f":"IF(AND(L726 = \"\", NOT(H726=\"\")),IF(C726< $W$10, (H726 *G726 * (C726/B726) * 'Stap 1 - Jouw gegevens'!$C$18), (H726 *G726 *'Stap 1 - Jouw gegevens'!$C$18 * ($W$10/B726))), \"\")","v":""},"",{"$f":"IF(AND(L726 = \"\", NOT(J726=\"\")),IF(C726< $W$10, 'Stap 1 - Jouw gegevens'!$C$22 *J726*G726 *C726/B726,  'Stap 1 - Jouw gegevens'!$C$22 * J726*G726 *$W$10/B726), \"\")","v":""},"",null,"","","","","",""]
[null,null,null,null,null,null,null,"",{"$f":"IF(AND(L727 = \"\", NOT(H727=\"\")),IF(C727< $W$10, (H727 *G727 * (C727/B727) * 'Stap 1 - Jouw gegevens'!$C$18), (H727 *G727 *'Stap 1 - Jouw gegevens'!$C$18 * ($W$10/B727))), \"\")","v":""},"",{"$f":"IF(AND(L727 = \"\", NOT(J727=\"\")),IF(C727< $W$10, 'Stap 1 - Jouw gegevens'!$C$22 *J727*G727 *C727/B727,  'Stap 1 - Jouw gegevens'!$C$22 * J727*G727 *$W$10/B727), \"\")","v":""},"",null,"","","","","",""]
[null,null,null,null,null,null,null,"",{"$f":"IF(AND(L728 = \"\", NOT(H728=\"\")),IF(C728< $W$10, (H728 *G728 * (C728/B728) * 'Stap 1 - Jouw gegevens'!$C$18), (H728 *G728 *'Stap 1 - Jouw gegevens'!$C$18 * ($W$10/B728))), \"\")","v":""},"",{"$f":"IF(AND(L728 = \"\", NOT(J728=\"\")),IF(C728< $W$10, 'Stap 1 - Jouw gegevens'!$C$22 *J728*G728 *C728/B728,  'Stap 1 - Jouw gegevens'!$C$22 * J728*G728 *$W$10/B728), \"\")","v":""},"",null,"","","","","",""]
[null,null,null,null,null,null,null,"",{"$f":"IF(AND(L729 = \"\", NOT(H729=\"\")),IF(C729< $W$10, (H729 *G729 * (C729/B729) * 'Stap 1 - Jouw gegevens'!$C$18), (H729 *G729 *'Stap 1 - Jouw gegevens'!$C$18 * ($W$10/B729))), \"\")","v":""},"",{"$f":"IF(AND(L729 = \"\", NOT(J729=\"\")),IF(C729< $W$10, 'Stap 1 - Jouw gegevens'!$C$22 *J729*G729 *C729/B729,  'Stap 1 - Jouw gegevens'!$C$22 * J729*G729 *$W$10/B729), \"\")","v":""},"",null,"","","","","",""]
[null,null,null,null,null,null,null,"",{"$f":"IF(AND(L730 = \"\", NOT(H730=\"\")),IF(C730< $W$10, (H730 *G730 * (C730/B730) * 'Stap 1 - Jouw gegevens'!$C$18), (H730 *G730 *'Stap 1 - Jouw gegevens'!$C$18 * ($W$10/B730))), \"\")","v":""},"",{"$f":"IF(AND(L730 = \"\", NOT(J730=\"\")),IF(C730< $W$10, 'Stap 1 - Jouw gegevens'!$C$22 *J730*G730 *C730/B730,  'Stap 1 - Jouw gegevens'!$C$22 * J730*G730 *$W$10/B730), \"\")","v":""},"",null,"","","","","",""]
[null,null,null,null,null,null,null,"",{"$f":"IF(AND(L731 = \"\", NOT(H731=\"\")),IF(C731< $W$10, (H731 *G731 * (C731/B731) * 'Stap 1 - Jouw gegevens'!$C$18), (H731 *G731 *'Stap 1 - Jouw gegevens'!$C$18 * ($W$10/B731))), \"\")","v":""},"",{"$f":"IF(AND(L731 = \"\", NOT(J731=\"\")),IF(C731< $W$10, 'Stap 1 - Jouw gegevens'!$C$22 *J731*G731 *C731/B731,  'Stap 1 - Jouw gegevens'!$C$22 * J731*G731 *$W$10/B731), \"\")","v":""},"",null,"","","","","",""]
[null,null,null,null,null,null,null,"",{"$f":"IF(AND(L732 = \"\", NOT(H732=\"\")),IF(C732< $W$10, (H732 *G732 * (C732/B732) * 'Stap 1 - Jouw gegevens'!$C$18), (H732 *G732 *'Stap 1 - Jouw gegevens'!$C$18 * ($W$10/B732))), \"\")","v":""},"",{"$f":"IF(AND(L732 = \"\", NOT(J732=\"\")),IF(C732< $W$10, 'Stap 1 - Jouw gegevens'!$C$22 *J732*G732 *C732/B732,  'Stap 1 - Jouw gegevens'!$C$22 * J732*G732 *$W$10/B732), \"\")","v":""},"",null,"","","","","",""]
[null,null,null,null,null,null,null,"",{"$f":"IF(AND(L733 = \"\", NOT(H733=\"\")),IF(C733< $W$10, (H733 *G733 * (C733/B733) * 'Stap 1 - Jouw gegevens'!$C$18), (H733 *G733 *'Stap 1 - Jouw gegevens'!$C$18 * ($W$10/B733))), \"\")","v":""},"",{"$f":"IF(AND(L733 = \"\", NOT(J733=\"\")),IF(C733< $W$10, 'Stap 1 - Jouw gegevens'!$C$22 *J733*G733 *C733/B733,  'Stap 1 - Jouw gegevens'!$C$22 * J733*G733 *$W$10/B733), \"\")","v":""},"",null,"","","","","",""]
[null,null,null,null,null,null,null,"",{"$f":"IF(AND(L734 = \"\", NOT(H734=\"\")),IF(C734< $W$10, (H734 *G734 * (C734/B734) * 'Stap 1 - Jouw gegevens'!$C$18), (H734 *G734 *'Stap 1 - Jouw gegevens'!$C$18 * ($W$10/B734))), \"\")","v":""},"",{"$f":"IF(AND(L734 = \"\", NOT(J734=\"\")),IF(C734< $W$10, 'Stap 1 - Jouw gegevens'!$C$22 *J734*G734 *C734/B734,  'Stap 1 - Jouw gegevens'!$C$22 * J734*G734 *$W$10/B734), \"\")","v":""},"",null,"","","","","",""]
[null,null,null,null,null,null,null,"",{"$f":"IF(AND(L735 = \"\", NOT(H735=\"\")),IF(C735< $W$10, (H735 *G735 * (C735/B735) * 'Stap 1 - Jouw gegevens'!$C$18), (H735 *G735 *'Stap 1 - Jouw gegevens'!$C$18 * ($W$10/B735))), \"\")","v":""},"",{"$f":"IF(AND(L735 = \"\", NOT(J735=\"\")),IF(C735< $W$10, 'Stap 1 - Jouw gegevens'!$C$22 *J735*G735 *C735/B735,  'Stap 1 - Jouw gegevens'!$C$22 * J735*G735 *$W$10/B735), \"\")","v":""},"",null,"","","","","",""]
[null,null,null,null,null,null,null,"",{"$f":"IF(AND(L736 = \"\", NOT(H736=\"\")),IF(C736< $W$10, (H736 *G736 * (C736/B736) * 'Stap 1 - Jouw gegevens'!$C$18), (H736 *G736 *'Stap 1 - Jouw gegevens'!$C$18 * ($W$10/B736))), \"\")","v":""},"",{"$f":"IF(AND(L736 = \"\", NOT(J736=\"\")),IF(C736< $W$10, 'Stap 1 - Jouw gegevens'!$C$22 *J736*G736 *C736/B736,  'Stap 1 - Jouw gegevens'!$C$22 * J736*G736 *$W$10/B736), \"\")","v":""},"",null,"","","","","",""]
[null,null,null,null,null,null,null,"",{"$f":"IF(AND(L737 = \"\", NOT(H737=\"\")),IF(C737< $W$10, (H737 *G737 * (C737/B737) * 'Stap 1 - Jouw gegevens'!$C$18), (H737 *G737 *'Stap 1 - Jouw gegevens'!$C$18 * ($W$10/B737))), \"\")","v":""},"",{"$f":"IF(AND(L737 = \"\", NOT(J737=\"\")),IF(C737< $W$10, 'Stap 1 - Jouw gegevens'!$C$22 *J737*G737 *C737/B737,  'Stap 1 - Jouw gegevens'!$C$22 * J737*G737 *$W$10/B737), \"\")","v":""},"",null,"","","","","",""]
[null,null,null,null,null,null,null,"",{"$f":"IF(AND(L738 = \"\", NOT(H738=\"\")),IF(C738< $W$10, (H738 *G738 * (C738/B738) * 'Stap 1 - Jouw gegevens'!$C$18), (H738 *G738 *'Stap 1 - Jouw gegevens'!$C$18 * ($W$10/B738))), \"\")","v":""},"",{"$f":"IF(AND(L738 = \"\", NOT(J738=\"\")),IF(C738< $W$10, 'Stap 1 - Jouw gegevens'!$C$22 *J738*G738 *C738/B738,  'Stap 1 - Jouw gegevens'!$C$22 * J738*G738 *$W$10/B738), \"\")","v":""},"",null,"","","","","",""]
[null,null,null,null,null,null,null,"",{"$f":"IF(AND(L739 = \"\", NOT(H739=\"\")),IF(C739< $W$10, (H739 *G739 * (C739/B739) * 'Stap 1 - Jouw gegevens'!$C$18), (H739 *G739 *'Stap 1 - Jouw gegevens'!$C$18 * ($W$10/B739))), \"\")","v":""},"",{"$f":"IF(AND(L739 = \"\", NOT(J739=\"\")),IF(C739< $W$10, 'Stap 1 - Jouw gegevens'!$C$22 *J739*G739 *C739/B739,  'Stap 1 - Jouw gegevens'!$C$22 * J739*G739 *$W$10/B739), \"\")","v":""},"",null,"","","","","",""]
[null,null,null,null,null,null,null,"",{"$f":"IF(AND(L740 = \"\", NOT(H740=\"\")),IF(C740< $W$10, (H740 *G740 * (C740/B740) * 'Stap 1 - Jouw gegevens'!$C$18), (H740 *G740 *'Stap 1 - Jouw gegevens'!$C$18 * ($W$10/B740))), \"\")","v":""},"",{"$f":"IF(AND(L740 = \"\", NOT(J740=\"\")),IF(C740< $W$10, 'Stap 1 - Jouw gegevens'!$C$22 *J740*G740 *C740/B740,  'Stap 1 - Jouw gegevens'!$C$22 * J740*G740 *$W$10/B740), \"\")","v":""},"",null,"","","","","",""]
[null,null,null,null,null,null,null,"",{"$f":"IF(AND(L741 = \"\", NOT(H741=\"\")),IF(C741< $W$10, (H741 *G741 * (C741/B741) * 'Stap 1 - Jouw gegevens'!$C$18), (H741 *G741 *'Stap 1 - Jouw gegevens'!$C$18 * ($W$10/B741))), \"\")","v":""},"",{"$f":"IF(AND(L741 = \"\", NOT(J741=\"\")),IF(C741< $W$10, 'Stap 1 - Jouw gegevens'!$C$22 *J741*G741 *C741/B741,  'Stap 1 - Jouw gegevens'!$C$22 * J741*G741 *$W$10/B741), \"\")","v":""},"",null,"","","","","",""]
[null,null,null,null,null,null,null,"",{"$f":"IF(AND(L742 = \"\", NOT(H742=\"\")),IF(C742< $W$10, (H742 *G742 * (C742/B742) * 'Stap 1 - Jouw gegevens'!$C$18), (H742 *G742 *'Stap 1 - Jouw gegevens'!$C$18 * ($W$10/B742))), \"\")","v":""},"",{"$f":"IF(AND(L742 = \"\", NOT(J742=\"\")),IF(C742< $W$10, 'Stap 1 - Jouw gegevens'!$C$22 *J742*G742 *C742/B742,  'Stap 1 - Jouw gegevens'!$C$22 * J742*G742 *$W$10/B742), \"\")","v":""},"",null,"","","","","",""]
[null,null,null,null,null,null,null,"",{"$f":"IF(AND(L743 = \"\", NOT(H743=\"\")),IF(C743< $W$10, (H743 *G743 * (C743/B743) * 'Stap 1 - Jouw gegevens'!$C$18), (H743 *G743 *'Stap 1 - Jouw gegevens'!$C$18 * ($W$10/B743))), \"\")","v":""},"",{"$f":"IF(AND(L743 = \"\", NOT(J743=\"\")),IF(C743< $W$10, 'Stap 1 - Jouw gegevens'!$C$22 *J743*G743 *C743/B743,  'Stap 1 - Jouw gegevens'!$C$22 * J743*G743 *$W$10/B743), \"\")","v":""},"",null,"","","","","",""]
[null,null,null,null,null,null,null,"",{"$f":"IF(AND(L744 = \"\", NOT(H744=\"\")),IF(C744< $W$10, (H744 *G744 * (C744/B744) * 'Stap 1 - Jouw gegevens'!$C$18), (H744 *G744 *'Stap 1 - Jouw gegevens'!$C$18 * ($W$10/B744))), \"\")","v":""},"",{"$f":"IF(AND(L744 = \"\", NOT(J744=\"\")),IF(C744< $W$10, 'Stap 1 - Jouw gegevens'!$C$22 *J744*G744 *C744/B744,  'Stap 1 - Jouw gegevens'!$C$22 * J744*G744 *$W$10/B744), \"\")","v":""},"",null,"","","","","",""]
[null,null,null,null,null,null,null,"",{"$f":"IF(AND(L745 = \"\", NOT(H745=\"\")),IF(C745< $W$10, (H745 *G745 * (C745/B745) * 'Stap 1 - Jouw gegevens'!$C$18), (H745 *G745 *'Stap 1 - Jouw gegevens'!$C$18 * ($W$10/B745))), \"\")","v":""},"",{"$f":"IF(AND(L745 = \"\", NOT(J745=\"\")),IF(C745< $W$10, 'Stap 1 - Jouw gegevens'!$C$22 *J745*G745 *C745/B745,  'Stap 1 - Jouw gegevens'!$C$22 * J745*G745 *$W$10/B745), \"\")","v":""},"",null,"","","","","",""]
[null,null,null,null,null,null,null,"",{"$f":"IF(AND(L746 = \"\", NOT(H746=\"\")),IF(C746< $W$10, (H746 *G746 * (C746/B746) * 'Stap 1 - Jouw gegevens'!$C$18), (H746 *G746 *'Stap 1 - Jouw gegevens'!$C$18 * ($W$10/B746))), \"\")","v":""},"",{"$f":"IF(AND(L746 = \"\", NOT(J746=\"\")),IF(C746< $W$10, 'Stap 1 - Jouw gegevens'!$C$22 *J746*G746 *C746/B746,  'Stap 1 - Jouw gegevens'!$C$22 * J746*G746 *$W$10/B746), \"\")","v":""},"",null,"","","","","",""]
[null,null,null,null,null,null,null,"",{"$f":"IF(AND(L747 = \"\", NOT(H747=\"\")),IF(C747< $W$10, (H747 *G747 * (C747/B747) * 'Stap 1 - Jouw gegevens'!$C$18), (H747 *G747 *'Stap 1 - Jouw gegevens'!$C$18 * ($W$10/B747))), \"\")","v":""},"",{"$f":"IF(AND(L747 = \"\", NOT(J747=\"\")),IF(C747< $W$10, 'Stap 1 - Jouw gegevens'!$C$22 *J747*G747 *C747/B747,  'Stap 1 - Jouw gegevens'!$C$22 * J747*G747 *$W$10/B747), \"\")","v":""},"",null,"","","","","",""]
[null,null,null,null,null,null,null,"",{"$f":"IF(AND(L748 = \"\", NOT(H748=\"\")),IF(C748< $W$10, (H748 *G748 * (C748/B748) * 'Stap 1 - Jouw gegevens'!$C$18), (H748 *G748 *'Stap 1 - Jouw gegevens'!$C$18 * ($W$10/B748))), \"\")","v":""},"",{"$f":"IF(AND(L748 = \"\", NOT(J748=\"\")),IF(C748< $W$10, 'Stap 1 - Jouw gegevens'!$C$22 *J748*G748 *C748/B748,  'Stap 1 - Jouw gegevens'!$C$22 * J748*G748 *$W$10/B748), \"\")","v":""},"",null,"","","","","",""]
[null,null,null,null,null,null,null,"",{"$f":"IF(AND(L749 = \"\", NOT(H749=\"\")),IF(C749< $W$10, (H749 *G749 * (C749/B749) * 'Stap 1 - Jouw gegevens'!$C$18), (H749 *G749 *'Stap 1 - Jouw gegevens'!$C$18 * ($W$10/B749))), \"\")","v":""},"",{"$f":"IF(AND(L749 = \"\", NOT(J749=\"\")),IF(C749< $W$10, 'Stap 1 - Jouw gegevens'!$C$22 *J749*G749 *C749/B749,  'Stap 1 - Jouw gegevens'!$C$22 * J749*G749 *$W$10/B749), \"\")","v":""},"",null,"","","","","",""]
[null,null,null,null,null,null,null,"",{"$f":"IF(AND(L750 = \"\", NOT(H750=\"\")),IF(C750< $W$10, (H750 *G750 * (C750/B750) * 'Stap 1 - Jouw gegevens'!$C$18), (H750 *G750 *'Stap 1 - Jouw gegevens'!$C$18 * ($W$10/B750))), \"\")","v":""},"",{"$f":"IF(AND(L750 = \"\", NOT(J750=\"\")),IF(C750< $W$10, 'Stap 1 - Jouw gegevens'!$C$22 *J750*G750 *C750/B750,  'Stap 1 - Jouw gegevens'!$C$22 * J750*G750 *$W$10/B750), \"\")","v":""},"",null,"","","","","",""]
[null,null,null,null,null,null,null,"",{"$f":"IF(AND(L751 = \"\", NOT(H751=\"\")),IF(C751< $W$10, (H751 *G751 * (C751/B751) * 'Stap 1 - Jouw gegevens'!$C$18), (H751 *G751 *'Stap 1 - Jouw gegevens'!$C$18 * ($W$10/B751))), \"\")","v":""},"",{"$f":"IF(AND(L751 = \"\", NOT(J751=\"\")),IF(C751< $W$10, 'Stap 1 - Jouw gegevens'!$C$22 *J751*G751 *C751/B751,  'Stap 1 - Jouw gegevens'!$C$22 * J751*G751 *$W$10/B751), \"\")","v":""},"",null,"","","","","",""]
[null,null,null,null,null,null,null,"",{"$f":"IF(AND(L752 = \"\", NOT(H752=\"\")),IF(C752< $W$10, (H752 *G752 * (C752/B752) * 'Stap 1 - Jouw gegevens'!$C$18), (H752 *G752 *'Stap 1 - Jouw gegevens'!$C$18 * ($W$10/B752))), \"\")","v":""},"",{"$f":"IF(AND(L752 = \"\", NOT(J752=\"\")),IF(C752< $W$10, 'Stap 1 - Jouw gegevens'!$C$22 *J752*G752 *C752/B752,  'Stap 1 - Jouw gegevens'!$C$22 * J752*G752 *$W$10/B752), \"\")","v":""},"",null,"","","","","",""]
[null,null,null,null,null,null,null,"",{"$f":"IF(AND(L753 = \"\", NOT(H753=\"\")),IF(C753< $W$10, (H753 *G753 * (C753/B753) * 'Stap 1 - Jouw gegevens'!$C$18), (H753 *G753 *'Stap 1 - Jouw gegevens'!$C$18 * ($W$10/B753))), \"\")","v":""},"",{"$f":"IF(AND(L753 = \"\", NOT(J753=\"\")),IF(C753< $W$10, 'Stap 1 - Jouw gegevens'!$C$22 *J753*G753 *C753/B753,  'Stap 1 - Jouw gegevens'!$C$22 * J753*G753 *$W$10/B753), \"\")","v":""},"",null,"","","","","",""]
[null,null,null,null,null,null,null,"",{"$f":"IF(AND(L754 = \"\", NOT(H754=\"\")),IF(C754< $W$10, (H754 *G754 * (C754/B754) * 'Stap 1 - Jouw gegevens'!$C$18), (H754 *G754 *'Stap 1 - Jouw gegevens'!$C$18 * ($W$10/B754))), \"\")","v":""},"",{"$f":"IF(AND(L754 = \"\", NOT(J754=\"\")),IF(C754< $W$10, 'Stap 1 - Jouw gegevens'!$C$22 *J754*G754 *C754/B754,  'Stap 1 - Jouw gegevens'!$C$22 * J754*G754 *$W$10/B754), \"\")","v":""},"",null,"","","","","",""]
[null,null,null,null,null,null,null,"",{"$f":"IF(AND(L755 = \"\", NOT(H755=\"\")),IF(C755< $W$10, (H755 *G755 * (C755/B755) * 'Stap 1 - Jouw gegevens'!$C$18), (H755 *G755 *'Stap 1 - Jouw gegevens'!$C$18 * ($W$10/B755))), \"\")","v":""},"",{"$f":"IF(AND(L755 = \"\", NOT(J755=\"\")),IF(C755< $W$10, 'Stap 1 - Jouw gegevens'!$C$22 *J755*G755 *C755/B755,  'Stap 1 - Jouw gegevens'!$C$22 * J755*G755 *$W$10/B755), \"\")","v":""},"",null,"","","","","",""]
[null,null,null,null,null,null,null,"",{"$f":"IF(AND(L756 = \"\", NOT(H756=\"\")),IF(C756< $W$10, (H756 *G756 * (C756/B756) * 'Stap 1 - Jouw gegevens'!$C$18), (H756 *G756 *'Stap 1 - Jouw gegevens'!$C$18 * ($W$10/B756))), \"\")","v":""},"",{"$f":"IF(AND(L756 = \"\", NOT(J756=\"\")),IF(C756< $W$10, 'Stap 1 - Jouw gegevens'!$C$22 *J756*G756 *C756/B756,  'Stap 1 - Jouw gegevens'!$C$22 * J756*G756 *$W$10/B756), \"\")","v":""},"",null,"","","","","",""]
[null,null,null,null,null,null,null,"",{"$f":"IF(AND(L757 = \"\", NOT(H757=\"\")),IF(C757< $W$10, (H757 *G757 * (C757/B757) * 'Stap 1 - Jouw gegevens'!$C$18), (H757 *G757 *'Stap 1 - Jouw gegevens'!$C$18 * ($W$10/B757))), \"\")","v":""},"",{"$f":"IF(AND(L757 = \"\", NOT(J757=\"\")),IF(C757< $W$10, 'Stap 1 - Jouw gegevens'!$C$22 *J757*G757 *C757/B757,  'Stap 1 - Jouw gegevens'!$C$22 * J757*G757 *$W$10/B757), \"\")","v":""},"",null,"","","","","",""]
[null,null,null,null,null,null,null,"",{"$f":"IF(AND(L758 = \"\", NOT(H758=\"\")),IF(C758< $W$10, (H758 *G758 * (C758/B758) * 'Stap 1 - Jouw gegevens'!$C$18), (H758 *G758 *'Stap 1 - Jouw gegevens'!$C$18 * ($W$10/B758))), \"\")","v":""},"",{"$f":"IF(AND(L758 = \"\", NOT(J758=\"\")),IF(C758< $W$10, 'Stap 1 - Jouw gegevens'!$C$22 *J758*G758 *C758/B758,  'Stap 1 - Jouw gegevens'!$C$22 * J758*G758 *$W$10/B758), \"\")","v":""},"",null,"","","","","",""]
[null,null,null,null,null,null,null,"",{"$f":"IF(AND(L759 = \"\", NOT(H759=\"\")),IF(C759< $W$10, (H759 *G759 * (C759/B759) * 'Stap 1 - Jouw gegevens'!$C$18), (H759 *G759 *'Stap 1 - Jouw gegevens'!$C$18 * ($W$10/B759))), \"\")","v":""},"",{"$f":"IF(AND(L759 = \"\", NOT(J759=\"\")),IF(C759< $W$10, 'Stap 1 - Jouw gegevens'!$C$22 *J759*G759 *C759/B759,  'Stap 1 - Jouw gegevens'!$C$22 * J759*G759 *$W$10/B759), \"\")","v":""},"",null,"","","","","",""]
[null,null,null,null,null,null,null,"",{"$f":"IF(AND(L760 = \"\", NOT(H760=\"\")),IF(C760< $W$10, (H760 *G760 * (C760/B760) * 'Stap 1 - Jouw gegevens'!$C$18), (H760 *G760 *'Stap 1 - Jouw gegevens'!$C$18 * ($W$10/B760))), \"\")","v":""},"",{"$f":"IF(AND(L760 = \"\", NOT(J760=\"\")),IF(C760< $W$10, 'Stap 1 - Jouw gegevens'!$C$22 *J760*G760 *C760/B760,  'Stap 1 - Jouw gegevens'!$C$22 * J760*G760 *$W$10/B760), \"\")","v":""},"",null,"","","","","",""]
[null,null,null,null,null,null,null,"",{"$f":"IF(AND(L761 = \"\", NOT(H761=\"\")),IF(C761< $W$10, (H761 *G761 * (C761/B761) * 'Stap 1 - Jouw gegevens'!$C$18), (H761 *G761 *'Stap 1 - Jouw gegevens'!$C$18 * ($W$10/B761))), \"\")","v":""},"",{"$f":"IF(AND(L761 = \"\", NOT(J761=\"\")),IF(C761< $W$10, 'Stap 1 - Jouw gegevens'!$C$22 *J761*G761 *C761/B761,  'Stap 1 - Jouw gegevens'!$C$22 * J761*G761 *$W$10/B761), \"\")","v":""},"",null,"","","","","",""]
[null,null,null,null,null,null,null,"",{"$f":"IF(AND(L762 = \"\", NOT(H762=\"\")),IF(C762< $W$10, (H762 *G762 * (C762/B762) * 'Stap 1 - Jouw gegevens'!$C$18), (H762 *G762 *'Stap 1 - Jouw gegevens'!$C$18 * ($W$10/B762))), \"\")","v":""},"",{"$f":"IF(AND(L762 = \"\", NOT(J762=\"\")),IF(C762< $W$10, 'Stap 1 - Jouw gegevens'!$C$22 *J762*G762 *C762/B762,  'Stap 1 - Jouw gegevens'!$C$22 * J762*G762 *$W$10/B762), \"\")","v":""},"",null,"","","","","",""]
[null,null,null,null,null,null,null,"",{"$f":"IF(AND(L763 = \"\", NOT(H763=\"\")),IF(C763< $W$10, (H763 *G763 * (C763/B763) * 'Stap 1 - Jouw gegevens'!$C$18), (H763 *G763 *'Stap 1 - Jouw gegevens'!$C$18 * ($W$10/B763))), \"\")","v":""},"",{"$f":"IF(AND(L763 = \"\", NOT(J763=\"\")),IF(C763< $W$10, 'Stap 1 - Jouw gegevens'!$C$22 *J763*G763 *C763/B763,  'Stap 1 - Jouw gegevens'!$C$22 * J763*G763 *$W$10/B763), \"\")","v":""},"",null,"","","","","",""]
[null,null,null,null,null,null,null,"",{"$f":"IF(AND(L764 = \"\", NOT(H764=\"\")),IF(C764< $W$10, (H764 *G764 * (C764/B764) * 'Stap 1 - Jouw gegevens'!$C$18), (H764 *G764 *'Stap 1 - Jouw gegevens'!$C$18 * ($W$10/B764))), \"\")","v":""},"",{"$f":"IF(AND(L764 = \"\", NOT(J764=\"\")),IF(C764< $W$10, 'Stap 1 - Jouw gegevens'!$C$22 *J764*G764 *C764/B764,  'Stap 1 - Jouw gegevens'!$C$22 * J764*G764 *$W$10/B764), \"\")","v":""},"",null,"","","","","",""]
[null,null,null,null,null,null,null,"",{"$f":"IF(AND(L765 = \"\", NOT(H765=\"\")),IF(C765< $W$10, (H765 *G765 * (C765/B765) * 'Stap 1 - Jouw gegevens'!$C$18), (H765 *G765 *'Stap 1 - Jouw gegevens'!$C$18 * ($W$10/B765))), \"\")","v":""},"",{"$f":"IF(AND(L765 = \"\", NOT(J765=\"\")),IF(C765< $W$10, 'Stap 1 - Jouw gegevens'!$C$22 *J765*G765 *C765/B765,  'Stap 1 - Jouw gegevens'!$C$22 * J765*G765 *$W$10/B765), \"\")","v":""},"",null,"","","","","",""]
[null,null,null,null,null,null,null,"",{"$f":"IF(AND(L766 = \"\", NOT(H766=\"\")),IF(C766< $W$10, (H766 *G766 * (C766/B766) * 'Stap 1 - Jouw gegevens'!$C$18), (H766 *G766 *'Stap 1 - Jouw gegevens'!$C$18 * ($W$10/B766))), \"\")","v":""},"",{"$f":"IF(AND(L766 = \"\", NOT(J766=\"\")),IF(C766< $W$10, 'Stap 1 - Jouw gegevens'!$C$22 *J766*G766 *C766/B766,  'Stap 1 - Jouw gegevens'!$C$22 * J766*G766 *$W$10/B766), \"\")","v":""},"",null,"","","","","",""]
[null,null,null,null,null,null,null,"",{"$f":"IF(AND(L767 = \"\", NOT(H767=\"\")),IF(C767< $W$10, (H767 *G767 * (C767/B767) * 'Stap 1 - Jouw gegevens'!$C$18), (H767 *G767 *'Stap 1 - Jouw gegevens'!$C$18 * ($W$10/B767))), \"\")","v":""},"",{"$f":"IF(AND(L767 = \"\", NOT(J767=\"\")),IF(C767< $W$10, 'Stap 1 - Jouw gegevens'!$C$22 *J767*G767 *C767/B767,  'Stap 1 - Jouw gegevens'!$C$22 * J767*G767 *$W$10/B767), \"\")","v":""},"",null,"","","","","",""]
[null,null,null,null,null,null,null,"",{"$f":"IF(AND(L768 = \"\", NOT(H768=\"\")),IF(C768< $W$10, (H768 *G768 * (C768/B768) * 'Stap 1 - Jouw gegevens'!$C$18), (H768 *G768 *'Stap 1 - Jouw gegevens'!$C$18 * ($W$10/B768))), \"\")","v":""},"",{"$f":"IF(AND(L768 = \"\", NOT(J768=\"\")),IF(C768< $W$10, 'Stap 1 - Jouw gegevens'!$C$22 *J768*G768 *C768/B768,  'Stap 1 - Jouw gegevens'!$C$22 * J768*G768 *$W$10/B768), \"\")","v":""},"",null,"","","","","",""]
[null,null,null,null,null,null,null,"",{"$f":"IF(AND(L769 = \"\", NOT(H769=\"\")),IF(C769< $W$10, (H769 *G769 * (C769/B769) * 'Stap 1 - Jouw gegevens'!$C$18), (H769 *G769 *'Stap 1 - Jouw gegevens'!$C$18 * ($W$10/B769))), \"\")","v":""},"",{"$f":"IF(AND(L769 = \"\", NOT(J769=\"\")),IF(C769< $W$10, 'Stap 1 - Jouw gegevens'!$C$22 *J769*G769 *C769/B769,  'Stap 1 - Jouw gegevens'!$C$22 * J769*G769 *$W$10/B769), \"\")","v":""},"",null,"","","","","",""]
[null,null,null,null,null,null,null,"",{"$f":"IF(AND(L770 = \"\", NOT(H770=\"\")),IF(C770< $W$10, (H770 *G770 * (C770/B770) * 'Stap 1 - Jouw gegevens'!$C$18), (H770 *G770 *'Stap 1 - Jouw gegevens'!$C$18 * ($W$10/B770))), \"\")","v":""},"",{"$f":"IF(AND(L770 = \"\", NOT(J770=\"\")),IF(C770< $W$10, 'Stap 1 - Jouw gegevens'!$C$22 *J770*G770 *C770/B770,  'Stap 1 - Jouw gegevens'!$C$22 * J770*G770 *$W$10/B770), \"\")","v":""},"",null,"","","","","",""]
[null,null,null,null,null,null,null,"",{"$f":"IF(AND(L771 = \"\", NOT(H771=\"\")),IF(C771< $W$10, (H771 *G771 * (C771/B771) * 'Stap 1 - Jouw gegevens'!$C$18), (H771 *G771 *'Stap 1 - Jouw gegevens'!$C$18 * ($W$10/B771))), \"\")","v":""},"",{"$f":"IF(AND(L771 = \"\", NOT(J771=\"\")),IF(C771< $W$10, 'Stap 1 - Jouw gegevens'!$C$22 *J771*G771 *C771/B771,  'Stap 1 - Jouw gegevens'!$C$22 * J771*G771 *$W$10/B771), \"\")","v":""},"",null,"","","","","",""]
[null,null,null,null,null,null,null,"",{"$f":"IF(AND(L772 = \"\", NOT(H772=\"\")),IF(C772< $W$10, (H772 *G772 * (C772/B772) * 'Stap 1 - Jouw gegevens'!$C$18), (H772 *G772 *'Stap 1 - Jouw gegevens'!$C$18 * ($W$10/B772))), \"\")","v":""},"",{"$f":"IF(AND(L772 = \"\", NOT(J772=\"\")),IF(C772< $W$10, 'Stap 1 - Jouw gegevens'!$C$22 *J772*G772 *C772/B772,  'Stap 1 - Jouw gegevens'!$C$22 * J772*G772 *$W$10/B772), \"\")","v":""},"",null,"","","","","",""]
[null,null,null,null,null,null,null,"",{"$f":"IF(AND(L773 = \"\", NOT(H773=\"\")),IF(C773< $W$10, (H773 *G773 * (C773/B773) * 'Stap 1 - Jouw gegevens'!$C$18), (H773 *G773 *'Stap 1 - Jouw gegevens'!$C$18 * ($W$10/B773))), \"\")","v":""},"",{"$f":"IF(AND(L773 = \"\", NOT(J773=\"\")),IF(C773< $W$10, 'Stap 1 - Jouw gegevens'!$C$22 *J773*G773 *C773/B773,  'Stap 1 - Jouw gegevens'!$C$22 * J773*G773 *$W$10/B773), \"\")","v":""},"",null,"","","","","",""]
[null,null,null,null,null,null,null,"",{"$f":"IF(AND(L774 = \"\", NOT(H774=\"\")),IF(C774< $W$10, (H774 *G774 * (C774/B774) * 'Stap 1 - Jouw gegevens'!$C$18), (H774 *G774 *'Stap 1 - Jouw gegevens'!$C$18 * ($W$10/B774))), \"\")","v":""},"",{"$f":"IF(AND(L774 = \"\", NOT(J774=\"\")),IF(C774< $W$10, 'Stap 1 - Jouw gegevens'!$C$22 *J774*G774 *C774/B774,  'Stap 1 - Jouw gegevens'!$C$22 * J774*G774 *$W$10/B774), \"\")","v":""},"",null,"","","","","",""]
[null,null,null,null,null,null,null,"",{"$f":"IF(AND(L775 = \"\", NOT(H775=\"\")),IF(C775< $W$10, (H775 *G775 * (C775/B775) * 'Stap 1 - Jouw gegevens'!$C$18), (H775 *G775 *'Stap 1 - Jouw gegevens'!$C$18 * ($W$10/B775))), \"\")","v":""},"",{"$f":"IF(AND(L775 = \"\", NOT(J775=\"\")),IF(C775< $W$10, 'Stap 1 - Jouw gegevens'!$C$22 *J775*G775 *C775/B775,  'Stap 1 - Jouw gegevens'!$C$22 * J775*G775 *$W$10/B775), \"\")","v":""},"",null,"","","","","",""]
[null,null,null,null,null,null,null,{"$f":"P776","v":""},{"$f":"IF(AND(L776 = \"\", NOT(H776=\"\")),IF(C776< $W$10, (H776 *G776 * (C776/B776) * 'Stap 1 - Jouw gegevens'!$C$18), (H776 *G776 *'Stap 1 - Jouw gegevens'!$C$18 * ($W$10/B776))), \"\")","v":""},{"$f":"S776","v":""},{"$f":"IF(AND(L776 = \"\", NOT(J776=\"\")),IF(C776< $W$10, 'Stap 1 - Jouw gegevens'!$C$22 *J776*G776 *C776/B776,  'Stap 1 - Jouw gegevens'!$C$22 * J776*G776 *$W$10/B776), \"\")","v":""},{"$f":"IF(ISBLANK(A776), \"\", CONCATENATE(IF(Z776 = \"X\", $AH$5, \"\"), IF( AB776 = \"X\", $AH$7, \"\"), IF( AC776 = \"X\", $AH$8, \"\"), IF( AD776 = \"X\", $AH$9, \"\"), IF( AE776 = \"X\", $AH$10, \"\"),  IF( AF776 = \"X\", $AH$11, \"\")))","v":""},null,{"$f":"IF(ISBLANK(D776),\"\",NETWORKDAYS(D776,F776))","v":""},{"$f":"IFERROR( IF(N776>$Y$5,NETWORKDAYS(E776, (Q776 - 1)), NETWORKDAYS(E776,(F776-1))), \"\")","v":""},{"$f":"IF(O776<= 0, \"\", O776)","v":""},{"$f":"IF(ISBLANK(D776),\"\",DATE(YEAR(D776)+1,MONTH(D776),DAY(D776)))","v":""},{"$f":"IFERROR(IF(N776 > $Y$5, IF(E776>=Q776,NETWORKDAYS(E776, (F776-1)), NETWORKDAYS(Q776, (F776-1))), \"\"), \"\")","v":""},{"$f":"IF(R776=\"\", \"\",  IF(R776 >= $Y$5, $Y$5,  R776))","v":""}]
[null,null,null,null,null,null,null,"",{"$f":"IF(AND(L777 = \"\", NOT(H777=\"\")),IF(C777< $W$10, (H777 *G777 * (C777/B777) * 'Stap 1 - Jouw gegevens'!$C$18), (H777 *G777 *'Stap 1 - Jouw gegevens'!$C$18 * ($W$10/B777))), \"\")","v":""},"",{"$f":"IF(AND(L777 = \"\", NOT(J777=\"\")),IF(C777< $W$10, 'Stap 1 - Jouw gegevens'!$C$22 *J777*G777 *C777/B777,  'Stap 1 - Jouw gegevens'!$C$22 * J777*G777 *$W$10/B777), \"\")","v":""},"",null,"","","","","",""]
[null,null,null,null,null,null,null,"",{"$f":"IF(AND(L778 = \"\", NOT(H778=\"\")),IF(C778< $W$10, (H778 *G778 * (C778/B778) * 'Stap 1 - Jouw gegevens'!$C$18), (H778 *G778 *'Stap 1 - Jouw gegevens'!$C$18 * ($W$10/B778))), \"\")","v":""},"",{"$f":"IF(AND(L778 = \"\", NOT(J778=\"\")),IF(C778< $W$10, 'Stap 1 - Jouw gegevens'!$C$22 *J778*G778 *C778/B778,  'Stap 1 - Jouw gegevens'!$C$22 * J778*G778 *$W$10/B778), \"\")","v":""},"",null,"","","","","",""]
[null,null,null,null,null,null,null,"",{"$f":"IF(AND(L779 = \"\", NOT(H779=\"\")),IF(C779< $W$10, (H779 *G779 * (C779/B779) * 'Stap 1 - Jouw gegevens'!$C$18), (H779 *G779 *'Stap 1 - Jouw gegevens'!$C$18 * ($W$10/B779))), \"\")","v":""},"",{"$f":"IF(AND(L779 = \"\", NOT(J779=\"\")),IF(C779< $W$10, 'Stap 1 - Jouw gegevens'!$C$22 *J779*G779 *C779/B779,  'Stap 1 - Jouw gegevens'!$C$22 * J779*G779 *$W$10/B779), \"\")","v":""},"",null,"","","","","",""]
[null,null,null,null,null,null,null,"",{"$f":"IF(AND(L780 = \"\", NOT(H780=\"\")),IF(C780< $W$10, (H780 *G780 * (C780/B780) * 'Stap 1 - Jouw gegevens'!$C$18), (H780 *G780 *'Stap 1 - Jouw gegevens'!$C$18 * ($W$10/B780))), \"\")","v":""},"",{"$f":"IF(AND(L780 = \"\", NOT(J780=\"\")),IF(C780< $W$10, 'Stap 1 - Jouw gegevens'!$C$22 *J780*G780 *C780/B780,  'Stap 1 - Jouw gegevens'!$C$22 * J780*G780 *$W$10/B780), \"\")","v":""},"",null,"","","","","",""]
[null,null,null,null,null,null,null,"",{"$f":"IF(AND(L781 = \"\", NOT(H781=\"\")),IF(C781< $W$10, (H781 *G781 * (C781/B781) * 'Stap 1 - Jouw gegevens'!$C$18), (H781 *G781 *'Stap 1 - Jouw gegevens'!$C$18 * ($W$10/B781))), \"\")","v":""},"",{"$f":"IF(AND(L781 = \"\", NOT(J781=\"\")),IF(C781< $W$10, 'Stap 1 - Jouw gegevens'!$C$22 *J781*G781 *C781/B781,  'Stap 1 - Jouw gegevens'!$C$22 * J781*G781 *$W$10/B781), \"\")","v":""},"",null,"","","","","",""]
[null,null,null,null,null,null,null,"",{"$f":"IF(AND(L782 = \"\", NOT(H782=\"\")),IF(C782< $W$10, (H782 *G782 * (C782/B782) * 'Stap 1 - Jouw gegevens'!$C$18), (H782 *G782 *'Stap 1 - Jouw gegevens'!$C$18 * ($W$10/B782))), \"\")","v":""},"",{"$f":"IF(AND(L782 = \"\", NOT(J782=\"\")),IF(C782< $W$10, 'Stap 1 - Jouw gegevens'!$C$22 *J782*G782 *C782/B782,  'Stap 1 - Jouw gegevens'!$C$22 * J782*G782 *$W$10/B782), \"\")","v":""},"",null,"","","","","",""]
[null,null,null,null,null,null,null,"",{"$f":"IF(AND(L783 = \"\", NOT(H783=\"\")),IF(C783< $W$10, (H783 *G783 * (C783/B783) * 'Stap 1 - Jouw gegevens'!$C$18), (H783 *G783 *'Stap 1 - Jouw gegevens'!$C$18 * ($W$10/B783))), \"\")","v":""},"",{"$f":"IF(AND(L783 = \"\", NOT(J783=\"\")),IF(C783< $W$10, 'Stap 1 - Jouw gegevens'!$C$22 *J783*G783 *C783/B783,  'Stap 1 - Jouw gegevens'!$C$22 * J783*G783 *$W$10/B783), \"\")","v":""},"",null,"","","","","",""]
[null,null,null,null,null,null,null,"",{"$f":"IF(AND(L784 = \"\", NOT(H784=\"\")),IF(C784< $W$10, (H784 *G784 * (C784/B784) * 'Stap 1 - Jouw gegevens'!$C$18), (H784 *G784 *'Stap 1 - Jouw gegevens'!$C$18 * ($W$10/B784))), \"\")","v":""},"",{"$f":"IF(AND(L784 = \"\", NOT(J784=\"\")),IF(C784< $W$10, 'Stap 1 - Jouw gegevens'!$C$22 *J784*G784 *C784/B784,  'Stap 1 - Jouw gegevens'!$C$22 * J784*G784 *$W$10/B784), \"\")","v":""},"",null,"","","","","",""]
[null,null,null,null,null,null,null,"",{"$f":"IF(AND(L785 = \"\", NOT(H785=\"\")),IF(C785< $W$10, (H785 *G785 * (C785/B785) * 'Stap 1 - Jouw gegevens'!$C$18), (H785 *G785 *'Stap 1 - Jouw gegevens'!$C$18 * ($W$10/B785))), \"\")","v":""},"",{"$f":"IF(AND(L785 = \"\", NOT(J785=\"\")),IF(C785< $W$10, 'Stap 1 - Jouw gegevens'!$C$22 *J785*G785 *C785/B785,  'Stap 1 - Jouw gegevens'!$C$22 * J785*G785 *$W$10/B785), \"\")","v":""},"",null,"","","","","",""]
[null,null,null,null,null,null,null,"",{"$f":"IF(AND(L786 = \"\", NOT(H786=\"\")),IF(C786< $W$10, (H786 *G786 * (C786/B786) * 'Stap 1 - Jouw gegevens'!$C$18), (H786 *G786 *'Stap 1 - Jouw gegevens'!$C$18 * ($W$10/B786))), \"\")","v":""},"",{"$f":"IF(AND(L786 = \"\", NOT(J786=\"\")),IF(C786< $W$10, 'Stap 1 - Jouw gegevens'!$C$22 *J786*G786 *C786/B786,  'Stap 1 - Jouw gegevens'!$C$22 * J786*G786 *$W$10/B786), \"\")","v":""},"",null,"","","","","",""]
[null,null,null,null,null,null,null,"",{"$f":"IF(AND(L787 = \"\", NOT(H787=\"\")),IF(C787< $W$10, (H787 *G787 * (C787/B787) * 'Stap 1 - Jouw gegevens'!$C$18), (H787 *G787 *'Stap 1 - Jouw gegevens'!$C$18 * ($W$10/B787))), \"\")","v":""},"",{"$f":"IF(AND(L787 = \"\", NOT(J787=\"\")),IF(C787< $W$10, 'Stap 1 - Jouw gegevens'!$C$22 *J787*G787 *C787/B787,  'Stap 1 - Jouw gegevens'!$C$22 * J787*G787 *$W$10/B787), \"\")","v":""},"",null,"","","","","",""]
[null,null,null,null,null,null,null,"",{"$f":"IF(AND(L788 = \"\", NOT(H788=\"\")),IF(C788< $W$10, (H788 *G788 * (C788/B788) * 'Stap 1 - Jouw gegevens'!$C$18), (H788 *G788 *'Stap 1 - Jouw gegevens'!$C$18 * ($W$10/B788))), \"\")","v":""},"",{"$f":"IF(AND(L788 = \"\", NOT(J788=\"\")),IF(C788< $W$10, 'Stap 1 - Jouw gegevens'!$C$22 *J788*G788 *C788/B788,  'Stap 1 - Jouw gegevens'!$C$22 * J788*G788 *$W$10/B788), \"\")","v":""},"",null,"","","","","",""]
[null,null,null,null,null,null,null,"",{"$f":"IF(AND(L789 = \"\", NOT(H789=\"\")),IF(C789< $W$10, (H789 *G789 * (C789/B789) * 'Stap 1 - Jouw gegevens'!$C$18), (H789 *G789 *'Stap 1 - Jouw gegevens'!$C$18 * ($W$10/B789))), \"\")","v":""},"",{"$f":"IF(AND(L789 = \"\", NOT(J789=\"\")),IF(C789< $W$10, 'Stap 1 - Jouw gegevens'!$C$22 *J789*G789 *C789/B789,  'Stap 1 - Jouw gegevens'!$C$22 * J789*G789 *$W$10/B789), \"\")","v":""},"",null,"","","","","",""]
[null,null,null,null,null,null,null,"",{"$f":"IF(AND(L790 = \"\", NOT(H790=\"\")),IF(C790< $W$10, (H790 *G790 * (C790/B790) * 'Stap 1 - Jouw gegevens'!$C$18), (H790 *G790 *'Stap 1 - Jouw gegevens'!$C$18 * ($W$10/B790))), \"\")","v":""},"",{"$f":"IF(AND(L790 = \"\", NOT(J790=\"\")),IF(C790< $W$10, 'Stap 1 - Jouw gegevens'!$C$22 *J790*G790 *C790/B790,  'Stap 1 - Jouw gegevens'!$C$22 * J790*G790 *$W$10/B790), \"\")","v":""},"",null,"","","","","",""]
[null,null,null,null,null,null,null,"",{"$f":"IF(AND(L791 = \"\", NOT(H791=\"\")),IF(C791< $W$10, (H791 *G791 * (C791/B791) * 'Stap 1 - Jouw gegevens'!$C$18), (H791 *G791 *'Stap 1 - Jouw gegevens'!$C$18 * ($W$10/B791))), \"\")","v":""},"",{"$f":"IF(AND(L791 = \"\", NOT(J791=\"\")),IF(C791< $W$10, 'Stap 1 - Jouw gegevens'!$C$22 *J791*G791 *C791/B791,  'Stap 1 - Jouw gegevens'!$C$22 * J791*G791 *$W$10/B791), \"\")","v":""},"",null,"","","","","",""]
[null,null,null,null,null,null,null,"",{"$f":"IF(AND(L792 = \"\", NOT(H792=\"\")),IF(C792< $W$10, (H792 *G792 * (C792/B792) * 'Stap 1 - Jouw gegevens'!$C$18), (H792 *G792 *'Stap 1 - Jouw gegevens'!$C$18 * ($W$10/B792))), \"\")","v":""},"",{"$f":"IF(AND(L792 = \"\", NOT(J792=\"\")),IF(C792< $W$10, 'Stap 1 - Jouw gegevens'!$C$22 *J792*G792 *C792/B792,  'Stap 1 - Jouw gegevens'!$C$22 * J792*G792 *$W$10/B792), \"\")","v":""},"",null,"","","","","",""]
[null,null,null,null,null,null,null,"",{"$f":"IF(AND(L793 = \"\", NOT(H793=\"\")),IF(C793< $W$10, (H793 *G793 * (C793/B793) * 'Stap 1 - Jouw gegevens'!$C$18), (H793 *G793 *'Stap 1 - Jouw gegevens'!$C$18 * ($W$10/B793))), \"\")","v":""},"",{"$f":"IF(AND(L793 = \"\", NOT(J793=\"\")),IF(C793< $W$10, 'Stap 1 - Jouw gegevens'!$C$22 *J793*G793 *C793/B793,  'Stap 1 - Jouw gegevens'!$C$22 * J793*G793 *$W$10/B793), \"\")","v":""},"",null,"","","","","",""]
[null,null,null,null,null,null,null,"",{"$f":"IF(AND(L794 = \"\", NOT(H794=\"\")),IF(C794< $W$10, (H794 *G794 * (C794/B794) * 'Stap 1 - Jouw gegevens'!$C$18), (H794 *G794 *'Stap 1 - Jouw gegevens'!$C$18 * ($W$10/B794))), \"\")","v":""},"",{"$f":"IF(AND(L794 = \"\", NOT(J794=\"\")),IF(C794< $W$10, 'Stap 1 - Jouw gegevens'!$C$22 *J794*G794 *C794/B794,  'Stap 1 - Jouw gegevens'!$C$22 * J794*G794 *$W$10/B794), \"\")","v":""},"",null,"","","","","",""]
[null,null,null,null,null,null,null,"",{"$f":"IF(AND(L795 = \"\", NOT(H795=\"\")),IF(C795< $W$10, (H795 *G795 * (C795/B795) * 'Stap 1 - Jouw gegevens'!$C$18), (H795 *G795 *'Stap 1 - Jouw gegevens'!$C$18 * ($W$10/B795))), \"\")","v":""},"",{"$f":"IF(AND(L795 = \"\", NOT(J795=\"\")),IF(C795< $W$10, 'Stap 1 - Jouw gegevens'!$C$22 *J795*G795 *C795/B795,  'Stap 1 - Jouw gegevens'!$C$22 * J795*G795 *$W$10/B795), \"\")","v":""},"",null,"","","","","",""]
[null,null,null,null,null,null,null,"",{"$f":"IF(AND(L796 = \"\", NOT(H796=\"\")),IF(C796< $W$10, (H796 *G796 * (C796/B796) * 'Stap 1 - Jouw gegevens'!$C$18), (H796 *G796 *'Stap 1 - Jouw gegevens'!$C$18 * ($W$10/B796))), \"\")","v":""},"",{"$f":"IF(AND(L796 = \"\", NOT(J796=\"\")),IF(C796< $W$10, 'Stap 1 - Jouw gegevens'!$C$22 *J796*G796 *C796/B796,  'Stap 1 - Jouw gegevens'!$C$22 * J796*G796 *$W$10/B796), \"\")","v":""},"",null,"","","","","",""]
[null,null,null,null,null,null,null,"",{"$f":"IF(AND(L797 = \"\", NOT(H797=\"\")),IF(C797< $W$10, (H797 *G797 * (C797/B797) * 'Stap 1 - Jouw gegevens'!$C$18), (H797 *G797 *'Stap 1 - Jouw gegevens'!$C$18 * ($W$10/B797))), \"\")","v":""},"",{"$f":"IF(AND(L797 = \"\", NOT(J797=\"\")),IF(C797< $W$10, 'Stap 1 - Jouw gegevens'!$C$22 *J797*G797 *C797/B797,  'Stap 1 - Jouw gegevens'!$C$22 * J797*G797 *$W$10/B797), \"\")","v":""},"",null,"","","","","",""]
[null,null,null,null,null,null,null,"",{"$f":"IF(AND(L798 = \"\", NOT(H798=\"\")),IF(C798< $W$10, (H798 *G798 * (C798/B798) * 'Stap 1 - Jouw gegevens'!$C$18), (H798 *G798 *'Stap 1 - Jouw gegevens'!$C$18 * ($W$10/B798))), \"\")","v":""},"",{"$f":"IF(AND(L798 = \"\", NOT(J798=\"\")),IF(C798< $W$10, 'Stap 1 - Jouw gegevens'!$C$22 *J798*G798 *C798/B798,  'Stap 1 - Jouw gegevens'!$C$22 * J798*G798 *$W$10/B798), \"\")","v":""},"",null,"","","","","",""]
[null,null,null,null,null,null,null,"",{"$f":"IF(AND(L799 = \"\", NOT(H799=\"\")),IF(C799< $W$10, (H799 *G799 * (C799/B799) * 'Stap 1 - Jouw gegevens'!$C$18), (H799 *G799 *'Stap 1 - Jouw gegevens'!$C$18 * ($W$10/B799))), \"\")","v":""},"",{"$f":"IF(AND(L799 = \"\", NOT(J799=\"\")),IF(C799< $W$10, 'Stap 1 - Jouw gegevens'!$C$22 *J799*G799 *C799/B799,  'Stap 1 - Jouw gegevens'!$C$22 * J799*G799 *$W$10/B799), \"\")","v":""},"",null,"","","","","",""]
[null,null,null,null,null,null,null,"",{"$f":"IF(AND(L800 = \"\", NOT(H800=\"\")),IF(C800< $W$10, (H800 *G800 * (C800/B800) * 'Stap 1 - Jouw gegevens'!$C$18), (H800 *G800 *'Stap 1 - Jouw gegevens'!$C$18 * ($W$10/B800))), \"\")","v":""},"",{"$f":"IF(AND(L800 = \"\", NOT(J800=\"\")),IF(C800< $W$10, 'Stap 1 - Jouw gegevens'!$C$22 *J800*G800 *C800/B800,  'Stap 1 - Jouw gegevens'!$C$22 * J800*G800 *$W$10/B800), \"\")","v":""},"",null,"","","","","",""]
[null,null,null,null,null,null,null,"",{"$f":"IF(AND(L801 = \"\", NOT(H801=\"\")),IF(C801< $W$10, (H801 *G801 * (C801/B801) * 'Stap 1 - Jouw gegevens'!$C$18), (H801 *G801 *'Stap 1 - Jouw gegevens'!$C$18 * ($W$10/B801))), \"\")","v":""},"",{"$f":"IF(AND(L801 = \"\", NOT(J801=\"\")),IF(C801< $W$10, 'Stap 1 - Jouw gegevens'!$C$22 *J801*G801 *C801/B801,  'Stap 1 - Jouw gegevens'!$C$22 * J801*G801 *$W$10/B801), \"\")","v":""},"",null,"","","","","",""]
[null,null,null,null,null,null,null,"",{"$f":"IF(AND(L802 = \"\", NOT(H802=\"\")),IF(C802< $W$10, (H802 *G802 * (C802/B802) * 'Stap 1 - Jouw gegevens'!$C$18), (H802 *G802 *'Stap 1 - Jouw gegevens'!$C$18 * ($W$10/B802))), \"\")","v":""},"",{"$f":"IF(AND(L802 = \"\", NOT(J802=\"\")),IF(C802< $W$10, 'Stap 1 - Jouw gegevens'!$C$22 *J802*G802 *C802/B802,  'Stap 1 - Jouw gegevens'!$C$22 * J802*G802 *$W$10/B802), \"\")","v":""},"",null,"","","","","",""]
[null,null,null,null,null,null,null,"",{"$f":"IF(AND(L803 = \"\", NOT(H803=\"\")),IF(C803< $W$10, (H803 *G803 * (C803/B803) * 'Stap 1 - Jouw gegevens'!$C$18), (H803 *G803 *'Stap 1 - Jouw gegevens'!$C$18 * ($W$10/B803))), \"\")","v":""},"",{"$f":"IF(AND(L803 = \"\", NOT(J803=\"\")),IF(C803< $W$10, 'Stap 1 - Jouw gegevens'!$C$22 *J803*G803 *C803/B803,  'Stap 1 - Jouw gegevens'!$C$22 * J803*G803 *$W$10/B803), \"\")","v":""},"",null,"","","","","",""]
[null,null,null,null,null,null,null,"",{"$f":"IF(AND(L804 = \"\", NOT(H804=\"\")),IF(C804< $W$10, (H804 *G804 * (C804/B804) * 'Stap 1 - Jouw gegevens'!$C$18), (H804 *G804 *'Stap 1 - Jouw gegevens'!$C$18 * ($W$10/B804))), \"\")","v":""},"",{"$f":"IF(AND(L804 = \"\", NOT(J804=\"\")),IF(C804< $W$10, 'Stap 1 - Jouw gegevens'!$C$22 *J804*G804 *C804/B804,  'Stap 1 - Jouw gegevens'!$C$22 * J804*G804 *$W$10/B804), \"\")","v":""},"",null,"","","","","",""]
[null,null,null,null,null,null,null,"",{"$f":"IF(AND(L805 = \"\", NOT(H805=\"\")),IF(C805< $W$10, (H805 *G805 * (C805/B805) * 'Stap 1 - Jouw gegevens'!$C$18), (H805 *G805 *'Stap 1 - Jouw gegevens'!$C$18 * ($W$10/B805))), \"\")","v":""},"",{"$f":"IF(AND(L805 = \"\", NOT(J805=\"\")),IF(C805< $W$10, 'Stap 1 - Jouw gegevens'!$C$22 *J805*G805 *C805/B805,  'Stap 1 - Jouw gegevens'!$C$22 * J805*G805 *$W$10/B805), \"\")","v":""},"",null,"","","","","",""]
[null,null,null,null,null,null,null,"",{"$f":"IF(AND(L806 = \"\", NOT(H806=\"\")),IF(C806< $W$10, (H806 *G806 * (C806/B806) * 'Stap 1 - Jouw gegevens'!$C$18), (H806 *G806 *'Stap 1 - Jouw gegevens'!$C$18 * ($W$10/B806))), \"\")","v":""},"",{"$f":"IF(AND(L806 = \"\", NOT(J806=\"\")),IF(C806< $W$10, 'Stap 1 - Jouw gegevens'!$C$22 *J806*G806 *C806/B806,  'Stap 1 - Jouw gegevens'!$C$22 * J806*G806 *$W$10/B806), \"\")","v":""},"",null,"","","","","",""]
[null,null,null,null,null,null,null,"",{"$f":"IF(AND(L807 = \"\", NOT(H807=\"\")),IF(C807< $W$10, (H807 *G807 * (C807/B807) * 'Stap 1 - Jouw gegevens'!$C$18), (H807 *G807 *'Stap 1 - Jouw gegevens'!$C$18 * ($W$10/B807))), \"\")","v":""},"",{"$f":"IF(AND(L807 = \"\", NOT(J807=\"\")),IF(C807< $W$10, 'Stap 1 - Jouw gegevens'!$C$22 *J807*G807 *C807/B807,  'Stap 1 - Jouw gegevens'!$C$22 * J807*G807 *$W$10/B807), \"\")","v":""},"",null,"","","","","",""]
[null,null,null,null,null,null,null,"",{"$f":"IF(AND(L808 = \"\", NOT(H808=\"\")),IF(C808< $W$10, (H808 *G808 * (C808/B808) * 'Stap 1 - Jouw gegevens'!$C$18), (H808 *G808 *'Stap 1 - Jouw gegevens'!$C$18 * ($W$10/B808))), \"\")","v":""},"",{"$f":"IF(AND(L808 = \"\", NOT(J808=\"\")),IF(C808< $W$10, 'Stap 1 - Jouw gegevens'!$C$22 *J808*G808 *C808/B808,  'Stap 1 - Jouw gegevens'!$C$22 * J808*G808 *$W$10/B808), \"\")","v":""},"",null,"","","","","",""]
[null,null,null,null,null,null,null,"",{"$f":"IF(AND(L809 = \"\", NOT(H809=\"\")),IF(C809< $W$10, (H809 *G809 * (C809/B809) * 'Stap 1 - Jouw gegevens'!$C$18), (H809 *G809 *'Stap 1 - Jouw gegevens'!$C$18 * ($W$10/B809))), \"\")","v":""},"",{"$f":"IF(AND(L809 = \"\", NOT(J809=\"\")),IF(C809< $W$10, 'Stap 1 - Jouw gegevens'!$C$22 *J809*G809 *C809/B809,  'Stap 1 - Jouw gegevens'!$C$22 * J809*G809 *$W$10/B809), \"\")","v":""},"",null,"","","","","",""]
[null,null,null,null,null,null,null,"",{"$f":"IF(AND(L810 = \"\", NOT(H810=\"\")),IF(C810< $W$10, (H810 *G810 * (C810/B810) * 'Stap 1 - Jouw gegevens'!$C$18), (H810 *G810 *'Stap 1 - Jouw gegevens'!$C$18 * ($W$10/B810))), \"\")","v":""},"",{"$f":"IF(AND(L810 = \"\", NOT(J810=\"\")),IF(C810< $W$10, 'Stap 1 - Jouw gegevens'!$C$22 *J810*G810 *C810/B810,  'Stap 1 - Jouw gegevens'!$C$22 * J810*G810 *$W$10/B810), \"\")","v":""},"",null,"","","","","",""]
[null,null,null,null,null,null,null,"",{"$f":"IF(AND(L811 = \"\", NOT(H811=\"\")),IF(C811< $W$10, (H811 *G811 * (C811/B811) * 'Stap 1 - Jouw gegevens'!$C$18), (H811 *G811 *'Stap 1 - Jouw gegevens'!$C$18 * ($W$10/B811))), \"\")","v":""},"",{"$f":"IF(AND(L811 = \"\", NOT(J811=\"\")),IF(C811< $W$10, 'Stap 1 - Jouw gegevens'!$C$22 *J811*G811 *C811/B811,  'Stap 1 - Jouw gegevens'!$C$22 * J811*G811 *$W$10/B811), \"\")","v":""},"",null,"","","","","",""]
[null,null,null,null,null,null,null,"",{"$f":"IF(AND(L812 = \"\", NOT(H812=\"\")),IF(C812< $W$10, (H812 *G812 * (C812/B812) * 'Stap 1 - Jouw gegevens'!$C$18), (H812 *G812 *'Stap 1 - Jouw gegevens'!$C$18 * ($W$10/B812))), \"\")","v":""},"",{"$f":"IF(AND(L812 = \"\", NOT(J812=\"\")),IF(C812< $W$10, 'Stap 1 - Jouw gegevens'!$C$22 *J812*G812 *C812/B812,  'Stap 1 - Jouw gegevens'!$C$22 * J812*G812 *$W$10/B812), \"\")","v":""},"",null,"","","","","",""]
[null,null,null,null,null,null,null,"",{"$f":"IF(AND(L813 = \"\", NOT(H813=\"\")),IF(C813< $W$10, (H813 *G813 * (C813/B813) * 'Stap 1 - Jouw gegevens'!$C$18), (H813 *G813 *'Stap 1 - Jouw gegevens'!$C$18 * ($W$10/B813))), \"\")","v":""},"",{"$f":"IF(AND(L813 = \"\", NOT(J813=\"\")),IF(C813< $W$10, 'Stap 1 - Jouw gegevens'!$C$22 *J813*G813 *C813/B813,  'Stap 1 - Jouw gegevens'!$C$22 * J813*G813 *$W$10/B813), \"\")","v":""},"",null,"","","","","",""]
[null,null,null,null,null,null,null,"",{"$f":"IF(AND(L814 = \"\", NOT(H814=\"\")),IF(C814< $W$10, (H814 *G814 * (C814/B814) * 'Stap 1 - Jouw gegevens'!$C$18), (H814 *G814 *'Stap 1 - Jouw gegevens'!$C$18 * ($W$10/B814))), \"\")","v":""},"",{"$f":"IF(AND(L814 = \"\", NOT(J814=\"\")),IF(C814< $W$10, 'Stap 1 - Jouw gegevens'!$C$22 *J814*G814 *C814/B814,  'Stap 1 - Jouw gegevens'!$C$22 * J814*G814 *$W$10/B814), \"\")","v":""},"",null,"","","","","",""]
[null,null,null,null,null,null,null,"",{"$f":"IF(AND(L815 = \"\", NOT(H815=\"\")),IF(C815< $W$10, (H815 *G815 * (C815/B815) * 'Stap 1 - Jouw gegevens'!$C$18), (H815 *G815 *'Stap 1 - Jouw gegevens'!$C$18 * ($W$10/B815))), \"\")","v":""},"",{"$f":"IF(AND(L815 = \"\", NOT(J815=\"\")),IF(C815< $W$10, 'Stap 1 - Jouw gegevens'!$C$22 *J815*G815 *C815/B815,  'Stap 1 - Jouw gegevens'!$C$22 * J815*G815 *$W$10/B815), \"\")","v":""},"",null,"","","","","",""]
[null,null,null,null,null,null,null,"",{"$f":"IF(AND(L816 = \"\", NOT(H816=\"\")),IF(C816< $W$10, (H816 *G816 * (C816/B816) * 'Stap 1 - Jouw gegevens'!$C$18), (H816 *G816 *'Stap 1 - Jouw gegevens'!$C$18 * ($W$10/B816))), \"\")","v":""},"",{"$f":"IF(AND(L816 = \"\", NOT(J816=\"\")),IF(C816< $W$10, 'Stap 1 - Jouw gegevens'!$C$22 *J816*G816 *C816/B816,  'Stap 1 - Jouw gegevens'!$C$22 * J816*G816 *$W$10/B816), \"\")","v":""},"",null,"","","","","",""]
[null,null,null,null,null,null,null,"",{"$f":"IF(AND(L817 = \"\", NOT(H817=\"\")),IF(C817< $W$10, (H817 *G817 * (C817/B817) * 'Stap 1 - Jouw gegevens'!$C$18), (H817 *G817 *'Stap 1 - Jouw gegevens'!$C$18 * ($W$10/B817))), \"\")","v":""},"",{"$f":"IF(AND(L817 = \"\", NOT(J817=\"\")),IF(C817< $W$10, 'Stap 1 - Jouw gegevens'!$C$22 *J817*G817 *C817/B817,  'Stap 1 - Jouw gegevens'!$C$22 * J817*G817 *$W$10/B817), \"\")","v":""},"",null,"","","","","",""]
[null,null,null,null,null,null,null,"",{"$f":"IF(AND(L818 = \"\", NOT(H818=\"\")),IF(C818< $W$10, (H818 *G818 * (C818/B818) * 'Stap 1 - Jouw gegevens'!$C$18), (H818 *G818 *'Stap 1 - Jouw gegevens'!$C$18 * ($W$10/B818))), \"\")","v":""},"",{"$f":"IF(AND(L818 = \"\", NOT(J818=\"\")),IF(C818< $W$10, 'Stap 1 - Jouw gegevens'!$C$22 *J818*G818 *C818/B818,  'Stap 1 - Jouw gegevens'!$C$22 * J818*G818 *$W$10/B818), \"\")","v":""},"",null,"","","","","",""]
[null,null,null,null,null,null,null,"",{"$f":"IF(AND(L819 = \"\", NOT(H819=\"\")),IF(C819< $W$10, (H819 *G819 * (C819/B819) * 'Stap 1 - Jouw gegevens'!$C$18), (H819 *G819 *'Stap 1 - Jouw gegevens'!$C$18 * ($W$10/B819))), \"\")","v":""},"",{"$f":"IF(AND(L819 = \"\", NOT(J819=\"\")),IF(C819< $W$10, 'Stap 1 - Jouw gegevens'!$C$22 *J819*G819 *C819/B819,  'Stap 1 - Jouw gegevens'!$C$22 * J819*G819 *$W$10/B819), \"\")","v":""},"",null,"","","","","",""]
[null,null,null,null,null,null,null,"",{"$f":"IF(AND(L820 = \"\", NOT(H820=\"\")),IF(C820< $W$10, (H820 *G820 * (C820/B820) * 'Stap 1 - Jouw gegevens'!$C$18), (H820 *G820 *'Stap 1 - Jouw gegevens'!$C$18 * ($W$10/B820))), \"\")","v":""},"",{"$f":"IF(AND(L820 = \"\", NOT(J820=\"\")),IF(C820< $W$10, 'Stap 1 - Jouw gegevens'!$C$22 *J820*G820 *C820/B820,  'Stap 1 - Jouw gegevens'!$C$22 * J820*G820 *$W$10/B820), \"\")","v":""},"",null,"","","","","",""]
[null,null,null,null,null,null,null,"",{"$f":"IF(AND(L821 = \"\", NOT(H821=\"\")),IF(C821< $W$10, (H821 *G821 * (C821/B821) * 'Stap 1 - Jouw gegevens'!$C$18), (H821 *G821 *'Stap 1 - Jouw gegevens'!$C$18 * ($W$10/B821))), \"\")","v":""},"",{"$f":"IF(AND(L821 = \"\", NOT(J821=\"\")),IF(C821< $W$10, 'Stap 1 - Jouw gegevens'!$C$22 *J821*G821 *C821/B821,  'Stap 1 - Jouw gegevens'!$C$22 * J821*G821 *$W$10/B821), \"\")","v":""},"",null,"","","","","",""]
[null,null,null,null,null,null,null,"",{"$f":"IF(AND(L822 = \"\", NOT(H822=\"\")),IF(C822< $W$10, (H822 *G822 * (C822/B822) * 'Stap 1 - Jouw gegevens'!$C$18), (H822 *G822 *'Stap 1 - Jouw gegevens'!$C$18 * ($W$10/B822))), \"\")","v":""},"",{"$f":"IF(AND(L822 = \"\", NOT(J822=\"\")),IF(C822< $W$10, 'Stap 1 - Jouw gegevens'!$C$22 *J822*G822 *C822/B822,  'Stap 1 - Jouw gegevens'!$C$22 * J822*G822 *$W$10/B822), \"\")","v":""},"",null,"","","","","",""]
[null,null,null,null,null,null,null,"",{"$f":"IF(AND(L823 = \"\", NOT(H823=\"\")),IF(C823< $W$10, (H823 *G823 * (C823/B823) * 'Stap 1 - Jouw gegevens'!$C$18), (H823 *G823 *'Stap 1 - Jouw gegevens'!$C$18 * ($W$10/B823))), \"\")","v":""},"",{"$f":"IF(AND(L823 = \"\", NOT(J823=\"\")),IF(C823< $W$10, 'Stap 1 - Jouw gegevens'!$C$22 *J823*G823 *C823/B823,  'Stap 1 - Jouw gegevens'!$C$22 * J823*G823 *$W$10/B823), \"\")","v":""},"",null,"","","","","",""]
[null,null,null,null,null,null,null,"",{"$f":"IF(AND(L824 = \"\", NOT(H824=\"\")),IF(C824< $W$10, (H824 *G824 * (C824/B824) * 'Stap 1 - Jouw gegevens'!$C$18), (H824 *G824 *'Stap 1 - Jouw gegevens'!$C$18 * ($W$10/B824))), \"\")","v":""},"",{"$f":"IF(AND(L824 = \"\", NOT(J824=\"\")),IF(C824< $W$10, 'Stap 1 - Jouw gegevens'!$C$22 *J824*G824 *C824/B824,  'Stap 1 - Jouw gegevens'!$C$22 * J824*G824 *$W$10/B824), \"\")","v":""},"",null,"","","","","",""]
[null,null,null,null,null,null,null,"",{"$f":"IF(AND(L825 = \"\", NOT(H825=\"\")),IF(C825< $W$10, (H825 *G825 * (C825/B825) * 'Stap 1 - Jouw gegevens'!$C$18), (H825 *G825 *'Stap 1 - Jouw gegevens'!$C$18 * ($W$10/B825))), \"\")","v":""},"",{"$f":"IF(AND(L825 = \"\", NOT(J825=\"\")),IF(C825< $W$10, 'Stap 1 - Jouw gegevens'!$C$22 *J825*G825 *C825/B825,  'Stap 1 - Jouw gegevens'!$C$22 * J825*G825 *$W$10/B825), \"\")","v":""},"",null,"","","","","",""]
[null,null,null,null,null,null,null,"",{"$f":"IF(AND(L826 = \"\", NOT(H826=\"\")),IF(C826< $W$10, (H826 *G826 * (C826/B826) * 'Stap 1 - Jouw gegevens'!$C$18), (H826 *G826 *'Stap 1 - Jouw gegevens'!$C$18 * ($W$10/B826))), \"\")","v":""},"",{"$f":"IF(AND(L826 = \"\", NOT(J826=\"\")),IF(C826< $W$10, 'Stap 1 - Jouw gegevens'!$C$22 *J826*G826 *C826/B826,  'Stap 1 - Jouw gegevens'!$C$22 * J826*G826 *$W$10/B826), \"\")","v":""},"",null,"","","","","",""]
[null,null,null,null,null,null,null,"",{"$f":"IF(AND(L827 = \"\", NOT(H827=\"\")),IF(C827< $W$10, (H827 *G827 * (C827/B827) * 'Stap 1 - Jouw gegevens'!$C$18), (H827 *G827 *'Stap 1 - Jouw gegevens'!$C$18 * ($W$10/B827))), \"\")","v":""},"",{"$f":"IF(AND(L827 = \"\", NOT(J827=\"\")),IF(C827< $W$10, 'Stap 1 - Jouw gegevens'!$C$22 *J827*G827 *C827/B827,  'Stap 1 - Jouw gegevens'!$C$22 * J827*G827 *$W$10/B827), \"\")","v":""},"",null,"","","","","",""]
[null,null,null,null,null,null,null,"",{"$f":"IF(AND(L828 = \"\", NOT(H828=\"\")),IF(C828< $W$10, (H828 *G828 * (C828/B828) * 'Stap 1 - Jouw gegevens'!$C$18), (H828 *G828 *'Stap 1 - Jouw gegevens'!$C$18 * ($W$10/B828))), \"\")","v":""},"",{"$f":"IF(AND(L828 = \"\", NOT(J828=\"\")),IF(C828< $W$10, 'Stap 1 - Jouw gegevens'!$C$22 *J828*G828 *C828/B828,  'Stap 1 - Jouw gegevens'!$C$22 * J828*G828 *$W$10/B828), \"\")","v":""},"",null,"","","","","",""]
[null,null,null,null,null,null,null,"",{"$f":"IF(AND(L829 = \"\", NOT(H829=\"\")),IF(C829< $W$10, (H829 *G829 * (C829/B829) * 'Stap 1 - Jouw gegevens'!$C$18), (H829 *G829 *'Stap 1 - Jouw gegevens'!$C$18 * ($W$10/B829))), \"\")","v":""},"",{"$f":"IF(AND(L829 = \"\", NOT(J829=\"\")),IF(C829< $W$10, 'Stap 1 - Jouw gegevens'!$C$22 *J829*G829 *C829/B829,  'Stap 1 - Jouw gegevens'!$C$22 * J829*G829 *$W$10/B829), \"\")","v":""},"",null,"","","","","",""]
[null,null,null,null,null,null,null,"",{"$f":"IF(AND(L830 = \"\", NOT(H830=\"\")),IF(C830< $W$10, (H830 *G830 * (C830/B830) * 'Stap 1 - Jouw gegevens'!$C$18), (H830 *G830 *'Stap 1 - Jouw gegevens'!$C$18 * ($W$10/B830))), \"\")","v":""},"",{"$f":"IF(AND(L830 = \"\", NOT(J830=\"\")),IF(C830< $W$10, 'Stap 1 - Jouw gegevens'!$C$22 *J830*G830 *C830/B830,  'Stap 1 - Jouw gegevens'!$C$22 * J830*G830 *$W$10/B830), \"\")","v":""},"",null,"","","","","",""]
[null,null,null,null,null,null,null,"",{"$f":"IF(AND(L831 = \"\", NOT(H831=\"\")),IF(C831< $W$10, (H831 *G831 * (C831/B831) * 'Stap 1 - Jouw gegevens'!$C$18), (H831 *G831 *'Stap 1 - Jouw gegevens'!$C$18 * ($W$10/B831))), \"\")","v":""},"",{"$f":"IF(AND(L831 = \"\", NOT(J831=\"\")),IF(C831< $W$10, 'Stap 1 - Jouw gegevens'!$C$22 *J831*G831 *C831/B831,  'Stap 1 - Jouw gegevens'!$C$22 * J831*G831 *$W$10/B831), \"\")","v":""},"",null,"","","","","",""]
[null,null,null,null,null,null,null,"",{"$f":"IF(AND(L832 = \"\", NOT(H832=\"\")),IF(C832< $W$10, (H832 *G832 * (C832/B832) * 'Stap 1 - Jouw gegevens'!$C$18), (H832 *G832 *'Stap 1 - Jouw gegevens'!$C$18 * ($W$10/B832))), \"\")","v":""},"",{"$f":"IF(AND(L832 = \"\", NOT(J832=\"\")),IF(C832< $W$10, 'Stap 1 - Jouw gegevens'!$C$22 *J832*G832 *C832/B832,  'Stap 1 - Jouw gegevens'!$C$22 * J832*G832 *$W$10/B832), \"\")","v":""},"",null,"","","","","",""]
[null,null,null,null,null,null,null,"",{"$f":"IF(AND(L833 = \"\", NOT(H833=\"\")),IF(C833< $W$10, (H833 *G833 * (C833/B833) * 'Stap 1 - Jouw gegevens'!$C$18), (H833 *G833 *'Stap 1 - Jouw gegevens'!$C$18 * ($W$10/B833))), \"\")","v":""},"",{"$f":"IF(AND(L833 = \"\", NOT(J833=\"\")),IF(C833< $W$10, 'Stap 1 - Jouw gegevens'!$C$22 *J833*G833 *C833/B833,  'Stap 1 - Jouw gegevens'!$C$22 * J833*G833 *$W$10/B833), \"\")","v":""},"",null,"","","","","",""]
[null,null,null,null,null,null,null,"",{"$f":"IF(AND(L834 = \"\", NOT(H834=\"\")),IF(C834< $W$10, (H834 *G834 * (C834/B834) * 'Stap 1 - Jouw gegevens'!$C$18), (H834 *G834 *'Stap 1 - Jouw gegevens'!$C$18 * ($W$10/B834))), \"\")","v":""},"",{"$f":"IF(AND(L834 = \"\", NOT(J834=\"\")),IF(C834< $W$10, 'Stap 1 - Jouw gegevens'!$C$22 *J834*G834 *C834/B834,  'Stap 1 - Jouw gegevens'!$C$22 * J834*G834 *$W$10/B834), \"\")","v":""},"",null,"","","","","",""]
[null,null,null,null,null,null,null,"",{"$f":"IF(AND(L835 = \"\", NOT(H835=\"\")),IF(C835< $W$10, (H835 *G835 * (C835/B835) * 'Stap 1 - Jouw gegevens'!$C$18), (H835 *G835 *'Stap 1 - Jouw gegevens'!$C$18 * ($W$10/B835))), \"\")","v":""},"",{"$f":"IF(AND(L835 = \"\", NOT(J835=\"\")),IF(C835< $W$10, 'Stap 1 - Jouw gegevens'!$C$22 *J835*G835 *C835/B835,  'Stap 1 - Jouw gegevens'!$C$22 * J835*G835 *$W$10/B835), \"\")","v":""},"",null,"","","","","",""]
[null,null,null,null,null,null,null,"",{"$f":"IF(AND(L836 = \"\", NOT(H836=\"\")),IF(C836< $W$10, (H836 *G836 * (C836/B836) * 'Stap 1 - Jouw gegevens'!$C$18), (H836 *G836 *'Stap 1 - Jouw gegevens'!$C$18 * ($W$10/B836))), \"\")","v":""},"",{"$f":"IF(AND(L836 = \"\", NOT(J836=\"\")),IF(C836< $W$10, 'Stap 1 - Jouw gegevens'!$C$22 *J836*G836 *C836/B836,  'Stap 1 - Jouw gegevens'!$C$22 * J836*G836 *$W$10/B836), \"\")","v":""},"",null,"","","","","",""]
[null,null,null,null,null,null,null,"",{"$f":"IF(AND(L837 = \"\", NOT(H837=\"\")),IF(C837< $W$10, (H837 *G837 * (C837/B837) * 'Stap 1 - Jouw gegevens'!$C$18), (H837 *G837 *'Stap 1 - Jouw gegevens'!$C$18 * ($W$10/B837))), \"\")","v":""},"",{"$f":"IF(AND(L837 = \"\", NOT(J837=\"\")),IF(C837< $W$10, 'Stap 1 - Jouw gegevens'!$C$22 *J837*G837 *C837/B837,  'Stap 1 - Jouw gegevens'!$C$22 * J837*G837 *$W$10/B837), \"\")","v":""},"",null,"","","","","",""]
[null,null,null,null,null,null,null,"",{"$f":"IF(AND(L838 = \"\", NOT(H838=\"\")),IF(C838< $W$10, (H838 *G838 * (C838/B838) * 'Stap 1 - Jouw gegevens'!$C$18), (H838 *G838 *'Stap 1 - Jouw gegevens'!$C$18 * ($W$10/B838))), \"\")","v":""},"",{"$f":"IF(AND(L838 = \"\", NOT(J838=\"\")),IF(C838< $W$10, 'Stap 1 - Jouw gegevens'!$C$22 *J838*G838 *C838/B838,  'Stap 1 - Jouw gegevens'!$C$22 * J838*G838 *$W$10/B838), \"\")","v":""},"",null,"","","","","",""]
[null,null,null,null,null,null,null,"",{"$f":"IF(AND(L839 = \"\", NOT(H839=\"\")),IF(C839< $W$10, (H839 *G839 * (C839/B839) * 'Stap 1 - Jouw gegevens'!$C$18), (H839 *G839 *'Stap 1 - Jouw gegevens'!$C$18 * ($W$10/B839))), \"\")","v":""},"",{"$f":"IF(AND(L839 = \"\", NOT(J839=\"\")),IF(C839< $W$10, 'Stap 1 - Jouw gegevens'!$C$22 *J839*G839 *C839/B839,  'Stap 1 - Jouw gegevens'!$C$22 * J839*G839 *$W$10/B839), \"\")","v":""},"",null,"","","","","",""]
[null,null,null,null,null,null,null,{"$f":"P840","v":""},{"$f":"IF(AND(L840 = \"\", NOT(H840=\"\")),IF(C840< $W$10, (H840 *G840 * (C840/B840) * 'Stap 1 - Jouw gegevens'!$C$18), (H840 *G840 *'Stap 1 - Jouw gegevens'!$C$18 * ($W$10/B840))), \"\")","v":""},{"$f":"S840","v":""},{"$f":"IF(AND(L840 = \"\", NOT(J840=\"\")),IF(C840< $W$10, 'Stap 1 - Jouw gegevens'!$C$22 *J840*G840 *C840/B840,  'Stap 1 - Jouw gegevens'!$C$22 * J840*G840 *$W$10/B840), \"\")","v":""},{"$f":"IF(ISBLANK(A840), \"\", CONCATENATE(IF(Z840 = \"X\", $AH$5, \"\"), IF( AB840 = \"X\", $AH$7, \"\"), IF( AC840 = \"X\", $AH$8, \"\"), IF( AD840 = \"X\", $AH$9, \"\"), IF( AE840 = \"X\", $AH$10, \"\"),  IF( AF840 = \"X\", $AH$11, \"\")))","v":""},null,{"$f":"IF(ISBLANK(D840),\"\",NETWORKDAYS(D840,F840))","v":""},{"$f":"IFERROR( IF(N840>$Y$5,NETWORKDAYS(E840, (Q840 - 1)), NETWORKDAYS(E840,(F840-1))), \"\")","v":""},{"$f":"IF(O840<= 0, \"\", O840)","v":""},{"$f":"IF(ISBLANK(D840),\"\",DATE(YEAR(D840)+1,MONTH(D840),DAY(D840)))","v":""},{"$f":"IFERROR(IF(N840 > $Y$5, IF(E840>=Q840,NETWORKDAYS(E840, (F840-1)), NETWORKDAYS(Q840, (F840-1))), \"\"), \"\")","v":""},{"$f":"IF(R840=\"\", \"\",  IF(R840 >= $Y$5, $Y$5,  R840))","v":""}]
[null,null,null,null,null,null,null,"",{"$f":"IF(AND(L841 = \"\", NOT(H841=\"\")),IF(C841< $W$10, (H841 *G841 * (C841/B841) * 'Stap 1 - Jouw gegevens'!$C$18), (H841 *G841 *'Stap 1 - Jouw gegevens'!$C$18 * ($W$10/B841))), \"\")","v":""},"",{"$f":"IF(AND(L841 = \"\", NOT(J841=\"\")),IF(C841< $W$10, 'Stap 1 - Jouw gegevens'!$C$22 *J841*G841 *C841/B841,  'Stap 1 - Jouw gegevens'!$C$22 * J841*G841 *$W$10/B841), \"\")","v":""},"",null,"","","","","",""]
[null,null,null,null,null,null,null,"",{"$f":"IF(AND(L842 = \"\", NOT(H842=\"\")),IF(C842< $W$10, (H842 *G842 * (C842/B842) * 'Stap 1 - Jouw gegevens'!$C$18), (H842 *G842 *'Stap 1 - Jouw gegevens'!$C$18 * ($W$10/B842))), \"\")","v":""},"",{"$f":"IF(AND(L842 = \"\", NOT(J842=\"\")),IF(C842< $W$10, 'Stap 1 - Jouw gegevens'!$C$22 *J842*G842 *C842/B842,  'Stap 1 - Jouw gegevens'!$C$22 * J842*G842 *$W$10/B842), \"\")","v":""},"",null,"","","","","",""]
[null,null,null,null,null,null,null,"",{"$f":"IF(AND(L843 = \"\", NOT(H843=\"\")),IF(C843< $W$10, (H843 *G843 * (C843/B843) * 'Stap 1 - Jouw gegevens'!$C$18), (H843 *G843 *'Stap 1 - Jouw gegevens'!$C$18 * ($W$10/B843))), \"\")","v":""},"",{"$f":"IF(AND(L843 = \"\", NOT(J843=\"\")),IF(C843< $W$10, 'Stap 1 - Jouw gegevens'!$C$22 *J843*G843 *C843/B843,  'Stap 1 - Jouw gegevens'!$C$22 * J843*G843 *$W$10/B843), \"\")","v":""},"",null,"","","","","",""]
[null,null,null,null,null,null,null,"",{"$f":"IF(AND(L844 = \"\", NOT(H844=\"\")),IF(C844< $W$10, (H844 *G844 * (C844/B844) * 'Stap 1 - Jouw gegevens'!$C$18), (H844 *G844 *'Stap 1 - Jouw gegevens'!$C$18 * ($W$10/B844))), \"\")","v":""},"",{"$f":"IF(AND(L844 = \"\", NOT(J844=\"\")),IF(C844< $W$10, 'Stap 1 - Jouw gegevens'!$C$22 *J844*G844 *C844/B844,  'Stap 1 - Jouw gegevens'!$C$22 * J844*G844 *$W$10/B844), \"\")","v":""},"",null,"","","","","",""]
[null,null,null,null,null,null,null,"",{"$f":"IF(AND(L845 = \"\", NOT(H845=\"\")),IF(C845< $W$10, (H845 *G845 * (C845/B845) * 'Stap 1 - Jouw gegevens'!$C$18), (H845 *G845 *'Stap 1 - Jouw gegevens'!$C$18 * ($W$10/B845))), \"\")","v":""},"",{"$f":"IF(AND(L845 = \"\", NOT(J845=\"\")),IF(C845< $W$10, 'Stap 1 - Jouw gegevens'!$C$22 *J845*G845 *C845/B845,  'Stap 1 - Jouw gegevens'!$C$22 * J845*G845 *$W$10/B845), \"\")","v":""},"",null,"","","","","",""]
[null,null,null,null,null,null,null,"",{"$f":"IF(AND(L846 = \"\", NOT(H846=\"\")),IF(C846< $W$10, (H846 *G846 * (C846/B846) * 'Stap 1 - Jouw gegevens'!$C$18), (H846 *G846 *'Stap 1 - Jouw gegevens'!$C$18 * ($W$10/B846))), \"\")","v":""},"",{"$f":"IF(AND(L846 = \"\", NOT(J846=\"\")),IF(C846< $W$10, 'Stap 1 - Jouw gegevens'!$C$22 *J846*G846 *C846/B846,  'Stap 1 - Jouw gegevens'!$C$22 * J846*G846 *$W$10/B846), \"\")","v":""},"",null,"","","","","",""]
[null,null,null,null,null,null,null,"",{"$f":"IF(AND(L847 = \"\", NOT(H847=\"\")),IF(C847< $W$10, (H847 *G847 * (C847/B847) * 'Stap 1 - Jouw gegevens'!$C$18), (H847 *G847 *'Stap 1 - Jouw gegevens'!$C$18 * ($W$10/B847))), \"\")","v":""},"",{"$f":"IF(AND(L847 = \"\", NOT(J847=\"\")),IF(C847< $W$10, 'Stap 1 - Jouw gegevens'!$C$22 *J847*G847 *C847/B847,  'Stap 1 - Jouw gegevens'!$C$22 * J847*G847 *$W$10/B847), \"\")","v":""},"",null,"","","","","",""]
[null,null,null,null,null,null,null,"",{"$f":"IF(AND(L848 = \"\", NOT(H848=\"\")),IF(C848< $W$10, (H848 *G848 * (C848/B848) * 'Stap 1 - Jouw gegevens'!$C$18), (H848 *G848 *'Stap 1 - Jouw gegevens'!$C$18 * ($W$10/B848))), \"\")","v":""},"",{"$f":"IF(AND(L848 = \"\", NOT(J848=\"\")),IF(C848< $W$10, 'Stap 1 - Jouw gegevens'!$C$22 *J848*G848 *C848/B848,  'Stap 1 - Jouw gegevens'!$C$22 * J848*G848 *$W$10/B848), \"\")","v":""},"",null,"","","","","",""]
[null,null,null,null,null,null,null,"",{"$f":"IF(AND(L849 = \"\", NOT(H849=\"\")),IF(C849< $W$10, (H849 *G849 * (C849/B849) * 'Stap 1 - Jouw gegevens'!$C$18), (H849 *G849 *'Stap 1 - Jouw gegevens'!$C$18 * ($W$10/B849))), \"\")","v":""},"",{"$f":"IF(AND(L849 = \"\", NOT(J849=\"\")),IF(C849< $W$10, 'Stap 1 - Jouw gegevens'!$C$22 *J849*G849 *C849/B849,  'Stap 1 - Jouw gegevens'!$C$22 * J849*G849 *$W$10/B849), \"\")","v":""},"",null,"","","","","",""]
[null,null,null,null,null,null,null,"",{"$f":"IF(AND(L850 = \"\", NOT(H850=\"\")),IF(C850< $W$10, (H850 *G850 * (C850/B850) * 'Stap 1 - Jouw gegevens'!$C$18), (H850 *G850 *'Stap 1 - Jouw gegevens'!$C$18 * ($W$10/B850))), \"\")","v":""},"",{"$f":"IF(AND(L850 = \"\", NOT(J850=\"\")),IF(C850< $W$10, 'Stap 1 - Jouw gegevens'!$C$22 *J850*G850 *C850/B850,  'Stap 1 - Jouw gegevens'!$C$22 * J850*G850 *$W$10/B850), \"\")","v":""},"",null,"","","","","",""]
[null,null,null,null,null,null,null,"",{"$f":"IF(AND(L851 = \"\", NOT(H851=\"\")),IF(C851< $W$10, (H851 *G851 * (C851/B851) * 'Stap 1 - Jouw gegevens'!$C$18), (H851 *G851 *'Stap 1 - Jouw gegevens'!$C$18 * ($W$10/B851))), \"\")","v":""},"",{"$f":"IF(AND(L851 = \"\", NOT(J851=\"\")),IF(C851< $W$10, 'Stap 1 - Jouw gegevens'!$C$22 *J851*G851 *C851/B851,  'Stap 1 - Jouw gegevens'!$C$22 * J851*G851 *$W$10/B851), \"\")","v":""},"",null,"","","","","",""]
[null,null,null,null,null,null,null,"",{"$f":"IF(AND(L852 = \"\", NOT(H852=\"\")),IF(C852< $W$10, (H852 *G852 * (C852/B852) * 'Stap 1 - Jouw gegevens'!$C$18), (H852 *G852 *'Stap 1 - Jouw gegevens'!$C$18 * ($W$10/B852))), \"\")","v":""},"",{"$f":"IF(AND(L852 = \"\", NOT(J852=\"\")),IF(C852< $W$10, 'Stap 1 - Jouw gegevens'!$C$22 *J852*G852 *C852/B852,  'Stap 1 - Jouw gegevens'!$C$22 * J852*G852 *$W$10/B852), \"\")","v":""},"",null,"","","","","",""]
[null,null,null,null,null,null,null,"",{"$f":"IF(AND(L853 = \"\", NOT(H853=\"\")),IF(C853< $W$10, (H853 *G853 * (C853/B853) * 'Stap 1 - Jouw gegevens'!$C$18), (H853 *G853 *'Stap 1 - Jouw gegevens'!$C$18 * ($W$10/B853))), \"\")","v":""},"",{"$f":"IF(AND(L853 = \"\", NOT(J853=\"\")),IF(C853< $W$10, 'Stap 1 - Jouw gegevens'!$C$22 *J853*G853 *C853/B853,  'Stap 1 - Jouw gegevens'!$C$22 * J853*G853 *$W$10/B853), \"\")","v":""},"",null,"","","","","",""]
[null,null,null,null,null,null,null,"",{"$f":"IF(AND(L854 = \"\", NOT(H854=\"\")),IF(C854< $W$10, (H854 *G854 * (C854/B854) * 'Stap 1 - Jouw gegevens'!$C$18), (H854 *G854 *'Stap 1 - Jouw gegevens'!$C$18 * ($W$10/B854))), \"\")","v":""},"",{"$f":"IF(AND(L854 = \"\", NOT(J854=\"\")),IF(C854< $W$10, 'Stap 1 - Jouw gegevens'!$C$22 *J854*G854 *C854/B854,  'Stap 1 - Jouw gegevens'!$C$22 * J854*G854 *$W$10/B854), \"\")","v":""},"",null,"","","","","",""]
[null,null,null,null,null,null,null,"",{"$f":"IF(AND(L855 = \"\", NOT(H855=\"\")),IF(C855< $W$10, (H855 *G855 * (C855/B855) * 'Stap 1 - Jouw gegevens'!$C$18), (H855 *G855 *'Stap 1 - Jouw gegevens'!$C$18 * ($W$10/B855))), \"\")","v":""},"",{"$f":"IF(AND(L855 = \"\", NOT(J855=\"\")),IF(C855< $W$10, 'Stap 1 - Jouw gegevens'!$C$22 *J855*G855 *C855/B855,  'Stap 1 - Jouw gegevens'!$C$22 * J855*G855 *$W$10/B855), \"\")","v":""},"",null,"","","","","",""]
[null,null,null,null,null,null,null,"",{"$f":"IF(AND(L856 = \"\", NOT(H856=\"\")),IF(C856< $W$10, (H856 *G856 * (C856/B856) * 'Stap 1 - Jouw gegevens'!$C$18), (H856 *G856 *'Stap 1 - Jouw gegevens'!$C$18 * ($W$10/B856))), \"\")","v":""},"",{"$f":"IF(AND(L856 = \"\", NOT(J856=\"\")),IF(C856< $W$10, 'Stap 1 - Jouw gegevens'!$C$22 *J856*G856 *C856/B856,  'Stap 1 - Jouw gegevens'!$C$22 * J856*G856 *$W$10/B856), \"\")","v":""},"",null,"","","","","",""]
[null,null,null,null,null,null,null,"",{"$f":"IF(AND(L857 = \"\", NOT(H857=\"\")),IF(C857< $W$10, (H857 *G857 * (C857/B857) * 'Stap 1 - Jouw gegevens'!$C$18), (H857 *G857 *'Stap 1 - Jouw gegevens'!$C$18 * ($W$10/B857))), \"\")","v":""},"",{"$f":"IF(AND(L857 = \"\", NOT(J857=\"\")),IF(C857< $W$10, 'Stap 1 - Jouw gegevens'!$C$22 *J857*G857 *C857/B857,  'Stap 1 - Jouw gegevens'!$C$22 * J857*G857 *$W$10/B857), \"\")","v":""},"",null,"","","","","",""]
[null,null,null,null,null,null,null,"",{"$f":"IF(AND(L858 = \"\", NOT(H858=\"\")),IF(C858< $W$10, (H858 *G858 * (C858/B858) * 'Stap 1 - Jouw gegevens'!$C$18), (H858 *G858 *'Stap 1 - Jouw gegevens'!$C$18 * ($W$10/B858))), \"\")","v":""},"",{"$f":"IF(AND(L858 = \"\", NOT(J858=\"\")),IF(C858< $W$10, 'Stap 1 - Jouw gegevens'!$C$22 *J858*G858 *C858/B858,  'Stap 1 - Jouw gegevens'!$C$22 * J858*G858 *$W$10/B858), \"\")","v":""},"",null,"","","","","",""]
[null,null,null,null,null,null,null,"",{"$f":"IF(AND(L859 = \"\", NOT(H859=\"\")),IF(C859< $W$10, (H859 *G859 * (C859/B859) * 'Stap 1 - Jouw gegevens'!$C$18), (H859 *G859 *'Stap 1 - Jouw gegevens'!$C$18 * ($W$10/B859))), \"\")","v":""},"",{"$f":"IF(AND(L859 = \"\", NOT(J859=\"\")),IF(C859< $W$10, 'Stap 1 - Jouw gegevens'!$C$22 *J859*G859 *C859/B859,  'Stap 1 - Jouw gegevens'!$C$22 * J859*G859 *$W$10/B859), \"\")","v":""},"",null,"","","","","",""]
[null,null,null,null,null,null,null,"",{"$f":"IF(AND(L860 = \"\", NOT(H860=\"\")),IF(C860< $W$10, (H860 *G860 * (C860/B860) * 'Stap 1 - Jouw gegevens'!$C$18), (H860 *G860 *'Stap 1 - Jouw gegevens'!$C$18 * ($W$10/B860))), \"\")","v":""},"",{"$f":"IF(AND(L860 = \"\", NOT(J860=\"\")),IF(C860< $W$10, 'Stap 1 - Jouw gegevens'!$C$22 *J860*G860 *C860/B860,  'Stap 1 - Jouw gegevens'!$C$22 * J860*G860 *$W$10/B860), \"\")","v":""},"",null,"","","","","",""]
[null,null,null,null,null,null,null,"",{"$f":"IF(AND(L861 = \"\", NOT(H861=\"\")),IF(C861< $W$10, (H861 *G861 * (C861/B861) * 'Stap 1 - Jouw gegevens'!$C$18), (H861 *G861 *'Stap 1 - Jouw gegevens'!$C$18 * ($W$10/B861))), \"\")","v":""},"",{"$f":"IF(AND(L861 = \"\", NOT(J861=\"\")),IF(C861< $W$10, 'Stap 1 - Jouw gegevens'!$C$22 *J861*G861 *C861/B861,  'Stap 1 - Jouw gegevens'!$C$22 * J861*G861 *$W$10/B861), \"\")","v":""},"",null,"","","","","",""]
[null,null,null,null,null,null,null,"",{"$f":"IF(AND(L862 = \"\", NOT(H862=\"\")),IF(C862< $W$10, (H862 *G862 * (C862/B862) * 'Stap 1 - Jouw gegevens'!$C$18), (H862 *G862 *'Stap 1 - Jouw gegevens'!$C$18 * ($W$10/B862))), \"\")","v":""},"",{"$f":"IF(AND(L862 = \"\", NOT(J862=\"\")),IF(C862< $W$10, 'Stap 1 - Jouw gegevens'!$C$22 *J862*G862 *C862/B862,  'Stap 1 - Jouw gegevens'!$C$22 * J862*G862 *$W$10/B862), \"\")","v":""},"",null,"","","","","",""]
[null,null,null,null,null,null,null,"",{"$f":"IF(AND(L863 = \"\", NOT(H863=\"\")),IF(C863< $W$10, (H863 *G863 * (C863/B863) * 'Stap 1 - Jouw gegevens'!$C$18), (H863 *G863 *'Stap 1 - Jouw gegevens'!$C$18 * ($W$10/B863))), \"\")","v":""},"",{"$f":"IF(AND(L863 = \"\", NOT(J863=\"\")),IF(C863< $W$10, 'Stap 1 - Jouw gegevens'!$C$22 *J863*G863 *C863/B863,  'Stap 1 - Jouw gegevens'!$C$22 * J863*G863 *$W$10/B863), \"\")","v":""},"",null,"","","","","",""]
[null,null,null,null,null,null,null,"",{"$f":"IF(AND(L864 = \"\", NOT(H864=\"\")),IF(C864< $W$10, (H864 *G864 * (C864/B864) * 'Stap 1 - Jouw gegevens'!$C$18), (H864 *G864 *'Stap 1 - Jouw gegevens'!$C$18 * ($W$10/B864))), \"\")","v":""},"",{"$f":"IF(AND(L864 = \"\", NOT(J864=\"\")),IF(C864< $W$10, 'Stap 1 - Jouw gegevens'!$C$22 *J864*G864 *C864/B864,  'Stap 1 - Jouw gegevens'!$C$22 * J864*G864 *$W$10/B864), \"\")","v":""},"",null,"","","","","",""]
[null,null,null,null,null,null,null,"",{"$f":"IF(AND(L865 = \"\", NOT(H865=\"\")),IF(C865< $W$10, (H865 *G865 * (C865/B865) * 'Stap 1 - Jouw gegevens'!$C$18), (H865 *G865 *'Stap 1 - Jouw gegevens'!$C$18 * ($W$10/B865))), \"\")","v":""},"",{"$f":"IF(AND(L865 = \"\", NOT(J865=\"\")),IF(C865< $W$10, 'Stap 1 - Jouw gegevens'!$C$22 *J865*G865 *C865/B865,  'Stap 1 - Jouw gegevens'!$C$22 * J865*G865 *$W$10/B865), \"\")","v":""},"",null,"","","","","",""]
[null,null,null,null,null,null,null,"",{"$f":"IF(AND(L866 = \"\", NOT(H866=\"\")),IF(C866< $W$10, (H866 *G866 * (C866/B866) * 'Stap 1 - Jouw gegevens'!$C$18), (H866 *G866 *'Stap 1 - Jouw gegevens'!$C$18 * ($W$10/B866))), \"\")","v":""},"",{"$f":"IF(AND(L866 = \"\", NOT(J866=\"\")),IF(C866< $W$10, 'Stap 1 - Jouw gegevens'!$C$22 *J866*G866 *C866/B866,  'Stap 1 - Jouw gegevens'!$C$22 * J866*G866 *$W$10/B866), \"\")","v":""},"",null,"","","","","",""]
[null,null,null,null,null,null,null,"",{"$f":"IF(AND(L867 = \"\", NOT(H867=\"\")),IF(C867< $W$10, (H867 *G867 * (C867/B867) * 'Stap 1 - Jouw gegevens'!$C$18), (H867 *G867 *'Stap 1 - Jouw gegevens'!$C$18 * ($W$10/B867))), \"\")","v":""},"",{"$f":"IF(AND(L867 = \"\", NOT(J867=\"\")),IF(C867< $W$10, 'Stap 1 - Jouw gegevens'!$C$22 *J867*G867 *C867/B867,  'Stap 1 - Jouw gegevens'!$C$22 * J867*G867 *$W$10/B867), \"\")","v":""},"",null,"","","","","",""]
[null,null,null,null,null,null,null,"",{"$f":"IF(AND(L868 = \"\", NOT(H868=\"\")),IF(C868< $W$10, (H868 *G868 * (C868/B868) * 'Stap 1 - Jouw gegevens'!$C$18), (H868 *G868 *'Stap 1 - Jouw gegevens'!$C$18 * ($W$10/B868))), \"\")","v":""},"",{"$f":"IF(AND(L868 = \"\", NOT(J868=\"\")),IF(C868< $W$10, 'Stap 1 - Jouw gegevens'!$C$22 *J868*G868 *C868/B868,  'Stap 1 - Jouw gegevens'!$C$22 * J868*G868 *$W$10/B868), \"\")","v":""},"",null,"","","","","",""]
[null,null,null,null,null,null,null,"",{"$f":"IF(AND(L869 = \"\", NOT(H869=\"\")),IF(C869< $W$10, (H869 *G869 * (C869/B869) * 'Stap 1 - Jouw gegevens'!$C$18), (H869 *G869 *'Stap 1 - Jouw gegevens'!$C$18 * ($W$10/B869))), \"\")","v":""},"",{"$f":"IF(AND(L869 = \"\", NOT(J869=\"\")),IF(C869< $W$10, 'Stap 1 - Jouw gegevens'!$C$22 *J869*G869 *C869/B869,  'Stap 1 - Jouw gegevens'!$C$22 * J869*G869 *$W$10/B869), \"\")","v":""},"",null,"","","","","",""]
[null,null,null,null,null,null,null,"",{"$f":"IF(AND(L870 = \"\", NOT(H870=\"\")),IF(C870< $W$10, (H870 *G870 * (C870/B870) * 'Stap 1 - Jouw gegevens'!$C$18), (H870 *G870 *'Stap 1 - Jouw gegevens'!$C$18 * ($W$10/B870))), \"\")","v":""},"",{"$f":"IF(AND(L870 = \"\", NOT(J870=\"\")),IF(C870< $W$10, 'Stap 1 - Jouw gegevens'!$C$22 *J870*G870 *C870/B870,  'Stap 1 - Jouw gegevens'!$C$22 * J870*G870 *$W$10/B870), \"\")","v":""},"",null,"","","","","",""]
[null,null,null,null,null,null,null,"",{"$f":"IF(AND(L871 = \"\", NOT(H871=\"\")),IF(C871< $W$10, (H871 *G871 * (C871/B871) * 'Stap 1 - Jouw gegevens'!$C$18), (H871 *G871 *'Stap 1 - Jouw gegevens'!$C$18 * ($W$10/B871))), \"\")","v":""},"",{"$f":"IF(AND(L871 = \"\", NOT(J871=\"\")),IF(C871< $W$10, 'Stap 1 - Jouw gegevens'!$C$22 *J871*G871 *C871/B871,  'Stap 1 - Jouw gegevens'!$C$22 * J871*G871 *$W$10/B871), \"\")","v":""},"",null,"","","","","",""]
[null,null,null,null,null,null,null,"",{"$f":"IF(AND(L872 = \"\", NOT(H872=\"\")),IF(C872< $W$10, (H872 *G872 * (C872/B872) * 'Stap 1 - Jouw gegevens'!$C$18), (H872 *G872 *'Stap 1 - Jouw gegevens'!$C$18 * ($W$10/B872))), \"\")","v":""},"",{"$f":"IF(AND(L872 = \"\", NOT(J872=\"\")),IF(C872< $W$10, 'Stap 1 - Jouw gegevens'!$C$22 *J872*G872 *C872/B872,  'Stap 1 - Jouw gegevens'!$C$22 * J872*G872 *$W$10/B872), \"\")","v":""},"",null,"","","","","",""]
[null,null,null,null,null,null,null,"",{"$f":"IF(AND(L873 = \"\", NOT(H873=\"\")),IF(C873< $W$10, (H873 *G873 * (C873/B873) * 'Stap 1 - Jouw gegevens'!$C$18), (H873 *G873 *'Stap 1 - Jouw gegevens'!$C$18 * ($W$10/B873))), \"\")","v":""},"",{"$f":"IF(AND(L873 = \"\", NOT(J873=\"\")),IF(C873< $W$10, 'Stap 1 - Jouw gegevens'!$C$22 *J873*G873 *C873/B873,  'Stap 1 - Jouw gegevens'!$C$22 * J873*G873 *$W$10/B873), \"\")","v":""},"",null,"","","","","",""]
[null,null,null,null,null,null,null,"",{"$f":"IF(AND(L874 = \"\", NOT(H874=\"\")),IF(C874< $W$10, (H874 *G874 * (C874/B874) * 'Stap 1 - Jouw gegevens'!$C$18), (H874 *G874 *'Stap 1 - Jouw gegevens'!$C$18 * ($W$10/B874))), \"\")","v":""},"",{"$f":"IF(AND(L874 = \"\", NOT(J874=\"\")),IF(C874< $W$10, 'Stap 1 - Jouw gegevens'!$C$22 *J874*G874 *C874/B874,  'Stap 1 - Jouw gegevens'!$C$22 * J874*G874 *$W$10/B874), \"\")","v":""},"",null,"","","","","",""]
[null,null,null,null,null,null,null,"",{"$f":"IF(AND(L875 = \"\", NOT(H875=\"\")),IF(C875< $W$10, (H875 *G875 * (C875/B875) * 'Stap 1 - Jouw gegevens'!$C$18), (H875 *G875 *'Stap 1 - Jouw gegevens'!$C$18 * ($W$10/B875))), \"\")","v":""},"",{"$f":"IF(AND(L875 = \"\", NOT(J875=\"\")),IF(C875< $W$10, 'Stap 1 - Jouw gegevens'!$C$22 *J875*G875 *C875/B875,  'Stap 1 - Jouw gegevens'!$C$22 * J875*G875 *$W$10/B875), \"\")","v":""},"",null,"","","","","",""]
[null,null,null,null,null,null,null,"",{"$f":"IF(AND(L876 = \"\", NOT(H876=\"\")),IF(C876< $W$10, (H876 *G876 * (C876/B876) * 'Stap 1 - Jouw gegevens'!$C$18), (H876 *G876 *'Stap 1 - Jouw gegevens'!$C$18 * ($W$10/B876))), \"\")","v":""},"",{"$f":"IF(AND(L876 = \"\", NOT(J876=\"\")),IF(C876< $W$10, 'Stap 1 - Jouw gegevens'!$C$22 *J876*G876 *C876/B876,  'Stap 1 - Jouw gegevens'!$C$22 * J876*G876 *$W$10/B876), \"\")","v":""},"",null,"","","","","",""]
[null,null,null,null,null,null,null,"",{"$f":"IF(AND(L877 = \"\", NOT(H877=\"\")),IF(C877< $W$10, (H877 *G877 * (C877/B877) * 'Stap 1 - Jouw gegevens'!$C$18), (H877 *G877 *'Stap 1 - Jouw gegevens'!$C$18 * ($W$10/B877))), \"\")","v":""},"",{"$f":"IF(AND(L877 = \"\", NOT(J877=\"\")),IF(C877< $W$10, 'Stap 1 - Jouw gegevens'!$C$22 *J877*G877 *C877/B877,  'Stap 1 - Jouw gegevens'!$C$22 * J877*G877 *$W$10/B877), \"\")","v":""},"",null,"","","","","",""]
[null,null,null,null,null,null,null,"",{"$f":"IF(AND(L878 = \"\", NOT(H878=\"\")),IF(C878< $W$10, (H878 *G878 * (C878/B878) * 'Stap 1 - Jouw gegevens'!$C$18), (H878 *G878 *'Stap 1 - Jouw gegevens'!$C$18 * ($W$10/B878))), \"\")","v":""},"",{"$f":"IF(AND(L878 = \"\", NOT(J878=\"\")),IF(C878< $W$10, 'Stap 1 - Jouw gegevens'!$C$22 *J878*G878 *C878/B878,  'Stap 1 - Jouw gegevens'!$C$22 * J878*G878 *$W$10/B878), \"\")","v":""},"",null,"","","","","",""]
[null,null,null,null,null,null,null,"",{"$f":"IF(AND(L879 = \"\", NOT(H879=\"\")),IF(C879< $W$10, (H879 *G879 * (C879/B879) * 'Stap 1 - Jouw gegevens'!$C$18), (H879 *G879 *'Stap 1 - Jouw gegevens'!$C$18 * ($W$10/B879))), \"\")","v":""},"",{"$f":"IF(AND(L879 = \"\", NOT(J879=\"\")),IF(C879< $W$10, 'Stap 1 - Jouw gegevens'!$C$22 *J879*G879 *C879/B879,  'Stap 1 - Jouw gegevens'!$C$22 * J879*G879 *$W$10/B879), \"\")","v":""},"",null,"","","","","",""]
[null,null,null,null,null,null,null,"",{"$f":"IF(AND(L880 = \"\", NOT(H880=\"\")),IF(C880< $W$10, (H880 *G880 * (C880/B880) * 'Stap 1 - Jouw gegevens'!$C$18), (H880 *G880 *'Stap 1 - Jouw gegevens'!$C$18 * ($W$10/B880))), \"\")","v":""},"",{"$f":"IF(AND(L880 = \"\", NOT(J880=\"\")),IF(C880< $W$10, 'Stap 1 - Jouw gegevens'!$C$22 *J880*G880 *C880/B880,  'Stap 1 - Jouw gegevens'!$C$22 * J880*G880 *$W$10/B880), \"\")","v":""},"",null,"","","","","",""]
[null,null,null,null,null,null,null,"",{"$f":"IF(AND(L881 = \"\", NOT(H881=\"\")),IF(C881< $W$10, (H881 *G881 * (C881/B881) * 'Stap 1 - Jouw gegevens'!$C$18), (H881 *G881 *'Stap 1 - Jouw gegevens'!$C$18 * ($W$10/B881))), \"\")","v":""},"",{"$f":"IF(AND(L881 = \"\", NOT(J881=\"\")),IF(C881< $W$10, 'Stap 1 - Jouw gegevens'!$C$22 *J881*G881 *C881/B881,  'Stap 1 - Jouw gegevens'!$C$22 * J881*G881 *$W$10/B881), \"\")","v":""},"",null,"","","","","",""]
[null,null,null,null,null,null,null,"",{"$f":"IF(AND(L882 = \"\", NOT(H882=\"\")),IF(C882< $W$10, (H882 *G882 * (C882/B882) * 'Stap 1 - Jouw gegevens'!$C$18), (H882 *G882 *'Stap 1 - Jouw gegevens'!$C$18 * ($W$10/B882))), \"\")","v":""},"",{"$f":"IF(AND(L882 = \"\", NOT(J882=\"\")),IF(C882< $W$10, 'Stap 1 - Jouw gegevens'!$C$22 *J882*G882 *C882/B882,  'Stap 1 - Jouw gegevens'!$C$22 * J882*G882 *$W$10/B882), \"\")","v":""},"",null,"","","","","",""]
[null,null,null,null,null,null,null,"",{"$f":"IF(AND(L883 = \"\", NOT(H883=\"\")),IF(C883< $W$10, (H883 *G883 * (C883/B883) * 'Stap 1 - Jouw gegevens'!$C$18), (H883 *G883 *'Stap 1 - Jouw gegevens'!$C$18 * ($W$10/B883))), \"\")","v":""},"",{"$f":"IF(AND(L883 = \"\", NOT(J883=\"\")),IF(C883< $W$10, 'Stap 1 - Jouw gegevens'!$C$22 *J883*G883 *C883/B883,  'Stap 1 - Jouw gegevens'!$C$22 * J883*G883 *$W$10/B883), \"\")","v":""},"",null,"","","","","",""]
[null,null,null,null,null,null,null,"",{"$f":"IF(AND(L884 = \"\", NOT(H884=\"\")),IF(C884< $W$10, (H884 *G884 * (C884/B884) * 'Stap 1 - Jouw gegevens'!$C$18), (H884 *G884 *'Stap 1 - Jouw gegevens'!$C$18 * ($W$10/B884))), \"\")","v":""},"",{"$f":"IF(AND(L884 = \"\", NOT(J884=\"\")),IF(C884< $W$10, 'Stap 1 - Jouw gegevens'!$C$22 *J884*G884 *C884/B884,  'Stap 1 - Jouw gegevens'!$C$22 * J884*G884 *$W$10/B884), \"\")","v":""},"",null,"","","","","",""]
[null,null,null,null,null,null,null,"",{"$f":"IF(AND(L885 = \"\", NOT(H885=\"\")),IF(C885< $W$10, (H885 *G885 * (C885/B885) * 'Stap 1 - Jouw gegevens'!$C$18), (H885 *G885 *'Stap 1 - Jouw gegevens'!$C$18 * ($W$10/B885))), \"\")","v":""},"",{"$f":"IF(AND(L885 = \"\", NOT(J885=\"\")),IF(C885< $W$10, 'Stap 1 - Jouw gegevens'!$C$22 *J885*G885 *C885/B885,  'Stap 1 - Jouw gegevens'!$C$22 * J885*G885 *$W$10/B885), \"\")","v":""},"",null,"","","","","",""]
[null,null,null,null,null,null,null,"",{"$f":"IF(AND(L886 = \"\", NOT(H886=\"\")),IF(C886< $W$10, (H886 *G886 * (C886/B886) * 'Stap 1 - Jouw gegevens'!$C$18), (H886 *G886 *'Stap 1 - Jouw gegevens'!$C$18 * ($W$10/B886))), \"\")","v":""},"",{"$f":"IF(AND(L886 = \"\", NOT(J886=\"\")),IF(C886< $W$10, 'Stap 1 - Jouw gegevens'!$C$22 *J886*G886 *C886/B886,  'Stap 1 - Jouw gegevens'!$C$22 * J886*G886 *$W$10/B886), \"\")","v":""},"",null,"","","","","",""]
[null,null,null,null,null,null,null,"",{"$f":"IF(AND(L887 = \"\", NOT(H887=\"\")),IF(C887< $W$10, (H887 *G887 * (C887/B887) * 'Stap 1 - Jouw gegevens'!$C$18), (H887 *G887 *'Stap 1 - Jouw gegevens'!$C$18 * ($W$10/B887))), \"\")","v":""},"",{"$f":"IF(AND(L887 = \"\", NOT(J887=\"\")),IF(C887< $W$10, 'Stap 1 - Jouw gegevens'!$C$22 *J887*G887 *C887/B887,  'Stap 1 - Jouw gegevens'!$C$22 * J887*G887 *$W$10/B887), \"\")","v":""},"",null,"","","","","",""]
[null,null,null,null,null,null,null,"",{"$f":"IF(AND(L888 = \"\", NOT(H888=\"\")),IF(C888< $W$10, (H888 *G888 * (C888/B888) * 'Stap 1 - Jouw gegevens'!$C$18), (H888 *G888 *'Stap 1 - Jouw gegevens'!$C$18 * ($W$10/B888))), \"\")","v":""},"",{"$f":"IF(AND(L888 = \"\", NOT(J888=\"\")),IF(C888< $W$10, 'Stap 1 - Jouw gegevens'!$C$22 *J888*G888 *C888/B888,  'Stap 1 - Jouw gegevens'!$C$22 * J888*G888 *$W$10/B888), \"\")","v":""},"",null,"","","","","",""]
[null,null,null,null,null,null,null,"",{"$f":"IF(AND(L889 = \"\", NOT(H889=\"\")),IF(C889< $W$10, (H889 *G889 * (C889/B889) * 'Stap 1 - Jouw gegevens'!$C$18), (H889 *G889 *'Stap 1 - Jouw gegevens'!$C$18 * ($W$10/B889))), \"\")","v":""},"",{"$f":"IF(AND(L889 = \"\", NOT(J889=\"\")),IF(C889< $W$10, 'Stap 1 - Jouw gegevens'!$C$22 *J889*G889 *C889/B889,  'Stap 1 - Jouw gegevens'!$C$22 * J889*G889 *$W$10/B889), \"\")","v":""},"",null,"","","","","",""]
[null,null,null,null,null,null,null,"",{"$f":"IF(AND(L890 = \"\", NOT(H890=\"\")),IF(C890< $W$10, (H890 *G890 * (C890/B890) * 'Stap 1 - Jouw gegevens'!$C$18), (H890 *G890 *'Stap 1 - Jouw gegevens'!$C$18 * ($W$10/B890))), \"\")","v":""},"",{"$f":"IF(AND(L890 = \"\", NOT(J890=\"\")),IF(C890< $W$10, 'Stap 1 - Jouw gegevens'!$C$22 *J890*G890 *C890/B890,  'Stap 1 - Jouw gegevens'!$C$22 * J890*G890 *$W$10/B890), \"\")","v":""},"",null,"","","","","",""]
[null,null,null,null,null,null,null,"",{"$f":"IF(AND(L891 = \"\", NOT(H891=\"\")),IF(C891< $W$10, (H891 *G891 * (C891/B891) * 'Stap 1 - Jouw gegevens'!$C$18), (H891 *G891 *'Stap 1 - Jouw gegevens'!$C$18 * ($W$10/B891))), \"\")","v":""},"",{"$f":"IF(AND(L891 = \"\", NOT(J891=\"\")),IF(C891< $W$10, 'Stap 1 - Jouw gegevens'!$C$22 *J891*G891 *C891/B891,  'Stap 1 - Jouw gegevens'!$C$22 * J891*G891 *$W$10/B891), \"\")","v":""},"",null,"","","","","",""]
[null,null,null,null,null,null,null,"",{"$f":"IF(AND(L892 = \"\", NOT(H892=\"\")),IF(C892< $W$10, (H892 *G892 * (C892/B892) * 'Stap 1 - Jouw gegevens'!$C$18), (H892 *G892 *'Stap 1 - Jouw gegevens'!$C$18 * ($W$10/B892))), \"\")","v":""},"",{"$f":"IF(AND(L892 = \"\", NOT(J892=\"\")),IF(C892< $W$10, 'Stap 1 - Jouw gegevens'!$C$22 *J892*G892 *C892/B892,  'Stap 1 - Jouw gegevens'!$C$22 * J892*G892 *$W$10/B892), \"\")","v":""},"",null,"","","","","",""]
[null,null,null,null,null,null,null,"",{"$f":"IF(AND(L893 = \"\", NOT(H893=\"\")),IF(C893< $W$10, (H893 *G893 * (C893/B893) * 'Stap 1 - Jouw gegevens'!$C$18), (H893 *G893 *'Stap 1 - Jouw gegevens'!$C$18 * ($W$10/B893))), \"\")","v":""},"",{"$f":"IF(AND(L893 = \"\", NOT(J893=\"\")),IF(C893< $W$10, 'Stap 1 - Jouw gegevens'!$C$22 *J893*G893 *C893/B893,  'Stap 1 - Jouw gegevens'!$C$22 * J893*G893 *$W$10/B893), \"\")","v":""},"",null,"","","","","",""]
[null,null,null,null,null,null,null,"",{"$f":"IF(AND(L894 = \"\", NOT(H894=\"\")),IF(C894< $W$10, (H894 *G894 * (C894/B894) * 'Stap 1 - Jouw gegevens'!$C$18), (H894 *G894 *'Stap 1 - Jouw gegevens'!$C$18 * ($W$10/B894))), \"\")","v":""},"",{"$f":"IF(AND(L894 = \"\", NOT(J894=\"\")),IF(C894< $W$10, 'Stap 1 - Jouw gegevens'!$C$22 *J894*G894 *C894/B894,  'Stap 1 - Jouw gegevens'!$C$22 * J894*G894 *$W$10/B894), \"\")","v":""},"",null,"","","","","",""]
[null,null,null,null,null,null,null,"",{"$f":"IF(AND(L895 = \"\", NOT(H895=\"\")),IF(C895< $W$10, (H895 *G895 * (C895/B895) * 'Stap 1 - Jouw gegevens'!$C$18), (H895 *G895 *'Stap 1 - Jouw gegevens'!$C$18 * ($W$10/B895))), \"\")","v":""},"",{"$f":"IF(AND(L895 = \"\", NOT(J895=\"\")),IF(C895< $W$10, 'Stap 1 - Jouw gegevens'!$C$22 *J895*G895 *C895/B895,  'Stap 1 - Jouw gegevens'!$C$22 * J895*G895 *$W$10/B895), \"\")","v":""},"",null,"","","","","",""]
[null,null,null,null,null,null,null,"",{"$f":"IF(AND(L896 = \"\", NOT(H896=\"\")),IF(C896< $W$10, (H896 *G896 * (C896/B896) * 'Stap 1 - Jouw gegevens'!$C$18), (H896 *G896 *'Stap 1 - Jouw gegevens'!$C$18 * ($W$10/B896))), \"\")","v":""},"",{"$f":"IF(AND(L896 = \"\", NOT(J896=\"\")),IF(C896< $W$10, 'Stap 1 - Jouw gegevens'!$C$22 *J896*G896 *C896/B896,  'Stap 1 - Jouw gegevens'!$C$22 * J896*G896 *$W$10/B896), \"\")","v":""},"",null,"","","","","",""]
[null,null,null,null,null,null,null,"",{"$f":"IF(AND(L897 = \"\", NOT(H897=\"\")),IF(C897< $W$10, (H897 *G897 * (C897/B897) * 'Stap 1 - Jouw gegevens'!$C$18), (H897 *G897 *'Stap 1 - Jouw gegevens'!$C$18 * ($W$10/B897))), \"\")","v":""},"",{"$f":"IF(AND(L897 = \"\", NOT(J897=\"\")),IF(C897< $W$10, 'Stap 1 - Jouw gegevens'!$C$22 *J897*G897 *C897/B897,  'Stap 1 - Jouw gegevens'!$C$22 * J897*G897 *$W$10/B897), \"\")","v":""},"",null,"","","","","",""]
[null,null,null,null,null,null,null,"",{"$f":"IF(AND(L898 = \"\", NOT(H898=\"\")),IF(C898< $W$10, (H898 *G898 * (C898/B898) * 'Stap 1 - Jouw gegevens'!$C$18), (H898 *G898 *'Stap 1 - Jouw gegevens'!$C$18 * ($W$10/B898))), \"\")","v":""},"",{"$f":"IF(AND(L898 = \"\", NOT(J898=\"\")),IF(C898< $W$10, 'Stap 1 - Jouw gegevens'!$C$22 *J898*G898 *C898/B898,  'Stap 1 - Jouw gegevens'!$C$22 * J898*G898 *$W$10/B898), \"\")","v":""},"",null,"","","","","",""]
[null,null,null,null,null,null,null,"",{"$f":"IF(AND(L899 = \"\", NOT(H899=\"\")),IF(C899< $W$10, (H899 *G899 * (C899/B899) * 'Stap 1 - Jouw gegevens'!$C$18), (H899 *G899 *'Stap 1 - Jouw gegevens'!$C$18 * ($W$10/B899))), \"\")","v":""},"",{"$f":"IF(AND(L899 = \"\", NOT(J899=\"\")),IF(C899< $W$10, 'Stap 1 - Jouw gegevens'!$C$22 *J899*G899 *C899/B899,  'Stap 1 - Jouw gegevens'!$C$22 * J899*G899 *$W$10/B899), \"\")","v":""},"",null,"","","","","",""]
[null,null,null,null,null,null,null,"",{"$f":"IF(AND(L900 = \"\", NOT(H900=\"\")),IF(C900< $W$10, (H900 *G900 * (C900/B900) * 'Stap 1 - Jouw gegevens'!$C$18), (H900 *G900 *'Stap 1 - Jouw gegevens'!$C$18 * ($W$10/B900))), \"\")","v":""},"",{"$f":"IF(AND(L900 = \"\", NOT(J900=\"\")),IF(C900< $W$10, 'Stap 1 - Jouw gegevens'!$C$22 *J900*G900 *C900/B900,  'Stap 1 - Jouw gegevens'!$C$22 * J900*G900 *$W$10/B900), \"\")","v":""},"",null,"","","","","",""]
[null,null,null,null,null,null,null,"",{"$f":"IF(AND(L901 = \"\", NOT(H901=\"\")),IF(C901< $W$10, (H901 *G901 * (C901/B901) * 'Stap 1 - Jouw gegevens'!$C$18), (H901 *G901 *'Stap 1 - Jouw gegevens'!$C$18 * ($W$10/B901))), \"\")","v":""},"",{"$f":"IF(AND(L901 = \"\", NOT(J901=\"\")),IF(C901< $W$10, 'Stap 1 - Jouw gegevens'!$C$22 *J901*G901 *C901/B901,  'Stap 1 - Jouw gegevens'!$C$22 * J901*G901 *$W$10/B901), \"\")","v":""},"",null,"","","","","",""]
[null,null,null,null,null,null,null,"",{"$f":"IF(AND(L902 = \"\", NOT(H902=\"\")),IF(C902< $W$10, (H902 *G902 * (C902/B902) * 'Stap 1 - Jouw gegevens'!$C$18), (H902 *G902 *'Stap 1 - Jouw gegevens'!$C$18 * ($W$10/B902))), \"\")","v":""},"",{"$f":"IF(AND(L902 = \"\", NOT(J902=\"\")),IF(C902< $W$10, 'Stap 1 - Jouw gegevens'!$C$22 *J902*G902 *C902/B902,  'Stap 1 - Jouw gegevens'!$C$22 * J902*G902 *$W$10/B902), \"\")","v":""},"",null,"","","","","",""]
[null,null,null,null,null,null,null,"",{"$f":"IF(AND(L903 = \"\", NOT(H903=\"\")),IF(C903< $W$10, (H903 *G903 * (C903/B903) * 'Stap 1 - Jouw gegevens'!$C$18), (H903 *G903 *'Stap 1 - Jouw gegevens'!$C$18 * ($W$10/B903))), \"\")","v":""},"",{"$f":"IF(AND(L903 = \"\", NOT(J903=\"\")),IF(C903< $W$10, 'Stap 1 - Jouw gegevens'!$C$22 *J903*G903 *C903/B903,  'Stap 1 - Jouw gegevens'!$C$22 * J903*G903 *$W$10/B903), \"\")","v":""},"",null,"","","","","",""]
[null,null,null,null,null,null,null,{"$f":"P904","v":""},{"$f":"IF(AND(L904 = \"\", NOT(H904=\"\")),IF(C904< $W$10, (H904 *G904 * (C904/B904) * 'Stap 1 - Jouw gegevens'!$C$18), (H904 *G904 *'Stap 1 - Jouw gegevens'!$C$18 * ($W$10/B904))), \"\")","v":""},{"$f":"S904","v":""},{"$f":"IF(AND(L904 = \"\", NOT(J904=\"\")),IF(C904< $W$10, 'Stap 1 - Jouw gegevens'!$C$22 *J904*G904 *C904/B904,  'Stap 1 - Jouw gegevens'!$C$22 * J904*G904 *$W$10/B904), \"\")","v":""},{"$f":"IF(ISBLANK(A904), \"\", CONCATENATE(IF(Z904 = \"X\", $AH$5, \"\"), IF( AB904 = \"X\", $AH$7, \"\"), IF( AC904 = \"X\", $AH$8, \"\"), IF( AD904 = \"X\", $AH$9, \"\"), IF( AE904 = \"X\", $AH$10, \"\"),  IF( AF904 = \"X\", $AH$11, \"\")))","v":""},null,{"$f":"IF(ISBLANK(D904),\"\",NETWORKDAYS(D904,F904))","v":""},{"$f":"IFERROR( IF(N904>$Y$5,NETWORKDAYS(E904, (Q904 - 1)), NETWORKDAYS(E904,(F904-1))), \"\")","v":""},{"$f":"IF(O904<= 0, \"\", O904)","v":""},{"$f":"IF(ISBLANK(D904),\"\",DATE(YEAR(D904)+1,MONTH(D904),DAY(D904)))","v":""},{"$f":"IFERROR(IF(N904 > $Y$5, IF(E904>=Q904,NETWORKDAYS(E904, (F904-1)), NETWORKDAYS(Q904, (F904-1))), \"\"), \"\")","v":""},{"$f":"IF(R904=\"\", \"\",  IF(R904 >= $Y$5, $Y$5,  R904))","v":""}]
[null,null,null,null,null,null,null,"",{"$f":"IF(AND(L905 = \"\", NOT(H905=\"\")),IF(C905< $W$10, (H905 *G905 * (C905/B905) * 'Stap 1 - Jouw gegevens'!$C$18), (H905 *G905 *'Stap 1 - Jouw gegevens'!$C$18 * ($W$10/B905))), \"\")","v":""},"",{"$f":"IF(AND(L905 = \"\", NOT(J905=\"\")),IF(C905< $W$10, 'Stap 1 - Jouw gegevens'!$C$22 *J905*G905 *C905/B905,  'Stap 1 - Jouw gegevens'!$C$22 * J905*G905 *$W$10/B905), \"\")","v":""},"",null,"","","","","",""]
[null,null,null,null,null,null,null,"",{"$f":"IF(AND(L906 = \"\", NOT(H906=\"\")),IF(C906< $W$10, (H906 *G906 * (C906/B906) * 'Stap 1 - Jouw gegevens'!$C$18), (H906 *G906 *'Stap 1 - Jouw gegevens'!$C$18 * ($W$10/B906))), \"\")","v":""},"",{"$f":"IF(AND(L906 = \"\", NOT(J906=\"\")),IF(C906< $W$10, 'Stap 1 - Jouw gegevens'!$C$22 *J906*G906 *C906/B906,  'Stap 1 - Jouw gegevens'!$C$22 * J906*G906 *$W$10/B906), \"\")","v":""},"",null,"","","","","",""]
[null,null,null,null,null,null,null,"",{"$f":"IF(AND(L907 = \"\", NOT(H907=\"\")),IF(C907< $W$10, (H907 *G907 * (C907/B907) * 'Stap 1 - Jouw gegevens'!$C$18), (H907 *G907 *'Stap 1 - Jouw gegevens'!$C$18 * ($W$10/B907))), \"\")","v":""},"",{"$f":"IF(AND(L907 = \"\", NOT(J907=\"\")),IF(C907< $W$10, 'Stap 1 - Jouw gegevens'!$C$22 *J907*G907 *C907/B907,  'Stap 1 - Jouw gegevens'!$C$22 * J907*G907 *$W$10/B907), \"\")","v":""},"",null,"","","","","",""]
[null,null,null,null,null,null,null,"",{"$f":"IF(AND(L908 = \"\", NOT(H908=\"\")),IF(C908< $W$10, (H908 *G908 * (C908/B908) * 'Stap 1 - Jouw gegevens'!$C$18), (H908 *G908 *'Stap 1 - Jouw gegevens'!$C$18 * ($W$10/B908))), \"\")","v":""},"",{"$f":"IF(AND(L908 = \"\", NOT(J908=\"\")),IF(C908< $W$10, 'Stap 1 - Jouw gegevens'!$C$22 *J908*G908 *C908/B908,  'Stap 1 - Jouw gegevens'!$C$22 * J908*G908 *$W$10/B908), \"\")","v":""},"",null,"","","","","",""]
[null,null,null,null,null,null,null,"",{"$f":"IF(AND(L909 = \"\", NOT(H909=\"\")),IF(C909< $W$10, (H909 *G909 * (C909/B909) * 'Stap 1 - Jouw gegevens'!$C$18), (H909 *G909 *'Stap 1 - Jouw gegevens'!$C$18 * ($W$10/B909))), \"\")","v":""},"",{"$f":"IF(AND(L909 = \"\", NOT(J909=\"\")),IF(C909< $W$10, 'Stap 1 - Jouw gegevens'!$C$22 *J909*G909 *C909/B909,  'Stap 1 - Jouw gegevens'!$C$22 * J909*G909 *$W$10/B909), \"\")","v":""},"",null,"","","","","",""]
[null,null,null,null,null,null,null,"",{"$f":"IF(AND(L910 = \"\", NOT(H910=\"\")),IF(C910< $W$10, (H910 *G910 * (C910/B910) * 'Stap 1 - Jouw gegevens'!$C$18), (H910 *G910 *'Stap 1 - Jouw gegevens'!$C$18 * ($W$10/B910))), \"\")","v":""},"",{"$f":"IF(AND(L910 = \"\", NOT(J910=\"\")),IF(C910< $W$10, 'Stap 1 - Jouw gegevens'!$C$22 *J910*G910 *C910/B910,  'Stap 1 - Jouw gegevens'!$C$22 * J910*G910 *$W$10/B910), \"\")","v":""},"",null,"","","","","",""]
[null,null,null,null,null,null,null,"",{"$f":"IF(AND(L911 = \"\", NOT(H911=\"\")),IF(C911< $W$10, (H911 *G911 * (C911/B911) * 'Stap 1 - Jouw gegevens'!$C$18), (H911 *G911 *'Stap 1 - Jouw gegevens'!$C$18 * ($W$10/B911))), \"\")","v":""},"",{"$f":"IF(AND(L911 = \"\", NOT(J911=\"\")),IF(C911< $W$10, 'Stap 1 - Jouw gegevens'!$C$22 *J911*G911 *C911/B911,  'Stap 1 - Jouw gegevens'!$C$22 * J911*G911 *$W$10/B911), \"\")","v":""},"",null,"","","","","",""]
[null,null,null,null,null,null,null,"",{"$f":"IF(AND(L912 = \"\", NOT(H912=\"\")),IF(C912< $W$10, (H912 *G912 * (C912/B912) * 'Stap 1 - Jouw gegevens'!$C$18), (H912 *G912 *'Stap 1 - Jouw gegevens'!$C$18 * ($W$10/B912))), \"\")","v":""},"",{"$f":"IF(AND(L912 = \"\", NOT(J912=\"\")),IF(C912< $W$10, 'Stap 1 - Jouw gegevens'!$C$22 *J912*G912 *C912/B912,  'Stap 1 - Jouw gegevens'!$C$22 * J912*G912 *$W$10/B912), \"\")","v":""},"",null,"","","","","",""]
[null,null,null,null,null,null,null,"",{"$f":"IF(AND(L913 = \"\", NOT(H913=\"\")),IF(C913< $W$10, (H913 *G913 * (C913/B913) * 'Stap 1 - Jouw gegevens'!$C$18), (H913 *G913 *'Stap 1 - Jouw gegevens'!$C$18 * ($W$10/B913))), \"\")","v":""},"",{"$f":"IF(AND(L913 = \"\", NOT(J913=\"\")),IF(C913< $W$10, 'Stap 1 - Jouw gegevens'!$C$22 *J913*G913 *C913/B913,  'Stap 1 - Jouw gegevens'!$C$22 * J913*G913 *$W$10/B913), \"\")","v":""},"",null,"","","","","",""]
[null,null,null,null,null,null,null,"",{"$f":"IF(AND(L914 = \"\", NOT(H914=\"\")),IF(C914< $W$10, (H914 *G914 * (C914/B914) * 'Stap 1 - Jouw gegevens'!$C$18), (H914 *G914 *'Stap 1 - Jouw gegevens'!$C$18 * ($W$10/B914))), \"\")","v":""},"",{"$f":"IF(AND(L914 = \"\", NOT(J914=\"\")),IF(C914< $W$10, 'Stap 1 - Jouw gegevens'!$C$22 *J914*G914 *C914/B914,  'Stap 1 - Jouw gegevens'!$C$22 * J914*G914 *$W$10/B914), \"\")","v":""},"",null,"","","","","",""]
[null,null,null,null,null,null,null,"",{"$f":"IF(AND(L915 = \"\", NOT(H915=\"\")),IF(C915< $W$10, (H915 *G915 * (C915/B915) * 'Stap 1 - Jouw gegevens'!$C$18), (H915 *G915 *'Stap 1 - Jouw gegevens'!$C$18 * ($W$10/B915))), \"\")","v":""},"",{"$f":"IF(AND(L915 = \"\", NOT(J915=\"\")),IF(C915< $W$10, 'Stap 1 - Jouw gegevens'!$C$22 *J915*G915 *C915/B915,  'Stap 1 - Jouw gegevens'!$C$22 * J915*G915 *$W$10/B915), \"\")","v":""},"",null,"","","","","",""]
[null,null,null,null,null,null,null,"",{"$f":"IF(AND(L916 = \"\", NOT(H916=\"\")),IF(C916< $W$10, (H916 *G916 * (C916/B916) * 'Stap 1 - Jouw gegevens'!$C$18), (H916 *G916 *'Stap 1 - Jouw gegevens'!$C$18 * ($W$10/B916))), \"\")","v":""},"",{"$f":"IF(AND(L916 = \"\", NOT(J916=\"\")),IF(C916< $W$10, 'Stap 1 - Jouw gegevens'!$C$22 *J916*G916 *C916/B916,  'Stap 1 - Jouw gegevens'!$C$22 * J916*G916 *$W$10/B916), \"\")","v":""},"",null,"","","","","",""]
[null,null,null,null,null,null,null,"",{"$f":"IF(AND(L917 = \"\", NOT(H917=\"\")),IF(C917< $W$10, (H917 *G917 * (C917/B917) * 'Stap 1 - Jouw gegevens'!$C$18), (H917 *G917 *'Stap 1 - Jouw gegevens'!$C$18 * ($W$10/B917))), \"\")","v":""},"",{"$f":"IF(AND(L917 = \"\", NOT(J917=\"\")),IF(C917< $W$10, 'Stap 1 - Jouw gegevens'!$C$22 *J917*G917 *C917/B917,  'Stap 1 - Jouw gegevens'!$C$22 * J917*G917 *$W$10/B917), \"\")","v":""},"",null,"","","","","",""]
[null,null,null,null,null,null,null,"",{"$f":"IF(AND(L918 = \"\", NOT(H918=\"\")),IF(C918< $W$10, (H918 *G918 * (C918/B918) * 'Stap 1 - Jouw gegevens'!$C$18), (H918 *G918 *'Stap 1 - Jouw gegevens'!$C$18 * ($W$10/B918))), \"\")","v":""},"",{"$f":"IF(AND(L918 = \"\", NOT(J918=\"\")),IF(C918< $W$10, 'Stap 1 - Jouw gegevens'!$C$22 *J918*G918 *C918/B918,  'Stap 1 - Jouw gegevens'!$C$22 * J918*G918 *$W$10/B918), \"\")","v":""},"",null,"","","","","",""]
[null,null,null,null,null,null,null,"",{"$f":"IF(AND(L919 = \"\", NOT(H919=\"\")),IF(C919< $W$10, (H919 *G919 * (C919/B919) * 'Stap 1 - Jouw gegevens'!$C$18), (H919 *G919 *'Stap 1 - Jouw gegevens'!$C$18 * ($W$10/B919))), \"\")","v":""},"",{"$f":"IF(AND(L919 = \"\", NOT(J919=\"\")),IF(C919< $W$10, 'Stap 1 - Jouw gegevens'!$C$22 *J919*G919 *C919/B919,  'Stap 1 - Jouw gegevens'!$C$22 * J919*G919 *$W$10/B919), \"\")","v":""},"",null,"","","","","",""]
[null,null,null,null,null,null,null,"",{"$f":"IF(AND(L920 = \"\", NOT(H920=\"\")),IF(C920< $W$10, (H920 *G920 * (C920/B920) * 'Stap 1 - Jouw gegevens'!$C$18), (H920 *G920 *'Stap 1 - Jouw gegevens'!$C$18 * ($W$10/B920))), \"\")","v":""},"",{"$f":"IF(AND(L920 = \"\", NOT(J920=\"\")),IF(C920< $W$10, 'Stap 1 - Jouw gegevens'!$C$22 *J920*G920 *C920/B920,  'Stap 1 - Jouw gegevens'!$C$22 * J920*G920 *$W$10/B920), \"\")","v":""},"",null,"","","","","",""]
[null,null,null,null,null,null,null,"",{"$f":"IF(AND(L921 = \"\", NOT(H921=\"\")),IF(C921< $W$10, (H921 *G921 * (C921/B921) * 'Stap 1 - Jouw gegevens'!$C$18), (H921 *G921 *'Stap 1 - Jouw gegevens'!$C$18 * ($W$10/B921))), \"\")","v":""},"",{"$f":"IF(AND(L921 = \"\", NOT(J921=\"\")),IF(C921< $W$10, 'Stap 1 - Jouw gegevens'!$C$22 *J921*G921 *C921/B921,  'Stap 1 - Jouw gegevens'!$C$22 * J921*G921 *$W$10/B921), \"\")","v":""},"",null,"","","","","",""]
[null,null,null,null,null,null,null,"",{"$f":"IF(AND(L922 = \"\", NOT(H922=\"\")),IF(C922< $W$10, (H922 *G922 * (C922/B922) * 'Stap 1 - Jouw gegevens'!$C$18), (H922 *G922 *'Stap 1 - Jouw gegevens'!$C$18 * ($W$10/B922))), \"\")","v":""},"",{"$f":"IF(AND(L922 = \"\", NOT(J922=\"\")),IF(C922< $W$10, 'Stap 1 - Jouw gegevens'!$C$22 *J922*G922 *C922/B922,  'Stap 1 - Jouw gegevens'!$C$22 * J922*G922 *$W$10/B922), \"\")","v":""},"",null,"","","","","",""]
[null,null,null,null,null,null,null,"",{"$f":"IF(AND(L923 = \"\", NOT(H923=\"\")),IF(C923< $W$10, (H923 *G923 * (C923/B923) * 'Stap 1 - Jouw gegevens'!$C$18), (H923 *G923 *'Stap 1 - Jouw gegevens'!$C$18 * ($W$10/B923))), \"\")","v":""},"",{"$f":"IF(AND(L923 = \"\", NOT(J923=\"\")),IF(C923< $W$10, 'Stap 1 - Jouw gegevens'!$C$22 *J923*G923 *C923/B923,  'Stap 1 - Jouw gegevens'!$C$22 * J923*G923 *$W$10/B923), \"\")","v":""},"",null,"","","","","",""]
[null,null,null,null,null,null,null,"",{"$f":"IF(AND(L924 = \"\", NOT(H924=\"\")),IF(C924< $W$10, (H924 *G924 * (C924/B924) * 'Stap 1 - Jouw gegevens'!$C$18), (H924 *G924 *'Stap 1 - Jouw gegevens'!$C$18 * ($W$10/B924))), \"\")","v":""},"",{"$f":"IF(AND(L924 = \"\", NOT(J924=\"\")),IF(C924< $W$10, 'Stap 1 - Jouw gegevens'!$C$22 *J924*G924 *C924/B924,  'Stap 1 - Jouw gegevens'!$C$22 * J924*G924 *$W$10/B924), \"\")","v":""},"",null,"","","","","",""]
[null,null,null,null,null,null,null,"",{"$f":"IF(AND(L925 = \"\", NOT(H925=\"\")),IF(C925< $W$10, (H925 *G925 * (C925/B925) * 'Stap 1 - Jouw gegevens'!$C$18), (H925 *G925 *'Stap 1 - Jouw gegevens'!$C$18 * ($W$10/B925))), \"\")","v":""},"",{"$f":"IF(AND(L925 = \"\", NOT(J925=\"\")),IF(C925< $W$10, 'Stap 1 - Jouw gegevens'!$C$22 *J925*G925 *C925/B925,  'Stap 1 - Jouw gegevens'!$C$22 * J925*G925 *$W$10/B925), \"\")","v":""},"",null,"","","","","",""]
[null,null,null,null,null,null,null,"",{"$f":"IF(AND(L926 = \"\", NOT(H926=\"\")),IF(C926< $W$10, (H926 *G926 * (C926/B926) * 'Stap 1 - Jouw gegevens'!$C$18), (H926 *G926 *'Stap 1 - Jouw gegevens'!$C$18 * ($W$10/B926))), \"\")","v":""},"",{"$f":"IF(AND(L926 = \"\", NOT(J926=\"\")),IF(C926< $W$10, 'Stap 1 - Jouw gegevens'!$C$22 *J926*G926 *C926/B926,  'Stap 1 - Jouw gegevens'!$C$22 * J926*G926 *$W$10/B926), \"\")","v":""},"",null,"","","","","",""]
[null,null,null,null,null,null,null,"",{"$f":"IF(AND(L927 = \"\", NOT(H927=\"\")),IF(C927< $W$10, (H927 *G927 * (C927/B927) * 'Stap 1 - Jouw gegevens'!$C$18), (H927 *G927 *'Stap 1 - Jouw gegevens'!$C$18 * ($W$10/B927))), \"\")","v":""},"",{"$f":"IF(AND(L927 = \"\", NOT(J927=\"\")),IF(C927< $W$10, 'Stap 1 - Jouw gegevens'!$C$22 *J927*G927 *C927/B927,  'Stap 1 - Jouw gegevens'!$C$22 * J927*G927 *$W$10/B927), \"\")","v":""},"",null,"","","","","",""]
[null,null,null,null,null,null,null,"",{"$f":"IF(AND(L928 = \"\", NOT(H928=\"\")),IF(C928< $W$10, (H928 *G928 * (C928/B928) * 'Stap 1 - Jouw gegevens'!$C$18), (H928 *G928 *'Stap 1 - Jouw gegevens'!$C$18 * ($W$10/B928))), \"\")","v":""},"",{"$f":"IF(AND(L928 = \"\", NOT(J928=\"\")),IF(C928< $W$10, 'Stap 1 - Jouw gegevens'!$C$22 *J928*G928 *C928/B928,  'Stap 1 - Jouw gegevens'!$C$22 * J928*G928 *$W$10/B928), \"\")","v":""},"",null,"","","","","",""]
[null,null,null,null,null,null,null,"",{"$f":"IF(AND(L929 = \"\", NOT(H929=\"\")),IF(C929< $W$10, (H929 *G929 * (C929/B929) * 'Stap 1 - Jouw gegevens'!$C$18), (H929 *G929 *'Stap 1 - Jouw gegevens'!$C$18 * ($W$10/B929))), \"\")","v":""},"",{"$f":"IF(AND(L929 = \"\", NOT(J929=\"\")),IF(C929< $W$10, 'Stap 1 - Jouw gegevens'!$C$22 *J929*G929 *C929/B929,  'Stap 1 - Jouw gegevens'!$C$22 * J929*G929 *$W$10/B929), \"\")","v":""},"",null,"","","","","",""]
[null,null,null,null,null,null,null,"",{"$f":"IF(AND(L930 = \"\", NOT(H930=\"\")),IF(C930< $W$10, (H930 *G930 * (C930/B930) * 'Stap 1 - Jouw gegevens'!$C$18), (H930 *G930 *'Stap 1 - Jouw gegevens'!$C$18 * ($W$10/B930))), \"\")","v":""},"",{"$f":"IF(AND(L930 = \"\", NOT(J930=\"\")),IF(C930< $W$10, 'Stap 1 - Jouw gegevens'!$C$22 *J930*G930 *C930/B930,  'Stap 1 - Jouw gegevens'!$C$22 * J930*G930 *$W$10/B930), \"\")","v":""},"",null,"","","","","",""]
[null,null,null,null,null,null,null,"",{"$f":"IF(AND(L931 = \"\", NOT(H931=\"\")),IF(C931< $W$10, (H931 *G931 * (C931/B931) * 'Stap 1 - Jouw gegevens'!$C$18), (H931 *G931 *'Stap 1 - Jouw gegevens'!$C$18 * ($W$10/B931))), \"\")","v":""},"",{"$f":"IF(AND(L931 = \"\", NOT(J931=\"\")),IF(C931< $W$10, 'Stap 1 - Jouw gegevens'!$C$22 *J931*G931 *C931/B931,  'Stap 1 - Jouw gegevens'!$C$22 * J931*G931 *$W$10/B931), \"\")","v":""},"",null,"","","","","",""]
[null,null,null,null,null,null,null,"",{"$f":"IF(AND(L932 = \"\", NOT(H932=\"\")),IF(C932< $W$10, (H932 *G932 * (C932/B932) * 'Stap 1 - Jouw gegevens'!$C$18), (H932 *G932 *'Stap 1 - Jouw gegevens'!$C$18 * ($W$10/B932))), \"\")","v":""},"",{"$f":"IF(AND(L932 = \"\", NOT(J932=\"\")),IF(C932< $W$10, 'Stap 1 - Jouw gegevens'!$C$22 *J932*G932 *C932/B932,  'Stap 1 - Jouw gegevens'!$C$22 * J932*G932 *$W$10/B932), \"\")","v":""},"",null,"","","","","",""]
[null,null,null,null,null,null,null,"",{"$f":"IF(AND(L933 = \"\", NOT(H933=\"\")),IF(C933< $W$10, (H933 *G933 * (C933/B933) * 'Stap 1 - Jouw gegevens'!$C$18), (H933 *G933 *'Stap 1 - Jouw gegevens'!$C$18 * ($W$10/B933))), \"\")","v":""},"",{"$f":"IF(AND(L933 = \"\", NOT(J933=\"\")),IF(C933< $W$10, 'Stap 1 - Jouw gegevens'!$C$22 *J933*G933 *C933/B933,  'Stap 1 - Jouw gegevens'!$C$22 * J933*G933 *$W$10/B933), \"\")","v":""},"",null,"","","","","",""]
[null,null,null,null,null,null,null,"",{"$f":"IF(AND(L934 = \"\", NOT(H934=\"\")),IF(C934< $W$10, (H934 *G934 * (C934/B934) * 'Stap 1 - Jouw gegevens'!$C$18), (H934 *G934 *'Stap 1 - Jouw gegevens'!$C$18 * ($W$10/B934))), \"\")","v":""},"",{"$f":"IF(AND(L934 = \"\", NOT(J934=\"\")),IF(C934< $W$10, 'Stap 1 - Jouw gegevens'!$C$22 *J934*G934 *C934/B934,  'Stap 1 - Jouw gegevens'!$C$22 * J934*G934 *$W$10/B934), \"\")","v":""},"",null,"","","","","",""]
[null,null,null,null,null,null,null,"",{"$f":"IF(AND(L935 = \"\", NOT(H935=\"\")),IF(C935< $W$10, (H935 *G935 * (C935/B935) * 'Stap 1 - Jouw gegevens'!$C$18), (H935 *G935 *'Stap 1 - Jouw gegevens'!$C$18 * ($W$10/B935))), \"\")","v":""},"",{"$f":"IF(AND(L935 = \"\", NOT(J935=\"\")),IF(C935< $W$10, 'Stap 1 - Jouw gegevens'!$C$22 *J935*G935 *C935/B935,  'Stap 1 - Jouw gegevens'!$C$22 * J935*G935 *$W$10/B935), \"\")","v":""},"",null,"","","","","",""]
[null,null,null,null,null,null,null,"",{"$f":"IF(AND(L936 = \"\", NOT(H936=\"\")),IF(C936< $W$10, (H936 *G936 * (C936/B936) * 'Stap 1 - Jouw gegevens'!$C$18), (H936 *G936 *'Stap 1 - Jouw gegevens'!$C$18 * ($W$10/B936))), \"\")","v":""},"",{"$f":"IF(AND(L936 = \"\", NOT(J936=\"\")),IF(C936< $W$10, 'Stap 1 - Jouw gegevens'!$C$22 *J936*G936 *C936/B936,  'Stap 1 - Jouw gegevens'!$C$22 * J936*G936 *$W$10/B936), \"\")","v":""},"",null,"","","","","",""]
[null,null,null,null,null,null,null,"",{"$f":"IF(AND(L937 = \"\", NOT(H937=\"\")),IF(C937< $W$10, (H937 *G937 * (C937/B937) * 'Stap 1 - Jouw gegevens'!$C$18), (H937 *G937 *'Stap 1 - Jouw gegevens'!$C$18 * ($W$10/B937))), \"\")","v":""},"",{"$f":"IF(AND(L937 = \"\", NOT(J937=\"\")),IF(C937< $W$10, 'Stap 1 - Jouw gegevens'!$C$22 *J937*G937 *C937/B937,  'Stap 1 - Jouw gegevens'!$C$22 * J937*G937 *$W$10/B937), \"\")","v":""},"",null,"","","","","",""]
[null,null,null,null,null,null,null,"",{"$f":"IF(AND(L938 = \"\", NOT(H938=\"\")),IF(C938< $W$10, (H938 *G938 * (C938/B938) * 'Stap 1 - Jouw gegevens'!$C$18), (H938 *G938 *'Stap 1 - Jouw gegevens'!$C$18 * ($W$10/B938))), \"\")","v":""},"",{"$f":"IF(AND(L938 = \"\", NOT(J938=\"\")),IF(C938< $W$10, 'Stap 1 - Jouw gegevens'!$C$22 *J938*G938 *C938/B938,  'Stap 1 - Jouw gegevens'!$C$22 * J938*G938 *$W$10/B938), \"\")","v":""},"",null,"","","","","",""]
[null,null,null,null,null,null,null,"",{"$f":"IF(AND(L939 = \"\", NOT(H939=\"\")),IF(C939< $W$10, (H939 *G939 * (C939/B939) * 'Stap 1 - Jouw gegevens'!$C$18), (H939 *G939 *'Stap 1 - Jouw gegevens'!$C$18 * ($W$10/B939))), \"\")","v":""},"",{"$f":"IF(AND(L939 = \"\", NOT(J939=\"\")),IF(C939< $W$10, 'Stap 1 - Jouw gegevens'!$C$22 *J939*G939 *C939/B939,  'Stap 1 - Jouw gegevens'!$C$22 * J939*G939 *$W$10/B939), \"\")","v":""},"",null,"","","","","",""]
[null,null,null,null,null,null,null,"",{"$f":"IF(AND(L940 = \"\", NOT(H940=\"\")),IF(C940< $W$10, (H940 *G940 * (C940/B940) * 'Stap 1 - Jouw gegevens'!$C$18), (H940 *G940 *'Stap 1 - Jouw gegevens'!$C$18 * ($W$10/B940))), \"\")","v":""},"",{"$f":"IF(AND(L940 = \"\", NOT(J940=\"\")),IF(C940< $W$10, 'Stap 1 - Jouw gegevens'!$C$22 *J940*G940 *C940/B940,  'Stap 1 - Jouw gegevens'!$C$22 * J940*G940 *$W$10/B940), \"\")","v":""},"",null,"","","","","",""]
[null,null,null,null,null,null,null,"",{"$f":"IF(AND(L941 = \"\", NOT(H941=\"\")),IF(C941< $W$10, (H941 *G941 * (C941/B941) * 'Stap 1 - Jouw gegevens'!$C$18), (H941 *G941 *'Stap 1 - Jouw gegevens'!$C$18 * ($W$10/B941))), \"\")","v":""},"",{"$f":"IF(AND(L941 = \"\", NOT(J941=\"\")),IF(C941< $W$10, 'Stap 1 - Jouw gegevens'!$C$22 *J941*G941 *C941/B941,  'Stap 1 - Jouw gegevens'!$C$22 * J941*G941 *$W$10/B941), \"\")","v":""},"",null,"","","","","",""]
[null,null,null,null,null,null,null,"",{"$f":"IF(AND(L942 = \"\", NOT(H942=\"\")),IF(C942< $W$10, (H942 *G942 * (C942/B942) * 'Stap 1 - Jouw gegevens'!$C$18), (H942 *G942 *'Stap 1 - Jouw gegevens'!$C$18 * ($W$10/B942))), \"\")","v":""},"",{"$f":"IF(AND(L942 = \"\", NOT(J942=\"\")),IF(C942< $W$10, 'Stap 1 - Jouw gegevens'!$C$22 *J942*G942 *C942/B942,  'Stap 1 - Jouw gegevens'!$C$22 * J942*G942 *$W$10/B942), \"\")","v":""},"",null,"","","","","",""]
[null,null,null,null,null,null,null,"",{"$f":"IF(AND(L943 = \"\", NOT(H943=\"\")),IF(C943< $W$10, (H943 *G943 * (C943/B943) * 'Stap 1 - Jouw gegevens'!$C$18), (H943 *G943 *'Stap 1 - Jouw gegevens'!$C$18 * ($W$10/B943))), \"\")","v":""},"",{"$f":"IF(AND(L943 = \"\", NOT(J943=\"\")),IF(C943< $W$10, 'Stap 1 - Jouw gegevens'!$C$22 *J943*G943 *C943/B943,  'Stap 1 - Jouw gegevens'!$C$22 * J943*G943 *$W$10/B943), \"\")","v":""},"",null,"","","","","",""]
[null,null,null,null,null,null,null,"",{"$f":"IF(AND(L944 = \"\", NOT(H944=\"\")),IF(C944< $W$10, (H944 *G944 * (C944/B944) * 'Stap 1 - Jouw gegevens'!$C$18), (H944 *G944 *'Stap 1 - Jouw gegevens'!$C$18 * ($W$10/B944))), \"\")","v":""},"",{"$f":"IF(AND(L944 = \"\", NOT(J944=\"\")),IF(C944< $W$10, 'Stap 1 - Jouw gegevens'!$C$22 *J944*G944 *C944/B944,  'Stap 1 - Jouw gegevens'!$C$22 * J944*G944 *$W$10/B944), \"\")","v":""},"",null,"","","","","",""]
[null,null,null,null,null,null,null,"",{"$f":"IF(AND(L945 = \"\", NOT(H945=\"\")),IF(C945< $W$10, (H945 *G945 * (C945/B945) * 'Stap 1 - Jouw gegevens'!$C$18), (H945 *G945 *'Stap 1 - Jouw gegevens'!$C$18 * ($W$10/B945))), \"\")","v":""},"",{"$f":"IF(AND(L945 = \"\", NOT(J945=\"\")),IF(C945< $W$10, 'Stap 1 - Jouw gegevens'!$C$22 *J945*G945 *C945/B945,  'Stap 1 - Jouw gegevens'!$C$22 * J945*G945 *$W$10/B945), \"\")","v":""},"",null,"","","","","",""]
[null,null,null,null,null,null,null,"",{"$f":"IF(AND(L946 = \"\", NOT(H946=\"\")),IF(C946< $W$10, (H946 *G946 * (C946/B946) * 'Stap 1 - Jouw gegevens'!$C$18), (H946 *G946 *'Stap 1 - Jouw gegevens'!$C$18 * ($W$10/B946))), \"\")","v":""},"",{"$f":"IF(AND(L946 = \"\", NOT(J946=\"\")),IF(C946< $W$10, 'Stap 1 - Jouw gegevens'!$C$22 *J946*G946 *C946/B946,  'Stap 1 - Jouw gegevens'!$C$22 * J946*G946 *$W$10/B946), \"\")","v":""},"",null,"","","","","",""]
[null,null,null,null,null,null,null,"",{"$f":"IF(AND(L947 = \"\", NOT(H947=\"\")),IF(C947< $W$10, (H947 *G947 * (C947/B947) * 'Stap 1 - Jouw gegevens'!$C$18), (H947 *G947 *'Stap 1 - Jouw gegevens'!$C$18 * ($W$10/B947))), \"\")","v":""},"",{"$f":"IF(AND(L947 = \"\", NOT(J947=\"\")),IF(C947< $W$10, 'Stap 1 - Jouw gegevens'!$C$22 *J947*G947 *C947/B947,  'Stap 1 - Jouw gegevens'!$C$22 * J947*G947 *$W$10/B947), \"\")","v":""},"",null,"","","","","",""]
[null,null,null,null,null,null,null,"",{"$f":"IF(AND(L948 = \"\", NOT(H948=\"\")),IF(C948< $W$10, (H948 *G948 * (C948/B948) * 'Stap 1 - Jouw gegevens'!$C$18), (H948 *G948 *'Stap 1 - Jouw gegevens'!$C$18 * ($W$10/B948))), \"\")","v":""},"",{"$f":"IF(AND(L948 = \"\", NOT(J948=\"\")),IF(C948< $W$10, 'Stap 1 - Jouw gegevens'!$C$22 *J948*G948 *C948/B948,  'Stap 1 - Jouw gegevens'!$C$22 * J948*G948 *$W$10/B948), \"\")","v":""},"",null,"","","","","",""]
[null,null,null,null,null,null,null,"",{"$f":"IF(AND(L949 = \"\", NOT(H949=\"\")),IF(C949< $W$10, (H949 *G949 * (C949/B949) * 'Stap 1 - Jouw gegevens'!$C$18), (H949 *G949 *'Stap 1 - Jouw gegevens'!$C$18 * ($W$10/B949))), \"\")","v":""},"",{"$f":"IF(AND(L949 = \"\", NOT(J949=\"\")),IF(C949< $W$10, 'Stap 1 - Jouw gegevens'!$C$22 *J949*G949 *C949/B949,  'Stap 1 - Jouw gegevens'!$C$22 * J949*G949 *$W$10/B949), \"\")","v":""},"",null,"","","","","",""]
[null,null,null,null,null,null,null,"",{"$f":"IF(AND(L950 = \"\", NOT(H950=\"\")),IF(C950< $W$10, (H950 *G950 * (C950/B950) * 'Stap 1 - Jouw gegevens'!$C$18), (H950 *G950 *'Stap 1 - Jouw gegevens'!$C$18 * ($W$10/B950))), \"\")","v":""},"",{"$f":"IF(AND(L950 = \"\", NOT(J950=\"\")),IF(C950< $W$10, 'Stap 1 - Jouw gegevens'!$C$22 *J950*G950 *C950/B950,  'Stap 1 - Jouw gegevens'!$C$22 * J950*G950 *$W$10/B950), \"\")","v":""},"",null,"","","","","",""]
[null,null,null,null,null,null,null,"",{"$f":"IF(AND(L951 = \"\", NOT(H951=\"\")),IF(C951< $W$10, (H951 *G951 * (C951/B951) * 'Stap 1 - Jouw gegevens'!$C$18), (H951 *G951 *'Stap 1 - Jouw gegevens'!$C$18 * ($W$10/B951))), \"\")","v":""},"",{"$f":"IF(AND(L951 = \"\", NOT(J951=\"\")),IF(C951< $W$10, 'Stap 1 - Jouw gegevens'!$C$22 *J951*G951 *C951/B951,  'Stap 1 - Jouw gegevens'!$C$22 * J951*G951 *$W$10/B951), \"\")","v":""},"",null,"","","","","",""]
[null,null,null,null,null,null,null,"",{"$f":"IF(AND(L952 = \"\", NOT(H952=\"\")),IF(C952< $W$10, (H952 *G952 * (C952/B952) * 'Stap 1 - Jouw gegevens'!$C$18), (H952 *G952 *'Stap 1 - Jouw gegevens'!$C$18 * ($W$10/B952))), \"\")","v":""},"",{"$f":"IF(AND(L952 = \"\", NOT(J952=\"\")),IF(C952< $W$10, 'Stap 1 - Jouw gegevens'!$C$22 *J952*G952 *C952/B952,  'Stap 1 - Jouw gegevens'!$C$22 * J952*G952 *$W$10/B952), \"\")","v":""},"",null,"","","","","",""]
[null,null,null,null,null,null,null,"",{"$f":"IF(AND(L953 = \"\", NOT(H953=\"\")),IF(C953< $W$10, (H953 *G953 * (C953/B953) * 'Stap 1 - Jouw gegevens'!$C$18), (H953 *G953 *'Stap 1 - Jouw gegevens'!$C$18 * ($W$10/B953))), \"\")","v":""},"",{"$f":"IF(AND(L953 = \"\", NOT(J953=\"\")),IF(C953< $W$10, 'Stap 1 - Jouw gegevens'!$C$22 *J953*G953 *C953/B953,  'Stap 1 - Jouw gegevens'!$C$22 * J953*G953 *$W$10/B953), \"\")","v":""},"",null,"","","","","",""]
[null,null,null,null,null,null,null,"",{"$f":"IF(AND(L954 = \"\", NOT(H954=\"\")),IF(C954< $W$10, (H954 *G954 * (C954/B954) * 'Stap 1 - Jouw gegevens'!$C$18), (H954 *G954 *'Stap 1 - Jouw gegevens'!$C$18 * ($W$10/B954))), \"\")","v":""},"",{"$f":"IF(AND(L954 = \"\", NOT(J954=\"\")),IF(C954< $W$10, 'Stap 1 - Jouw gegevens'!$C$22 *J954*G954 *C954/B954,  'Stap 1 - Jouw gegevens'!$C$22 * J954*G954 *$W$10/B954), \"\")","v":""},"",null,"","","","","",""]
[null,null,null,null,null,null,null,"",{"$f":"IF(AND(L955 = \"\", NOT(H955=\"\")),IF(C955< $W$10, (H955 *G955 * (C955/B955) * 'Stap 1 - Jouw gegevens'!$C$18), (H955 *G955 *'Stap 1 - Jouw gegevens'!$C$18 * ($W$10/B955))), \"\")","v":""},"",{"$f":"IF(AND(L955 = \"\", NOT(J955=\"\")),IF(C955< $W$10, 'Stap 1 - Jouw gegevens'!$C$22 *J955*G955 *C955/B955,  'Stap 1 - Jouw gegevens'!$C$22 * J955*G955 *$W$10/B955), \"\")","v":""},"",null,"","","","","",""]
[null,null,null,null,null,null,null,"",{"$f":"IF(AND(L956 = \"\", NOT(H956=\"\")),IF(C956< $W$10, (H956 *G956 * (C956/B956) * 'Stap 1 - Jouw gegevens'!$C$18), (H956 *G956 *'Stap 1 - Jouw gegevens'!$C$18 * ($W$10/B956))), \"\")","v":""},"",{"$f":"IF(AND(L956 = \"\", NOT(J956=\"\")),IF(C956< $W$10, 'Stap 1 - Jouw gegevens'!$C$22 *J956*G956 *C956/B956,  'Stap 1 - Jouw gegevens'!$C$22 * J956*G956 *$W$10/B956), \"\")","v":""},"",null,"","","","","",""]
[null,null,null,null,null,null,null,"",{"$f":"IF(AND(L957 = \"\", NOT(H957=\"\")),IF(C957< $W$10, (H957 *G957 * (C957/B957) * 'Stap 1 - Jouw gegevens'!$C$18), (H957 *G957 *'Stap 1 - Jouw gegevens'!$C$18 * ($W$10/B957))), \"\")","v":""},"",{"$f":"IF(AND(L957 = \"\", NOT(J957=\"\")),IF(C957< $W$10, 'Stap 1 - Jouw gegevens'!$C$22 *J957*G957 *C957/B957,  'Stap 1 - Jouw gegevens'!$C$22 * J957*G957 *$W$10/B957), \"\")","v":""},"",null,"","","","","",""]
[null,null,null,null,null,null,null,"",{"$f":"IF(AND(L958 = \"\", NOT(H958=\"\")),IF(C958< $W$10, (H958 *G958 * (C958/B958) * 'Stap 1 - Jouw gegevens'!$C$18), (H958 *G958 *'Stap 1 - Jouw gegevens'!$C$18 * ($W$10/B958))), \"\")","v":""},"",{"$f":"IF(AND(L958 = \"\", NOT(J958=\"\")),IF(C958< $W$10, 'Stap 1 - Jouw gegevens'!$C$22 *J958*G958 *C958/B958,  'Stap 1 - Jouw gegevens'!$C$22 * J958*G958 *$W$10/B958), \"\")","v":""},"",null,"","","","","",""]
[null,null,null,null,null,null,null,"",{"$f":"IF(AND(L959 = \"\", NOT(H959=\"\")),IF(C959< $W$10, (H959 *G959 * (C959/B959) * 'Stap 1 - Jouw gegevens'!$C$18), (H959 *G959 *'Stap 1 - Jouw gegevens'!$C$18 * ($W$10/B959))), \"\")","v":""},"",{"$f":"IF(AND(L959 = \"\", NOT(J959=\"\")),IF(C959< $W$10, 'Stap 1 - Jouw gegevens'!$C$22 *J959*G959 *C959/B959,  'Stap 1 - Jouw gegevens'!$C$22 * J959*G959 *$W$10/B959), \"\")","v":""},"",null,"","","","","",""]
[null,null,null,null,null,null,null,"",{"$f":"IF(AND(L960 = \"\", NOT(H960=\"\")),IF(C960< $W$10, (H960 *G960 * (C960/B960) * 'Stap 1 - Jouw gegevens'!$C$18), (H960 *G960 *'Stap 1 - Jouw gegevens'!$C$18 * ($W$10/B960))), \"\")","v":""},"",{"$f":"IF(AND(L960 = \"\", NOT(J960=\"\")),IF(C960< $W$10, 'Stap 1 - Jouw gegevens'!$C$22 *J960*G960 *C960/B960,  'Stap 1 - Jouw gegevens'!$C$22 * J960*G960 *$W$10/B960), \"\")","v":""},"",null,"","","","","",""]
[null,null,null,null,null,null,null,"",{"$f":"IF(AND(L961 = \"\", NOT(H961=\"\")),IF(C961< $W$10, (H961 *G961 * (C961/B961) * 'Stap 1 - Jouw gegevens'!$C$18), (H961 *G961 *'Stap 1 - Jouw gegevens'!$C$18 * ($W$10/B961))), \"\")","v":""},"",{"$f":"IF(AND(L961 = \"\", NOT(J961=\"\")),IF(C961< $W$10, 'Stap 1 - Jouw gegevens'!$C$22 *J961*G961 *C961/B961,  'Stap 1 - Jouw gegevens'!$C$22 * J961*G961 *$W$10/B961), \"\")","v":""},"",null,"","","","","",""]
[null,null,null,null,null,null,null,"",{"$f":"IF(AND(L962 = \"\", NOT(H962=\"\")),IF(C962< $W$10, (H962 *G962 * (C962/B962) * 'Stap 1 - Jouw gegevens'!$C$18), (H962 *G962 *'Stap 1 - Jouw gegevens'!$C$18 * ($W$10/B962))), \"\")","v":""},"",{"$f":"IF(AND(L962 = \"\", NOT(J962=\"\")),IF(C962< $W$10, 'Stap 1 - Jouw gegevens'!$C$22 *J962*G962 *C962/B962,  'Stap 1 - Jouw gegevens'!$C$22 * J962*G962 *$W$10/B962), \"\")","v":""},"",null,"","","","","",""]
[null,null,null,null,null,null,null,"",{"$f":"IF(AND(L963 = \"\", NOT(H963=\"\")),IF(C963< $W$10, (H963 *G963 * (C963/B963) * 'Stap 1 - Jouw gegevens'!$C$18), (H963 *G963 *'Stap 1 - Jouw gegevens'!$C$18 * ($W$10/B963))), \"\")","v":""},"",{"$f":"IF(AND(L963 = \"\", NOT(J963=\"\")),IF(C963< $W$10, 'Stap 1 - Jouw gegevens'!$C$22 *J963*G963 *C963/B963,  'Stap 1 - Jouw gegevens'!$C$22 * J963*G963 *$W$10/B963), \"\")","v":""},"",null,"","","","","",""]
[null,null,null,null,null,null,null,"",{"$f":"IF(AND(L964 = \"\", NOT(H964=\"\")),IF(C964< $W$10, (H964 *G964 * (C964/B964) * 'Stap 1 - Jouw gegevens'!$C$18), (H964 *G964 *'Stap 1 - Jouw gegevens'!$C$18 * ($W$10/B964))), \"\")","v":""},"",{"$f":"IF(AND(L964 = \"\", NOT(J964=\"\")),IF(C964< $W$10, 'Stap 1 - Jouw gegevens'!$C$22 *J964*G964 *C964/B964,  'Stap 1 - Jouw gegevens'!$C$22 * J964*G964 *$W$10/B964), \"\")","v":""},"",null,"","","","","",""]
[null,null,null,null,null,null,null,"",{"$f":"IF(AND(L965 = \"\", NOT(H965=\"\")),IF(C965< $W$10, (H965 *G965 * (C965/B965) * 'Stap 1 - Jouw gegevens'!$C$18), (H965 *G965 *'Stap 1 - Jouw gegevens'!$C$18 * ($W$10/B965))), \"\")","v":""},"",{"$f":"IF(AND(L965 = \"\", NOT(J965=\"\")),IF(C965< $W$10, 'Stap 1 - Jouw gegevens'!$C$22 *J965*G965 *C965/B965,  'Stap 1 - Jouw gegevens'!$C$22 * J965*G965 *$W$10/B965), \"\")","v":""},"",null,"","","","","",""]
[null,null,null,null,null,null,null,"",{"$f":"IF(AND(L966 = \"\", NOT(H966=\"\")),IF(C966< $W$10, (H966 *G966 * (C966/B966) * 'Stap 1 - Jouw gegevens'!$C$18), (H966 *G966 *'Stap 1 - Jouw gegevens'!$C$18 * ($W$10/B966))), \"\")","v":""},"",{"$f":"IF(AND(L966 = \"\", NOT(J966=\"\")),IF(C966< $W$10, 'Stap 1 - Jouw gegevens'!$C$22 *J966*G966 *C966/B966,  'Stap 1 - Jouw gegevens'!$C$22 * J966*G966 *$W$10/B966), \"\")","v":""},"",null,"","","","","",""]
[null,null,null,null,null,null,null,"",{"$f":"IF(AND(L967 = \"\", NOT(H967=\"\")),IF(C967< $W$10, (H967 *G967 * (C967/B967) * 'Stap 1 - Jouw gegevens'!$C$18), (H967 *G967 *'Stap 1 - Jouw gegevens'!$C$18 * ($W$10/B967))), \"\")","v":""},"",{"$f":"IF(AND(L967 = \"\", NOT(J967=\"\")),IF(C967< $W$10, 'Stap 1 - Jouw gegevens'!$C$22 *J967*G967 *C967/B967,  'Stap 1 - Jouw gegevens'!$C$22 * J967*G967 *$W$10/B967), \"\")","v":""},"",null,"","","","","",""]
[null,null,null,null,null,null,null,{"$f":"P968","v":""},{"$f":"IF(AND(L968 = \"\", NOT(H968=\"\")),IF(C968< $W$10, (H968 *G968 * (C968/B968) * 'Stap 1 - Jouw gegevens'!$C$18), (H968 *G968 *'Stap 1 - Jouw gegevens'!$C$18 * ($W$10/B968))), \"\")","v":""},{"$f":"S968","v":""},{"$f":"IF(AND(L968 = \"\", NOT(J968=\"\")),IF(C968< $W$10, 'Stap 1 - Jouw gegevens'!$C$22 *J968*G968 *C968/B968,  'Stap 1 - Jouw gegevens'!$C$22 * J968*G968 *$W$10/B968), \"\")","v":""},{"$f":"IF(ISBLANK(A968), \"\", CONCATENATE(IF(Z968 = \"X\", $AH$5, \"\"), IF( AB968 = \"X\", $AH$7, \"\"), IF( AC968 = \"X\", $AH$8, \"\"), IF( AD968 = \"X\", $AH$9, \"\"), IF( AE968 = \"X\", $AH$10, \"\"),  IF( AF968 = \"X\", $AH$11, \"\")))","v":""},null,{"$f":"IF(ISBLANK(D968),\"\",NETWORKDAYS(D968,F968))","v":""},{"$f":"IFERROR( IF(N968>$Y$5,NETWORKDAYS(E968, (Q968 - 1)), NETWORKDAYS(E968,(F968-1))), \"\")","v":""},{"$f":"IF(O968<= 0, \"\", O968)","v":""},{"$f":"IF(ISBLANK(D968),\"\",DATE(YEAR(D968)+1,MONTH(D968),DAY(D968)))","v":""},{"$f":"IFERROR(IF(N968 > $Y$5, IF(E968>=Q968,NETWORKDAYS(E968, (F968-1)), NETWORKDAYS(Q968, (F968-1))), \"\"), \"\")","v":""},{"$f":"IF(R968=\"\", \"\",  IF(R968 >= $Y$5, $Y$5,  R968))","v":""}]
[null,null,null,null,null,null,null,"",{"$f":"IF(AND(L969 = \"\", NOT(H969=\"\")),IF(C969< $W$10, (H969 *G969 * (C969/B969) * 'Stap 1 - Jouw gegevens'!$C$18), (H969 *G969 *'Stap 1 - Jouw gegevens'!$C$18 * ($W$10/B969))), \"\")","v":""},"",{"$f":"IF(AND(L969 = \"\", NOT(J969=\"\")),IF(C969< $W$10, 'Stap 1 - Jouw gegevens'!$C$22 *J969*G969 *C969/B969,  'Stap 1 - Jouw gegevens'!$C$22 * J969*G969 *$W$10/B969), \"\")","v":""},"",null,"","","","","",""]
[null,null,null,null,null,null,null,"",{"$f":"IF(AND(L970 = \"\", NOT(H970=\"\")),IF(C970< $W$10, (H970 *G970 * (C970/B970) * 'Stap 1 - Jouw gegevens'!$C$18), (H970 *G970 *'Stap 1 - Jouw gegevens'!$C$18 * ($W$10/B970))), \"\")","v":""},"",{"$f":"IF(AND(L970 = \"\", NOT(J970=\"\")),IF(C970< $W$10, 'Stap 1 - Jouw gegevens'!$C$22 *J970*G970 *C970/B970,  'Stap 1 - Jouw gegevens'!$C$22 * J970*G970 *$W$10/B970), \"\")","v":""},"",null,"","","","","",""]
[null,null,null,null,null,null,null,"",{"$f":"IF(AND(L971 = \"\", NOT(H971=\"\")),IF(C971< $W$10, (H971 *G971 * (C971/B971) * 'Stap 1 - Jouw gegevens'!$C$18), (H971 *G971 *'Stap 1 - Jouw gegevens'!$C$18 * ($W$10/B971))), \"\")","v":""},"",{"$f":"IF(AND(L971 = \"\", NOT(J971=\"\")),IF(C971< $W$10, 'Stap 1 - Jouw gegevens'!$C$22 *J971*G971 *C971/B971,  'Stap 1 - Jouw gegevens'!$C$22 * J971*G971 *$W$10/B971), \"\")","v":""},"",null,"","","","","",""]
[null,null,null,null,null,null,null,"",{"$f":"IF(AND(L972 = \"\", NOT(H972=\"\")),IF(C972< $W$10, (H972 *G972 * (C972/B972) * 'Stap 1 - Jouw gegevens'!$C$18), (H972 *G972 *'Stap 1 - Jouw gegevens'!$C$18 * ($W$10/B972))), \"\")","v":""},"",{"$f":"IF(AND(L972 = \"\", NOT(J972=\"\")),IF(C972< $W$10, 'Stap 1 - Jouw gegevens'!$C$22 *J972*G972 *C972/B972,  'Stap 1 - Jouw gegevens'!$C$22 * J972*G972 *$W$10/B972), \"\")","v":""},"",null,"","","","","",""]
[null,null,null,null,null,null,null,"",{"$f":"IF(AND(L973 = \"\", NOT(H973=\"\")),IF(C973< $W$10, (H973 *G973 * (C973/B973) * 'Stap 1 - Jouw gegevens'!$C$18), (H973 *G973 *'Stap 1 - Jouw gegevens'!$C$18 * ($W$10/B973))), \"\")","v":""},"",{"$f":"IF(AND(L973 = \"\", NOT(J973=\"\")),IF(C973< $W$10, 'Stap 1 - Jouw gegevens'!$C$22 *J973*G973 *C973/B973,  'Stap 1 - Jouw gegevens'!$C$22 * J973*G973 *$W$10/B973), \"\")","v":""},"",null,"","","","","",""]
[null,null,null,null,null,null,null,"",{"$f":"IF(AND(L974 = \"\", NOT(H974=\"\")),IF(C974< $W$10, (H974 *G974 * (C974/B974) * 'Stap 1 - Jouw gegevens'!$C$18), (H974 *G974 *'Stap 1 - Jouw gegevens'!$C$18 * ($W$10/B974))), \"\")","v":""},"",{"$f":"IF(AND(L974 = \"\", NOT(J974=\"\")),IF(C974< $W$10, 'Stap 1 - Jouw gegevens'!$C$22 *J974*G974 *C974/B974,  'Stap 1 - Jouw gegevens'!$C$22 * J974*G974 *$W$10/B974), \"\")","v":""},"",null,"","","","","",""]
[null,null,null,null,null,null,null,"",{"$f":"IF(AND(L975 = \"\", NOT(H975=\"\")),IF(C975< $W$10, (H975 *G975 * (C975/B975) * 'Stap 1 - Jouw gegevens'!$C$18), (H975 *G975 *'Stap 1 - Jouw gegevens'!$C$18 * ($W$10/B975))), \"\")","v":""},"",{"$f":"IF(AND(L975 = \"\", NOT(J975=\"\")),IF(C975< $W$10, 'Stap 1 - Jouw gegevens'!$C$22 *J975*G975 *C975/B975,  'Stap 1 - Jouw gegevens'!$C$22 * J975*G975 *$W$10/B975), \"\")","v":""},"",null,"","","","","",""]
[null,null,null,null,null,null,null,"",{"$f":"IF(AND(L976 = \"\", NOT(H976=\"\")),IF(C976< $W$10, (H976 *G976 * (C976/B976) * 'Stap 1 - Jouw gegevens'!$C$18), (H976 *G976 *'Stap 1 - Jouw gegevens'!$C$18 * ($W$10/B976))), \"\")","v":""},"",{"$f":"IF(AND(L976 = \"\", NOT(J976=\"\")),IF(C976< $W$10, 'Stap 1 - Jouw gegevens'!$C$22 *J976*G976 *C976/B976,  'Stap 1 - Jouw gegevens'!$C$22 * J976*G976 *$W$10/B976), \"\")","v":""},"",null,"","","","","",""]
[null,null,null,null,null,null,null,"",{"$f":"IF(AND(L977 = \"\", NOT(H977=\"\")),IF(C977< $W$10, (H977 *G977 * (C977/B977) * 'Stap 1 - Jouw gegevens'!$C$18), (H977 *G977 *'Stap 1 - Jouw gegevens'!$C$18 * ($W$10/B977))), \"\")","v":""},"",{"$f":"IF(AND(L977 = \"\", NOT(J977=\"\")),IF(C977< $W$10, 'Stap 1 - Jouw gegevens'!$C$22 *J977*G977 *C977/B977,  'Stap 1 - Jouw gegevens'!$C$22 * J977*G977 *$W$10/B977), \"\")","v":""},"",null,"","","","","",""]
[null,null,null,null,null,null,null,"",{"$f":"IF(AND(L978 = \"\", NOT(H978=\"\")),IF(C978< $W$10, (H978 *G978 * (C978/B978) * 'Stap 1 - Jouw gegevens'!$C$18), (H978 *G978 *'Stap 1 - Jouw gegevens'!$C$18 * ($W$10/B978))), \"\")","v":""},"",{"$f":"IF(AND(L978 = \"\", NOT(J978=\"\")),IF(C978< $W$10, 'Stap 1 - Jouw gegevens'!$C$22 *J978*G978 *C978/B978,  'Stap 1 - Jouw gegevens'!$C$22 * J978*G978 *$W$10/B978), \"\")","v":""},"",null,"","","","","",""]
[null,null,null,null,null,null,null,"",{"$f":"IF(AND(L979 = \"\", NOT(H979=\"\")),IF(C979< $W$10, (H979 *G979 * (C979/B979) * 'Stap 1 - Jouw gegevens'!$C$18), (H979 *G979 *'Stap 1 - Jouw gegevens'!$C$18 * ($W$10/B979))), \"\")","v":""},"",{"$f":"IF(AND(L979 = \"\", NOT(J979=\"\")),IF(C979< $W$10, 'Stap 1 - Jouw gegevens'!$C$22 *J979*G979 *C979/B979,  'Stap 1 - Jouw gegevens'!$C$22 * J979*G979 *$W$10/B979), \"\")","v":""},"",null,"","","","","",""]
[null,null,null,null,null,null,null,"",{"$f":"IF(AND(L980 = \"\", NOT(H980=\"\")),IF(C980< $W$10, (H980 *G980 * (C980/B980) * 'Stap 1 - Jouw gegevens'!$C$18), (H980 *G980 *'Stap 1 - Jouw gegevens'!$C$18 * ($W$10/B980))), \"\")","v":""},"",{"$f":"IF(AND(L980 = \"\", NOT(J980=\"\")),IF(C980< $W$10, 'Stap 1 - Jouw gegevens'!$C$22 *J980*G980 *C980/B980,  'Stap 1 - Jouw gegevens'!$C$22 * J980*G980 *$W$10/B980), \"\")","v":""},"",null,"","","","","",""]
[null,null,null,null,null,null,null,"",{"$f":"IF(AND(L981 = \"\", NOT(H981=\"\")),IF(C981< $W$10, (H981 *G981 * (C981/B981) * 'Stap 1 - Jouw gegevens'!$C$18), (H981 *G981 *'Stap 1 - Jouw gegevens'!$C$18 * ($W$10/B981))), \"\")","v":""},"",{"$f":"IF(AND(L981 = \"\", NOT(J981=\"\")),IF(C981< $W$10, 'Stap 1 - Jouw gegevens'!$C$22 *J981*G981 *C981/B981,  'Stap 1 - Jouw gegevens'!$C$22 * J981*G981 *$W$10/B981), \"\")","v":""},"",null,"","","","","",""]
[null,null,null,null,null,null,null,"",{"$f":"IF(AND(L982 = \"\", NOT(H982=\"\")),IF(C982< $W$10, (H982 *G982 * (C982/B982) * 'Stap 1 - Jouw gegevens'!$C$18), (H982 *G982 *'Stap 1 - Jouw gegevens'!$C$18 * ($W$10/B982))), \"\")","v":""},"",{"$f":"IF(AND(L982 = \"\", NOT(J982=\"\")),IF(C982< $W$10, 'Stap 1 - Jouw gegevens'!$C$22 *J982*G982 *C982/B982,  'Stap 1 - Jouw gegevens'!$C$22 * J982*G982 *$W$10/B982), \"\")","v":""},"",null,"","","","","",""]
[null,null,null,null,null,null,null,"",{"$f":"IF(AND(L983 = \"\", NOT(H983=\"\")),IF(C983< $W$10, (H983 *G983 * (C983/B983) * 'Stap 1 - Jouw gegevens'!$C$18), (H983 *G983 *'Stap 1 - Jouw gegevens'!$C$18 * ($W$10/B983))), \"\")","v":""},"",{"$f":"IF(AND(L983 = \"\", NOT(J983=\"\")),IF(C983< $W$10, 'Stap 1 - Jouw gegevens'!$C$22 *J983*G983 *C983/B983,  'Stap 1 - Jouw gegevens'!$C$22 * J983*G983 *$W$10/B983), \"\")","v":""},"",null,"","","","","",""]
[null,null,null,null,null,null,null,"",{"$f":"IF(AND(L984 = \"\", NOT(H984=\"\")),IF(C984< $W$10, (H984 *G984 * (C984/B984) * 'Stap 1 - Jouw gegevens'!$C$18), (H984 *G984 *'Stap 1 - Jouw gegevens'!$C$18 * ($W$10/B984))), \"\")","v":""},"",{"$f":"IF(AND(L984 = \"\", NOT(J984=\"\")),IF(C984< $W$10, 'Stap 1 - Jouw gegevens'!$C$22 *J984*G984 *C984/B984,  'Stap 1 - Jouw gegevens'!$C$22 * J984*G984 *$W$10/B984), \"\")","v":""},"",null,"","","","","",""]
[null,null,null,null,null,null,null,"",{"$f":"IF(AND(L985 = \"\", NOT(H985=\"\")),IF(C985< $W$10, (H985 *G985 * (C985/B985) * 'Stap 1 - Jouw gegevens'!$C$18), (H985 *G985 *'Stap 1 - Jouw gegevens'!$C$18 * ($W$10/B985))), \"\")","v":""},"",{"$f":"IF(AND(L985 = \"\", NOT(J985=\"\")),IF(C985< $W$10, 'Stap 1 - Jouw gegevens'!$C$22 *J985*G985 *C985/B985,  'Stap 1 - Jouw gegevens'!$C$22 * J985*G985 *$W$10/B985), \"\")","v":""},"",null,"","","","","",""]
[null,null,null,null,null,null,null,"",{"$f":"IF(AND(L986 = \"\", NOT(H986=\"\")),IF(C986< $W$10, (H986 *G986 * (C986/B986) * 'Stap 1 - Jouw gegevens'!$C$18), (H986 *G986 *'Stap 1 - Jouw gegevens'!$C$18 * ($W$10/B986))), \"\")","v":""},"",{"$f":"IF(AND(L986 = \"\", NOT(J986=\"\")),IF(C986< $W$10, 'Stap 1 - Jouw gegevens'!$C$22 *J986*G986 *C986/B986,  'Stap 1 - Jouw gegevens'!$C$22 * J986*G986 *$W$10/B986), \"\")","v":""},"",null,"","","","","",""]
[null,null,null,null,null,null,null,"",{"$f":"IF(AND(L987 = \"\", NOT(H987=\"\")),IF(C987< $W$10, (H987 *G987 * (C987/B987) * 'Stap 1 - Jouw gegevens'!$C$18), (H987 *G987 *'Stap 1 - Jouw gegevens'!$C$18 * ($W$10/B987))), \"\")","v":""},"",{"$f":"IF(AND(L987 = \"\", NOT(J987=\"\")),IF(C987< $W$10, 'Stap 1 - Jouw gegevens'!$C$22 *J987*G987 *C987/B987,  'Stap 1 - Jouw gegevens'!$C$22 * J987*G987 *$W$10/B987), \"\")","v":""},"",null,"","","","","",""]
[null,null,null,null,null,null,null,"",{"$f":"IF(AND(L988 = \"\", NOT(H988=\"\")),IF(C988< $W$10, (H988 *G988 * (C988/B988) * 'Stap 1 - Jouw gegevens'!$C$18), (H988 *G988 *'Stap 1 - Jouw gegevens'!$C$18 * ($W$10/B988))), \"\")","v":""},"",{"$f":"IF(AND(L988 = \"\", NOT(J988=\"\")),IF(C988< $W$10, 'Stap 1 - Jouw gegevens'!$C$22 *J988*G988 *C988/B988,  'Stap 1 - Jouw gegevens'!$C$22 * J988*G988 *$W$10/B988), \"\")","v":""},"",null,"","","","","",""]
[null,null,null,null,null,null,null,"",{"$f":"IF(AND(L989 = \"\", NOT(H989=\"\")),IF(C989< $W$10, (H989 *G989 * (C989/B989) * 'Stap 1 - Jouw gegevens'!$C$18), (H989 *G989 *'Stap 1 - Jouw gegevens'!$C$18 * ($W$10/B989))), \"\")","v":""},"",{"$f":"IF(AND(L989 = \"\", NOT(J989=\"\")),IF(C989< $W$10, 'Stap 1 - Jouw gegevens'!$C$22 *J989*G989 *C989/B989,  'Stap 1 - Jouw gegevens'!$C$22 * J989*G989 *$W$10/B989), \"\")","v":""},"",null,"","","","","",""]
[null,null,null,null,null,null,null,"",{"$f":"IF(AND(L990 = \"\", NOT(H990=\"\")),IF(C990< $W$10, (H990 *G990 * (C990/B990) * 'Stap 1 - Jouw gegevens'!$C$18), (H990 *G990 *'Stap 1 - Jouw gegevens'!$C$18 * ($W$10/B990))), \"\")","v":""},"",{"$f":"IF(AND(L990 = \"\", NOT(J990=\"\")),IF(C990< $W$10, 'Stap 1 - Jouw gegevens'!$C$22 *J990*G990 *C990/B990,  'Stap 1 - Jouw gegevens'!$C$22 * J990*G990 *$W$10/B990), \"\")","v":""},"",null,"","","","","",""]
[null,null,null,null,null,null,null,"",{"$f":"IF(AND(L991 = \"\", NOT(H991=\"\")),IF(C991< $W$10, (H991 *G991 * (C991/B991) * 'Stap 1 - Jouw gegevens'!$C$18), (H991 *G991 *'Stap 1 - Jouw gegevens'!$C$18 * ($W$10/B991))), \"\")","v":""},"",{"$f":"IF(AND(L991 = \"\", NOT(J991=\"\")),IF(C991< $W$10, 'Stap 1 - Jouw gegevens'!$C$22 *J991*G991 *C991/B991,  'Stap 1 - Jouw gegevens'!$C$22 * J991*G991 *$W$10/B991), \"\")","v":""},"",null,"","","","","",""]
[null,null,null,null,null,null,null,"",{"$f":"IF(AND(L992 = \"\", NOT(H992=\"\")),IF(C992< $W$10, (H992 *G992 * (C992/B992) * 'Stap 1 - Jouw gegevens'!$C$18), (H992 *G992 *'Stap 1 - Jouw gegevens'!$C$18 * ($W$10/B992))), \"\")","v":""},"",{"$f":"IF(AND(L992 = \"\", NOT(J992=\"\")),IF(C992< $W$10, 'Stap 1 - Jouw gegevens'!$C$22 *J992*G992 *C992/B992,  'Stap 1 - Jouw gegevens'!$C$22 * J992*G992 *$W$10/B992), \"\")","v":""},"",null,"","","","","",""]
[null,null,null,null,null,null,null,"",{"$f":"IF(AND(L993 = \"\", NOT(H993=\"\")),IF(C993< $W$10, (H993 *G993 * (C993/B993) * 'Stap 1 - Jouw gegevens'!$C$18), (H993 *G993 *'Stap 1 - Jouw gegevens'!$C$18 * ($W$10/B993))), \"\")","v":""},"",{"$f":"IF(AND(L993 = \"\", NOT(J993=\"\")),IF(C993< $W$10, 'Stap 1 - Jouw gegevens'!$C$22 *J993*G993 *C993/B993,  'Stap 1 - Jouw gegevens'!$C$22 * J993*G993 *$W$10/B993), \"\")","v":""},"",null,"","","","","",""]
[null,null,null,null,null,null,null,"",{"$f":"IF(AND(L994 = \"\", NOT(H994=\"\")),IF(C994< $W$10, (H994 *G994 * (C994/B994) * 'Stap 1 - Jouw gegevens'!$C$18), (H994 *G994 *'Stap 1 - Jouw gegevens'!$C$18 * ($W$10/B994))), \"\")","v":""},"",{"$f":"IF(AND(L994 = \"\", NOT(J994=\"\")),IF(C994< $W$10, 'Stap 1 - Jouw gegevens'!$C$22 *J994*G994 *C994/B994,  'Stap 1 - Jouw gegevens'!$C$22 * J994*G994 *$W$10/B994), \"\")","v":""},"",null,"","","","","",""]
[null,null,null,null,null,null,null,"",{"$f":"IF(AND(L995 = \"\", NOT(H995=\"\")),IF(C995< $W$10, (H995 *G995 * (C995/B995) * 'Stap 1 - Jouw gegevens'!$C$18), (H995 *G995 *'Stap 1 - Jouw gegevens'!$C$18 * ($W$10/B995))), \"\")","v":""},"",{"$f":"IF(AND(L995 = \"\", NOT(J995=\"\")),IF(C995< $W$10, 'Stap 1 - Jouw gegevens'!$C$22 *J995*G995 *C995/B995,  'Stap 1 - Jouw gegevens'!$C$22 * J995*G995 *$W$10/B995), \"\")","v":""},"",null,"","","","","",""]
[null,null,null,null,null,null,null,"",{"$f":"IF(AND(L996 = \"\", NOT(H996=\"\")),IF(C996< $W$10, (H996 *G996 * (C996/B996) * 'Stap 1 - Jouw gegevens'!$C$18), (H996 *G996 *'Stap 1 - Jouw gegevens'!$C$18 * ($W$10/B996))), \"\")","v":""},"",{"$f":"IF(AND(L996 = \"\", NOT(J996=\"\")),IF(C996< $W$10, 'Stap 1 - Jouw gegevens'!$C$22 *J996*G996 *C996/B996,  'Stap 1 - Jouw gegevens'!$C$22 * J996*G996 *$W$10/B996), \"\")","v":""},"",null,"","","","","",""]
[null,null,null,null,null,null,null,"",{"$f":"IF(AND(L997 = \"\", NOT(H997=\"\")),IF(C997< $W$10, (H997 *G997 * (C997/B997) * 'Stap 1 - Jouw gegevens'!$C$18), (H997 *G997 *'Stap 1 - Jouw gegevens'!$C$18 * ($W$10/B997))), \"\")","v":""},"",{"$f":"IF(AND(L997 = \"\", NOT(J997=\"\")),IF(C997< $W$10, 'Stap 1 - Jouw gegevens'!$C$22 *J997*G997 *C997/B997,  'Stap 1 - Jouw gegevens'!$C$22 * J997*G997 *$W$10/B997), \"\")","v":""},"",null,"","","","","",""]
[null,null,null,null,null,null,null,"",{"$f":"IF(AND(L998 = \"\", NOT(H998=\"\")),IF(C998< $W$10, (H998 *G998 * (C998/B998) * 'Stap 1 - Jouw gegevens'!$C$18), (H998 *G998 *'Stap 1 - Jouw gegevens'!$C$18 * ($W$10/B998))), \"\")","v":""},"",{"$f":"IF(AND(L998 = \"\", NOT(J998=\"\")),IF(C998< $W$10, 'Stap 1 - Jouw gegevens'!$C$22 *J998*G998 *C998/B998,  'Stap 1 - Jouw gegevens'!$C$22 * J998*G998 *$W$10/B998), \"\")","v":""},"",null,"","","","","",""]
[null,null,null,null,null,null,null,"",{"$f":"IF(AND(L999 = \"\", NOT(H999=\"\")),IF(C999< $W$10, (H999 *G999 * (C999/B999) * 'Stap 1 - Jouw gegevens'!$C$18), (H999 *G999 *'Stap 1 - Jouw gegevens'!$C$18 * ($W$10/B999))), \"\")","v":""},"",{"$f":"IF(AND(L999 = \"\", NOT(J999=\"\")),IF(C999< $W$10, 'Stap 1 - Jouw gegevens'!$C$22 *J999*G999 *C999/B999,  'Stap 1 - Jouw gegevens'!$C$22 * J999*G999 *$W$10/B999), \"\")","v":""},"",null,"","","","","",""]
[null,null,null,null,null,null,null,"",{"$f":"IF(AND(L1000 = \"\", NOT(H1000=\"\")),IF(C1000< $W$10, (H1000 *G1000 * (C1000/B1000) * 'Stap 1 - Jouw gegevens'!$C$18), (H1000 *G1000 *'Stap 1 - Jouw gegevens'!$C$18 * ($W$10/B1000))), \"\")","v":""},"",{"$f":"IF(AND(L1000 = \"\", NOT(J1000=\"\")),IF(C1000< $W$10, 'Stap 1 - Jouw gegevens'!$C$22 *J1000*G1000 *C1000/B1000,  'Stap 1 - Jouw gegevens'!$C$22 * J1000*G1000 *$W$10/B1000), \"\")","v":""},"",null,"","","","","",""]
[null,null,null,null,null,null,null,"",{"$f":"IF(AND(L1001 = \"\", NOT(H1001=\"\")),IF(C1001< $W$10, (H1001 *G1001 * (C1001/B1001) * 'Stap 1 - Jouw gegevens'!$C$18), (H1001 *G1001 *'Stap 1 - Jouw gegevens'!$C$18 * ($W$10/B1001))), \"\")","v":""},"",{"$f":"IF(AND(L1001 = \"\", NOT(J1001=\"\")),IF(C1001< $W$10, 'Stap 1 - Jouw gegevens'!$C$22 *J1001*G1001 *C1001/B1001,  'Stap 1 - Jouw gegevens'!$C$22 * J1001*G1001 *$W$10/B1001), \"\")","v":""},"",null,"","","","","",""]
[null,null,null,null,null,null,null,"",{"$f":"IF(AND(L1002 = \"\", NOT(H1002=\"\")),IF(C1002< $W$10, (H1002 *G1002 * (C1002/B1002) * 'Stap 1 - Jouw gegevens'!$C$18), (H1002 *G1002 *'Stap 1 - Jouw gegevens'!$C$18 * ($W$10/B1002))), \"\")","v":""},"",{"$f":"IF(AND(L1002 = \"\", NOT(J1002=\"\")),IF(C1002< $W$10, 'Stap 1 - Jouw gegevens'!$C$22 *J1002*G1002 *C1002/B1002,  'Stap 1 - Jouw gegevens'!$C$22 * J1002*G1002 *$W$10/B1002), \"\")","v":""},"",null,"","","","","",""]
[null,null,null,null,null,null,null,"",{"$f":"IF(AND(L1003 = \"\", NOT(H1003=\"\")),IF(C1003< $W$10, (H1003 *G1003 * (C1003/B1003) * 'Stap 1 - Jouw gegevens'!$C$18), (H1003 *G1003 *'Stap 1 - Jouw gegevens'!$C$18 * ($W$10/B1003))), \"\")","v":""},"",{"$f":"IF(AND(L1003 = \"\", NOT(J1003=\"\")),IF(C1003< $W$10, 'Stap 1 - Jouw gegevens'!$C$22 *J1003*G1003 *C1003/B1003,  'Stap 1 - Jouw gegevens'!$C$22 * J1003*G1003 *$W$10/B1003), \"\")","v":""},"",null,"","","","","",""]
[null,null,null,null,null,null,null,"",{"$f":"IF(AND(L1004 = \"\", NOT(H1004=\"\")),IF(C1004< $W$10, (H1004 *G1004 * (C1004/B1004) * 'Stap 1 - Jouw gegevens'!$C$18), (H1004 *G1004 *'Stap 1 - Jouw gegevens'!$C$18 * ($W$10/B1004))), \"\")","v":""},"",{"$f":"IF(AND(L1004 = \"\", NOT(J1004=\"\")),IF(C1004< $W$10, 'Stap 1 - Jouw gegevens'!$C$22 *J1004*G1004 *C1004/B1004,  'Stap 1 - Jouw gegevens'!$C$22 * J1004*G1004 *$W$10/B1004), \"\")","v":""},"",null,"","","","","",""]
[null,null,null,null,null,null,null,"",{"$f":"IF(AND(L1005 = \"\", NOT(H1005=\"\")),IF(C1005< $W$10, (H1005 *G1005 * (C1005/B1005) * 'Stap 1 - Jouw gegevens'!$C$18), (H1005 *G1005 *'Stap 1 - Jouw gegevens'!$C$18 * ($W$10/B1005))), \"\")","v":""},"",{"$f":"IF(AND(L1005 = \"\", NOT(J1005=\"\")),IF(C1005< $W$10, 'Stap 1 - Jouw gegevens'!$C$22 *J1005*G1005 *C1005/B1005,  'Stap 1 - Jouw gegevens'!$C$22 * J1005*G1005 *$W$10/B1005), \"\")","v":""},"",null,"","","","","",""]
[null,null,null,null,null,null,null,"",{"$f":"IF(AND(L1006 = \"\", NOT(H1006=\"\")),IF(C1006< $W$10, (H1006 *G1006 * (C1006/B1006) * 'Stap 1 - Jouw gegevens'!$C$18), (H1006 *G1006 *'Stap 1 - Jouw gegevens'!$C$18 * ($W$10/B1006))), \"\")","v":""},"",{"$f":"IF(AND(L1006 = \"\", NOT(J1006=\"\")),IF(C1006< $W$10, 'Stap 1 - Jouw gegevens'!$C$22 *J1006*G1006 *C1006/B1006,  'Stap 1 - Jouw gegevens'!$C$22 * J1006*G1006 *$W$10/B1006), \"\")","v":""},"",null,"","","","","",""]
[null,null,null,null,null,null,null,"",{"$f":"IF(AND(L1007 = \"\", NOT(H1007=\"\")),IF(C1007< $W$10, (H1007 *G1007 * (C1007/B1007) * 'Stap 1 - Jouw gegevens'!$C$18), (H1007 *G1007 *'Stap 1 - Jouw gegevens'!$C$18 * ($W$10/B1007))), \"\")","v":""},"",{"$f":"IF(AND(L1007 = \"\", NOT(J1007=\"\")),IF(C1007< $W$10, 'Stap 1 - Jouw gegevens'!$C$22 *J1007*G1007 *C1007/B1007,  'Stap 1 - Jouw gegevens'!$C$22 * J1007*G1007 *$W$10/B1007), \"\")","v":""},"",null,"","","","","",""]
[null,null,null,null,null,null,null,"",{"$f":"IF(AND(L1008 = \"\", NOT(H1008=\"\")),IF(C1008< $W$10, (H1008 *G1008 * (C1008/B1008) * 'Stap 1 - Jouw gegevens'!$C$18), (H1008 *G1008 *'Stap 1 - Jouw gegevens'!$C$18 * ($W$10/B1008))), \"\")","v":""},"",{"$f":"IF(AND(L1008 = \"\", NOT(J1008=\"\")),IF(C1008< $W$10, 'Stap 1 - Jouw gegevens'!$C$22 *J1008*G1008 *C1008/B1008,  'Stap 1 - Jouw gegevens'!$C$22 * J1008*G1008 *$W$10/B1008), \"\")","v":""},"",null,"","","","","",""]
[null,null,null,null,null,null,null,"",{"$f":"IF(AND(L1009 = \"\", NOT(H1009=\"\")),IF(C1009< $W$10, (H1009 *G1009 * (C1009/B1009) * 'Stap 1 - Jouw gegevens'!$C$18), (H1009 *G1009 *'Stap 1 - Jouw gegevens'!$C$18 * ($W$10/B1009))), \"\")","v":""},"",{"$f":"IF(AND(L1009 = \"\", NOT(J1009=\"\")),IF(C1009< $W$10, 'Stap 1 - Jouw gegevens'!$C$22 *J1009*G1009 *C1009/B1009,  'Stap 1 - Jouw gegevens'!$C$22 * J1009*G1009 *$W$10/B1009), \"\")","v":""},"",null,"","","","","",""]
[null,null,null,null,null,null,null,"",{"$f":"IF(AND(L1010 = \"\", NOT(H1010=\"\")),IF(C1010< $W$10, (H1010 *G1010 * (C1010/B1010) * 'Stap 1 - Jouw gegevens'!$C$18), (H1010 *G1010 *'Stap 1 - Jouw gegevens'!$C$18 * ($W$10/B1010))), \"\")","v":""},"",{"$f":"IF(AND(L1010 = \"\", NOT(J1010=\"\")),IF(C1010< $W$10, 'Stap 1 - Jouw gegevens'!$C$22 *J1010*G1010 *C1010/B1010,  'Stap 1 - Jouw gegevens'!$C$22 * J1010*G1010 *$W$10/B1010), \"\")","v":""},"",null,"","","","","",""]
[null,null,null,null,null,null,null,"",{"$f":"IF(AND(L1011 = \"\", NOT(H1011=\"\")),IF(C1011< $W$10, (H1011 *G1011 * (C1011/B1011) * 'Stap 1 - Jouw gegevens'!$C$18), (H1011 *G1011 *'Stap 1 - Jouw gegevens'!$C$18 * ($W$10/B1011))), \"\")","v":""},"",{"$f":"IF(AND(L1011 = \"\", NOT(J1011=\"\")),IF(C1011< $W$10, 'Stap 1 - Jouw gegevens'!$C$22 *J1011*G1011 *C1011/B1011,  'Stap 1 - Jouw gegevens'!$C$22 * J1011*G1011 *$W$10/B1011), \"\")","v":""},"",null,"","","","","",""]
[null,null,null,null,null,null,null,"",{"$f":"IF(AND(L1012 = \"\", NOT(H1012=\"\")),IF(C1012< $W$10, (H1012 *G1012 * (C1012/B1012) * 'Stap 1 - Jouw gegevens'!$C$18), (H1012 *G1012 *'Stap 1 - Jouw gegevens'!$C$18 * ($W$10/B1012))), \"\")","v":""},"",{"$f":"IF(AND(L1012 = \"\", NOT(J1012=\"\")),IF(C1012< $W$10, 'Stap 1 - Jouw gegevens'!$C$22 *J1012*G1012 *C1012/B1012,  'Stap 1 - Jouw gegevens'!$C$22 * J1012*G1012 *$W$10/B1012), \"\")","v":""},"",null,"","","","","",""]
[null,null,null,null,null,null,null,"",{"$f":"IF(AND(L1013 = \"\", NOT(H1013=\"\")),IF(C1013< $W$10, (H1013 *G1013 * (C1013/B1013) * 'Stap 1 - Jouw gegevens'!$C$18), (H1013 *G1013 *'Stap 1 - Jouw gegevens'!$C$18 * ($W$10/B1013))), \"\")","v":""},"",{"$f":"IF(AND(L1013 = \"\", NOT(J1013=\"\")),IF(C1013< $W$10, 'Stap 1 - Jouw gegevens'!$C$22 *J1013*G1013 *C1013/B1013,  'Stap 1 - Jouw gegevens'!$C$22 * J1013*G1013 *$W$10/B1013), \"\")","v":""},"",null,"","","","","",""]
[null,null,null,null,null,null,null,"",{"$f":"IF(AND(L1014 = \"\", NOT(H1014=\"\")),IF(C1014< $W$10, (H1014 *G1014 * (C1014/B1014) * 'Stap 1 - Jouw gegevens'!$C$18), (H1014 *G1014 *'Stap 1 - Jouw gegevens'!$C$18 * ($W$10/B1014))), \"\")","v":""},"",{"$f":"IF(AND(L1014 = \"\", NOT(J1014=\"\")),IF(C1014< $W$10, 'Stap 1 - Jouw gegevens'!$C$22 *J1014*G1014 *C1014/B1014,  'Stap 1 - Jouw gegevens'!$C$22 * J1014*G1014 *$W$10/B1014), \"\")","v":""},"",null,"","","","","",""]
[null,null,null,null,null,null,null,"",{"$f":"IF(AND(L1015 = \"\", NOT(H1015=\"\")),IF(C1015< $W$10, (H1015 *G1015 * (C1015/B1015) * 'Stap 1 - Jouw gegevens'!$C$18), (H1015 *G1015 *'Stap 1 - Jouw gegevens'!$C$18 * ($W$10/B1015))), \"\")","v":""},"",{"$f":"IF(AND(L1015 = \"\", NOT(J1015=\"\")),IF(C1015< $W$10, 'Stap 1 - Jouw gegevens'!$C$22 *J1015*G1015 *C1015/B1015,  'Stap 1 - Jouw gegevens'!$C$22 * J1015*G1015 *$W$10/B1015), \"\")","v":""},"",null,"","","","","",""]
[null,null,null,null,null,null,null,"",{"$f":"IF(AND(L1016 = \"\", NOT(H1016=\"\")),IF(C1016< $W$10, (H1016 *G1016 * (C1016/B1016) * 'Stap 1 - Jouw gegevens'!$C$18), (H1016 *G1016 *'Stap 1 - Jouw gegevens'!$C$18 * ($W$10/B1016))), \"\")","v":""},"",{"$f":"IF(AND(L1016 = \"\", NOT(J1016=\"\")),IF(C1016< $W$10, 'Stap 1 - Jouw gegevens'!$C$22 *J1016*G1016 *C1016/B1016,  'Stap 1 - Jouw gegevens'!$C$22 * J1016*G1016 *$W$10/B1016), \"\")","v":""},"",null,"","","","","",""]
[null,null,null,null,null,null,null,"",{"$f":"IF(AND(L1017 = \"\", NOT(H1017=\"\")),IF(C1017< $W$10, (H1017 *G1017 * (C1017/B1017) * 'Stap 1 - Jouw gegevens'!$C$18), (H1017 *G1017 *'Stap 1 - Jouw gegevens'!$C$18 * ($W$10/B1017))), \"\")","v":""},"",{"$f":"IF(AND(L1017 = \"\", NOT(J1017=\"\")),IF(C1017< $W$10, 'Stap 1 - Jouw gegevens'!$C$22 *J1017*G1017 *C1017/B1017,  'Stap 1 - Jouw gegevens'!$C$22 * J1017*G1017 *$W$10/B1017), \"\")","v":""},"",null,"","","","","",""]
[null,null,null,null,null,null,null,"",{"$f":"IF(AND(L1018 = \"\", NOT(H1018=\"\")),IF(C1018< $W$10, (H1018 *G1018 * (C1018/B1018) * 'Stap 1 - Jouw gegevens'!$C$18), (H1018 *G1018 *'Stap 1 - Jouw gegevens'!$C$18 * ($W$10/B1018))), \"\")","v":""},"",{"$f":"IF(AND(L1018 = \"\", NOT(J1018=\"\")),IF(C1018< $W$10, 'Stap 1 - Jouw gegevens'!$C$22 *J1018*G1018 *C1018/B1018,  'Stap 1 - Jouw gegevens'!$C$22 * J1018*G1018 *$W$10/B1018), \"\")","v":""},"",null,"","","","","",""]
[null,null,null,null,null,null,null,"",{"$f":"IF(AND(L1019 = \"\", NOT(H1019=\"\")),IF(C1019< $W$10, (H1019 *G1019 * (C1019/B1019) * 'Stap 1 - Jouw gegevens'!$C$18), (H1019 *G1019 *'Stap 1 - Jouw gegevens'!$C$18 * ($W$10/B1019))), \"\")","v":""},"",{"$f":"IF(AND(L1019 = \"\", NOT(J1019=\"\")),IF(C1019< $W$10, 'Stap 1 - Jouw gegevens'!$C$22 *J1019*G1019 *C1019/B1019,  'Stap 1 - Jouw gegevens'!$C$22 * J1019*G1019 *$W$10/B1019), \"\")","v":""},"",null,"","","","","",""]
[null,null,null,null,null,null,null,"",{"$f":"IF(AND(L1020 = \"\", NOT(H1020=\"\")),IF(C1020< $W$10, (H1020 *G1020 * (C1020/B1020) * 'Stap 1 - Jouw gegevens'!$C$18), (H1020 *G1020 *'Stap 1 - Jouw gegevens'!$C$18 * ($W$10/B1020))), \"\")","v":""},"",{"$f":"IF(AND(L1020 = \"\", NOT(J1020=\"\")),IF(C1020< $W$10, 'Stap 1 - Jouw gegevens'!$C$22 *J1020*G1020 *C1020/B1020,  'Stap 1 - Jouw gegevens'!$C$22 * J1020*G1020 *$W$10/B1020), \"\")","v":""},"",null,"","","","","",""]
[null,null,null,null,null,null,null,"",{"$f":"IF(AND(L1021 = \"\", NOT(H1021=\"\")),IF(C1021< $W$10, (H1021 *G1021 * (C1021/B1021) * 'Stap 1 - Jouw gegevens'!$C$18), (H1021 *G1021 *'Stap 1 - Jouw gegevens'!$C$18 * ($W$10/B1021))), \"\")","v":""},"",{"$f":"IF(AND(L1021 = \"\", NOT(J1021=\"\")),IF(C1021< $W$10, 'Stap 1 - Jouw gegevens'!$C$22 *J1021*G1021 *C1021/B1021,  'Stap 1 - Jouw gegevens'!$C$22 * J1021*G1021 *$W$10/B1021), \"\")","v":""},"",null,"","","","","",""]
[null,null,null,null,null,null,null,"",{"$f":"IF(AND(L1022 = \"\", NOT(H1022=\"\")),IF(C1022< $W$10, (H1022 *G1022 * (C1022/B1022) * 'Stap 1 - Jouw gegevens'!$C$18), (H1022 *G1022 *'Stap 1 - Jouw gegevens'!$C$18 * ($W$10/B1022))), \"\")","v":""},"",{"$f":"IF(AND(L1022 = \"\", NOT(J1022=\"\")),IF(C1022< $W$10, 'Stap 1 - Jouw gegevens'!$C$22 *J1022*G1022 *C1022/B1022,  'Stap 1 - Jouw gegevens'!$C$22 * J1022*G1022 *$W$10/B1022), \"\")","v":""},"",null,"","","","","",""]
[null,null,null,null,null,null,null,"",{"$f":"IF(AND(L1023 = \"\", NOT(H1023=\"\")),IF(C1023< $W$10, (H1023 *G1023 * (C1023/B1023) * 'Stap 1 - Jouw gegevens'!$C$18), (H1023 *G1023 *'Stap 1 - Jouw gegevens'!$C$18 * ($W$10/B1023))), \"\")","v":""},"",{"$f":"IF(AND(L1023 = \"\", NOT(J1023=\"\")),IF(C1023< $W$10, 'Stap 1 - Jouw gegevens'!$C$22 *J1023*G1023 *C1023/B1023,  'Stap 1 - Jouw gegevens'!$C$22 * J1023*G1023 *$W$10/B1023), \"\")","v":""},"",null,"","","","","",""]
[null,null,null,null,null,null,null,"",{"$f":"IF(AND(L1024 = \"\", NOT(H1024=\"\")),IF(C1024< $W$10, (H1024 *G1024 * (C1024/B1024) * 'Stap 1 - Jouw gegevens'!$C$18), (H1024 *G1024 *'Stap 1 - Jouw gegevens'!$C$18 * ($W$10/B1024))), \"\")","v":""},"",{"$f":"IF(AND(L1024 = \"\", NOT(J1024=\"\")),IF(C1024< $W$10, 'Stap 1 - Jouw gegevens'!$C$22 *J1024*G1024 *C1024/B1024,  'Stap 1 - Jouw gegevens'!$C$22 * J1024*G1024 *$W$10/B1024), \"\")","v":""},"",null,"","","","","",""]
[null,null,null,null,null,null,null,"",{"$f":"IF(AND(L1025 = \"\", NOT(H1025=\"\")),IF(C1025< $W$10, (H1025 *G1025 * (C1025/B1025) * 'Stap 1 - Jouw gegevens'!$C$18), (H1025 *G1025 *'Stap 1 - Jouw gegevens'!$C$18 * ($W$10/B1025))), \"\")","v":""},"",{"$f":"IF(AND(L1025 = \"\", NOT(J1025=\"\")),IF(C1025< $W$10, 'Stap 1 - Jouw gegevens'!$C$22 *J1025*G1025 *C1025/B1025,  'Stap 1 - Jouw gegevens'!$C$22 * J1025*G1025 *$W$10/B1025), \"\")","v":""},"",null,"","","","","",""]
[null,null,null,null,null,null,null,"",{"$f":"IF(AND(L1026 = \"\", NOT(H1026=\"\")),IF(C1026< $W$10, (H1026 *G1026 * (C1026/B1026) * 'Stap 1 - Jouw gegevens'!$C$18), (H1026 *G1026 *'Stap 1 - Jouw gegevens'!$C$18 * ($W$10/B1026))), \"\")","v":""},"",{"$f":"IF(AND(L1026 = \"\", NOT(J1026=\"\")),IF(C1026< $W$10, 'Stap 1 - Jouw gegevens'!$C$22 *J1026*G1026 *C1026/B1026,  'Stap 1 - Jouw gegevens'!$C$22 * J1026*G1026 *$W$10/B1026), \"\")","v":""},"",null,"","","","","",""]
[null,null,null,null,null,null,null,"",{"$f":"IF(AND(L1027 = \"\", NOT(H1027=\"\")),IF(C1027< $W$10, (H1027 *G1027 * (C1027/B1027) * 'Stap 1 - Jouw gegevens'!$C$18), (H1027 *G1027 *'Stap 1 - Jouw gegevens'!$C$18 * ($W$10/B1027))), \"\")","v":""},"",{"$f":"IF(AND(L1027 = \"\", NOT(J1027=\"\")),IF(C1027< $W$10, 'Stap 1 - Jouw gegevens'!$C$22 *J1027*G1027 *C1027/B1027,  'Stap 1 - Jouw gegevens'!$C$22 * J1027*G1027 *$W$10/B1027), \"\")","v":""},"",null,"","","","","",""]
[null,null,null,null,null,null,null,"",{"$f":"IF(AND(L1028 = \"\", NOT(H1028=\"\")),IF(C1028< $W$10, (H1028 *G1028 * (C1028/B1028) * 'Stap 1 - Jouw gegevens'!$C$18), (H1028 *G1028 *'Stap 1 - Jouw gegevens'!$C$18 * ($W$10/B1028))), \"\")","v":""},"",{"$f":"IF(AND(L1028 = \"\", NOT(J1028=\"\")),IF(C1028< $W$10, 'Stap 1 - Jouw gegevens'!$C$22 *J1028*G1028 *C1028/B1028,  'Stap 1 - Jouw gegevens'!$C$22 * J1028*G1028 *$W$10/B1028), \"\")","v":""},"",null,"","","","","",""]
[null,null,null,null,null,null,null,"",{"$f":"IF(AND(L1029 = \"\", NOT(H1029=\"\")),IF(C1029< $W$10, (H1029 *G1029 * (C1029/B1029) * 'Stap 1 - Jouw gegevens'!$C$18), (H1029 *G1029 *'Stap 1 - Jouw gegevens'!$C$18 * ($W$10/B1029))), \"\")","v":""},"",{"$f":"IF(AND(L1029 = \"\", NOT(J1029=\"\")),IF(C1029< $W$10, 'Stap 1 - Jouw gegevens'!$C$22 *J1029*G1029 *C1029/B1029,  'Stap 1 - Jouw gegevens'!$C$22 * J1029*G1029 *$W$10/B1029), \"\")","v":""},"",null,"","","","","",""]
[null,null,null,null,null,null,null,"",{"$f":"IF(AND(L1030 = \"\", NOT(H1030=\"\")),IF(C1030< $W$10, (H1030 *G1030 * (C1030/B1030) * 'Stap 1 - Jouw gegevens'!$C$18), (H1030 *G1030 *'Stap 1 - Jouw gegevens'!$C$18 * ($W$10/B1030))), \"\")","v":""},"",{"$f":"IF(AND(L1030 = \"\", NOT(J1030=\"\")),IF(C1030< $W$10, 'Stap 1 - Jouw gegevens'!$C$22 *J1030*G1030 *C1030/B1030,  'Stap 1 - Jouw gegevens'!$C$22 * J1030*G1030 *$W$10/B1030), \"\")","v":""},"",null,"","","","","",""]
[null,null,null,null,null,null,null,"",{"$f":"IF(AND(L1031 = \"\", NOT(H1031=\"\")),IF(C1031< $W$10, (H1031 *G1031 * (C1031/B1031) * 'Stap 1 - Jouw gegevens'!$C$18), (H1031 *G1031 *'Stap 1 - Jouw gegevens'!$C$18 * ($W$10/B1031))), \"\")","v":""},"",{"$f":"IF(AND(L1031 = \"\", NOT(J1031=\"\")),IF(C1031< $W$10, 'Stap 1 - Jouw gegevens'!$C$22 *J1031*G1031 *C1031/B1031,  'Stap 1 - Jouw gegevens'!$C$22 * J1031*G1031 *$W$10/B1031), \"\")","v":""},"",null,"","","","","",""]
[null,null,null,null,null,null,null,{"$f":"P1032","v":""},{"$f":"IF(AND(L1032 = \"\", NOT(H1032=\"\")),IF(C1032< $W$10, (H1032 *G1032 * (C1032/B1032) * 'Stap 1 - Jouw gegevens'!$C$18), (H1032 *G1032 *'Stap 1 - Jouw gegevens'!$C$18 * ($W$10/B1032))), \"\")","v":""},{"$f":"S1032","v":""},{"$f":"IF(AND(L1032 = \"\", NOT(J1032=\"\")),IF(C1032< $W$10, 'Stap 1 - Jouw gegevens'!$C$22 *J1032*G1032 *C1032/B1032,  'Stap 1 - Jouw gegevens'!$C$22 * J1032*G1032 *$W$10/B1032), \"\")","v":""},{"$f":"IF(ISBLANK(A1032), \"\", CONCATENATE(IF(Z1032 = \"X\", $AH$5, \"\"), IF( AB1032 = \"X\", $AH$7, \"\"), IF( AC1032 = \"X\", $AH$8, \"\"), IF( AD1032 = \"X\", $AH$9, \"\"), IF( AE1032 = \"X\", $AH$10, \"\"),  IF( AF1032 = \"X\", $AH$11, \"\")))","v":""},null,{"$f":"IF(ISBLANK(D1032),\"\",NETWORKDAYS(D1032,F1032))","v":""},{"$f":"IFERROR( IF(N1032>$Y$5,NETWORKDAYS(E1032, (Q1032 - 1)), NETWORKDAYS(E1032,(F1032-1))), \"\")","v":""},{"$f":"IF(O1032<= 0, \"\", O1032)","v":""},{"$f":"IF(ISBLANK(D1032),\"\",DATE(YEAR(D1032)+1,MONTH(D1032),DAY(D1032)))","v":""},{"$f":"IFERROR(IF(N1032 > $Y$5, IF(E1032>=Q1032,NETWORKDAYS(E1032, (F1032-1)), NETWORKDAYS(Q1032, (F1032-1))), \"\"), \"\")","v":""},{"$f":"IF(R1032=\"\", \"\",  IF(R1032 >= $Y$5, $Y$5,  R1032))","v":""}]
[null,null,null,null,null,null,null,"",{"$f":"IF(AND(L1033 = \"\", NOT(H1033=\"\")),IF(C1033< $W$10, (H1033 *G1033 * (C1033/B1033) * 'Stap 1 - Jouw gegevens'!$C$18), (H1033 *G1033 *'Stap 1 - Jouw gegevens'!$C$18 * ($W$10/B1033))), \"\")","v":""},"",{"$f":"IF(AND(L1033 = \"\", NOT(J1033=\"\")),IF(C1033< $W$10, 'Stap 1 - Jouw gegevens'!$C$22 *J1033*G1033 *C1033/B1033,  'Stap 1 - Jouw gegevens'!$C$22 * J1033*G1033 *$W$10/B1033), \"\")","v":""},"",null,"","","","","",""]
[null,null,null,null,null,null,null,"",{"$f":"IF(AND(L1034 = \"\", NOT(H1034=\"\")),IF(C1034< $W$10, (H1034 *G1034 * (C1034/B1034) * 'Stap 1 - Jouw gegevens'!$C$18), (H1034 *G1034 *'Stap 1 - Jouw gegevens'!$C$18 * ($W$10/B1034))), \"\")","v":""},"",{"$f":"IF(AND(L1034 = \"\", NOT(J1034=\"\")),IF(C1034< $W$10, 'Stap 1 - Jouw gegevens'!$C$22 *J1034*G1034 *C1034/B1034,  'Stap 1 - Jouw gegevens'!$C$22 * J1034*G1034 *$W$10/B1034), \"\")","v":""},"",null,"","","","","",""]
[null,null,null,null,null,null,null,"",{"$f":"IF(AND(L1035 = \"\", NOT(H1035=\"\")),IF(C1035< $W$10, (H1035 *G1035 * (C1035/B1035) * 'Stap 1 - Jouw gegevens'!$C$18), (H1035 *G1035 *'Stap 1 - Jouw gegevens'!$C$18 * ($W$10/B1035))), \"\")","v":""},"",{"$f":"IF(AND(L1035 = \"\", NOT(J1035=\"\")),IF(C1035< $W$10, 'Stap 1 - Jouw gegevens'!$C$22 *J1035*G1035 *C1035/B1035,  'Stap 1 - Jouw gegevens'!$C$22 * J1035*G1035 *$W$10/B1035), \"\")","v":""},"",null,"","","","","",""]
[null,null,null,null,null,null,null,"",{"$f":"IF(AND(L1036 = \"\", NOT(H1036=\"\")),IF(C1036< $W$10, (H1036 *G1036 * (C1036/B1036) * 'Stap 1 - Jouw gegevens'!$C$18), (H1036 *G1036 *'Stap 1 - Jouw gegevens'!$C$18 * ($W$10/B1036))), \"\")","v":""},"",{"$f":"IF(AND(L1036 = \"\", NOT(J1036=\"\")),IF(C1036< $W$10, 'Stap 1 - Jouw gegevens'!$C$22 *J1036*G1036 *C1036/B1036,  'Stap 1 - Jouw gegevens'!$C$22 * J1036*G1036 *$W$10/B1036), \"\")","v":""},"",null,"","","","","",""]
[null,null,null,null,null,null,null,"",{"$f":"IF(AND(L1037 = \"\", NOT(H1037=\"\")),IF(C1037< $W$10, (H1037 *G1037 * (C1037/B1037) * 'Stap 1 - Jouw gegevens'!$C$18), (H1037 *G1037 *'Stap 1 - Jouw gegevens'!$C$18 * ($W$10/B1037))), \"\")","v":""},"",{"$f":"IF(AND(L1037 = \"\", NOT(J1037=\"\")),IF(C1037< $W$10, 'Stap 1 - Jouw gegevens'!$C$22 *J1037*G1037 *C1037/B1037,  'Stap 1 - Jouw gegevens'!$C$22 * J1037*G1037 *$W$10/B1037), \"\")","v":""},"",null,"","","","","",""]
[null,null,null,null,null,null,null,"",{"$f":"IF(AND(L1038 = \"\", NOT(H1038=\"\")),IF(C1038< $W$10, (H1038 *G1038 * (C1038/B1038) * 'Stap 1 - Jouw gegevens'!$C$18), (H1038 *G1038 *'Stap 1 - Jouw gegevens'!$C$18 * ($W$10/B1038))), \"\")","v":""},"",{"$f":"IF(AND(L1038 = \"\", NOT(J1038=\"\")),IF(C1038< $W$10, 'Stap 1 - Jouw gegevens'!$C$22 *J1038*G1038 *C1038/B1038,  'Stap 1 - Jouw gegevens'!$C$22 * J1038*G1038 *$W$10/B1038), \"\")","v":""},"",null,"","","","","",""]
[null,null,null,null,null,null,null,"",{"$f":"IF(AND(L1039 = \"\", NOT(H1039=\"\")),IF(C1039< $W$10, (H1039 *G1039 * (C1039/B1039) * 'Stap 1 - Jouw gegevens'!$C$18), (H1039 *G1039 *'Stap 1 - Jouw gegevens'!$C$18 * ($W$10/B1039))), \"\")","v":""},"",{"$f":"IF(AND(L1039 = \"\", NOT(J1039=\"\")),IF(C1039< $W$10, 'Stap 1 - Jouw gegevens'!$C$22 *J1039*G1039 *C1039/B1039,  'Stap 1 - Jouw gegevens'!$C$22 * J1039*G1039 *$W$10/B1039), \"\")","v":""},"",null,"","","","","",""]
[null,null,null,null,null,null,null,"",{"$f":"IF(AND(L1040 = \"\", NOT(H1040=\"\")),IF(C1040< $W$10, (H1040 *G1040 * (C1040/B1040) * 'Stap 1 - Jouw gegevens'!$C$18), (H1040 *G1040 *'Stap 1 - Jouw gegevens'!$C$18 * ($W$10/B1040))), \"\")","v":""},"",{"$f":"IF(AND(L1040 = \"\", NOT(J1040=\"\")),IF(C1040< $W$10, 'Stap 1 - Jouw gegevens'!$C$22 *J1040*G1040 *C1040/B1040,  'Stap 1 - Jouw gegevens'!$C$22 * J1040*G1040 *$W$10/B1040), \"\")","v":""},"",null,"","","","","",""]
[null,null,null,null,null,null,null,"",{"$f":"IF(AND(L1041 = \"\", NOT(H1041=\"\")),IF(C1041< $W$10, (H1041 *G1041 * (C1041/B1041) * 'Stap 1 - Jouw gegevens'!$C$18), (H1041 *G1041 *'Stap 1 - Jouw gegevens'!$C$18 * ($W$10/B1041))), \"\")","v":""},"",{"$f":"IF(AND(L1041 = \"\", NOT(J1041=\"\")),IF(C1041< $W$10, 'Stap 1 - Jouw gegevens'!$C$22 *J1041*G1041 *C1041/B1041,  'Stap 1 - Jouw gegevens'!$C$22 * J1041*G1041 *$W$10/B1041), \"\")","v":""},"",null,"","","","","",""]
[null,null,null,null,null,null,null,"",{"$f":"IF(AND(L1042 = \"\", NOT(H1042=\"\")),IF(C1042< $W$10, (H1042 *G1042 * (C1042/B1042) * 'Stap 1 - Jouw gegevens'!$C$18), (H1042 *G1042 *'Stap 1 - Jouw gegevens'!$C$18 * ($W$10/B1042))), \"\")","v":""},"",{"$f":"IF(AND(L1042 = \"\", NOT(J1042=\"\")),IF(C1042< $W$10, 'Stap 1 - Jouw gegevens'!$C$22 *J1042*G1042 *C1042/B1042,  'Stap 1 - Jouw gegevens'!$C$22 * J1042*G1042 *$W$10/B1042), \"\")","v":""},"",null,"","","","","",""]
[null,null,null,null,null,null,null,"",{"$f":"IF(AND(L1043 = \"\", NOT(H1043=\"\")),IF(C1043< $W$10, (H1043 *G1043 * (C1043/B1043) * 'Stap 1 - Jouw gegevens'!$C$18), (H1043 *G1043 *'Stap 1 - Jouw gegevens'!$C$18 * ($W$10/B1043))), \"\")","v":""},"",{"$f":"IF(AND(L1043 = \"\", NOT(J1043=\"\")),IF(C1043< $W$10, 'Stap 1 - Jouw gegevens'!$C$22 *J1043*G1043 *C1043/B1043,  'Stap 1 - Jouw gegevens'!$C$22 * J1043*G1043 *$W$10/B1043), \"\")","v":""},"",null,"","","","","",""]
[null,null,null,null,null,null,null,"",{"$f":"IF(AND(L1044 = \"\", NOT(H1044=\"\")),IF(C1044< $W$10, (H1044 *G1044 * (C1044/B1044) * 'Stap 1 - Jouw gegevens'!$C$18), (H1044 *G1044 *'Stap 1 - Jouw gegevens'!$C$18 * ($W$10/B1044))), \"\")","v":""},"",{"$f":"IF(AND(L1044 = \"\", NOT(J1044=\"\")),IF(C1044< $W$10, 'Stap 1 - Jouw gegevens'!$C$22 *J1044*G1044 *C1044/B1044,  'Stap 1 - Jouw gegevens'!$C$22 * J1044*G1044 *$W$10/B1044), \"\")","v":""},"",null,"","","","","",""]
[null,null,null,null,null,null,null,"",{"$f":"IF(AND(L1045 = \"\", NOT(H1045=\"\")),IF(C1045< $W$10, (H1045 *G1045 * (C1045/B1045) * 'Stap 1 - Jouw gegevens'!$C$18), (H1045 *G1045 *'Stap 1 - Jouw gegevens'!$C$18 * ($W$10/B1045))), \"\")","v":""},"",{"$f":"IF(AND(L1045 = \"\", NOT(J1045=\"\")),IF(C1045< $W$10, 'Stap 1 - Jouw gegevens'!$C$22 *J1045*G1045 *C1045/B1045,  'Stap 1 - Jouw gegevens'!$C$22 * J1045*G1045 *$W$10/B1045), \"\")","v":""},"",null,"","","","","",""]
[null,null,null,null,null,null,null,"",{"$f":"IF(AND(L1046 = \"\", NOT(H1046=\"\")),IF(C1046< $W$10, (H1046 *G1046 * (C1046/B1046) * 'Stap 1 - Jouw gegevens'!$C$18), (H1046 *G1046 *'Stap 1 - Jouw gegevens'!$C$18 * ($W$10/B1046))), \"\")","v":""},"",{"$f":"IF(AND(L1046 = \"\", NOT(J1046=\"\")),IF(C1046< $W$10, 'Stap 1 - Jouw gegevens'!$C$22 *J1046*G1046 *C1046/B1046,  'Stap 1 - Jouw gegevens'!$C$22 * J1046*G1046 *$W$10/B1046), \"\")","v":""},"",null,"","","","","",""]
[null,null,null,null,null,null,null,"",{"$f":"IF(AND(L1047 = \"\", NOT(H1047=\"\")),IF(C1047< $W$10, (H1047 *G1047 * (C1047/B1047) * 'Stap 1 - Jouw gegevens'!$C$18), (H1047 *G1047 *'Stap 1 - Jouw gegevens'!$C$18 * ($W$10/B1047))), \"\")","v":""},"",{"$f":"IF(AND(L1047 = \"\", NOT(J1047=\"\")),IF(C1047< $W$10, 'Stap 1 - Jouw gegevens'!$C$22 *J1047*G1047 *C1047/B1047,  'Stap 1 - Jouw gegevens'!$C$22 * J1047*G1047 *$W$10/B1047), \"\")","v":""},"",null,"","","","","",""]
[null,null,null,null,null,null,null,"",{"$f":"IF(AND(L1048 = \"\", NOT(H1048=\"\")),IF(C1048< $W$10, (H1048 *G1048 * (C1048/B1048) * 'Stap 1 - Jouw gegevens'!$C$18), (H1048 *G1048 *'Stap 1 - Jouw gegevens'!$C$18 * ($W$10/B1048))), \"\")","v":""},"",{"$f":"IF(AND(L1048 = \"\", NOT(J1048=\"\")),IF(C1048< $W$10, 'Stap 1 - Jouw gegevens'!$C$22 *J1048*G1048 *C1048/B1048,  'Stap 1 - Jouw gegevens'!$C$22 * J1048*G1048 *$W$10/B1048), \"\")","v":""},"",null,"","","","","",""]
[null,null,null,null,null,null,null,"",{"$f":"IF(AND(L1049 = \"\", NOT(H1049=\"\")),IF(C1049< $W$10, (H1049 *G1049 * (C1049/B1049) * 'Stap 1 - Jouw gegevens'!$C$18), (H1049 *G1049 *'Stap 1 - Jouw gegevens'!$C$18 * ($W$10/B1049))), \"\")","v":""},"",{"$f":"IF(AND(L1049 = \"\", NOT(J1049=\"\")),IF(C1049< $W$10, 'Stap 1 - Jouw gegevens'!$C$22 *J1049*G1049 *C1049/B1049,  'Stap 1 - Jouw gegevens'!$C$22 * J1049*G1049 *$W$10/B1049), \"\")","v":""},"",null,"","","","","",""]
[null,null,null,null,null,null,null,"",{"$f":"IF(AND(L1050 = \"\", NOT(H1050=\"\")),IF(C1050< $W$10, (H1050 *G1050 * (C1050/B1050) * 'Stap 1 - Jouw gegevens'!$C$18), (H1050 *G1050 *'Stap 1 - Jouw gegevens'!$C$18 * ($W$10/B1050))), \"\")","v":""},"",{"$f":"IF(AND(L1050 = \"\", NOT(J1050=\"\")),IF(C1050< $W$10, 'Stap 1 - Jouw gegevens'!$C$22 *J1050*G1050 *C1050/B1050,  'Stap 1 - Jouw gegevens'!$C$22 * J1050*G1050 *$W$10/B1050), \"\")","v":""},"",null,"","","","","",""]
[null,null,null,null,null,null,null,"",{"$f":"IF(AND(L1051 = \"\", NOT(H1051=\"\")),IF(C1051< $W$10, (H1051 *G1051 * (C1051/B1051) * 'Stap 1 - Jouw gegevens'!$C$18), (H1051 *G1051 *'Stap 1 - Jouw gegevens'!$C$18 * ($W$10/B1051))), \"\")","v":""},"",{"$f":"IF(AND(L1051 = \"\", NOT(J1051=\"\")),IF(C1051< $W$10, 'Stap 1 - Jouw gegevens'!$C$22 *J1051*G1051 *C1051/B1051,  'Stap 1 - Jouw gegevens'!$C$22 * J1051*G1051 *$W$10/B1051), \"\")","v":""},"",null,"","","","","",""]
[null,null,null,null,null,null,null,"",{"$f":"IF(AND(L1052 = \"\", NOT(H1052=\"\")),IF(C1052< $W$10, (H1052 *G1052 * (C1052/B1052) * 'Stap 1 - Jouw gegevens'!$C$18), (H1052 *G1052 *'Stap 1 - Jouw gegevens'!$C$18 * ($W$10/B1052))), \"\")","v":""},"",{"$f":"IF(AND(L1052 = \"\", NOT(J1052=\"\")),IF(C1052< $W$10, 'Stap 1 - Jouw gegevens'!$C$22 *J1052*G1052 *C1052/B1052,  'Stap 1 - Jouw gegevens'!$C$22 * J1052*G1052 *$W$10/B1052), \"\")","v":""},"",null,"","","","","",""]
[null,null,null,null,null,null,null,"",{"$f":"IF(AND(L1053 = \"\", NOT(H1053=\"\")),IF(C1053< $W$10, (H1053 *G1053 * (C1053/B1053) * 'Stap 1 - Jouw gegevens'!$C$18), (H1053 *G1053 *'Stap 1 - Jouw gegevens'!$C$18 * ($W$10/B1053))), \"\")","v":""},"",{"$f":"IF(AND(L1053 = \"\", NOT(J1053=\"\")),IF(C1053< $W$10, 'Stap 1 - Jouw gegevens'!$C$22 *J1053*G1053 *C1053/B1053,  'Stap 1 - Jouw gegevens'!$C$22 * J1053*G1053 *$W$10/B1053), \"\")","v":""},"",null,"","","","","",""]
[null,null,null,null,null,null,null,"",{"$f":"IF(AND(L1054 = \"\", NOT(H1054=\"\")),IF(C1054< $W$10, (H1054 *G1054 * (C1054/B1054) * 'Stap 1 - Jouw gegevens'!$C$18), (H1054 *G1054 *'Stap 1 - Jouw gegevens'!$C$18 * ($W$10/B1054))), \"\")","v":""},"",{"$f":"IF(AND(L1054 = \"\", NOT(J1054=\"\")),IF(C1054< $W$10, 'Stap 1 - Jouw gegevens'!$C$22 *J1054*G1054 *C1054/B1054,  'Stap 1 - Jouw gegevens'!$C$22 * J1054*G1054 *$W$10/B1054), \"\")","v":""},"",null,"","","","","",""]
[null,null,null,null,null,null,null,"",{"$f":"IF(AND(L1055 = \"\", NOT(H1055=\"\")),IF(C1055< $W$10, (H1055 *G1055 * (C1055/B1055) * 'Stap 1 - Jouw gegevens'!$C$18), (H1055 *G1055 *'Stap 1 - Jouw gegevens'!$C$18 * ($W$10/B1055))), \"\")","v":""},"",{"$f":"IF(AND(L1055 = \"\", NOT(J1055=\"\")),IF(C1055< $W$10, 'Stap 1 - Jouw gegevens'!$C$22 *J1055*G1055 *C1055/B1055,  'Stap 1 - Jouw gegevens'!$C$22 * J1055*G1055 *$W$10/B1055), \"\")","v":""},"",null,"","","","","",""]
[null,null,null,null,null,null,null,"",{"$f":"IF(AND(L1056 = \"\", NOT(H1056=\"\")),IF(C1056< $W$10, (H1056 *G1056 * (C1056/B1056) * 'Stap 1 - Jouw gegevens'!$C$18), (H1056 *G1056 *'Stap 1 - Jouw gegevens'!$C$18 * ($W$10/B1056))), \"\")","v":""},"",{"$f":"IF(AND(L1056 = \"\", NOT(J1056=\"\")),IF(C1056< $W$10, 'Stap 1 - Jouw gegevens'!$C$22 *J1056*G1056 *C1056/B1056,  'Stap 1 - Jouw gegevens'!$C$22 * J1056*G1056 *$W$10/B1056), \"\")","v":""},"",null,"","","","","",""]
[null,null,null,null,null,null,null,"",{"$f":"IF(AND(L1057 = \"\", NOT(H1057=\"\")),IF(C1057< $W$10, (H1057 *G1057 * (C1057/B1057) * 'Stap 1 - Jouw gegevens'!$C$18), (H1057 *G1057 *'Stap 1 - Jouw gegevens'!$C$18 * ($W$10/B1057))), \"\")","v":""},"",{"$f":"IF(AND(L1057 = \"\", NOT(J1057=\"\")),IF(C1057< $W$10, 'Stap 1 - Jouw gegevens'!$C$22 *J1057*G1057 *C1057/B1057,  'Stap 1 - Jouw gegevens'!$C$22 * J1057*G1057 *$W$10/B1057), \"\")","v":""},"",null,"","","","","",""]
[null,null,null,null,null,null,null,"",{"$f":"IF(AND(L1058 = \"\", NOT(H1058=\"\")),IF(C1058< $W$10, (H1058 *G1058 * (C1058/B1058) * 'Stap 1 - Jouw gegevens'!$C$18), (H1058 *G1058 *'Stap 1 - Jouw gegevens'!$C$18 * ($W$10/B1058))), \"\")","v":""},"",{"$f":"IF(AND(L1058 = \"\", NOT(J1058=\"\")),IF(C1058< $W$10, 'Stap 1 - Jouw gegevens'!$C$22 *J1058*G1058 *C1058/B1058,  'Stap 1 - Jouw gegevens'!$C$22 * J1058*G1058 *$W$10/B1058), \"\")","v":""},"",null,"","","","","",""]
[null,null,null,null,null,null,null,"",{"$f":"IF(AND(L1059 = \"\", NOT(H1059=\"\")),IF(C1059< $W$10, (H1059 *G1059 * (C1059/B1059) * 'Stap 1 - Jouw gegevens'!$C$18), (H1059 *G1059 *'Stap 1 - Jouw gegevens'!$C$18 * ($W$10/B1059))), \"\")","v":""},"",{"$f":"IF(AND(L1059 = \"\", NOT(J1059=\"\")),IF(C1059< $W$10, 'Stap 1 - Jouw gegevens'!$C$22 *J1059*G1059 *C1059/B1059,  'Stap 1 - Jouw gegevens'!$C$22 * J1059*G1059 *$W$10/B1059), \"\")","v":""},"",null,"","","","","",""]
[null,null,null,null,null,null,null,"",{"$f":"IF(AND(L1060 = \"\", NOT(H1060=\"\")),IF(C1060< $W$10, (H1060 *G1060 * (C1060/B1060) * 'Stap 1 - Jouw gegevens'!$C$18), (H1060 *G1060 *'Stap 1 - Jouw gegevens'!$C$18 * ($W$10/B1060))), \"\")","v":""},"",{"$f":"IF(AND(L1060 = \"\", NOT(J1060=\"\")),IF(C1060< $W$10, 'Stap 1 - Jouw gegevens'!$C$22 *J1060*G1060 *C1060/B1060,  'Stap 1 - Jouw gegevens'!$C$22 * J1060*G1060 *$W$10/B1060), \"\")","v":""},"",null,"","","","","",""]
[null,null,null,null,null,null,null,"",{"$f":"IF(AND(L1061 = \"\", NOT(H1061=\"\")),IF(C1061< $W$10, (H1061 *G1061 * (C1061/B1061) * 'Stap 1 - Jouw gegevens'!$C$18), (H1061 *G1061 *'Stap 1 - Jouw gegevens'!$C$18 * ($W$10/B1061))), \"\")","v":""},"",{"$f":"IF(AND(L1061 = \"\", NOT(J1061=\"\")),IF(C1061< $W$10, 'Stap 1 - Jouw gegevens'!$C$22 *J1061*G1061 *C1061/B1061,  'Stap 1 - Jouw gegevens'!$C$22 * J1061*G1061 *$W$10/B1061), \"\")","v":""},"",null,"","","","","",""]
[null,null,null,null,null,null,null,"",{"$f":"IF(AND(L1062 = \"\", NOT(H1062=\"\")),IF(C1062< $W$10, (H1062 *G1062 * (C1062/B1062) * 'Stap 1 - Jouw gegevens'!$C$18), (H1062 *G1062 *'Stap 1 - Jouw gegevens'!$C$18 * ($W$10/B1062))), \"\")","v":""},"",{"$f":"IF(AND(L1062 = \"\", NOT(J1062=\"\")),IF(C1062< $W$10, 'Stap 1 - Jouw gegevens'!$C$22 *J1062*G1062 *C1062/B1062,  'Stap 1 - Jouw gegevens'!$C$22 * J1062*G1062 *$W$10/B1062), \"\")","v":""},"",null,"","","","","",""]
[null,null,null,null,null,null,null,"",{"$f":"IF(AND(L1063 = \"\", NOT(H1063=\"\")),IF(C1063< $W$10, (H1063 *G1063 * (C1063/B1063) * 'Stap 1 - Jouw gegevens'!$C$18), (H1063 *G1063 *'Stap 1 - Jouw gegevens'!$C$18 * ($W$10/B1063))), \"\")","v":""},"",{"$f":"IF(AND(L1063 = \"\", NOT(J1063=\"\")),IF(C1063< $W$10, 'Stap 1 - Jouw gegevens'!$C$22 *J1063*G1063 *C1063/B1063,  'Stap 1 - Jouw gegevens'!$C$22 * J1063*G1063 *$W$10/B1063), \"\")","v":""},"",null,"","","","","",""]
[null,null,null,null,null,null,null,"",{"$f":"IF(AND(L1064 = \"\", NOT(H1064=\"\")),IF(C1064< $W$10, (H1064 *G1064 * (C1064/B1064) * 'Stap 1 - Jouw gegevens'!$C$18), (H1064 *G1064 *'Stap 1 - Jouw gegevens'!$C$18 * ($W$10/B1064))), \"\")","v":""},"",{"$f":"IF(AND(L1064 = \"\", NOT(J1064=\"\")),IF(C1064< $W$10, 'Stap 1 - Jouw gegevens'!$C$22 *J1064*G1064 *C1064/B1064,  'Stap 1 - Jouw gegevens'!$C$22 * J1064*G1064 *$W$10/B1064), \"\")","v":""},"",null,"","","","","",""]
[null,null,null,null,null,null,null,"",{"$f":"IF(AND(L1065 = \"\", NOT(H1065=\"\")),IF(C1065< $W$10, (H1065 *G1065 * (C1065/B1065) * 'Stap 1 - Jouw gegevens'!$C$18), (H1065 *G1065 *'Stap 1 - Jouw gegevens'!$C$18 * ($W$10/B1065))), \"\")","v":""},"",{"$f":"IF(AND(L1065 = \"\", NOT(J1065=\"\")),IF(C1065< $W$10, 'Stap 1 - Jouw gegevens'!$C$22 *J1065*G1065 *C1065/B1065,  'Stap 1 - Jouw gegevens'!$C$22 * J1065*G1065 *$W$10/B1065), \"\")","v":""},"",null,"","","","","",""]
[null,null,null,null,null,null,null,"",{"$f":"IF(AND(L1066 = \"\", NOT(H1066=\"\")),IF(C1066< $W$10, (H1066 *G1066 * (C1066/B1066) * 'Stap 1 - Jouw gegevens'!$C$18), (H1066 *G1066 *'Stap 1 - Jouw gegevens'!$C$18 * ($W$10/B1066))), \"\")","v":""},"",{"$f":"IF(AND(L1066 = \"\", NOT(J1066=\"\")),IF(C1066< $W$10, 'Stap 1 - Jouw gegevens'!$C$22 *J1066*G1066 *C1066/B1066,  'Stap 1 - Jouw gegevens'!$C$22 * J1066*G1066 *$W$10/B1066), \"\")","v":""},"",null,"","","","","",""]
[null,null,null,null,null,null,null,"",{"$f":"IF(AND(L1067 = \"\", NOT(H1067=\"\")),IF(C1067< $W$10, (H1067 *G1067 * (C1067/B1067) * 'Stap 1 - Jouw gegevens'!$C$18), (H1067 *G1067 *'Stap 1 - Jouw gegevens'!$C$18 * ($W$10/B1067))), \"\")","v":""},"",{"$f":"IF(AND(L1067 = \"\", NOT(J1067=\"\")),IF(C1067< $W$10, 'Stap 1 - Jouw gegevens'!$C$22 *J1067*G1067 *C1067/B1067,  'Stap 1 - Jouw gegevens'!$C$22 * J1067*G1067 *$W$10/B1067), \"\")","v":""},"",null,"","","","","",""]
[null,null,null,null,null,null,null,"",{"$f":"IF(AND(L1068 = \"\", NOT(H1068=\"\")),IF(C1068< $W$10, (H1068 *G1068 * (C1068/B1068) * 'Stap 1 - Jouw gegevens'!$C$18), (H1068 *G1068 *'Stap 1 - Jouw gegevens'!$C$18 * ($W$10/B1068))), \"\")","v":""},"",{"$f":"IF(AND(L1068 = \"\", NOT(J1068=\"\")),IF(C1068< $W$10, 'Stap 1 - Jouw gegevens'!$C$22 *J1068*G1068 *C1068/B1068,  'Stap 1 - Jouw gegevens'!$C$22 * J1068*G1068 *$W$10/B1068), \"\")","v":""},"",null,"","","","","",""]
[null,null,null,null,null,null,null,"",{"$f":"IF(AND(L1069 = \"\", NOT(H1069=\"\")),IF(C1069< $W$10, (H1069 *G1069 * (C1069/B1069) * 'Stap 1 - Jouw gegevens'!$C$18), (H1069 *G1069 *'Stap 1 - Jouw gegevens'!$C$18 * ($W$10/B1069))), \"\")","v":""},"",{"$f":"IF(AND(L1069 = \"\", NOT(J1069=\"\")),IF(C1069< $W$10, 'Stap 1 - Jouw gegevens'!$C$22 *J1069*G1069 *C1069/B1069,  'Stap 1 - Jouw gegevens'!$C$22 * J1069*G1069 *$W$10/B1069), \"\")","v":""},"",null,"","","","","",""]
[null,null,null,null,null,null,null,"",{"$f":"IF(AND(L1070 = \"\", NOT(H1070=\"\")),IF(C1070< $W$10, (H1070 *G1070 * (C1070/B1070) * 'Stap 1 - Jouw gegevens'!$C$18), (H1070 *G1070 *'Stap 1 - Jouw gegevens'!$C$18 * ($W$10/B1070))), \"\")","v":""},"",{"$f":"IF(AND(L1070 = \"\", NOT(J1070=\"\")),IF(C1070< $W$10, 'Stap 1 - Jouw gegevens'!$C$22 *J1070*G1070 *C1070/B1070,  'Stap 1 - Jouw gegevens'!$C$22 * J1070*G1070 *$W$10/B1070), \"\")","v":""},"",null,"","","","","",""]
[null,null,null,null,null,null,null,"",{"$f":"IF(AND(L1071 = \"\", NOT(H1071=\"\")),IF(C1071< $W$10, (H1071 *G1071 * (C1071/B1071) * 'Stap 1 - Jouw gegevens'!$C$18), (H1071 *G1071 *'Stap 1 - Jouw gegevens'!$C$18 * ($W$10/B1071))), \"\")","v":""},"",{"$f":"IF(AND(L1071 = \"\", NOT(J1071=\"\")),IF(C1071< $W$10, 'Stap 1 - Jouw gegevens'!$C$22 *J1071*G1071 *C1071/B1071,  'Stap 1 - Jouw gegevens'!$C$22 * J1071*G1071 *$W$10/B1071), \"\")","v":""},"",null,"","","","","",""]
[null,null,null,null,null,null,null,"",{"$f":"IF(AND(L1072 = \"\", NOT(H1072=\"\")),IF(C1072< $W$10, (H1072 *G1072 * (C1072/B1072) * 'Stap 1 - Jouw gegevens'!$C$18), (H1072 *G1072 *'Stap 1 - Jouw gegevens'!$C$18 * ($W$10/B1072))), \"\")","v":""},"",{"$f":"IF(AND(L1072 = \"\", NOT(J1072=\"\")),IF(C1072< $W$10, 'Stap 1 - Jouw gegevens'!$C$22 *J1072*G1072 *C1072/B1072,  'Stap 1 - Jouw gegevens'!$C$22 * J1072*G1072 *$W$10/B1072), \"\")","v":""},"",null,"","","","","",""]
[null,null,null,null,null,null,null,"",{"$f":"IF(AND(L1073 = \"\", NOT(H1073=\"\")),IF(C1073< $W$10, (H1073 *G1073 * (C1073/B1073) * 'Stap 1 - Jouw gegevens'!$C$18), (H1073 *G1073 *'Stap 1 - Jouw gegevens'!$C$18 * ($W$10/B1073))), \"\")","v":""},"",{"$f":"IF(AND(L1073 = \"\", NOT(J1073=\"\")),IF(C1073< $W$10, 'Stap 1 - Jouw gegevens'!$C$22 *J1073*G1073 *C1073/B1073,  'Stap 1 - Jouw gegevens'!$C$22 * J1073*G1073 *$W$10/B1073), \"\")","v":""},"",null,"","","","","",""]
[null,null,null,null,null,null,null,"",{"$f":"IF(AND(L1074 = \"\", NOT(H1074=\"\")),IF(C1074< $W$10, (H1074 *G1074 * (C1074/B1074) * 'Stap 1 - Jouw gegevens'!$C$18), (H1074 *G1074 *'Stap 1 - Jouw gegevens'!$C$18 * ($W$10/B1074))), \"\")","v":""},"",{"$f":"IF(AND(L1074 = \"\", NOT(J1074=\"\")),IF(C1074< $W$10, 'Stap 1 - Jouw gegevens'!$C$22 *J1074*G1074 *C1074/B1074,  'Stap 1 - Jouw gegevens'!$C$22 * J1074*G1074 *$W$10/B1074), \"\")","v":""},"",null,"","","","","",""]
[null,null,null,null,null,null,null,"",{"$f":"IF(AND(L1075 = \"\", NOT(H1075=\"\")),IF(C1075< $W$10, (H1075 *G1075 * (C1075/B1075) * 'Stap 1 - Jouw gegevens'!$C$18), (H1075 *G1075 *'Stap 1 - Jouw gegevens'!$C$18 * ($W$10/B1075))), \"\")","v":""},"",{"$f":"IF(AND(L1075 = \"\", NOT(J1075=\"\")),IF(C1075< $W$10, 'Stap 1 - Jouw gegevens'!$C$22 *J1075*G1075 *C1075/B1075,  'Stap 1 - Jouw gegevens'!$C$22 * J1075*G1075 *$W$10/B1075), \"\")","v":""},"",null,"","","","","",""]
[null,null,null,null,null,null,null,"",{"$f":"IF(AND(L1076 = \"\", NOT(H1076=\"\")),IF(C1076< $W$10, (H1076 *G1076 * (C1076/B1076) * 'Stap 1 - Jouw gegevens'!$C$18), (H1076 *G1076 *'Stap 1 - Jouw gegevens'!$C$18 * ($W$10/B1076))), \"\")","v":""},"",{"$f":"IF(AND(L1076 = \"\", NOT(J1076=\"\")),IF(C1076< $W$10, 'Stap 1 - Jouw gegevens'!$C$22 *J1076*G1076 *C1076/B1076,  'Stap 1 - Jouw gegevens'!$C$22 * J1076*G1076 *$W$10/B1076), \"\")","v":""},"",null,"","","","","",""]
[null,null,null,null,null,null,null,"",{"$f":"IF(AND(L1077 = \"\", NOT(H1077=\"\")),IF(C1077< $W$10, (H1077 *G1077 * (C1077/B1077) * 'Stap 1 - Jouw gegevens'!$C$18), (H1077 *G1077 *'Stap 1 - Jouw gegevens'!$C$18 * ($W$10/B1077))), \"\")","v":""},"",{"$f":"IF(AND(L1077 = \"\", NOT(J1077=\"\")),IF(C1077< $W$10, 'Stap 1 - Jouw gegevens'!$C$22 *J1077*G1077 *C1077/B1077,  'Stap 1 - Jouw gegevens'!$C$22 * J1077*G1077 *$W$10/B1077), \"\")","v":""},"",null,"","","","","",""]
[null,null,null,null,null,null,null,"",{"$f":"IF(AND(L1078 = \"\", NOT(H1078=\"\")),IF(C1078< $W$10, (H1078 *G1078 * (C1078/B1078) * 'Stap 1 - Jouw gegevens'!$C$18), (H1078 *G1078 *'Stap 1 - Jouw gegevens'!$C$18 * ($W$10/B1078))), \"\")","v":""},"",{"$f":"IF(AND(L1078 = \"\", NOT(J1078=\"\")),IF(C1078< $W$10, 'Stap 1 - Jouw gegevens'!$C$22 *J1078*G1078 *C1078/B1078,  'Stap 1 - Jouw gegevens'!$C$22 * J1078*G1078 *$W$10/B1078), \"\")","v":""},"",null,"","","","","",""]
[null,null,null,null,null,null,null,"",{"$f":"IF(AND(L1079 = \"\", NOT(H1079=\"\")),IF(C1079< $W$10, (H1079 *G1079 * (C1079/B1079) * 'Stap 1 - Jouw gegevens'!$C$18), (H1079 *G1079 *'Stap 1 - Jouw gegevens'!$C$18 * ($W$10/B1079))), \"\")","v":""},"",{"$f":"IF(AND(L1079 = \"\", NOT(J1079=\"\")),IF(C1079< $W$10, 'Stap 1 - Jouw gegevens'!$C$22 *J1079*G1079 *C1079/B1079,  'Stap 1 - Jouw gegevens'!$C$22 * J1079*G1079 *$W$10/B1079), \"\")","v":""},"",null,"","","","","",""]
[null,null,null,null,null,null,null,"",{"$f":"IF(AND(L1080 = \"\", NOT(H1080=\"\")),IF(C1080< $W$10, (H1080 *G1080 * (C1080/B1080) * 'Stap 1 - Jouw gegevens'!$C$18), (H1080 *G1080 *'Stap 1 - Jouw gegevens'!$C$18 * ($W$10/B1080))), \"\")","v":""},"",{"$f":"IF(AND(L1080 = \"\", NOT(J1080=\"\")),IF(C1080< $W$10, 'Stap 1 - Jouw gegevens'!$C$22 *J1080*G1080 *C1080/B1080,  'Stap 1 - Jouw gegevens'!$C$22 * J1080*G1080 *$W$10/B1080), \"\")","v":""},"",null,"","","","","",""]
[null,null,null,null,null,null,null,"",{"$f":"IF(AND(L1081 = \"\", NOT(H1081=\"\")),IF(C1081< $W$10, (H1081 *G1081 * (C1081/B1081) * 'Stap 1 - Jouw gegevens'!$C$18), (H1081 *G1081 *'Stap 1 - Jouw gegevens'!$C$18 * ($W$10/B1081))), \"\")","v":""},"",{"$f":"IF(AND(L1081 = \"\", NOT(J1081=\"\")),IF(C1081< $W$10, 'Stap 1 - Jouw gegevens'!$C$22 *J1081*G1081 *C1081/B1081,  'Stap 1 - Jouw gegevens'!$C$22 * J1081*G1081 *$W$10/B1081), \"\")","v":""},"",null,"","","","","",""]
[null,null,null,null,null,null,null,"",{"$f":"IF(AND(L1082 = \"\", NOT(H1082=\"\")),IF(C1082< $W$10, (H1082 *G1082 * (C1082/B1082) * 'Stap 1 - Jouw gegevens'!$C$18), (H1082 *G1082 *'Stap 1 - Jouw gegevens'!$C$18 * ($W$10/B1082))), \"\")","v":""},"",{"$f":"IF(AND(L1082 = \"\", NOT(J1082=\"\")),IF(C1082< $W$10, 'Stap 1 - Jouw gegevens'!$C$22 *J1082*G1082 *C1082/B1082,  'Stap 1 - Jouw gegevens'!$C$22 * J1082*G1082 *$W$10/B1082), \"\")","v":""},"",null,"","","","","",""]
[null,null,null,null,null,null,null,"",{"$f":"IF(AND(L1083 = \"\", NOT(H1083=\"\")),IF(C1083< $W$10, (H1083 *G1083 * (C1083/B1083) * 'Stap 1 - Jouw gegevens'!$C$18), (H1083 *G1083 *'Stap 1 - Jouw gegevens'!$C$18 * ($W$10/B1083))), \"\")","v":""},"",{"$f":"IF(AND(L1083 = \"\", NOT(J1083=\"\")),IF(C1083< $W$10, 'Stap 1 - Jouw gegevens'!$C$22 *J1083*G1083 *C1083/B1083,  'Stap 1 - Jouw gegevens'!$C$22 * J1083*G1083 *$W$10/B1083), \"\")","v":""},"",null,"","","","","",""]
[null,null,null,null,null,null,null,"",{"$f":"IF(AND(L1084 = \"\", NOT(H1084=\"\")),IF(C1084< $W$10, (H1084 *G1084 * (C1084/B1084) * 'Stap 1 - Jouw gegevens'!$C$18), (H1084 *G1084 *'Stap 1 - Jouw gegevens'!$C$18 * ($W$10/B1084))), \"\")","v":""},"",{"$f":"IF(AND(L1084 = \"\", NOT(J1084=\"\")),IF(C1084< $W$10, 'Stap 1 - Jouw gegevens'!$C$22 *J1084*G1084 *C1084/B1084,  'Stap 1 - Jouw gegevens'!$C$22 * J1084*G1084 *$W$10/B1084), \"\")","v":""},"",null,"","","","","",""]
[null,null,null,null,null,null,null,"",{"$f":"IF(AND(L1085 = \"\", NOT(H1085=\"\")),IF(C1085< $W$10, (H1085 *G1085 * (C1085/B1085) * 'Stap 1 - Jouw gegevens'!$C$18), (H1085 *G1085 *'Stap 1 - Jouw gegevens'!$C$18 * ($W$10/B1085))), \"\")","v":""},"",{"$f":"IF(AND(L1085 = \"\", NOT(J1085=\"\")),IF(C1085< $W$10, 'Stap 1 - Jouw gegevens'!$C$22 *J1085*G1085 *C1085/B1085,  'Stap 1 - Jouw gegevens'!$C$22 * J1085*G1085 *$W$10/B1085), \"\")","v":""},"",null,"","","","","",""]
[null,null,null,null,null,null,null,"",{"$f":"IF(AND(L1086 = \"\", NOT(H1086=\"\")),IF(C1086< $W$10, (H1086 *G1086 * (C1086/B1086) * 'Stap 1 - Jouw gegevens'!$C$18), (H1086 *G1086 *'Stap 1 - Jouw gegevens'!$C$18 * ($W$10/B1086))), \"\")","v":""},"",{"$f":"IF(AND(L1086 = \"\", NOT(J1086=\"\")),IF(C1086< $W$10, 'Stap 1 - Jouw gegevens'!$C$22 *J1086*G1086 *C1086/B1086,  'Stap 1 - Jouw gegevens'!$C$22 * J1086*G1086 *$W$10/B1086), \"\")","v":""},"",null,"","","","","",""]
[null,null,null,null,null,null,null,"",{"$f":"IF(AND(L1087 = \"\", NOT(H1087=\"\")),IF(C1087< $W$10, (H1087 *G1087 * (C1087/B1087) * 'Stap 1 - Jouw gegevens'!$C$18), (H1087 *G1087 *'Stap 1 - Jouw gegevens'!$C$18 * ($W$10/B1087))), \"\")","v":""},"",{"$f":"IF(AND(L1087 = \"\", NOT(J1087=\"\")),IF(C1087< $W$10, 'Stap 1 - Jouw gegevens'!$C$22 *J1087*G1087 *C1087/B1087,  'Stap 1 - Jouw gegevens'!$C$22 * J1087*G1087 *$W$10/B1087), \"\")","v":""},"",null,"","","","","",""]
[null,null,null,null,null,null,null,"",{"$f":"IF(AND(L1088 = \"\", NOT(H1088=\"\")),IF(C1088< $W$10, (H1088 *G1088 * (C1088/B1088) * 'Stap 1 - Jouw gegevens'!$C$18), (H1088 *G1088 *'Stap 1 - Jouw gegevens'!$C$18 * ($W$10/B1088))), \"\")","v":""},"",{"$f":"IF(AND(L1088 = \"\", NOT(J1088=\"\")),IF(C1088< $W$10, 'Stap 1 - Jouw gegevens'!$C$22 *J1088*G1088 *C1088/B1088,  'Stap 1 - Jouw gegevens'!$C$22 * J1088*G1088 *$W$10/B1088), \"\")","v":""},"",null,"","","","","",""]
[null,null,null,null,null,null,null,"",{"$f":"IF(AND(L1089 = \"\", NOT(H1089=\"\")),IF(C1089< $W$10, (H1089 *G1089 * (C1089/B1089) * 'Stap 1 - Jouw gegevens'!$C$18), (H1089 *G1089 *'Stap 1 - Jouw gegevens'!$C$18 * ($W$10/B1089))), \"\")","v":""},"",{"$f":"IF(AND(L1089 = \"\", NOT(J1089=\"\")),IF(C1089< $W$10, 'Stap 1 - Jouw gegevens'!$C$22 *J1089*G1089 *C1089/B1089,  'Stap 1 - Jouw gegevens'!$C$22 * J1089*G1089 *$W$10/B1089), \"\")","v":""},"",null,"","","","","",""]
[null,null,null,null,null,null,null,"",{"$f":"IF(AND(L1090 = \"\", NOT(H1090=\"\")),IF(C1090< $W$10, (H1090 *G1090 * (C1090/B1090) * 'Stap 1 - Jouw gegevens'!$C$18), (H1090 *G1090 *'Stap 1 - Jouw gegevens'!$C$18 * ($W$10/B1090))), \"\")","v":""},"",{"$f":"IF(AND(L1090 = \"\", NOT(J1090=\"\")),IF(C1090< $W$10, 'Stap 1 - Jouw gegevens'!$C$22 *J1090*G1090 *C1090/B1090,  'Stap 1 - Jouw gegevens'!$C$22 * J1090*G1090 *$W$10/B1090), \"\")","v":""},"",null,"","","","","",""]
[null,null,null,null,null,null,null,"",{"$f":"IF(AND(L1091 = \"\", NOT(H1091=\"\")),IF(C1091< $W$10, (H1091 *G1091 * (C1091/B1091) * 'Stap 1 - Jouw gegevens'!$C$18), (H1091 *G1091 *'Stap 1 - Jouw gegevens'!$C$18 * ($W$10/B1091))), \"\")","v":""},"",{"$f":"IF(AND(L1091 = \"\", NOT(J1091=\"\")),IF(C1091< $W$10, 'Stap 1 - Jouw gegevens'!$C$22 *J1091*G1091 *C1091/B1091,  'Stap 1 - Jouw gegevens'!$C$22 * J1091*G1091 *$W$10/B1091), \"\")","v":""},"",null,"","","","","",""]
[null,null,null,null,null,null,null,"",{"$f":"IF(AND(L1092 = \"\", NOT(H1092=\"\")),IF(C1092< $W$10, (H1092 *G1092 * (C1092/B1092) * 'Stap 1 - Jouw gegevens'!$C$18), (H1092 *G1092 *'Stap 1 - Jouw gegevens'!$C$18 * ($W$10/B1092))), \"\")","v":""},"",{"$f":"IF(AND(L1092 = \"\", NOT(J1092=\"\")),IF(C1092< $W$10, 'Stap 1 - Jouw gegevens'!$C$22 *J1092*G1092 *C1092/B1092,  'Stap 1 - Jouw gegevens'!$C$22 * J1092*G1092 *$W$10/B1092), \"\")","v":""},"",null,"","","","","",""]
[null,null,null,null,null,null,null,"",{"$f":"IF(AND(L1093 = \"\", NOT(H1093=\"\")),IF(C1093< $W$10, (H1093 *G1093 * (C1093/B1093) * 'Stap 1 - Jouw gegevens'!$C$18), (H1093 *G1093 *'Stap 1 - Jouw gegevens'!$C$18 * ($W$10/B1093))), \"\")","v":""},"",{"$f":"IF(AND(L1093 = \"\", NOT(J1093=\"\")),IF(C1093< $W$10, 'Stap 1 - Jouw gegevens'!$C$22 *J1093*G1093 *C1093/B1093,  'Stap 1 - Jouw gegevens'!$C$22 * J1093*G1093 *$W$10/B1093), \"\")","v":""},"",null,"","","","","",""]
[null,null,null,null,null,null,null,"",{"$f":"IF(AND(L1094 = \"\", NOT(H1094=\"\")),IF(C1094< $W$10, (H1094 *G1094 * (C1094/B1094) * 'Stap 1 - Jouw gegevens'!$C$18), (H1094 *G1094 *'Stap 1 - Jouw gegevens'!$C$18 * ($W$10/B1094))), \"\")","v":""},"",{"$f":"IF(AND(L1094 = \"\", NOT(J1094=\"\")),IF(C1094< $W$10, 'Stap 1 - Jouw gegevens'!$C$22 *J1094*G1094 *C1094/B1094,  'Stap 1 - Jouw gegevens'!$C$22 * J1094*G1094 *$W$10/B1094), \"\")","v":""},"",null,"","","","","",""]
[null,null,null,null,null,null,null,"",{"$f":"IF(AND(L1095 = \"\", NOT(H1095=\"\")),IF(C1095< $W$10, (H1095 *G1095 * (C1095/B1095) * 'Stap 1 - Jouw gegevens'!$C$18), (H1095 *G1095 *'Stap 1 - Jouw gegevens'!$C$18 * ($W$10/B1095))), \"\")","v":""},"",{"$f":"IF(AND(L1095 = \"\", NOT(J1095=\"\")),IF(C1095< $W$10, 'Stap 1 - Jouw gegevens'!$C$22 *J1095*G1095 *C1095/B1095,  'Stap 1 - Jouw gegevens'!$C$22 * J1095*G1095 *$W$10/B1095), \"\")","v":""},"",null,"","","","","",""]
[null,null,null,null,null,null,null,{"$f":"P1096","v":""},{"$f":"IF(AND(L1096 = \"\", NOT(H1096=\"\")),IF(C1096< $W$10, (H1096 *G1096 * (C1096/B1096) * 'Stap 1 - Jouw gegevens'!$C$18), (H1096 *G1096 *'Stap 1 - Jouw gegevens'!$C$18 * ($W$10/B1096))), \"\")","v":""},{"$f":"S1096","v":""},{"$f":"IF(AND(L1096 = \"\", NOT(J1096=\"\")),IF(C1096< $W$10, 'Stap 1 - Jouw gegevens'!$C$22 *J1096*G1096 *C1096/B1096,  'Stap 1 - Jouw gegevens'!$C$22 * J1096*G1096 *$W$10/B1096), \"\")","v":""},{"$f":"IF(ISBLANK(A1096), \"\", CONCATENATE(IF(Z1096 = \"X\", $AH$5, \"\"), IF( AB1096 = \"X\", $AH$7, \"\"), IF( AC1096 = \"X\", $AH$8, \"\"), IF( AD1096 = \"X\", $AH$9, \"\"), IF( AE1096 = \"X\", $AH$10, \"\"),  IF( AF1096 = \"X\", $AH$11, \"\")))","v":""},null,{"$f":"IF(ISBLANK(D1096),\"\",NETWORKDAYS(D1096,F1096))","v":""},{"$f":"IFERROR( IF(N1096>$Y$5,NETWORKDAYS(E1096, (Q1096 - 1)), NETWORKDAYS(E1096,(F1096-1))), \"\")","v":""},{"$f":"IF(O1096<= 0, \"\", O1096)","v":""},{"$f":"IF(ISBLANK(D1096),\"\",DATE(YEAR(D1096)+1,MONTH(D1096),DAY(D1096)))","v":""},{"$f":"IFERROR(IF(N1096 > $Y$5, IF(E1096>=Q1096,NETWORKDAYS(E1096, (F1096-1)), NETWORKDAYS(Q1096, (F1096-1))), \"\"), \"\")","v":""},{"$f":"IF(R1096=\"\", \"\",  IF(R1096 >= $Y$5, $Y$5,  R1096))","v":""}]
[null,null,null,null,null,null,null,"",{"$f":"IF(AND(L1097 = \"\", NOT(H1097=\"\")),IF(C1097< $W$10, (H1097 *G1097 * (C1097/B1097) * 'Stap 1 - Jouw gegevens'!$C$18), (H1097 *G1097 *'Stap 1 - Jouw gegevens'!$C$18 * ($W$10/B1097))), \"\")","v":""},"",{"$f":"IF(AND(L1097 = \"\", NOT(J1097=\"\")),IF(C1097< $W$10, 'Stap 1 - Jouw gegevens'!$C$22 *J1097*G1097 *C1097/B1097,  'Stap 1 - Jouw gegevens'!$C$22 * J1097*G1097 *$W$10/B1097), \"\")","v":""},"",null,"","","","","",""]
[null,null,null,null,null,null,null,"",{"$f":"IF(AND(L1098 = \"\", NOT(H1098=\"\")),IF(C1098< $W$10, (H1098 *G1098 * (C1098/B1098) * 'Stap 1 - Jouw gegevens'!$C$18), (H1098 *G1098 *'Stap 1 - Jouw gegevens'!$C$18 * ($W$10/B1098))), \"\")","v":""},"",{"$f":"IF(AND(L1098 = \"\", NOT(J1098=\"\")),IF(C1098< $W$10, 'Stap 1 - Jouw gegevens'!$C$22 *J1098*G1098 *C1098/B1098,  'Stap 1 - Jouw gegevens'!$C$22 * J1098*G1098 *$W$10/B1098), \"\")","v":""},"",null,"","","","","",""]
[null,null,null,null,null,null,null,"",{"$f":"IF(AND(L1099 = \"\", NOT(H1099=\"\")),IF(C1099< $W$10, (H1099 *G1099 * (C1099/B1099) * 'Stap 1 - Jouw gegevens'!$C$18), (H1099 *G1099 *'Stap 1 - Jouw gegevens'!$C$18 * ($W$10/B1099))), \"\")","v":""},"",{"$f":"IF(AND(L1099 = \"\", NOT(J1099=\"\")),IF(C1099< $W$10, 'Stap 1 - Jouw gegevens'!$C$22 *J1099*G1099 *C1099/B1099,  'Stap 1 - Jouw gegevens'!$C$22 * J1099*G1099 *$W$10/B1099), \"\")","v":""},"",null,"","","","","",""]
[null,null,null,null,null,null,null,"",{"$f":"IF(AND(L1100 = \"\", NOT(H1100=\"\")),IF(C1100< $W$10, (H1100 *G1100 * (C1100/B1100) * 'Stap 1 - Jouw gegevens'!$C$18), (H1100 *G1100 *'Stap 1 - Jouw gegevens'!$C$18 * ($W$10/B1100))), \"\")","v":""},"",{"$f":"IF(AND(L1100 = \"\", NOT(J1100=\"\")),IF(C1100< $W$10, 'Stap 1 - Jouw gegevens'!$C$22 *J1100*G1100 *C1100/B1100,  'Stap 1 - Jouw gegevens'!$C$22 * J1100*G1100 *$W$10/B1100), \"\")","v":""},"",null,"","","","","",""]
[null,null,null,null,null,null,null,"",{"$f":"IF(AND(L1101 = \"\", NOT(H1101=\"\")),IF(C1101< $W$10, (H1101 *G1101 * (C1101/B1101) * 'Stap 1 - Jouw gegevens'!$C$18), (H1101 *G1101 *'Stap 1 - Jouw gegevens'!$C$18 * ($W$10/B1101))), \"\")","v":""},"",{"$f":"IF(AND(L1101 = \"\", NOT(J1101=\"\")),IF(C1101< $W$10, 'Stap 1 - Jouw gegevens'!$C$22 *J1101*G1101 *C1101/B1101,  'Stap 1 - Jouw gegevens'!$C$22 * J1101*G1101 *$W$10/B1101), \"\")","v":""},"",null,"","","","","",""]
[null,null,null,null,null,null,null,"",{"$f":"IF(AND(L1102 = \"\", NOT(H1102=\"\")),IF(C1102< $W$10, (H1102 *G1102 * (C1102/B1102) * 'Stap 1 - Jouw gegevens'!$C$18), (H1102 *G1102 *'Stap 1 - Jouw gegevens'!$C$18 * ($W$10/B1102))), \"\")","v":""},"",{"$f":"IF(AND(L1102 = \"\", NOT(J1102=\"\")),IF(C1102< $W$10, 'Stap 1 - Jouw gegevens'!$C$22 *J1102*G1102 *C1102/B1102,  'Stap 1 - Jouw gegevens'!$C$22 * J1102*G1102 *$W$10/B1102), \"\")","v":""},"",null,"","","","","",""]
[null,null,null,null,null,null,null,"",{"$f":"IF(AND(L1103 = \"\", NOT(H1103=\"\")),IF(C1103< $W$10, (H1103 *G1103 * (C1103/B1103) * 'Stap 1 - Jouw gegevens'!$C$18), (H1103 *G1103 *'Stap 1 - Jouw gegevens'!$C$18 * ($W$10/B1103))), \"\")","v":""},"",{"$f":"IF(AND(L1103 = \"\", NOT(J1103=\"\")),IF(C1103< $W$10, 'Stap 1 - Jouw gegevens'!$C$22 *J1103*G1103 *C1103/B1103,  'Stap 1 - Jouw gegevens'!$C$22 * J1103*G1103 *$W$10/B1103), \"\")","v":""},"",null,"","","","","",""]
[null,null,null,null,null,null,null,"",{"$f":"IF(AND(L1104 = \"\", NOT(H1104=\"\")),IF(C1104< $W$10, (H1104 *G1104 * (C1104/B1104) * 'Stap 1 - Jouw gegevens'!$C$18), (H1104 *G1104 *'Stap 1 - Jouw gegevens'!$C$18 * ($W$10/B1104))), \"\")","v":""},"",{"$f":"IF(AND(L1104 = \"\", NOT(J1104=\"\")),IF(C1104< $W$10, 'Stap 1 - Jouw gegevens'!$C$22 *J1104*G1104 *C1104/B1104,  'Stap 1 - Jouw gegevens'!$C$22 * J1104*G1104 *$W$10/B1104), \"\")","v":""},"",null,"","","","","",""]
[null,null,null,null,null,null,null,"",{"$f":"IF(AND(L1105 = \"\", NOT(H1105=\"\")),IF(C1105< $W$10, (H1105 *G1105 * (C1105/B1105) * 'Stap 1 - Jouw gegevens'!$C$18), (H1105 *G1105 *'Stap 1 - Jouw gegevens'!$C$18 * ($W$10/B1105))), \"\")","v":""},"",{"$f":"IF(AND(L1105 = \"\", NOT(J1105=\"\")),IF(C1105< $W$10, 'Stap 1 - Jouw gegevens'!$C$22 *J1105*G1105 *C1105/B1105,  'Stap 1 - Jouw gegevens'!$C$22 * J1105*G1105 *$W$10/B1105), \"\")","v":""},"",null,"","","","","",""]
[null,null,null,null,null,null,null,"",{"$f":"IF(AND(L1106 = \"\", NOT(H1106=\"\")),IF(C1106< $W$10, (H1106 *G1106 * (C1106/B1106) * 'Stap 1 - Jouw gegevens'!$C$18), (H1106 *G1106 *'Stap 1 - Jouw gegevens'!$C$18 * ($W$10/B1106))), \"\")","v":""},"",{"$f":"IF(AND(L1106 = \"\", NOT(J1106=\"\")),IF(C1106< $W$10, 'Stap 1 - Jouw gegevens'!$C$22 *J1106*G1106 *C1106/B1106,  'Stap 1 - Jouw gegevens'!$C$22 * J1106*G1106 *$W$10/B1106), \"\")","v":""},"",null,"","","","","",""]
[null,null,null,null,null,null,null,"",{"$f":"IF(AND(L1107 = \"\", NOT(H1107=\"\")),IF(C1107< $W$10, (H1107 *G1107 * (C1107/B1107) * 'Stap 1 - Jouw gegevens'!$C$18), (H1107 *G1107 *'Stap 1 - Jouw gegevens'!$C$18 * ($W$10/B1107))), \"\")","v":""},"",{"$f":"IF(AND(L1107 = \"\", NOT(J1107=\"\")),IF(C1107< $W$10, 'Stap 1 - Jouw gegevens'!$C$22 *J1107*G1107 *C1107/B1107,  'Stap 1 - Jouw gegevens'!$C$22 * J1107*G1107 *$W$10/B1107), \"\")","v":""},"",null,"","","","","",""]
[null,null,null,null,null,null,null,"",{"$f":"IF(AND(L1108 = \"\", NOT(H1108=\"\")),IF(C1108< $W$10, (H1108 *G1108 * (C1108/B1108) * 'Stap 1 - Jouw gegevens'!$C$18), (H1108 *G1108 *'Stap 1 - Jouw gegevens'!$C$18 * ($W$10/B1108))), \"\")","v":""},"",{"$f":"IF(AND(L1108 = \"\", NOT(J1108=\"\")),IF(C1108< $W$10, 'Stap 1 - Jouw gegevens'!$C$22 *J1108*G1108 *C1108/B1108,  'Stap 1 - Jouw gegevens'!$C$22 * J1108*G1108 *$W$10/B1108), \"\")","v":""},"",null,"","","","","",""]
[null,null,null,null,null,null,null,"",{"$f":"IF(AND(L1109 = \"\", NOT(H1109=\"\")),IF(C1109< $W$10, (H1109 *G1109 * (C1109/B1109) * 'Stap 1 - Jouw gegevens'!$C$18), (H1109 *G1109 *'Stap 1 - Jouw gegevens'!$C$18 * ($W$10/B1109))), \"\")","v":""},"",{"$f":"IF(AND(L1109 = \"\", NOT(J1109=\"\")),IF(C1109< $W$10, 'Stap 1 - Jouw gegevens'!$C$22 *J1109*G1109 *C1109/B1109,  'Stap 1 - Jouw gegevens'!$C$22 * J1109*G1109 *$W$10/B1109), \"\")","v":""},"",null,"","","","","",""]
[null,null,null,null,null,null,null,"",{"$f":"IF(AND(L1110 = \"\", NOT(H1110=\"\")),IF(C1110< $W$10, (H1110 *G1110 * (C1110/B1110) * 'Stap 1 - Jouw gegevens'!$C$18), (H1110 *G1110 *'Stap 1 - Jouw gegevens'!$C$18 * ($W$10/B1110))), \"\")","v":""},"",{"$f":"IF(AND(L1110 = \"\", NOT(J1110=\"\")),IF(C1110< $W$10, 'Stap 1 - Jouw gegevens'!$C$22 *J1110*G1110 *C1110/B1110,  'Stap 1 - Jouw gegevens'!$C$22 * J1110*G1110 *$W$10/B1110), \"\")","v":""},"",null,"","","","","",""]
[null,null,null,null,null,null,null,"",{"$f":"IF(AND(L1111 = \"\", NOT(H1111=\"\")),IF(C1111< $W$10, (H1111 *G1111 * (C1111/B1111) * 'Stap 1 - Jouw gegevens'!$C$18), (H1111 *G1111 *'Stap 1 - Jouw gegevens'!$C$18 * ($W$10/B1111))), \"\")","v":""},"",{"$f":"IF(AND(L1111 = \"\", NOT(J1111=\"\")),IF(C1111< $W$10, 'Stap 1 - Jouw gegevens'!$C$22 *J1111*G1111 *C1111/B1111,  'Stap 1 - Jouw gegevens'!$C$22 * J1111*G1111 *$W$10/B1111), \"\")","v":""},"",null,"","","","","",""]
[null,null,null,null,null,null,null,"",{"$f":"IF(AND(L1112 = \"\", NOT(H1112=\"\")),IF(C1112< $W$10, (H1112 *G1112 * (C1112/B1112) * 'Stap 1 - Jouw gegevens'!$C$18), (H1112 *G1112 *'Stap 1 - Jouw gegevens'!$C$18 * ($W$10/B1112))), \"\")","v":""},"",{"$f":"IF(AND(L1112 = \"\", NOT(J1112=\"\")),IF(C1112< $W$10, 'Stap 1 - Jouw gegevens'!$C$22 *J1112*G1112 *C1112/B1112,  'Stap 1 - Jouw gegevens'!$C$22 * J1112*G1112 *$W$10/B1112), \"\")","v":""},"",null,"","","","","",""]
[null,null,null,null,null,null,null,"",{"$f":"IF(AND(L1113 = \"\", NOT(H1113=\"\")),IF(C1113< $W$10, (H1113 *G1113 * (C1113/B1113) * 'Stap 1 - Jouw gegevens'!$C$18), (H1113 *G1113 *'Stap 1 - Jouw gegevens'!$C$18 * ($W$10/B1113))), \"\")","v":""},"",{"$f":"IF(AND(L1113 = \"\", NOT(J1113=\"\")),IF(C1113< $W$10, 'Stap 1 - Jouw gegevens'!$C$22 *J1113*G1113 *C1113/B1113,  'Stap 1 - Jouw gegevens'!$C$22 * J1113*G1113 *$W$10/B1113), \"\")","v":""},"",null,"","","","","",""]
[null,null,null,null,null,null,null,"",{"$f":"IF(AND(L1114 = \"\", NOT(H1114=\"\")),IF(C1114< $W$10, (H1114 *G1114 * (C1114/B1114) * 'Stap 1 - Jouw gegevens'!$C$18), (H1114 *G1114 *'Stap 1 - Jouw gegevens'!$C$18 * ($W$10/B1114))), \"\")","v":""},"",{"$f":"IF(AND(L1114 = \"\", NOT(J1114=\"\")),IF(C1114< $W$10, 'Stap 1 - Jouw gegevens'!$C$22 *J1114*G1114 *C1114/B1114,  'Stap 1 - Jouw gegevens'!$C$22 * J1114*G1114 *$W$10/B1114), \"\")","v":""},"",null,"","","","","",""]
[null,null,null,null,null,null,null,"",{"$f":"IF(AND(L1115 = \"\", NOT(H1115=\"\")),IF(C1115< $W$10, (H1115 *G1115 * (C1115/B1115) * 'Stap 1 - Jouw gegevens'!$C$18), (H1115 *G1115 *'Stap 1 - Jouw gegevens'!$C$18 * ($W$10/B1115))), \"\")","v":""},"",{"$f":"IF(AND(L1115 = \"\", NOT(J1115=\"\")),IF(C1115< $W$10, 'Stap 1 - Jouw gegevens'!$C$22 *J1115*G1115 *C1115/B1115,  'Stap 1 - Jouw gegevens'!$C$22 * J1115*G1115 *$W$10/B1115), \"\")","v":""},"",null,"","","","","",""]
[null,null,null,null,null,null,null,"",{"$f":"IF(AND(L1116 = \"\", NOT(H1116=\"\")),IF(C1116< $W$10, (H1116 *G1116 * (C1116/B1116) * 'Stap 1 - Jouw gegevens'!$C$18), (H1116 *G1116 *'Stap 1 - Jouw gegevens'!$C$18 * ($W$10/B1116))), \"\")","v":""},"",{"$f":"IF(AND(L1116 = \"\", NOT(J1116=\"\")),IF(C1116< $W$10, 'Stap 1 - Jouw gegevens'!$C$22 *J1116*G1116 *C1116/B1116,  'Stap 1 - Jouw gegevens'!$C$22 * J1116*G1116 *$W$10/B1116), \"\")","v":""},"",null,"","","","","",""]
[null,null,null,null,null,null,null,"",{"$f":"IF(AND(L1117 = \"\", NOT(H1117=\"\")),IF(C1117< $W$10, (H1117 *G1117 * (C1117/B1117) * 'Stap 1 - Jouw gegevens'!$C$18), (H1117 *G1117 *'Stap 1 - Jouw gegevens'!$C$18 * ($W$10/B1117))), \"\")","v":""},"",{"$f":"IF(AND(L1117 = \"\", NOT(J1117=\"\")),IF(C1117< $W$10, 'Stap 1 - Jouw gegevens'!$C$22 *J1117*G1117 *C1117/B1117,  'Stap 1 - Jouw gegevens'!$C$22 * J1117*G1117 *$W$10/B1117), \"\")","v":""},"",null,"","","","","",""]
[null,null,null,null,null,null,null,"",{"$f":"IF(AND(L1118 = \"\", NOT(H1118=\"\")),IF(C1118< $W$10, (H1118 *G1118 * (C1118/B1118) * 'Stap 1 - Jouw gegevens'!$C$18), (H1118 *G1118 *'Stap 1 - Jouw gegevens'!$C$18 * ($W$10/B1118))), \"\")","v":""},"",{"$f":"IF(AND(L1118 = \"\", NOT(J1118=\"\")),IF(C1118< $W$10, 'Stap 1 - Jouw gegevens'!$C$22 *J1118*G1118 *C1118/B1118,  'Stap 1 - Jouw gegevens'!$C$22 * J1118*G1118 *$W$10/B1118), \"\")","v":""},"",null,"","","","","",""]
[null,null,null,null,null,null,null,"",{"$f":"IF(AND(L1119 = \"\", NOT(H1119=\"\")),IF(C1119< $W$10, (H1119 *G1119 * (C1119/B1119) * 'Stap 1 - Jouw gegevens'!$C$18), (H1119 *G1119 *'Stap 1 - Jouw gegevens'!$C$18 * ($W$10/B1119))), \"\")","v":""},"",{"$f":"IF(AND(L1119 = \"\", NOT(J1119=\"\")),IF(C1119< $W$10, 'Stap 1 - Jouw gegevens'!$C$22 *J1119*G1119 *C1119/B1119,  'Stap 1 - Jouw gegevens'!$C$22 * J1119*G1119 *$W$10/B1119), \"\")","v":""},"",null,"","","","","",""]
[null,null,null,null,null,null,null,"",{"$f":"IF(AND(L1120 = \"\", NOT(H1120=\"\")),IF(C1120< $W$10, (H1120 *G1120 * (C1120/B1120) * 'Stap 1 - Jouw gegevens'!$C$18), (H1120 *G1120 *'Stap 1 - Jouw gegevens'!$C$18 * ($W$10/B1120))), \"\")","v":""},"",{"$f":"IF(AND(L1120 = \"\", NOT(J1120=\"\")),IF(C1120< $W$10, 'Stap 1 - Jouw gegevens'!$C$22 *J1120*G1120 *C1120/B1120,  'Stap 1 - Jouw gegevens'!$C$22 * J1120*G1120 *$W$10/B1120), \"\")","v":""},"",null,"","","","","",""]
[null,null,null,null,null,null,null,"",{"$f":"IF(AND(L1121 = \"\", NOT(H1121=\"\")),IF(C1121< $W$10, (H1121 *G1121 * (C1121/B1121) * 'Stap 1 - Jouw gegevens'!$C$18), (H1121 *G1121 *'Stap 1 - Jouw gegevens'!$C$18 * ($W$10/B1121))), \"\")","v":""},"",{"$f":"IF(AND(L1121 = \"\", NOT(J1121=\"\")),IF(C1121< $W$10, 'Stap 1 - Jouw gegevens'!$C$22 *J1121*G1121 *C1121/B1121,  'Stap 1 - Jouw gegevens'!$C$22 * J1121*G1121 *$W$10/B1121), \"\")","v":""},"",null,"","","","","",""]
[null,null,null,null,null,null,null,"",{"$f":"IF(AND(L1122 = \"\", NOT(H1122=\"\")),IF(C1122< $W$10, (H1122 *G1122 * (C1122/B1122) * 'Stap 1 - Jouw gegevens'!$C$18), (H1122 *G1122 *'Stap 1 - Jouw gegevens'!$C$18 * ($W$10/B1122))), \"\")","v":""},"",{"$f":"IF(AND(L1122 = \"\", NOT(J1122=\"\")),IF(C1122< $W$10, 'Stap 1 - Jouw gegevens'!$C$22 *J1122*G1122 *C1122/B1122,  'Stap 1 - Jouw gegevens'!$C$22 * J1122*G1122 *$W$10/B1122), \"\")","v":""},"",null,"","","","","",""]
[null,null,null,null,null,null,null,"",{"$f":"IF(AND(L1123 = \"\", NOT(H1123=\"\")),IF(C1123< $W$10, (H1123 *G1123 * (C1123/B1123) * 'Stap 1 - Jouw gegevens'!$C$18), (H1123 *G1123 *'Stap 1 - Jouw gegevens'!$C$18 * ($W$10/B1123))), \"\")","v":""},"",{"$f":"IF(AND(L1123 = \"\", NOT(J1123=\"\")),IF(C1123< $W$10, 'Stap 1 - Jouw gegevens'!$C$22 *J1123*G1123 *C1123/B1123,  'Stap 1 - Jouw gegevens'!$C$22 * J1123*G1123 *$W$10/B1123), \"\")","v":""},"",null,"","","","","",""]
[null,null,null,null,null,null,null,"",{"$f":"IF(AND(L1124 = \"\", NOT(H1124=\"\")),IF(C1124< $W$10, (H1124 *G1124 * (C1124/B1124) * 'Stap 1 - Jouw gegevens'!$C$18), (H1124 *G1124 *'Stap 1 - Jouw gegevens'!$C$18 * ($W$10/B1124))), \"\")","v":""},"",{"$f":"IF(AND(L1124 = \"\", NOT(J1124=\"\")),IF(C1124< $W$10, 'Stap 1 - Jouw gegevens'!$C$22 *J1124*G1124 *C1124/B1124,  'Stap 1 - Jouw gegevens'!$C$22 * J1124*G1124 *$W$10/B1124), \"\")","v":""},"",null,"","","","","",""]
[null,null,null,null,null,null,null,"",{"$f":"IF(AND(L1125 = \"\", NOT(H1125=\"\")),IF(C1125< $W$10, (H1125 *G1125 * (C1125/B1125) * 'Stap 1 - Jouw gegevens'!$C$18), (H1125 *G1125 *'Stap 1 - Jouw gegevens'!$C$18 * ($W$10/B1125))), \"\")","v":""},"",{"$f":"IF(AND(L1125 = \"\", NOT(J1125=\"\")),IF(C1125< $W$10, 'Stap 1 - Jouw gegevens'!$C$22 *J1125*G1125 *C1125/B1125,  'Stap 1 - Jouw gegevens'!$C$22 * J1125*G1125 *$W$10/B1125), \"\")","v":""},"",null,"","","","","",""]
[null,null,null,null,null,null,null,"",{"$f":"IF(AND(L1126 = \"\", NOT(H1126=\"\")),IF(C1126< $W$10, (H1126 *G1126 * (C1126/B1126) * 'Stap 1 - Jouw gegevens'!$C$18), (H1126 *G1126 *'Stap 1 - Jouw gegevens'!$C$18 * ($W$10/B1126))), \"\")","v":""},"",{"$f":"IF(AND(L1126 = \"\", NOT(J1126=\"\")),IF(C1126< $W$10, 'Stap 1 - Jouw gegevens'!$C$22 *J1126*G1126 *C1126/B1126,  'Stap 1 - Jouw gegevens'!$C$22 * J1126*G1126 *$W$10/B1126), \"\")","v":""},"",null,"","","","","",""]
[null,null,null,null,null,null,null,"",{"$f":"IF(AND(L1127 = \"\", NOT(H1127=\"\")),IF(C1127< $W$10, (H1127 *G1127 * (C1127/B1127) * 'Stap 1 - Jouw gegevens'!$C$18), (H1127 *G1127 *'Stap 1 - Jouw gegevens'!$C$18 * ($W$10/B1127))), \"\")","v":""},"",{"$f":"IF(AND(L1127 = \"\", NOT(J1127=\"\")),IF(C1127< $W$10, 'Stap 1 - Jouw gegevens'!$C$22 *J1127*G1127 *C1127/B1127,  'Stap 1 - Jouw gegevens'!$C$22 * J1127*G1127 *$W$10/B1127), \"\")","v":""},"",null,"","","","","",""]
[null,null,null,null,null,null,null,"",{"$f":"IF(AND(L1128 = \"\", NOT(H1128=\"\")),IF(C1128< $W$10, (H1128 *G1128 * (C1128/B1128) * 'Stap 1 - Jouw gegevens'!$C$18), (H1128 *G1128 *'Stap 1 - Jouw gegevens'!$C$18 * ($W$10/B1128))), \"\")","v":""},"",{"$f":"IF(AND(L1128 = \"\", NOT(J1128=\"\")),IF(C1128< $W$10, 'Stap 1 - Jouw gegevens'!$C$22 *J1128*G1128 *C1128/B1128,  'Stap 1 - Jouw gegevens'!$C$22 * J1128*G1128 *$W$10/B1128), \"\")","v":""},"",null,"","","","","",""]
[null,null,null,null,null,null,null,"",{"$f":"IF(AND(L1129 = \"\", NOT(H1129=\"\")),IF(C1129< $W$10, (H1129 *G1129 * (C1129/B1129) * 'Stap 1 - Jouw gegevens'!$C$18), (H1129 *G1129 *'Stap 1 - Jouw gegevens'!$C$18 * ($W$10/B1129))), \"\")","v":""},"",{"$f":"IF(AND(L1129 = \"\", NOT(J1129=\"\")),IF(C1129< $W$10, 'Stap 1 - Jouw gegevens'!$C$22 *J1129*G1129 *C1129/B1129,  'Stap 1 - Jouw gegevens'!$C$22 * J1129*G1129 *$W$10/B1129), \"\")","v":""},"",null,"","","","","",""]
[null,null,null,null,null,null,null,"",{"$f":"IF(AND(L1130 = \"\", NOT(H1130=\"\")),IF(C1130< $W$10, (H1130 *G1130 * (C1130/B1130) * 'Stap 1 - Jouw gegevens'!$C$18), (H1130 *G1130 *'Stap 1 - Jouw gegevens'!$C$18 * ($W$10/B1130))), \"\")","v":""},"",{"$f":"IF(AND(L1130 = \"\", NOT(J1130=\"\")),IF(C1130< $W$10, 'Stap 1 - Jouw gegevens'!$C$22 *J1130*G1130 *C1130/B1130,  'Stap 1 - Jouw gegevens'!$C$22 * J1130*G1130 *$W$10/B1130), \"\")","v":""},"",null,"","","","","",""]
[null,null,null,null,null,null,null,"",{"$f":"IF(AND(L1131 = \"\", NOT(H1131=\"\")),IF(C1131< $W$10, (H1131 *G1131 * (C1131/B1131) * 'Stap 1 - Jouw gegevens'!$C$18), (H1131 *G1131 *'Stap 1 - Jouw gegevens'!$C$18 * ($W$10/B1131))), \"\")","v":""},"",{"$f":"IF(AND(L1131 = \"\", NOT(J1131=\"\")),IF(C1131< $W$10, 'Stap 1 - Jouw gegevens'!$C$22 *J1131*G1131 *C1131/B1131,  'Stap 1 - Jouw gegevens'!$C$22 * J1131*G1131 *$W$10/B1131), \"\")","v":""},"",null,"","","","","",""]
[null,null,null,null,null,null,null,"",{"$f":"IF(AND(L1132 = \"\", NOT(H1132=\"\")),IF(C1132< $W$10, (H1132 *G1132 * (C1132/B1132) * 'Stap 1 - Jouw gegevens'!$C$18), (H1132 *G1132 *'Stap 1 - Jouw gegevens'!$C$18 * ($W$10/B1132))), \"\")","v":""},"",{"$f":"IF(AND(L1132 = \"\", NOT(J1132=\"\")),IF(C1132< $W$10, 'Stap 1 - Jouw gegevens'!$C$22 *J1132*G1132 *C1132/B1132,  'Stap 1 - Jouw gegevens'!$C$22 * J1132*G1132 *$W$10/B1132), \"\")","v":""},"",null,"","","","","",""]
[null,null,null,null,null,null,null,"",{"$f":"IF(AND(L1133 = \"\", NOT(H1133=\"\")),IF(C1133< $W$10, (H1133 *G1133 * (C1133/B1133) * 'Stap 1 - Jouw gegevens'!$C$18), (H1133 *G1133 *'Stap 1 - Jouw gegevens'!$C$18 * ($W$10/B1133))), \"\")","v":""},"",{"$f":"IF(AND(L1133 = \"\", NOT(J1133=\"\")),IF(C1133< $W$10, 'Stap 1 - Jouw gegevens'!$C$22 *J1133*G1133 *C1133/B1133,  'Stap 1 - Jouw gegevens'!$C$22 * J1133*G1133 *$W$10/B1133), \"\")","v":""},"",null,"","","","","",""]
[null,null,null,null,null,null,null,"",{"$f":"IF(AND(L1134 = \"\", NOT(H1134=\"\")),IF(C1134< $W$10, (H1134 *G1134 * (C1134/B1134) * 'Stap 1 - Jouw gegevens'!$C$18), (H1134 *G1134 *'Stap 1 - Jouw gegevens'!$C$18 * ($W$10/B1134))), \"\")","v":""},"",{"$f":"IF(AND(L1134 = \"\", NOT(J1134=\"\")),IF(C1134< $W$10, 'Stap 1 - Jouw gegevens'!$C$22 *J1134*G1134 *C1134/B1134,  'Stap 1 - Jouw gegevens'!$C$22 * J1134*G1134 *$W$10/B1134), \"\")","v":""},"",null,"","","","","",""]
[null,null,null,null,null,null,null,"",{"$f":"IF(AND(L1135 = \"\", NOT(H1135=\"\")),IF(C1135< $W$10, (H1135 *G1135 * (C1135/B1135) * 'Stap 1 - Jouw gegevens'!$C$18), (H1135 *G1135 *'Stap 1 - Jouw gegevens'!$C$18 * ($W$10/B1135))), \"\")","v":""},"",{"$f":"IF(AND(L1135 = \"\", NOT(J1135=\"\")),IF(C1135< $W$10, 'Stap 1 - Jouw gegevens'!$C$22 *J1135*G1135 *C1135/B1135,  'Stap 1 - Jouw gegevens'!$C$22 * J1135*G1135 *$W$10/B1135), \"\")","v":""},"",null,"","","","","",""]
[null,null,null,null,null,null,null,"",{"$f":"IF(AND(L1136 = \"\", NOT(H1136=\"\")),IF(C1136< $W$10, (H1136 *G1136 * (C1136/B1136) * 'Stap 1 - Jouw gegevens'!$C$18), (H1136 *G1136 *'Stap 1 - Jouw gegevens'!$C$18 * ($W$10/B1136))), \"\")","v":""},"",{"$f":"IF(AND(L1136 = \"\", NOT(J1136=\"\")),IF(C1136< $W$10, 'Stap 1 - Jouw gegevens'!$C$22 *J1136*G1136 *C1136/B1136,  'Stap 1 - Jouw gegevens'!$C$22 * J1136*G1136 *$W$10/B1136), \"\")","v":""},"",null,"","","","","",""]
[null,null,null,null,null,null,null,"",{"$f":"IF(AND(L1137 = \"\", NOT(H1137=\"\")),IF(C1137< $W$10, (H1137 *G1137 * (C1137/B1137) * 'Stap 1 - Jouw gegevens'!$C$18), (H1137 *G1137 *'Stap 1 - Jouw gegevens'!$C$18 * ($W$10/B1137))), \"\")","v":""},"",{"$f":"IF(AND(L1137 = \"\", NOT(J1137=\"\")),IF(C1137< $W$10, 'Stap 1 - Jouw gegevens'!$C$22 *J1137*G1137 *C1137/B1137,  'Stap 1 - Jouw gegevens'!$C$22 * J1137*G1137 *$W$10/B1137), \"\")","v":""},"",null,"","","","","",""]
[null,null,null,null,null,null,null,"",{"$f":"IF(AND(L1138 = \"\", NOT(H1138=\"\")),IF(C1138< $W$10, (H1138 *G1138 * (C1138/B1138) * 'Stap 1 - Jouw gegevens'!$C$18), (H1138 *G1138 *'Stap 1 - Jouw gegevens'!$C$18 * ($W$10/B1138))), \"\")","v":""},"",{"$f":"IF(AND(L1138 = \"\", NOT(J1138=\"\")),IF(C1138< $W$10, 'Stap 1 - Jouw gegevens'!$C$22 *J1138*G1138 *C1138/B1138,  'Stap 1 - Jouw gegevens'!$C$22 * J1138*G1138 *$W$10/B1138), \"\")","v":""},"",null,"","","","","",""]
[null,null,null,null,null,null,null,"",{"$f":"IF(AND(L1139 = \"\", NOT(H1139=\"\")),IF(C1139< $W$10, (H1139 *G1139 * (C1139/B1139) * 'Stap 1 - Jouw gegevens'!$C$18), (H1139 *G1139 *'Stap 1 - Jouw gegevens'!$C$18 * ($W$10/B1139))), \"\")","v":""},"",{"$f":"IF(AND(L1139 = \"\", NOT(J1139=\"\")),IF(C1139< $W$10, 'Stap 1 - Jouw gegevens'!$C$22 *J1139*G1139 *C1139/B1139,  'Stap 1 - Jouw gegevens'!$C$22 * J1139*G1139 *$W$10/B1139), \"\")","v":""},"",null,"","","","","",""]
[null,null,null,null,null,null,null,"",{"$f":"IF(AND(L1140 = \"\", NOT(H1140=\"\")),IF(C1140< $W$10, (H1140 *G1140 * (C1140/B1140) * 'Stap 1 - Jouw gegevens'!$C$18), (H1140 *G1140 *'Stap 1 - Jouw gegevens'!$C$18 * ($W$10/B1140))), \"\")","v":""},"",{"$f":"IF(AND(L1140 = \"\", NOT(J1140=\"\")),IF(C1140< $W$10, 'Stap 1 - Jouw gegevens'!$C$22 *J1140*G1140 *C1140/B1140,  'Stap 1 - Jouw gegevens'!$C$22 * J1140*G1140 *$W$10/B1140), \"\")","v":""},"",null,"","","","","",""]
[null,null,null,null,null,null,null,"",{"$f":"IF(AND(L1141 = \"\", NOT(H1141=\"\")),IF(C1141< $W$10, (H1141 *G1141 * (C1141/B1141) * 'Stap 1 - Jouw gegevens'!$C$18), (H1141 *G1141 *'Stap 1 - Jouw gegevens'!$C$18 * ($W$10/B1141))), \"\")","v":""},"",{"$f":"IF(AND(L1141 = \"\", NOT(J1141=\"\")),IF(C1141< $W$10, 'Stap 1 - Jouw gegevens'!$C$22 *J1141*G1141 *C1141/B1141,  'Stap 1 - Jouw gegevens'!$C$22 * J1141*G1141 *$W$10/B1141), \"\")","v":""},"",null,"","","","","",""]
[null,null,null,null,null,null,null,"",{"$f":"IF(AND(L1142 = \"\", NOT(H1142=\"\")),IF(C1142< $W$10, (H1142 *G1142 * (C1142/B1142) * 'Stap 1 - Jouw gegevens'!$C$18), (H1142 *G1142 *'Stap 1 - Jouw gegevens'!$C$18 * ($W$10/B1142))), \"\")","v":""},"",{"$f":"IF(AND(L1142 = \"\", NOT(J1142=\"\")),IF(C1142< $W$10, 'Stap 1 - Jouw gegevens'!$C$22 *J1142*G1142 *C1142/B1142,  'Stap 1 - Jouw gegevens'!$C$22 * J1142*G1142 *$W$10/B1142), \"\")","v":""},"",null,"","","","","",""]
[null,null,null,null,null,null,null,"",{"$f":"IF(AND(L1143 = \"\", NOT(H1143=\"\")),IF(C1143< $W$10, (H1143 *G1143 * (C1143/B1143) * 'Stap 1 - Jouw gegevens'!$C$18), (H1143 *G1143 *'Stap 1 - Jouw gegevens'!$C$18 * ($W$10/B1143))), \"\")","v":""},"",{"$f":"IF(AND(L1143 = \"\", NOT(J1143=\"\")),IF(C1143< $W$10, 'Stap 1 - Jouw gegevens'!$C$22 *J1143*G1143 *C1143/B1143,  'Stap 1 - Jouw gegevens'!$C$22 * J1143*G1143 *$W$10/B1143), \"\")","v":""},"",null,"","","","","",""]
[null,null,null,null,null,null,null,"",{"$f":"IF(AND(L1144 = \"\", NOT(H1144=\"\")),IF(C1144< $W$10, (H1144 *G1144 * (C1144/B1144) * 'Stap 1 - Jouw gegevens'!$C$18), (H1144 *G1144 *'Stap 1 - Jouw gegevens'!$C$18 * ($W$10/B1144))), \"\")","v":""},"",{"$f":"IF(AND(L1144 = \"\", NOT(J1144=\"\")),IF(C1144< $W$10, 'Stap 1 - Jouw gegevens'!$C$22 *J1144*G1144 *C1144/B1144,  'Stap 1 - Jouw gegevens'!$C$22 * J1144*G1144 *$W$10/B1144), \"\")","v":""},"",null,"","","","","",""]
[null,null,null,null,null,null,null,"",{"$f":"IF(AND(L1145 = \"\", NOT(H1145=\"\")),IF(C1145< $W$10, (H1145 *G1145 * (C1145/B1145) * 'Stap 1 - Jouw gegevens'!$C$18), (H1145 *G1145 *'Stap 1 - Jouw gegevens'!$C$18 * ($W$10/B1145))), \"\")","v":""},"",{"$f":"IF(AND(L1145 = \"\", NOT(J1145=\"\")),IF(C1145< $W$10, 'Stap 1 - Jouw gegevens'!$C$22 *J1145*G1145 *C1145/B1145,  'Stap 1 - Jouw gegevens'!$C$22 * J1145*G1145 *$W$10/B1145), \"\")","v":""},"",null,"","","","","",""]
[null,null,null,null,null,null,null,"",{"$f":"IF(AND(L1146 = \"\", NOT(H1146=\"\")),IF(C1146< $W$10, (H1146 *G1146 * (C1146/B1146) * 'Stap 1 - Jouw gegevens'!$C$18), (H1146 *G1146 *'Stap 1 - Jouw gegevens'!$C$18 * ($W$10/B1146))), \"\")","v":""},"",{"$f":"IF(AND(L1146 = \"\", NOT(J1146=\"\")),IF(C1146< $W$10, 'Stap 1 - Jouw gegevens'!$C$22 *J1146*G1146 *C1146/B1146,  'Stap 1 - Jouw gegevens'!$C$22 * J1146*G1146 *$W$10/B1146), \"\")","v":""},"",null,"","","","","",""]
[null,null,null,null,null,null,null,"",{"$f":"IF(AND(L1147 = \"\", NOT(H1147=\"\")),IF(C1147< $W$10, (H1147 *G1147 * (C1147/B1147) * 'Stap 1 - Jouw gegevens'!$C$18), (H1147 *G1147 *'Stap 1 - Jouw gegevens'!$C$18 * ($W$10/B1147))), \"\")","v":""},"",{"$f":"IF(AND(L1147 = \"\", NOT(J1147=\"\")),IF(C1147< $W$10, 'Stap 1 - Jouw gegevens'!$C$22 *J1147*G1147 *C1147/B1147,  'Stap 1 - Jouw gegevens'!$C$22 * J1147*G1147 *$W$10/B1147), \"\")","v":""},"",null,"","","","","",""]
[null,null,null,null,null,null,null,"",{"$f":"IF(AND(L1148 = \"\", NOT(H1148=\"\")),IF(C1148< $W$10, (H1148 *G1148 * (C1148/B1148) * 'Stap 1 - Jouw gegevens'!$C$18), (H1148 *G1148 *'Stap 1 - Jouw gegevens'!$C$18 * ($W$10/B1148))), \"\")","v":""},"",{"$f":"IF(AND(L1148 = \"\", NOT(J1148=\"\")),IF(C1148< $W$10, 'Stap 1 - Jouw gegevens'!$C$22 *J1148*G1148 *C1148/B1148,  'Stap 1 - Jouw gegevens'!$C$22 * J1148*G1148 *$W$10/B1148), \"\")","v":""},"",null,"","","","","",""]
[null,null,null,null,null,null,null,"",{"$f":"IF(AND(L1149 = \"\", NOT(H1149=\"\")),IF(C1149< $W$10, (H1149 *G1149 * (C1149/B1149) * 'Stap 1 - Jouw gegevens'!$C$18), (H1149 *G1149 *'Stap 1 - Jouw gegevens'!$C$18 * ($W$10/B1149))), \"\")","v":""},"",{"$f":"IF(AND(L1149 = \"\", NOT(J1149=\"\")),IF(C1149< $W$10, 'Stap 1 - Jouw gegevens'!$C$22 *J1149*G1149 *C1149/B1149,  'Stap 1 - Jouw gegevens'!$C$22 * J1149*G1149 *$W$10/B1149), \"\")","v":""},"",null,"","","","","",""]
[null,null,null,null,null,null,null,"",{"$f":"IF(AND(L1150 = \"\", NOT(H1150=\"\")),IF(C1150< $W$10, (H1150 *G1150 * (C1150/B1150) * 'Stap 1 - Jouw gegevens'!$C$18), (H1150 *G1150 *'Stap 1 - Jouw gegevens'!$C$18 * ($W$10/B1150))), \"\")","v":""},"",{"$f":"IF(AND(L1150 = \"\", NOT(J1150=\"\")),IF(C1150< $W$10, 'Stap 1 - Jouw gegevens'!$C$22 *J1150*G1150 *C1150/B1150,  'Stap 1 - Jouw gegevens'!$C$22 * J1150*G1150 *$W$10/B1150), \"\")","v":""},"",null,"","","","","",""]
[null,null,null,null,null,null,null,"",{"$f":"IF(AND(L1151 = \"\", NOT(H1151=\"\")),IF(C1151< $W$10, (H1151 *G1151 * (C1151/B1151) * 'Stap 1 - Jouw gegevens'!$C$18), (H1151 *G1151 *'Stap 1 - Jouw gegevens'!$C$18 * ($W$10/B1151))), \"\")","v":""},"",{"$f":"IF(AND(L1151 = \"\", NOT(J1151=\"\")),IF(C1151< $W$10, 'Stap 1 - Jouw gegevens'!$C$22 *J1151*G1151 *C1151/B1151,  'Stap 1 - Jouw gegevens'!$C$22 * J1151*G1151 *$W$10/B1151), \"\")","v":""},"",null,"","","","","",""]
[null,null,null,null,null,null,null,"",{"$f":"IF(AND(L1152 = \"\", NOT(H1152=\"\")),IF(C1152< $W$10, (H1152 *G1152 * (C1152/B1152) * 'Stap 1 - Jouw gegevens'!$C$18), (H1152 *G1152 *'Stap 1 - Jouw gegevens'!$C$18 * ($W$10/B1152))), \"\")","v":""},"",{"$f":"IF(AND(L1152 = \"\", NOT(J1152=\"\")),IF(C1152< $W$10, 'Stap 1 - Jouw gegevens'!$C$22 *J1152*G1152 *C1152/B1152,  'Stap 1 - Jouw gegevens'!$C$22 * J1152*G1152 *$W$10/B1152), \"\")","v":""},"",null,"","","","","",""]
[null,null,null,null,null,null,null,"",{"$f":"IF(AND(L1153 = \"\", NOT(H1153=\"\")),IF(C1153< $W$10, (H1153 *G1153 * (C1153/B1153) * 'Stap 1 - Jouw gegevens'!$C$18), (H1153 *G1153 *'Stap 1 - Jouw gegevens'!$C$18 * ($W$10/B1153))), \"\")","v":""},"",{"$f":"IF(AND(L1153 = \"\", NOT(J1153=\"\")),IF(C1153< $W$10, 'Stap 1 - Jouw gegevens'!$C$22 *J1153*G1153 *C1153/B1153,  'Stap 1 - Jouw gegevens'!$C$22 * J1153*G1153 *$W$10/B1153), \"\")","v":""},"",null,"","","","","",""]
[null,null,null,null,null,null,null,"",{"$f":"IF(AND(L1154 = \"\", NOT(H1154=\"\")),IF(C1154< $W$10, (H1154 *G1154 * (C1154/B1154) * 'Stap 1 - Jouw gegevens'!$C$18), (H1154 *G1154 *'Stap 1 - Jouw gegevens'!$C$18 * ($W$10/B1154))), \"\")","v":""},"",{"$f":"IF(AND(L1154 = \"\", NOT(J1154=\"\")),IF(C1154< $W$10, 'Stap 1 - Jouw gegevens'!$C$22 *J1154*G1154 *C1154/B1154,  'Stap 1 - Jouw gegevens'!$C$22 * J1154*G1154 *$W$10/B1154), \"\")","v":""},"",null,"","","","","",""]
[null,null,null,null,null,null,null,"",{"$f":"IF(AND(L1155 = \"\", NOT(H1155=\"\")),IF(C1155< $W$10, (H1155 *G1155 * (C1155/B1155) * 'Stap 1 - Jouw gegevens'!$C$18), (H1155 *G1155 *'Stap 1 - Jouw gegevens'!$C$18 * ($W$10/B1155))), \"\")","v":""},"",{"$f":"IF(AND(L1155 = \"\", NOT(J1155=\"\")),IF(C1155< $W$10, 'Stap 1 - Jouw gegevens'!$C$22 *J1155*G1155 *C1155/B1155,  'Stap 1 - Jouw gegevens'!$C$22 * J1155*G1155 *$W$10/B1155), \"\")","v":""},"",null,"","","","","",""]
[null,null,null,null,null,null,null,"",{"$f":"IF(AND(L1156 = \"\", NOT(H1156=\"\")),IF(C1156< $W$10, (H1156 *G1156 * (C1156/B1156) * 'Stap 1 - Jouw gegevens'!$C$18), (H1156 *G1156 *'Stap 1 - Jouw gegevens'!$C$18 * ($W$10/B1156))), \"\")","v":""},"",{"$f":"IF(AND(L1156 = \"\", NOT(J1156=\"\")),IF(C1156< $W$10, 'Stap 1 - Jouw gegevens'!$C$22 *J1156*G1156 *C1156/B1156,  'Stap 1 - Jouw gegevens'!$C$22 * J1156*G1156 *$W$10/B1156), \"\")","v":""},"",null,"","","","","",""]
[null,null,null,null,null,null,null,"",{"$f":"IF(AND(L1157 = \"\", NOT(H1157=\"\")),IF(C1157< $W$10, (H1157 *G1157 * (C1157/B1157) * 'Stap 1 - Jouw gegevens'!$C$18), (H1157 *G1157 *'Stap 1 - Jouw gegevens'!$C$18 * ($W$10/B1157))), \"\")","v":""},"",{"$f":"IF(AND(L1157 = \"\", NOT(J1157=\"\")),IF(C1157< $W$10, 'Stap 1 - Jouw gegevens'!$C$22 *J1157*G1157 *C1157/B1157,  'Stap 1 - Jouw gegevens'!$C$22 * J1157*G1157 *$W$10/B1157), \"\")","v":""},"",null,"","","","","",""]
[null,null,null,null,null,null,null,"",{"$f":"IF(AND(L1158 = \"\", NOT(H1158=\"\")),IF(C1158< $W$10, (H1158 *G1158 * (C1158/B1158) * 'Stap 1 - Jouw gegevens'!$C$18), (H1158 *G1158 *'Stap 1 - Jouw gegevens'!$C$18 * ($W$10/B1158))), \"\")","v":""},"",{"$f":"IF(AND(L1158 = \"\", NOT(J1158=\"\")),IF(C1158< $W$10, 'Stap 1 - Jouw gegevens'!$C$22 *J1158*G1158 *C1158/B1158,  'Stap 1 - Jouw gegevens'!$C$22 * J1158*G1158 *$W$10/B1158), \"\")","v":""},"",null,"","","","","",""]
[null,null,null,null,null,null,null,"",{"$f":"IF(AND(L1159 = \"\", NOT(H1159=\"\")),IF(C1159< $W$10, (H1159 *G1159 * (C1159/B1159) * 'Stap 1 - Jouw gegevens'!$C$18), (H1159 *G1159 *'Stap 1 - Jouw gegevens'!$C$18 * ($W$10/B1159))), \"\")","v":""},"",{"$f":"IF(AND(L1159 = \"\", NOT(J1159=\"\")),IF(C1159< $W$10, 'Stap 1 - Jouw gegevens'!$C$22 *J1159*G1159 *C1159/B1159,  'Stap 1 - Jouw gegevens'!$C$22 * J1159*G1159 *$W$10/B1159), \"\")","v":""},"",null,"","","","","",""]
[null,null,null,null,null,null,null,{"$f":"P1160","v":""},{"$f":"IF(AND(L1160 = \"\", NOT(H1160=\"\")),IF(C1160< $W$10, (H1160 *G1160 * (C1160/B1160) * 'Stap 1 - Jouw gegevens'!$C$18), (H1160 *G1160 *'Stap 1 - Jouw gegevens'!$C$18 * ($W$10/B1160))), \"\")","v":""},{"$f":"S1160","v":""},{"$f":"IF(AND(L1160 = \"\", NOT(J1160=\"\")),IF(C1160< $W$10, 'Stap 1 - Jouw gegevens'!$C$22 *J1160*G1160 *C1160/B1160,  'Stap 1 - Jouw gegevens'!$C$22 * J1160*G1160 *$W$10/B1160), \"\")","v":""},{"$f":"IF(ISBLANK(A1160), \"\", CONCATENATE(IF(Z1160 = \"X\", $AH$5, \"\"), IF( AB1160 = \"X\", $AH$7, \"\"), IF( AC1160 = \"X\", $AH$8, \"\"), IF( AD1160 = \"X\", $AH$9, \"\"), IF( AE1160 = \"X\", $AH$10, \"\"),  IF( AF1160 = \"X\", $AH$11, \"\")))","v":""},null,{"$f":"IF(ISBLANK(D1160),\"\",NETWORKDAYS(D1160,F1160))","v":""},{"$f":"IFERROR( IF(N1160>$Y$5,NETWORKDAYS(E1160, (Q1160 - 1)), NETWORKDAYS(E1160,(F1160-1))), \"\")","v":""},{"$f":"IF(O1160<= 0, \"\", O1160)","v":""},{"$f":"IF(ISBLANK(D1160),\"\",DATE(YEAR(D1160)+1,MONTH(D1160),DAY(D1160)))","v":""},{"$f":"IFERROR(IF(N1160 > $Y$5, IF(E1160>=Q1160,NETWORKDAYS(E1160, (F1160-1)), NETWORKDAYS(Q1160, (F1160-1))), \"\"), \"\")","v":""},{"$f":"IF(R1160=\"\", \"\",  IF(R1160 >= $Y$5, $Y$5,  R1160))","v":""}]
[null,null,null,null,null,null,null,"",{"$f":"IF(AND(L1161 = \"\", NOT(H1161=\"\")),IF(C1161< $W$10, (H1161 *G1161 * (C1161/B1161) * 'Stap 1 - Jouw gegevens'!$C$18), (H1161 *G1161 *'Stap 1 - Jouw gegevens'!$C$18 * ($W$10/B1161))), \"\")","v":""},"",{"$f":"IF(AND(L1161 = \"\", NOT(J1161=\"\")),IF(C1161< $W$10, 'Stap 1 - Jouw gegevens'!$C$22 *J1161*G1161 *C1161/B1161,  'Stap 1 - Jouw gegevens'!$C$22 * J1161*G1161 *$W$10/B1161), \"\")","v":""},"",null,"","","","","",""]
[null,null,null,null,null,null,null,"",{"$f":"IF(AND(L1162 = \"\", NOT(H1162=\"\")),IF(C1162< $W$10, (H1162 *G1162 * (C1162/B1162) * 'Stap 1 - Jouw gegevens'!$C$18), (H1162 *G1162 *'Stap 1 - Jouw gegevens'!$C$18 * ($W$10/B1162))), \"\")","v":""},"",{"$f":"IF(AND(L1162 = \"\", NOT(J1162=\"\")),IF(C1162< $W$10, 'Stap 1 - Jouw gegevens'!$C$22 *J1162*G1162 *C1162/B1162,  'Stap 1 - Jouw gegevens'!$C$22 * J1162*G1162 *$W$10/B1162), \"\")","v":""},"",null,"","","","","",""]
[null,null,null,null,null,null,null,"",{"$f":"IF(AND(L1163 = \"\", NOT(H1163=\"\")),IF(C1163< $W$10, (H1163 *G1163 * (C1163/B1163) * 'Stap 1 - Jouw gegevens'!$C$18), (H1163 *G1163 *'Stap 1 - Jouw gegevens'!$C$18 * ($W$10/B1163))), \"\")","v":""},"",{"$f":"IF(AND(L1163 = \"\", NOT(J1163=\"\")),IF(C1163< $W$10, 'Stap 1 - Jouw gegevens'!$C$22 *J1163*G1163 *C1163/B1163,  'Stap 1 - Jouw gegevens'!$C$22 * J1163*G1163 *$W$10/B1163), \"\")","v":""},"",null,"","","","","",""]
[null,null,null,null,null,null,null,"",{"$f":"IF(AND(L1164 = \"\", NOT(H1164=\"\")),IF(C1164< $W$10, (H1164 *G1164 * (C1164/B1164) * 'Stap 1 - Jouw gegevens'!$C$18), (H1164 *G1164 *'Stap 1 - Jouw gegevens'!$C$18 * ($W$10/B1164))), \"\")","v":""},"",{"$f":"IF(AND(L1164 = \"\", NOT(J1164=\"\")),IF(C1164< $W$10, 'Stap 1 - Jouw gegevens'!$C$22 *J1164*G1164 *C1164/B1164,  'Stap 1 - Jouw gegevens'!$C$22 * J1164*G1164 *$W$10/B1164), \"\")","v":""},"",null,"","","","","",""]
[null,null,null,null,null,null,null,"",{"$f":"IF(AND(L1165 = \"\", NOT(H1165=\"\")),IF(C1165< $W$10, (H1165 *G1165 * (C1165/B1165) * 'Stap 1 - Jouw gegevens'!$C$18), (H1165 *G1165 *'Stap 1 - Jouw gegevens'!$C$18 * ($W$10/B1165))), \"\")","v":""},"",{"$f":"IF(AND(L1165 = \"\", NOT(J1165=\"\")),IF(C1165< $W$10, 'Stap 1 - Jouw gegevens'!$C$22 *J1165*G1165 *C1165/B1165,  'Stap 1 - Jouw gegevens'!$C$22 * J1165*G1165 *$W$10/B1165), \"\")","v":""},"",null,"","","","","",""]
[null,null,null,null,null,null,null,"",{"$f":"IF(AND(L1166 = \"\", NOT(H1166=\"\")),IF(C1166< $W$10, (H1166 *G1166 * (C1166/B1166) * 'Stap 1 - Jouw gegevens'!$C$18), (H1166 *G1166 *'Stap 1 - Jouw gegevens'!$C$18 * ($W$10/B1166))), \"\")","v":""},"",{"$f":"IF(AND(L1166 = \"\", NOT(J1166=\"\")),IF(C1166< $W$10, 'Stap 1 - Jouw gegevens'!$C$22 *J1166*G1166 *C1166/B1166,  'Stap 1 - Jouw gegevens'!$C$22 * J1166*G1166 *$W$10/B1166), \"\")","v":""},"",null,"","","","","",""]
[null,null,null,null,null,null,null,"",{"$f":"IF(AND(L1167 = \"\", NOT(H1167=\"\")),IF(C1167< $W$10, (H1167 *G1167 * (C1167/B1167) * 'Stap 1 - Jouw gegevens'!$C$18), (H1167 *G1167 *'Stap 1 - Jouw gegevens'!$C$18 * ($W$10/B1167))), \"\")","v":""},"",{"$f":"IF(AND(L1167 = \"\", NOT(J1167=\"\")),IF(C1167< $W$10, 'Stap 1 - Jouw gegevens'!$C$22 *J1167*G1167 *C1167/B1167,  'Stap 1 - Jouw gegevens'!$C$22 * J1167*G1167 *$W$10/B1167), \"\")","v":""},"",null,"","","","","",""]
[null,null,null,null,null,null,null,"",{"$f":"IF(AND(L1168 = \"\", NOT(H1168=\"\")),IF(C1168< $W$10, (H1168 *G1168 * (C1168/B1168) * 'Stap 1 - Jouw gegevens'!$C$18), (H1168 *G1168 *'Stap 1 - Jouw gegevens'!$C$18 * ($W$10/B1168))), \"\")","v":""},"",{"$f":"IF(AND(L1168 = \"\", NOT(J1168=\"\")),IF(C1168< $W$10, 'Stap 1 - Jouw gegevens'!$C$22 *J1168*G1168 *C1168/B1168,  'Stap 1 - Jouw gegevens'!$C$22 * J1168*G1168 *$W$10/B1168), \"\")","v":""},"",null,"","","","","",""]
[null,null,null,null,null,null,null,"",{"$f":"IF(AND(L1169 = \"\", NOT(H1169=\"\")),IF(C1169< $W$10, (H1169 *G1169 * (C1169/B1169) * 'Stap 1 - Jouw gegevens'!$C$18), (H1169 *G1169 *'Stap 1 - Jouw gegevens'!$C$18 * ($W$10/B1169))), \"\")","v":""},"",{"$f":"IF(AND(L1169 = \"\", NOT(J1169=\"\")),IF(C1169< $W$10, 'Stap 1 - Jouw gegevens'!$C$22 *J1169*G1169 *C1169/B1169,  'Stap 1 - Jouw gegevens'!$C$22 * J1169*G1169 *$W$10/B1169), \"\")","v":""},"",null,"","","","","",""]
[null,null,null,null,null,null,null,"",{"$f":"IF(AND(L1170 = \"\", NOT(H1170=\"\")),IF(C1170< $W$10, (H1170 *G1170 * (C1170/B1170) * 'Stap 1 - Jouw gegevens'!$C$18), (H1170 *G1170 *'Stap 1 - Jouw gegevens'!$C$18 * ($W$10/B1170))), \"\")","v":""},"",{"$f":"IF(AND(L1170 = \"\", NOT(J1170=\"\")),IF(C1170< $W$10, 'Stap 1 - Jouw gegevens'!$C$22 *J1170*G1170 *C1170/B1170,  'Stap 1 - Jouw gegevens'!$C$22 * J1170*G1170 *$W$10/B1170), \"\")","v":""},"",null,"","","","","",""]
[null,null,null,null,null,null,null,"",{"$f":"IF(AND(L1171 = \"\", NOT(H1171=\"\")),IF(C1171< $W$10, (H1171 *G1171 * (C1171/B1171) * 'Stap 1 - Jouw gegevens'!$C$18), (H1171 *G1171 *'Stap 1 - Jouw gegevens'!$C$18 * ($W$10/B1171))), \"\")","v":""},"",{"$f":"IF(AND(L1171 = \"\", NOT(J1171=\"\")),IF(C1171< $W$10, 'Stap 1 - Jouw gegevens'!$C$22 *J1171*G1171 *C1171/B1171,  'Stap 1 - Jouw gegevens'!$C$22 * J1171*G1171 *$W$10/B1171), \"\")","v":""},"",null,"","","","","",""]
[null,null,null,null,null,null,null,"",{"$f":"IF(AND(L1172 = \"\", NOT(H1172=\"\")),IF(C1172< $W$10, (H1172 *G1172 * (C1172/B1172) * 'Stap 1 - Jouw gegevens'!$C$18), (H1172 *G1172 *'Stap 1 - Jouw gegevens'!$C$18 * ($W$10/B1172))), \"\")","v":""},"",{"$f":"IF(AND(L1172 = \"\", NOT(J1172=\"\")),IF(C1172< $W$10, 'Stap 1 - Jouw gegevens'!$C$22 *J1172*G1172 *C1172/B1172,  'Stap 1 - Jouw gegevens'!$C$22 * J1172*G1172 *$W$10/B1172), \"\")","v":""},"",null,"","","","","",""]
[null,null,null,null,null,null,null,"",{"$f":"IF(AND(L1173 = \"\", NOT(H1173=\"\")),IF(C1173< $W$10, (H1173 *G1173 * (C1173/B1173) * 'Stap 1 - Jouw gegevens'!$C$18), (H1173 *G1173 *'Stap 1 - Jouw gegevens'!$C$18 * ($W$10/B1173))), \"\")","v":""},"",{"$f":"IF(AND(L1173 = \"\", NOT(J1173=\"\")),IF(C1173< $W$10, 'Stap 1 - Jouw gegevens'!$C$22 *J1173*G1173 *C1173/B1173,  'Stap 1 - Jouw gegevens'!$C$22 * J1173*G1173 *$W$10/B1173), \"\")","v":""},"",null,"","","","","",""]
[null,null,null,null,null,null,null,"",{"$f":"IF(AND(L1174 = \"\", NOT(H1174=\"\")),IF(C1174< $W$10, (H1174 *G1174 * (C1174/B1174) * 'Stap 1 - Jouw gegevens'!$C$18), (H1174 *G1174 *'Stap 1 - Jouw gegevens'!$C$18 * ($W$10/B1174))), \"\")","v":""},"",{"$f":"IF(AND(L1174 = \"\", NOT(J1174=\"\")),IF(C1174< $W$10, 'Stap 1 - Jouw gegevens'!$C$22 *J1174*G1174 *C1174/B1174,  'Stap 1 - Jouw gegevens'!$C$22 * J1174*G1174 *$W$10/B1174), \"\")","v":""},"",null,"","","","","",""]
[null,null,null,null,null,null,null,"",{"$f":"IF(AND(L1175 = \"\", NOT(H1175=\"\")),IF(C1175< $W$10, (H1175 *G1175 * (C1175/B1175) * 'Stap 1 - Jouw gegevens'!$C$18), (H1175 *G1175 *'Stap 1 - Jouw gegevens'!$C$18 * ($W$10/B1175))), \"\")","v":""},"",{"$f":"IF(AND(L1175 = \"\", NOT(J1175=\"\")),IF(C1175< $W$10, 'Stap 1 - Jouw gegevens'!$C$22 *J1175*G1175 *C1175/B1175,  'Stap 1 - Jouw gegevens'!$C$22 * J1175*G1175 *$W$10/B1175), \"\")","v":""},"",null,"","","","","",""]
[null,null,null,null,null,null,null,"",{"$f":"IF(AND(L1176 = \"\", NOT(H1176=\"\")),IF(C1176< $W$10, (H1176 *G1176 * (C1176/B1176) * 'Stap 1 - Jouw gegevens'!$C$18), (H1176 *G1176 *'Stap 1 - Jouw gegevens'!$C$18 * ($W$10/B1176))), \"\")","v":""},"",{"$f":"IF(AND(L1176 = \"\", NOT(J1176=\"\")),IF(C1176< $W$10, 'Stap 1 - Jouw gegevens'!$C$22 *J1176*G1176 *C1176/B1176,  'Stap 1 - Jouw gegevens'!$C$22 * J1176*G1176 *$W$10/B1176), \"\")","v":""},"",null,"","","","","",""]
[null,null,null,null,null,null,null,"",{"$f":"IF(AND(L1177 = \"\", NOT(H1177=\"\")),IF(C1177< $W$10, (H1177 *G1177 * (C1177/B1177) * 'Stap 1 - Jouw gegevens'!$C$18), (H1177 *G1177 *'Stap 1 - Jouw gegevens'!$C$18 * ($W$10/B1177))), \"\")","v":""},"",{"$f":"IF(AND(L1177 = \"\", NOT(J1177=\"\")),IF(C1177< $W$10, 'Stap 1 - Jouw gegevens'!$C$22 *J1177*G1177 *C1177/B1177,  'Stap 1 - Jouw gegevens'!$C$22 * J1177*G1177 *$W$10/B1177), \"\")","v":""},"",null,"","","","","",""]
[null,null,null,null,null,null,null,"",{"$f":"IF(AND(L1178 = \"\", NOT(H1178=\"\")),IF(C1178< $W$10, (H1178 *G1178 * (C1178/B1178) * 'Stap 1 - Jouw gegevens'!$C$18), (H1178 *G1178 *'Stap 1 - Jouw gegevens'!$C$18 * ($W$10/B1178))), \"\")","v":""},"",{"$f":"IF(AND(L1178 = \"\", NOT(J1178=\"\")),IF(C1178< $W$10, 'Stap 1 - Jouw gegevens'!$C$22 *J1178*G1178 *C1178/B1178,  'Stap 1 - Jouw gegevens'!$C$22 * J1178*G1178 *$W$10/B1178), \"\")","v":""},"",null,"","","","","",""]
[null,null,null,null,null,null,null,"",{"$f":"IF(AND(L1179 = \"\", NOT(H1179=\"\")),IF(C1179< $W$10, (H1179 *G1179 * (C1179/B1179) * 'Stap 1 - Jouw gegevens'!$C$18), (H1179 *G1179 *'Stap 1 - Jouw gegevens'!$C$18 * ($W$10/B1179))), \"\")","v":""},"",{"$f":"IF(AND(L1179 = \"\", NOT(J1179=\"\")),IF(C1179< $W$10, 'Stap 1 - Jouw gegevens'!$C$22 *J1179*G1179 *C1179/B1179,  'Stap 1 - Jouw gegevens'!$C$22 * J1179*G1179 *$W$10/B1179), \"\")","v":""},"",null,"","","","","",""]
[null,null,null,null,null,null,null,"",{"$f":"IF(AND(L1180 = \"\", NOT(H1180=\"\")),IF(C1180< $W$10, (H1180 *G1180 * (C1180/B1180) * 'Stap 1 - Jouw gegevens'!$C$18), (H1180 *G1180 *'Stap 1 - Jouw gegevens'!$C$18 * ($W$10/B1180))), \"\")","v":""},"",{"$f":"IF(AND(L1180 = \"\", NOT(J1180=\"\")),IF(C1180< $W$10, 'Stap 1 - Jouw gegevens'!$C$22 *J1180*G1180 *C1180/B1180,  'Stap 1 - Jouw gegevens'!$C$22 * J1180*G1180 *$W$10/B1180), \"\")","v":""},"",null,"","","","","",""]
[null,null,null,null,null,null,null,"",{"$f":"IF(AND(L1181 = \"\", NOT(H1181=\"\")),IF(C1181< $W$10, (H1181 *G1181 * (C1181/B1181) * 'Stap 1 - Jouw gegevens'!$C$18), (H1181 *G1181 *'Stap 1 - Jouw gegevens'!$C$18 * ($W$10/B1181))), \"\")","v":""},"",{"$f":"IF(AND(L1181 = \"\", NOT(J1181=\"\")),IF(C1181< $W$10, 'Stap 1 - Jouw gegevens'!$C$22 *J1181*G1181 *C1181/B1181,  'Stap 1 - Jouw gegevens'!$C$22 * J1181*G1181 *$W$10/B1181), \"\")","v":""},"",null,"","","","","",""]
[null,null,null,null,null,null,null,"",{"$f":"IF(AND(L1182 = \"\", NOT(H1182=\"\")),IF(C1182< $W$10, (H1182 *G1182 * (C1182/B1182) * 'Stap 1 - Jouw gegevens'!$C$18), (H1182 *G1182 *'Stap 1 - Jouw gegevens'!$C$18 * ($W$10/B1182))), \"\")","v":""},"",{"$f":"IF(AND(L1182 = \"\", NOT(J1182=\"\")),IF(C1182< $W$10, 'Stap 1 - Jouw gegevens'!$C$22 *J1182*G1182 *C1182/B1182,  'Stap 1 - Jouw gegevens'!$C$22 * J1182*G1182 *$W$10/B1182), \"\")","v":""},"",null,"","","","","",""]
[null,null,null,null,null,null,null,"",{"$f":"IF(AND(L1183 = \"\", NOT(H1183=\"\")),IF(C1183< $W$10, (H1183 *G1183 * (C1183/B1183) * 'Stap 1 - Jouw gegevens'!$C$18), (H1183 *G1183 *'Stap 1 - Jouw gegevens'!$C$18 * ($W$10/B1183))), \"\")","v":""},"",{"$f":"IF(AND(L1183 = \"\", NOT(J1183=\"\")),IF(C1183< $W$10, 'Stap 1 - Jouw gegevens'!$C$22 *J1183*G1183 *C1183/B1183,  'Stap 1 - Jouw gegevens'!$C$22 * J1183*G1183 *$W$10/B1183), \"\")","v":""},"",null,"","","","","",""]
[null,null,null,null,null,null,null,"",{"$f":"IF(AND(L1184 = \"\", NOT(H1184=\"\")),IF(C1184< $W$10, (H1184 *G1184 * (C1184/B1184) * 'Stap 1 - Jouw gegevens'!$C$18), (H1184 *G1184 *'Stap 1 - Jouw gegevens'!$C$18 * ($W$10/B1184))), \"\")","v":""},"",{"$f":"IF(AND(L1184 = \"\", NOT(J1184=\"\")),IF(C1184< $W$10, 'Stap 1 - Jouw gegevens'!$C$22 *J1184*G1184 *C1184/B1184,  'Stap 1 - Jouw gegevens'!$C$22 * J1184*G1184 *$W$10/B1184), \"\")","v":""},"",null,"","","","","",""]
[null,null,null,null,null,null,null,"",{"$f":"IF(AND(L1185 = \"\", NOT(H1185=\"\")),IF(C1185< $W$10, (H1185 *G1185 * (C1185/B1185) * 'Stap 1 - Jouw gegevens'!$C$18), (H1185 *G1185 *'Stap 1 - Jouw gegevens'!$C$18 * ($W$10/B1185))), \"\")","v":""},"",{"$f":"IF(AND(L1185 = \"\", NOT(J1185=\"\")),IF(C1185< $W$10, 'Stap 1 - Jouw gegevens'!$C$22 *J1185*G1185 *C1185/B1185,  'Stap 1 - Jouw gegevens'!$C$22 * J1185*G1185 *$W$10/B1185), \"\")","v":""},"",null,"","","","","",""]
[null,null,null,null,null,null,null,"",{"$f":"IF(AND(L1186 = \"\", NOT(H1186=\"\")),IF(C1186< $W$10, (H1186 *G1186 * (C1186/B1186) * 'Stap 1 - Jouw gegevens'!$C$18), (H1186 *G1186 *'Stap 1 - Jouw gegevens'!$C$18 * ($W$10/B1186))), \"\")","v":""},"",{"$f":"IF(AND(L1186 = \"\", NOT(J1186=\"\")),IF(C1186< $W$10, 'Stap 1 - Jouw gegevens'!$C$22 *J1186*G1186 *C1186/B1186,  'Stap 1 - Jouw gegevens'!$C$22 * J1186*G1186 *$W$10/B1186), \"\")","v":""},"",null,"","","","","",""]
[null,null,null,null,null,null,null,"",{"$f":"IF(AND(L1187 = \"\", NOT(H1187=\"\")),IF(C1187< $W$10, (H1187 *G1187 * (C1187/B1187) * 'Stap 1 - Jouw gegevens'!$C$18), (H1187 *G1187 *'Stap 1 - Jouw gegevens'!$C$18 * ($W$10/B1187))), \"\")","v":""},"",{"$f":"IF(AND(L1187 = \"\", NOT(J1187=\"\")),IF(C1187< $W$10, 'Stap 1 - Jouw gegevens'!$C$22 *J1187*G1187 *C1187/B1187,  'Stap 1 - Jouw gegevens'!$C$22 * J1187*G1187 *$W$10/B1187), \"\")","v":""},"",null,"","","","","",""]
[null,null,null,null,null,null,null,"",{"$f":"IF(AND(L1188 = \"\", NOT(H1188=\"\")),IF(C1188< $W$10, (H1188 *G1188 * (C1188/B1188) * 'Stap 1 - Jouw gegevens'!$C$18), (H1188 *G1188 *'Stap 1 - Jouw gegevens'!$C$18 * ($W$10/B1188))), \"\")","v":""},"",{"$f":"IF(AND(L1188 = \"\", NOT(J1188=\"\")),IF(C1188< $W$10, 'Stap 1 - Jouw gegevens'!$C$22 *J1188*G1188 *C1188/B1188,  'Stap 1 - Jouw gegevens'!$C$22 * J1188*G1188 *$W$10/B1188), \"\")","v":""},"",null,"","","","","",""]
[null,null,null,null,null,null,null,"",{"$f":"IF(AND(L1189 = \"\", NOT(H1189=\"\")),IF(C1189< $W$10, (H1189 *G1189 * (C1189/B1189) * 'Stap 1 - Jouw gegevens'!$C$18), (H1189 *G1189 *'Stap 1 - Jouw gegevens'!$C$18 * ($W$10/B1189))), \"\")","v":""},"",{"$f":"IF(AND(L1189 = \"\", NOT(J1189=\"\")),IF(C1189< $W$10, 'Stap 1 - Jouw gegevens'!$C$22 *J1189*G1189 *C1189/B1189,  'Stap 1 - Jouw gegevens'!$C$22 * J1189*G1189 *$W$10/B1189), \"\")","v":""},"",null,"","","","","",""]
[null,null,null,null,null,null,null,"",{"$f":"IF(AND(L1190 = \"\", NOT(H1190=\"\")),IF(C1190< $W$10, (H1190 *G1190 * (C1190/B1190) * 'Stap 1 - Jouw gegevens'!$C$18), (H1190 *G1190 *'Stap 1 - Jouw gegevens'!$C$18 * ($W$10/B1190))), \"\")","v":""},"",{"$f":"IF(AND(L1190 = \"\", NOT(J1190=\"\")),IF(C1190< $W$10, 'Stap 1 - Jouw gegevens'!$C$22 *J1190*G1190 *C1190/B1190,  'Stap 1 - Jouw gegevens'!$C$22 * J1190*G1190 *$W$10/B1190), \"\")","v":""},"",null,"","","","","",""]
[null,null,null,null,null,null,null,"",{"$f":"IF(AND(L1191 = \"\", NOT(H1191=\"\")),IF(C1191< $W$10, (H1191 *G1191 * (C1191/B1191) * 'Stap 1 - Jouw gegevens'!$C$18), (H1191 *G1191 *'Stap 1 - Jouw gegevens'!$C$18 * ($W$10/B1191))), \"\")","v":""},"",{"$f":"IF(AND(L1191 = \"\", NOT(J1191=\"\")),IF(C1191< $W$10, 'Stap 1 - Jouw gegevens'!$C$22 *J1191*G1191 *C1191/B1191,  'Stap 1 - Jouw gegevens'!$C$22 * J1191*G1191 *$W$10/B1191), \"\")","v":""},"",null,"","","","","",""]
[null,null,null,null,null,null,null,"",{"$f":"IF(AND(L1192 = \"\", NOT(H1192=\"\")),IF(C1192< $W$10, (H1192 *G1192 * (C1192/B1192) * 'Stap 1 - Jouw gegevens'!$C$18), (H1192 *G1192 *'Stap 1 - Jouw gegevens'!$C$18 * ($W$10/B1192))), \"\")","v":""},"",{"$f":"IF(AND(L1192 = \"\", NOT(J1192=\"\")),IF(C1192< $W$10, 'Stap 1 - Jouw gegevens'!$C$22 *J1192*G1192 *C1192/B1192,  'Stap 1 - Jouw gegevens'!$C$22 * J1192*G1192 *$W$10/B1192), \"\")","v":""},"",null,"","","","","",""]
[null,null,null,null,null,null,null,"",{"$f":"IF(AND(L1193 = \"\", NOT(H1193=\"\")),IF(C1193< $W$10, (H1193 *G1193 * (C1193/B1193) * 'Stap 1 - Jouw gegevens'!$C$18), (H1193 *G1193 *'Stap 1 - Jouw gegevens'!$C$18 * ($W$10/B1193))), \"\")","v":""},"",{"$f":"IF(AND(L1193 = \"\", NOT(J1193=\"\")),IF(C1193< $W$10, 'Stap 1 - Jouw gegevens'!$C$22 *J1193*G1193 *C1193/B1193,  'Stap 1 - Jouw gegevens'!$C$22 * J1193*G1193 *$W$10/B1193), \"\")","v":""},"",null,"","","","","",""]
[null,null,null,null,null,null,null,"",{"$f":"IF(AND(L1194 = \"\", NOT(H1194=\"\")),IF(C1194< $W$10, (H1194 *G1194 * (C1194/B1194) * 'Stap 1 - Jouw gegevens'!$C$18), (H1194 *G1194 *'Stap 1 - Jouw gegevens'!$C$18 * ($W$10/B1194))), \"\")","v":""},"",{"$f":"IF(AND(L1194 = \"\", NOT(J1194=\"\")),IF(C1194< $W$10, 'Stap 1 - Jouw gegevens'!$C$22 *J1194*G1194 *C1194/B1194,  'Stap 1 - Jouw gegevens'!$C$22 * J1194*G1194 *$W$10/B1194), \"\")","v":""},"",null,"","","","","",""]
[null,null,null,null,null,null,null,"",{"$f":"IF(AND(L1195 = \"\", NOT(H1195=\"\")),IF(C1195< $W$10, (H1195 *G1195 * (C1195/B1195) * 'Stap 1 - Jouw gegevens'!$C$18), (H1195 *G1195 *'Stap 1 - Jouw gegevens'!$C$18 * ($W$10/B1195))), \"\")","v":""},"",{"$f":"IF(AND(L1195 = \"\", NOT(J1195=\"\")),IF(C1195< $W$10, 'Stap 1 - Jouw gegevens'!$C$22 *J1195*G1195 *C1195/B1195,  'Stap 1 - Jouw gegevens'!$C$22 * J1195*G1195 *$W$10/B1195), \"\")","v":""},"",null,"","","","","",""]
[null,null,null,null,null,null,null,"",{"$f":"IF(AND(L1196 = \"\", NOT(H1196=\"\")),IF(C1196< $W$10, (H1196 *G1196 * (C1196/B1196) * 'Stap 1 - Jouw gegevens'!$C$18), (H1196 *G1196 *'Stap 1 - Jouw gegevens'!$C$18 * ($W$10/B1196))), \"\")","v":""},"",{"$f":"IF(AND(L1196 = \"\", NOT(J1196=\"\")),IF(C1196< $W$10, 'Stap 1 - Jouw gegevens'!$C$22 *J1196*G1196 *C1196/B1196,  'Stap 1 - Jouw gegevens'!$C$22 * J1196*G1196 *$W$10/B1196), \"\")","v":""},"",null,"","","","","",""]
[null,null,null,null,null,null,null,"",{"$f":"IF(AND(L1197 = \"\", NOT(H1197=\"\")),IF(C1197< $W$10, (H1197 *G1197 * (C1197/B1197) * 'Stap 1 - Jouw gegevens'!$C$18), (H1197 *G1197 *'Stap 1 - Jouw gegevens'!$C$18 * ($W$10/B1197))), \"\")","v":""},"",{"$f":"IF(AND(L1197 = \"\", NOT(J1197=\"\")),IF(C1197< $W$10, 'Stap 1 - Jouw gegevens'!$C$22 *J1197*G1197 *C1197/B1197,  'Stap 1 - Jouw gegevens'!$C$22 * J1197*G1197 *$W$10/B1197), \"\")","v":""},"",null,"","","","","",""]
[null,null,null,null,null,null,null,"",{"$f":"IF(AND(L1198 = \"\", NOT(H1198=\"\")),IF(C1198< $W$10, (H1198 *G1198 * (C1198/B1198) * 'Stap 1 - Jouw gegevens'!$C$18), (H1198 *G1198 *'Stap 1 - Jouw gegevens'!$C$18 * ($W$10/B1198))), \"\")","v":""},"",{"$f":"IF(AND(L1198 = \"\", NOT(J1198=\"\")),IF(C1198< $W$10, 'Stap 1 - Jouw gegevens'!$C$22 *J1198*G1198 *C1198/B1198,  'Stap 1 - Jouw gegevens'!$C$22 * J1198*G1198 *$W$10/B1198), \"\")","v":""},"",null,"","","","","",""]
[null,null,null,null,null,null,null,"",{"$f":"IF(AND(L1199 = \"\", NOT(H1199=\"\")),IF(C1199< $W$10, (H1199 *G1199 * (C1199/B1199) * 'Stap 1 - Jouw gegevens'!$C$18), (H1199 *G1199 *'Stap 1 - Jouw gegevens'!$C$18 * ($W$10/B1199))), \"\")","v":""},"",{"$f":"IF(AND(L1199 = \"\", NOT(J1199=\"\")),IF(C1199< $W$10, 'Stap 1 - Jouw gegevens'!$C$22 *J1199*G1199 *C1199/B1199,  'Stap 1 - Jouw gegevens'!$C$22 * J1199*G1199 *$W$10/B1199), \"\")","v":""},"",null,"","","","","",""]
[null,null,null,null,null,null,null,"",{"$f":"IF(AND(L1200 = \"\", NOT(H1200=\"\")),IF(C1200< $W$10, (H1200 *G1200 * (C1200/B1200) * 'Stap 1 - Jouw gegevens'!$C$18), (H1200 *G1200 *'Stap 1 - Jouw gegevens'!$C$18 * ($W$10/B1200))), \"\")","v":""},"",{"$f":"IF(AND(L1200 = \"\", NOT(J1200=\"\")),IF(C1200< $W$10, 'Stap 1 - Jouw gegevens'!$C$22 *J1200*G1200 *C1200/B1200,  'Stap 1 - Jouw gegevens'!$C$22 * J1200*G1200 *$W$10/B1200), \"\")","v":""},"",null,"","","","","",""]
[null,null,null,null,null,null,null,"",{"$f":"IF(AND(L1201 = \"\", NOT(H1201=\"\")),IF(C1201< $W$10, (H1201 *G1201 * (C1201/B1201) * 'Stap 1 - Jouw gegevens'!$C$18), (H1201 *G1201 *'Stap 1 - Jouw gegevens'!$C$18 * ($W$10/B1201))), \"\")","v":""},"",{"$f":"IF(AND(L1201 = \"\", NOT(J1201=\"\")),IF(C1201< $W$10, 'Stap 1 - Jouw gegevens'!$C$22 *J1201*G1201 *C1201/B1201,  'Stap 1 - Jouw gegevens'!$C$22 * J1201*G1201 *$W$10/B1201), \"\")","v":""},"",null,"","","","","",""]
[null,null,null,null,null,null,null,"",{"$f":"IF(AND(L1202 = \"\", NOT(H1202=\"\")),IF(C1202< $W$10, (H1202 *G1202 * (C1202/B1202) * 'Stap 1 - Jouw gegevens'!$C$18), (H1202 *G1202 *'Stap 1 - Jouw gegevens'!$C$18 * ($W$10/B1202))), \"\")","v":""},"",{"$f":"IF(AND(L1202 = \"\", NOT(J1202=\"\")),IF(C1202< $W$10, 'Stap 1 - Jouw gegevens'!$C$22 *J1202*G1202 *C1202/B1202,  'Stap 1 - Jouw gegevens'!$C$22 * J1202*G1202 *$W$10/B1202), \"\")","v":""},"",null,"","","","","",""]
[null,null,null,null,null,null,null,"",{"$f":"IF(AND(L1203 = \"\", NOT(H1203=\"\")),IF(C1203< $W$10, (H1203 *G1203 * (C1203/B1203) * 'Stap 1 - Jouw gegevens'!$C$18), (H1203 *G1203 *'Stap 1 - Jouw gegevens'!$C$18 * ($W$10/B1203))), \"\")","v":""},"",{"$f":"IF(AND(L1203 = \"\", NOT(J1203=\"\")),IF(C1203< $W$10, 'Stap 1 - Jouw gegevens'!$C$22 *J1203*G1203 *C1203/B1203,  'Stap 1 - Jouw gegevens'!$C$22 * J1203*G1203 *$W$10/B1203), \"\")","v":""},"",null,"","","","","",""]
[null,null,null,null,null,null,null,"",{"$f":"IF(AND(L1204 = \"\", NOT(H1204=\"\")),IF(C1204< $W$10, (H1204 *G1204 * (C1204/B1204) * 'Stap 1 - Jouw gegevens'!$C$18), (H1204 *G1204 *'Stap 1 - Jouw gegevens'!$C$18 * ($W$10/B1204))), \"\")","v":""},"",{"$f":"IF(AND(L1204 = \"\", NOT(J1204=\"\")),IF(C1204< $W$10, 'Stap 1 - Jouw gegevens'!$C$22 *J1204*G1204 *C1204/B1204,  'Stap 1 - Jouw gegevens'!$C$22 * J1204*G1204 *$W$10/B1204), \"\")","v":""},"",null,"","","","","",""]
[null,null,null,null,null,null,null,"",{"$f":"IF(AND(L1205 = \"\", NOT(H1205=\"\")),IF(C1205< $W$10, (H1205 *G1205 * (C1205/B1205) * 'Stap 1 - Jouw gegevens'!$C$18), (H1205 *G1205 *'Stap 1 - Jouw gegevens'!$C$18 * ($W$10/B1205))), \"\")","v":""},"",{"$f":"IF(AND(L1205 = \"\", NOT(J1205=\"\")),IF(C1205< $W$10, 'Stap 1 - Jouw gegevens'!$C$22 *J1205*G1205 *C1205/B1205,  'Stap 1 - Jouw gegevens'!$C$22 * J1205*G1205 *$W$10/B1205), \"\")","v":""},"",null,"","","","","",""]
[null,null,null,null,null,null,null,"",{"$f":"IF(AND(L1206 = \"\", NOT(H1206=\"\")),IF(C1206< $W$10, (H1206 *G1206 * (C1206/B1206) * 'Stap 1 - Jouw gegevens'!$C$18), (H1206 *G1206 *'Stap 1 - Jouw gegevens'!$C$18 * ($W$10/B1206))), \"\")","v":""},"",{"$f":"IF(AND(L1206 = \"\", NOT(J1206=\"\")),IF(C1206< $W$10, 'Stap 1 - Jouw gegevens'!$C$22 *J1206*G1206 *C1206/B1206,  'Stap 1 - Jouw gegevens'!$C$22 * J1206*G1206 *$W$10/B1206), \"\")","v":""},"",null,"","","","","",""]
[null,null,null,null,null,null,null,"",{"$f":"IF(AND(L1207 = \"\", NOT(H1207=\"\")),IF(C1207< $W$10, (H1207 *G1207 * (C1207/B1207) * 'Stap 1 - Jouw gegevens'!$C$18), (H1207 *G1207 *'Stap 1 - Jouw gegevens'!$C$18 * ($W$10/B1207))), \"\")","v":""},"",{"$f":"IF(AND(L1207 = \"\", NOT(J1207=\"\")),IF(C1207< $W$10, 'Stap 1 - Jouw gegevens'!$C$22 *J1207*G1207 *C1207/B1207,  'Stap 1 - Jouw gegevens'!$C$22 * J1207*G1207 *$W$10/B1207), \"\")","v":""},"",null,"","","","","",""]
[null,null,null,null,null,null,null,"",{"$f":"IF(AND(L1208 = \"\", NOT(H1208=\"\")),IF(C1208< $W$10, (H1208 *G1208 * (C1208/B1208) * 'Stap 1 - Jouw gegevens'!$C$18), (H1208 *G1208 *'Stap 1 - Jouw gegevens'!$C$18 * ($W$10/B1208))), \"\")","v":""},"",{"$f":"IF(AND(L1208 = \"\", NOT(J1208=\"\")),IF(C1208< $W$10, 'Stap 1 - Jouw gegevens'!$C$22 *J1208*G1208 *C1208/B1208,  'Stap 1 - Jouw gegevens'!$C$22 * J1208*G1208 *$W$10/B1208), \"\")","v":""},"",null,"","","","","",""]
[null,null,null,null,null,null,null,"",{"$f":"IF(AND(L1209 = \"\", NOT(H1209=\"\")),IF(C1209< $W$10, (H1209 *G1209 * (C1209/B1209) * 'Stap 1 - Jouw gegevens'!$C$18), (H1209 *G1209 *'Stap 1 - Jouw gegevens'!$C$18 * ($W$10/B1209))), \"\")","v":""},"",{"$f":"IF(AND(L1209 = \"\", NOT(J1209=\"\")),IF(C1209< $W$10, 'Stap 1 - Jouw gegevens'!$C$22 *J1209*G1209 *C1209/B1209,  'Stap 1 - Jouw gegevens'!$C$22 * J1209*G1209 *$W$10/B1209), \"\")","v":""},"",null,"","","","","",""]
[null,null,null,null,null,null,null,"",{"$f":"IF(AND(L1210 = \"\", NOT(H1210=\"\")),IF(C1210< $W$10, (H1210 *G1210 * (C1210/B1210) * 'Stap 1 - Jouw gegevens'!$C$18), (H1210 *G1210 *'Stap 1 - Jouw gegevens'!$C$18 * ($W$10/B1210))), \"\")","v":""},"",{"$f":"IF(AND(L1210 = \"\", NOT(J1210=\"\")),IF(C1210< $W$10, 'Stap 1 - Jouw gegevens'!$C$22 *J1210*G1210 *C1210/B1210,  'Stap 1 - Jouw gegevens'!$C$22 * J1210*G1210 *$W$10/B1210), \"\")","v":""},"",null,"","","","","",""]
[null,null,null,null,null,null,null,"",{"$f":"IF(AND(L1211 = \"\", NOT(H1211=\"\")),IF(C1211< $W$10, (H1211 *G1211 * (C1211/B1211) * 'Stap 1 - Jouw gegevens'!$C$18), (H1211 *G1211 *'Stap 1 - Jouw gegevens'!$C$18 * ($W$10/B1211))), \"\")","v":""},"",{"$f":"IF(AND(L1211 = \"\", NOT(J1211=\"\")),IF(C1211< $W$10, 'Stap 1 - Jouw gegevens'!$C$22 *J1211*G1211 *C1211/B1211,  'Stap 1 - Jouw gegevens'!$C$22 * J1211*G1211 *$W$10/B1211), \"\")","v":""},"",null,"","","","","",""]
[null,null,null,null,null,null,null,"",{"$f":"IF(AND(L1212 = \"\", NOT(H1212=\"\")),IF(C1212< $W$10, (H1212 *G1212 * (C1212/B1212) * 'Stap 1 - Jouw gegevens'!$C$18), (H1212 *G1212 *'Stap 1 - Jouw gegevens'!$C$18 * ($W$10/B1212))), \"\")","v":""},"",{"$f":"IF(AND(L1212 = \"\", NOT(J1212=\"\")),IF(C1212< $W$10, 'Stap 1 - Jouw gegevens'!$C$22 *J1212*G1212 *C1212/B1212,  'Stap 1 - Jouw gegevens'!$C$22 * J1212*G1212 *$W$10/B1212), \"\")","v":""},"",null,"","","","","",""]
[null,null,null,null,null,null,null,"",{"$f":"IF(AND(L1213 = \"\", NOT(H1213=\"\")),IF(C1213< $W$10, (H1213 *G1213 * (C1213/B1213) * 'Stap 1 - Jouw gegevens'!$C$18), (H1213 *G1213 *'Stap 1 - Jouw gegevens'!$C$18 * ($W$10/B1213))), \"\")","v":""},"",{"$f":"IF(AND(L1213 = \"\", NOT(J1213=\"\")),IF(C1213< $W$10, 'Stap 1 - Jouw gegevens'!$C$22 *J1213*G1213 *C1213/B1213,  'Stap 1 - Jouw gegevens'!$C$22 * J1213*G1213 *$W$10/B1213), \"\")","v":""},"",null,"","","","","",""]
[null,null,null,null,null,null,null,"",{"$f":"IF(AND(L1214 = \"\", NOT(H1214=\"\")),IF(C1214< $W$10, (H1214 *G1214 * (C1214/B1214) * 'Stap 1 - Jouw gegevens'!$C$18), (H1214 *G1214 *'Stap 1 - Jouw gegevens'!$C$18 * ($W$10/B1214))), \"\")","v":""},"",{"$f":"IF(AND(L1214 = \"\", NOT(J1214=\"\")),IF(C1214< $W$10, 'Stap 1 - Jouw gegevens'!$C$22 *J1214*G1214 *C1214/B1214,  'Stap 1 - Jouw gegevens'!$C$22 * J1214*G1214 *$W$10/B1214), \"\")","v":""},"",null,"","","","","",""]
[null,null,null,null,null,null,null,"",{"$f":"IF(AND(L1215 = \"\", NOT(H1215=\"\")),IF(C1215< $W$10, (H1215 *G1215 * (C1215/B1215) * 'Stap 1 - Jouw gegevens'!$C$18), (H1215 *G1215 *'Stap 1 - Jouw gegevens'!$C$18 * ($W$10/B1215))), \"\")","v":""},"",{"$f":"IF(AND(L1215 = \"\", NOT(J1215=\"\")),IF(C1215< $W$10, 'Stap 1 - Jouw gegevens'!$C$22 *J1215*G1215 *C1215/B1215,  'Stap 1 - Jouw gegevens'!$C$22 * J1215*G1215 *$W$10/B1215), \"\")","v":""},"",null,"","","","","",""]
[null,null,null,null,null,null,null,"",{"$f":"IF(AND(L1216 = \"\", NOT(H1216=\"\")),IF(C1216< $W$10, (H1216 *G1216 * (C1216/B1216) * 'Stap 1 - Jouw gegevens'!$C$18), (H1216 *G1216 *'Stap 1 - Jouw gegevens'!$C$18 * ($W$10/B1216))), \"\")","v":""},"",{"$f":"IF(AND(L1216 = \"\", NOT(J1216=\"\")),IF(C1216< $W$10, 'Stap 1 - Jouw gegevens'!$C$22 *J1216*G1216 *C1216/B1216,  'Stap 1 - Jouw gegevens'!$C$22 * J1216*G1216 *$W$10/B1216), \"\")","v":""},"",null,"","","","","",""]
[null,null,null,null,null,null,null,"",{"$f":"IF(AND(L1217 = \"\", NOT(H1217=\"\")),IF(C1217< $W$10, (H1217 *G1217 * (C1217/B1217) * 'Stap 1 - Jouw gegevens'!$C$18), (H1217 *G1217 *'Stap 1 - Jouw gegevens'!$C$18 * ($W$10/B1217))), \"\")","v":""},"",{"$f":"IF(AND(L1217 = \"\", NOT(J1217=\"\")),IF(C1217< $W$10, 'Stap 1 - Jouw gegevens'!$C$22 *J1217*G1217 *C1217/B1217,  'Stap 1 - Jouw gegevens'!$C$22 * J1217*G1217 *$W$10/B1217), \"\")","v":""},"",null,"","","","","",""]
[null,null,null,null,null,null,null,"",{"$f":"IF(AND(L1218 = \"\", NOT(H1218=\"\")),IF(C1218< $W$10, (H1218 *G1218 * (C1218/B1218) * 'Stap 1 - Jouw gegevens'!$C$18), (H1218 *G1218 *'Stap 1 - Jouw gegevens'!$C$18 * ($W$10/B1218))), \"\")","v":""},"",{"$f":"IF(AND(L1218 = \"\", NOT(J1218=\"\")),IF(C1218< $W$10, 'Stap 1 - Jouw gegevens'!$C$22 *J1218*G1218 *C1218/B1218,  'Stap 1 - Jouw gegevens'!$C$22 * J1218*G1218 *$W$10/B1218), \"\")","v":""},"",null,"","","","","",""]
[null,null,null,null,null,null,null,"",{"$f":"IF(AND(L1219 = \"\", NOT(H1219=\"\")),IF(C1219< $W$10, (H1219 *G1219 * (C1219/B1219) * 'Stap 1 - Jouw gegevens'!$C$18), (H1219 *G1219 *'Stap 1 - Jouw gegevens'!$C$18 * ($W$10/B1219))), \"\")","v":""},"",{"$f":"IF(AND(L1219 = \"\", NOT(J1219=\"\")),IF(C1219< $W$10, 'Stap 1 - Jouw gegevens'!$C$22 *J1219*G1219 *C1219/B1219,  'Stap 1 - Jouw gegevens'!$C$22 * J1219*G1219 *$W$10/B1219), \"\")","v":""},"",null,"","","","","",""]
[null,null,null,null,null,null,null,"",{"$f":"IF(AND(L1220 = \"\", NOT(H1220=\"\")),IF(C1220< $W$10, (H1220 *G1220 * (C1220/B1220) * 'Stap 1 - Jouw gegevens'!$C$18), (H1220 *G1220 *'Stap 1 - Jouw gegevens'!$C$18 * ($W$10/B1220))), \"\")","v":""},"",{"$f":"IF(AND(L1220 = \"\", NOT(J1220=\"\")),IF(C1220< $W$10, 'Stap 1 - Jouw gegevens'!$C$22 *J1220*G1220 *C1220/B1220,  'Stap 1 - Jouw gegevens'!$C$22 * J1220*G1220 *$W$10/B1220), \"\")","v":""},"",null,"","","","","",""]
[null,null,null,null,null,null,null,"",{"$f":"IF(AND(L1221 = \"\", NOT(H1221=\"\")),IF(C1221< $W$10, (H1221 *G1221 * (C1221/B1221) * 'Stap 1 - Jouw gegevens'!$C$18), (H1221 *G1221 *'Stap 1 - Jouw gegevens'!$C$18 * ($W$10/B1221))), \"\")","v":""},"",{"$f":"IF(AND(L1221 = \"\", NOT(J1221=\"\")),IF(C1221< $W$10, 'Stap 1 - Jouw gegevens'!$C$22 *J1221*G1221 *C1221/B1221,  'Stap 1 - Jouw gegevens'!$C$22 * J1221*G1221 *$W$10/B1221), \"\")","v":""},"",null,"","","","","",""]
[null,null,null,null,null,null,null,"",{"$f":"IF(AND(L1222 = \"\", NOT(H1222=\"\")),IF(C1222< $W$10, (H1222 *G1222 * (C1222/B1222) * 'Stap 1 - Jouw gegevens'!$C$18), (H1222 *G1222 *'Stap 1 - Jouw gegevens'!$C$18 * ($W$10/B1222))), \"\")","v":""},"",{"$f":"IF(AND(L1222 = \"\", NOT(J1222=\"\")),IF(C1222< $W$10, 'Stap 1 - Jouw gegevens'!$C$22 *J1222*G1222 *C1222/B1222,  'Stap 1 - Jouw gegevens'!$C$22 * J1222*G1222 *$W$10/B1222), \"\")","v":""},"",null,"","","","","",""]
[null,null,null,null,null,null,null,"",{"$f":"IF(AND(L1223 = \"\", NOT(H1223=\"\")),IF(C1223< $W$10, (H1223 *G1223 * (C1223/B1223) * 'Stap 1 - Jouw gegevens'!$C$18), (H1223 *G1223 *'Stap 1 - Jouw gegevens'!$C$18 * ($W$10/B1223))), \"\")","v":""},"",{"$f":"IF(AND(L1223 = \"\", NOT(J1223=\"\")),IF(C1223< $W$10, 'Stap 1 - Jouw gegevens'!$C$22 *J1223*G1223 *C1223/B1223,  'Stap 1 - Jouw gegevens'!$C$22 * J1223*G1223 *$W$10/B1223), \"\")","v":""},"",null,"","","","","",""]
[null,null,null,null,null,null,null,{"$f":"P1224","v":""},{"$f":"IF(AND(L1224 = \"\", NOT(H1224=\"\")),IF(C1224< $W$10, (H1224 *G1224 * (C1224/B1224) * 'Stap 1 - Jouw gegevens'!$C$18), (H1224 *G1224 *'Stap 1 - Jouw gegevens'!$C$18 * ($W$10/B1224))), \"\")","v":""},{"$f":"S1224","v":""},{"$f":"IF(AND(L1224 = \"\", NOT(J1224=\"\")),IF(C1224< $W$10, 'Stap 1 - Jouw gegevens'!$C$22 *J1224*G1224 *C1224/B1224,  'Stap 1 - Jouw gegevens'!$C$22 * J1224*G1224 *$W$10/B1224), \"\")","v":""},{"$f":"IF(ISBLANK(A1224), \"\", CONCATENATE(IF(Z1224 = \"X\", $AH$5, \"\"), IF( AB1224 = \"X\", $AH$7, \"\"), IF( AC1224 = \"X\", $AH$8, \"\"), IF( AD1224 = \"X\", $AH$9, \"\"), IF( AE1224 = \"X\", $AH$10, \"\"),  IF( AF1224 = \"X\", $AH$11, \"\")))","v":""},null,{"$f":"IF(ISBLANK(D1224),\"\",NETWORKDAYS(D1224,F1224))","v":""},{"$f":"IFERROR( IF(N1224>$Y$5,NETWORKDAYS(E1224, (Q1224 - 1)), NETWORKDAYS(E1224,(F1224-1))), \"\")","v":""},{"$f":"IF(O1224<= 0, \"\", O1224)","v":""},{"$f":"IF(ISBLANK(D1224),\"\",DATE(YEAR(D1224)+1,MONTH(D1224),DAY(D1224)))","v":""},{"$f":"IFERROR(IF(N1224 > $Y$5, IF(E1224>=Q1224,NETWORKDAYS(E1224, (F1224-1)), NETWORKDAYS(Q1224, (F1224-1))), \"\"), \"\")","v":""},{"$f":"IF(R1224=\"\", \"\",  IF(R1224 >= $Y$5, $Y$5,  R1224))","v":""}]
[null,null,null,null,null,null,null,"",{"$f":"IF(AND(L1225 = \"\", NOT(H1225=\"\")),IF(C1225< $W$10, (H1225 *G1225 * (C1225/B1225) * 'Stap 1 - Jouw gegevens'!$C$18), (H1225 *G1225 *'Stap 1 - Jouw gegevens'!$C$18 * ($W$10/B1225))), \"\")","v":""},"",{"$f":"IF(AND(L1225 = \"\", NOT(J1225=\"\")),IF(C1225< $W$10, 'Stap 1 - Jouw gegevens'!$C$22 *J1225*G1225 *C1225/B1225,  'Stap 1 - Jouw gegevens'!$C$22 * J1225*G1225 *$W$10/B1225), \"\")","v":""},"",null,"","","","","",""]
[null,null,null,null,null,null,null,"",{"$f":"IF(AND(L1226 = \"\", NOT(H1226=\"\")),IF(C1226< $W$10, (H1226 *G1226 * (C1226/B1226) * 'Stap 1 - Jouw gegevens'!$C$18), (H1226 *G1226 *'Stap 1 - Jouw gegevens'!$C$18 * ($W$10/B1226))), \"\")","v":""},"",{"$f":"IF(AND(L1226 = \"\", NOT(J1226=\"\")),IF(C1226< $W$10, 'Stap 1 - Jouw gegevens'!$C$22 *J1226*G1226 *C1226/B1226,  'Stap 1 - Jouw gegevens'!$C$22 * J1226*G1226 *$W$10/B1226), \"\")","v":""},"",null,"","","","","",""]
[null,null,null,null,null,null,null,"",{"$f":"IF(AND(L1227 = \"\", NOT(H1227=\"\")),IF(C1227< $W$10, (H1227 *G1227 * (C1227/B1227) * 'Stap 1 - Jouw gegevens'!$C$18), (H1227 *G1227 *'Stap 1 - Jouw gegevens'!$C$18 * ($W$10/B1227))), \"\")","v":""},"",{"$f":"IF(AND(L1227 = \"\", NOT(J1227=\"\")),IF(C1227< $W$10, 'Stap 1 - Jouw gegevens'!$C$22 *J1227*G1227 *C1227/B1227,  'Stap 1 - Jouw gegevens'!$C$22 * J1227*G1227 *$W$10/B1227), \"\")","v":""},"",null,"","","","","",""]
[null,null,null,null,null,null,null,"",{"$f":"IF(AND(L1228 = \"\", NOT(H1228=\"\")),IF(C1228< $W$10, (H1228 *G1228 * (C1228/B1228) * 'Stap 1 - Jouw gegevens'!$C$18), (H1228 *G1228 *'Stap 1 - Jouw gegevens'!$C$18 * ($W$10/B1228))), \"\")","v":""},"",{"$f":"IF(AND(L1228 = \"\", NOT(J1228=\"\")),IF(C1228< $W$10, 'Stap 1 - Jouw gegevens'!$C$22 *J1228*G1228 *C1228/B1228,  'Stap 1 - Jouw gegevens'!$C$22 * J1228*G1228 *$W$10/B1228), \"\")","v":""},"",null,"","","","","",""]
[null,null,null,null,null,null,null,"",{"$f":"IF(AND(L1229 = \"\", NOT(H1229=\"\")),IF(C1229< $W$10, (H1229 *G1229 * (C1229/B1229) * 'Stap 1 - Jouw gegevens'!$C$18), (H1229 *G1229 *'Stap 1 - Jouw gegevens'!$C$18 * ($W$10/B1229))), \"\")","v":""},"",{"$f":"IF(AND(L1229 = \"\", NOT(J1229=\"\")),IF(C1229< $W$10, 'Stap 1 - Jouw gegevens'!$C$22 *J1229*G1229 *C1229/B1229,  'Stap 1 - Jouw gegevens'!$C$22 * J1229*G1229 *$W$10/B1229), \"\")","v":""},"",null,"","","","","",""]
[null,null,null,null,null,null,null,"",{"$f":"IF(AND(L1230 = \"\", NOT(H1230=\"\")),IF(C1230< $W$10, (H1230 *G1230 * (C1230/B1230) * 'Stap 1 - Jouw gegevens'!$C$18), (H1230 *G1230 *'Stap 1 - Jouw gegevens'!$C$18 * ($W$10/B1230))), \"\")","v":""},"",{"$f":"IF(AND(L1230 = \"\", NOT(J1230=\"\")),IF(C1230< $W$10, 'Stap 1 - Jouw gegevens'!$C$22 *J1230*G1230 *C1230/B1230,  'Stap 1 - Jouw gegevens'!$C$22 * J1230*G1230 *$W$10/B1230), \"\")","v":""},"",null,"","","","","",""]
[null,null,null,null,null,null,null,"",{"$f":"IF(AND(L1231 = \"\", NOT(H1231=\"\")),IF(C1231< $W$10, (H1231 *G1231 * (C1231/B1231) * 'Stap 1 - Jouw gegevens'!$C$18), (H1231 *G1231 *'Stap 1 - Jouw gegevens'!$C$18 * ($W$10/B1231))), \"\")","v":""},"",{"$f":"IF(AND(L1231 = \"\", NOT(J1231=\"\")),IF(C1231< $W$10, 'Stap 1 - Jouw gegevens'!$C$22 *J1231*G1231 *C1231/B1231,  'Stap 1 - Jouw gegevens'!$C$22 * J1231*G1231 *$W$10/B1231), \"\")","v":""},"",null,"","","","","",""]
[null,null,null,null,null,null,null,"",{"$f":"IF(AND(L1232 = \"\", NOT(H1232=\"\")),IF(C1232< $W$10, (H1232 *G1232 * (C1232/B1232) * 'Stap 1 - Jouw gegevens'!$C$18), (H1232 *G1232 *'Stap 1 - Jouw gegevens'!$C$18 * ($W$10/B1232))), \"\")","v":""},"",{"$f":"IF(AND(L1232 = \"\", NOT(J1232=\"\")),IF(C1232< $W$10, 'Stap 1 - Jouw gegevens'!$C$22 *J1232*G1232 *C1232/B1232,  'Stap 1 - Jouw gegevens'!$C$22 * J1232*G1232 *$W$10/B1232), \"\")","v":""},"",null,"","","","","",""]
[null,null,null,null,null,null,null,"",{"$f":"IF(AND(L1233 = \"\", NOT(H1233=\"\")),IF(C1233< $W$10, (H1233 *G1233 * (C1233/B1233) * 'Stap 1 - Jouw gegevens'!$C$18), (H1233 *G1233 *'Stap 1 - Jouw gegevens'!$C$18 * ($W$10/B1233))), \"\")","v":""},"",{"$f":"IF(AND(L1233 = \"\", NOT(J1233=\"\")),IF(C1233< $W$10, 'Stap 1 - Jouw gegevens'!$C$22 *J1233*G1233 *C1233/B1233,  'Stap 1 - Jouw gegevens'!$C$22 * J1233*G1233 *$W$10/B1233), \"\")","v":""},"",null,"","","","","",""]
[null,null,null,null,null,null,null,"",{"$f":"IF(AND(L1234 = \"\", NOT(H1234=\"\")),IF(C1234< $W$10, (H1234 *G1234 * (C1234/B1234) * 'Stap 1 - Jouw gegevens'!$C$18), (H1234 *G1234 *'Stap 1 - Jouw gegevens'!$C$18 * ($W$10/B1234))), \"\")","v":""},"",{"$f":"IF(AND(L1234 = \"\", NOT(J1234=\"\")),IF(C1234< $W$10, 'Stap 1 - Jouw gegevens'!$C$22 *J1234*G1234 *C1234/B1234,  'Stap 1 - Jouw gegevens'!$C$22 * J1234*G1234 *$W$10/B1234), \"\")","v":""},"",null,"","","","","",""]
[null,null,null,null,null,null,null,"",{"$f":"IF(AND(L1235 = \"\", NOT(H1235=\"\")),IF(C1235< $W$10, (H1235 *G1235 * (C1235/B1235) * 'Stap 1 - Jouw gegevens'!$C$18), (H1235 *G1235 *'Stap 1 - Jouw gegevens'!$C$18 * ($W$10/B1235))), \"\")","v":""},"",{"$f":"IF(AND(L1235 = \"\", NOT(J1235=\"\")),IF(C1235< $W$10, 'Stap 1 - Jouw gegevens'!$C$22 *J1235*G1235 *C1235/B1235,  'Stap 1 - Jouw gegevens'!$C$22 * J1235*G1235 *$W$10/B1235), \"\")","v":""},"",null,"","","","","",""]
[null,null,null,null,null,null,null,"",{"$f":"IF(AND(L1236 = \"\", NOT(H1236=\"\")),IF(C1236< $W$10, (H1236 *G1236 * (C1236/B1236) * 'Stap 1 - Jouw gegevens'!$C$18), (H1236 *G1236 *'Stap 1 - Jouw gegevens'!$C$18 * ($W$10/B1236))), \"\")","v":""},"",{"$f":"IF(AND(L1236 = \"\", NOT(J1236=\"\")),IF(C1236< $W$10, 'Stap 1 - Jouw gegevens'!$C$22 *J1236*G1236 *C1236/B1236,  'Stap 1 - Jouw gegevens'!$C$22 * J1236*G1236 *$W$10/B1236), \"\")","v":""},"",null,"","","","","",""]
[null,null,null,null,null,null,null,"",{"$f":"IF(AND(L1237 = \"\", NOT(H1237=\"\")),IF(C1237< $W$10, (H1237 *G1237 * (C1237/B1237) * 'Stap 1 - Jouw gegevens'!$C$18), (H1237 *G1237 *'Stap 1 - Jouw gegevens'!$C$18 * ($W$10/B1237))), \"\")","v":""},"",{"$f":"IF(AND(L1237 = \"\", NOT(J1237=\"\")),IF(C1237< $W$10, 'Stap 1 - Jouw gegevens'!$C$22 *J1237*G1237 *C1237/B1237,  'Stap 1 - Jouw gegevens'!$C$22 * J1237*G1237 *$W$10/B1237), \"\")","v":""},"",null,"","","","","",""]
[null,null,null,null,null,null,null,"",{"$f":"IF(AND(L1238 = \"\", NOT(H1238=\"\")),IF(C1238< $W$10, (H1238 *G1238 * (C1238/B1238) * 'Stap 1 - Jouw gegevens'!$C$18), (H1238 *G1238 *'Stap 1 - Jouw gegevens'!$C$18 * ($W$10/B1238))), \"\")","v":""},"",{"$f":"IF(AND(L1238 = \"\", NOT(J1238=\"\")),IF(C1238< $W$10, 'Stap 1 - Jouw gegevens'!$C$22 *J1238*G1238 *C1238/B1238,  'Stap 1 - Jouw gegevens'!$C$22 * J1238*G1238 *$W$10/B1238), \"\")","v":""},"",null,"","","","","",""]
[null,null,null,null,null,null,null,"",{"$f":"IF(AND(L1239 = \"\", NOT(H1239=\"\")),IF(C1239< $W$10, (H1239 *G1239 * (C1239/B1239) * 'Stap 1 - Jouw gegevens'!$C$18), (H1239 *G1239 *'Stap 1 - Jouw gegevens'!$C$18 * ($W$10/B1239))), \"\")","v":""},"",{"$f":"IF(AND(L1239 = \"\", NOT(J1239=\"\")),IF(C1239< $W$10, 'Stap 1 - Jouw gegevens'!$C$22 *J1239*G1239 *C1239/B1239,  'Stap 1 - Jouw gegevens'!$C$22 * J1239*G1239 *$W$10/B1239), \"\")","v":""},"",null,"","","","","",""]
[null,null,null,null,null,null,null,"",{"$f":"IF(AND(L1240 = \"\", NOT(H1240=\"\")),IF(C1240< $W$10, (H1240 *G1240 * (C1240/B1240) * 'Stap 1 - Jouw gegevens'!$C$18), (H1240 *G1240 *'Stap 1 - Jouw gegevens'!$C$18 * ($W$10/B1240))), \"\")","v":""},"",{"$f":"IF(AND(L1240 = \"\", NOT(J1240=\"\")),IF(C1240< $W$10, 'Stap 1 - Jouw gegevens'!$C$22 *J1240*G1240 *C1240/B1240,  'Stap 1 - Jouw gegevens'!$C$22 * J1240*G1240 *$W$10/B1240), \"\")","v":""},"",null,"","","","","",""]
[null,null,null,null,null,null,null,"",{"$f":"IF(AND(L1241 = \"\", NOT(H1241=\"\")),IF(C1241< $W$10, (H1241 *G1241 * (C1241/B1241) * 'Stap 1 - Jouw gegevens'!$C$18), (H1241 *G1241 *'Stap 1 - Jouw gegevens'!$C$18 * ($W$10/B1241))), \"\")","v":""},"",{"$f":"IF(AND(L1241 = \"\", NOT(J1241=\"\")),IF(C1241< $W$10, 'Stap 1 - Jouw gegevens'!$C$22 *J1241*G1241 *C1241/B1241,  'Stap 1 - Jouw gegevens'!$C$22 * J1241*G1241 *$W$10/B1241), \"\")","v":""},"",null,"","","","","",""]
[null,null,null,null,null,null,null,"",{"$f":"IF(AND(L1242 = \"\", NOT(H1242=\"\")),IF(C1242< $W$10, (H1242 *G1242 * (C1242/B1242) * 'Stap 1 - Jouw gegevens'!$C$18), (H1242 *G1242 *'Stap 1 - Jouw gegevens'!$C$18 * ($W$10/B1242))), \"\")","v":""},"",{"$f":"IF(AND(L1242 = \"\", NOT(J1242=\"\")),IF(C1242< $W$10, 'Stap 1 - Jouw gegevens'!$C$22 *J1242*G1242 *C1242/B1242,  'Stap 1 - Jouw gegevens'!$C$22 * J1242*G1242 *$W$10/B1242), \"\")","v":""},"",null,"","","","","",""]
[null,null,null,null,null,null,null,"",{"$f":"IF(AND(L1243 = \"\", NOT(H1243=\"\")),IF(C1243< $W$10, (H1243 *G1243 * (C1243/B1243) * 'Stap 1 - Jouw gegevens'!$C$18), (H1243 *G1243 *'Stap 1 - Jouw gegevens'!$C$18 * ($W$10/B1243))), \"\")","v":""},"",{"$f":"IF(AND(L1243 = \"\", NOT(J1243=\"\")),IF(C1243< $W$10, 'Stap 1 - Jouw gegevens'!$C$22 *J1243*G1243 *C1243/B1243,  'Stap 1 - Jouw gegevens'!$C$22 * J1243*G1243 *$W$10/B1243), \"\")","v":""},"",null,"","","","","",""]
[null,null,null,null,null,null,null,"",{"$f":"IF(AND(L1244 = \"\", NOT(H1244=\"\")),IF(C1244< $W$10, (H1244 *G1244 * (C1244/B1244) * 'Stap 1 - Jouw gegevens'!$C$18), (H1244 *G1244 *'Stap 1 - Jouw gegevens'!$C$18 * ($W$10/B1244))), \"\")","v":""},"",{"$f":"IF(AND(L1244 = \"\", NOT(J1244=\"\")),IF(C1244< $W$10, 'Stap 1 - Jouw gegevens'!$C$22 *J1244*G1244 *C1244/B1244,  'Stap 1 - Jouw gegevens'!$C$22 * J1244*G1244 *$W$10/B1244), \"\")","v":""},"",null,"","","","","",""]
[null,null,null,null,null,null,null,"",{"$f":"IF(AND(L1245 = \"\", NOT(H1245=\"\")),IF(C1245< $W$10, (H1245 *G1245 * (C1245/B1245) * 'Stap 1 - Jouw gegevens'!$C$18), (H1245 *G1245 *'Stap 1 - Jouw gegevens'!$C$18 * ($W$10/B1245))), \"\")","v":""},"",{"$f":"IF(AND(L1245 = \"\", NOT(J1245=\"\")),IF(C1245< $W$10, 'Stap 1 - Jouw gegevens'!$C$22 *J1245*G1245 *C1245/B1245,  'Stap 1 - Jouw gegevens'!$C$22 * J1245*G1245 *$W$10/B1245), \"\")","v":""},"",null,"","","","","",""]
[null,null,null,null,null,null,null,"",{"$f":"IF(AND(L1246 = \"\", NOT(H1246=\"\")),IF(C1246< $W$10, (H1246 *G1246 * (C1246/B1246) * 'Stap 1 - Jouw gegevens'!$C$18), (H1246 *G1246 *'Stap 1 - Jouw gegevens'!$C$18 * ($W$10/B1246))), \"\")","v":""},"",{"$f":"IF(AND(L1246 = \"\", NOT(J1246=\"\")),IF(C1246< $W$10, 'Stap 1 - Jouw gegevens'!$C$22 *J1246*G1246 *C1246/B1246,  'Stap 1 - Jouw gegevens'!$C$22 * J1246*G1246 *$W$10/B1246), \"\")","v":""},"",null,"","","","","",""]
[null,null,null,null,null,null,null,"",{"$f":"IF(AND(L1247 = \"\", NOT(H1247=\"\")),IF(C1247< $W$10, (H1247 *G1247 * (C1247/B1247) * 'Stap 1 - Jouw gegevens'!$C$18), (H1247 *G1247 *'Stap 1 - Jouw gegevens'!$C$18 * ($W$10/B1247))), \"\")","v":""},"",{"$f":"IF(AND(L1247 = \"\", NOT(J1247=\"\")),IF(C1247< $W$10, 'Stap 1 - Jouw gegevens'!$C$22 *J1247*G1247 *C1247/B1247,  'Stap 1 - Jouw gegevens'!$C$22 * J1247*G1247 *$W$10/B1247), \"\")","v":""},"",null,"","","","","",""]
[null,null,null,null,null,null,null,"",{"$f":"IF(AND(L1248 = \"\", NOT(H1248=\"\")),IF(C1248< $W$10, (H1248 *G1248 * (C1248/B1248) * 'Stap 1 - Jouw gegevens'!$C$18), (H1248 *G1248 *'Stap 1 - Jouw gegevens'!$C$18 * ($W$10/B1248))), \"\")","v":""},"",{"$f":"IF(AND(L1248 = \"\", NOT(J1248=\"\")),IF(C1248< $W$10, 'Stap 1 - Jouw gegevens'!$C$22 *J1248*G1248 *C1248/B1248,  'Stap 1 - Jouw gegevens'!$C$22 * J1248*G1248 *$W$10/B1248), \"\")","v":""},"",null,"","","","","",""]
[null,null,null,null,null,null,null,"",{"$f":"IF(AND(L1249 = \"\", NOT(H1249=\"\")),IF(C1249< $W$10, (H1249 *G1249 * (C1249/B1249) * 'Stap 1 - Jouw gegevens'!$C$18), (H1249 *G1249 *'Stap 1 - Jouw gegevens'!$C$18 * ($W$10/B1249))), \"\")","v":""},"",{"$f":"IF(AND(L1249 = \"\", NOT(J1249=\"\")),IF(C1249< $W$10, 'Stap 1 - Jouw gegevens'!$C$22 *J1249*G1249 *C1249/B1249,  'Stap 1 - Jouw gegevens'!$C$22 * J1249*G1249 *$W$10/B1249), \"\")","v":""},"",null,"","","","","",""]
[null,null,null,null,null,null,null,"",{"$f":"IF(AND(L1250 = \"\", NOT(H1250=\"\")),IF(C1250< $W$10, (H1250 *G1250 * (C1250/B1250) * 'Stap 1 - Jouw gegevens'!$C$18), (H1250 *G1250 *'Stap 1 - Jouw gegevens'!$C$18 * ($W$10/B1250))), \"\")","v":""},"",{"$f":"IF(AND(L1250 = \"\", NOT(J1250=\"\")),IF(C1250< $W$10, 'Stap 1 - Jouw gegevens'!$C$22 *J1250*G1250 *C1250/B1250,  'Stap 1 - Jouw gegevens'!$C$22 * J1250*G1250 *$W$10/B1250), \"\")","v":""},"",null,"","","","","",""]
[null,null,null,null,null,null,null,"",{"$f":"IF(AND(L1251 = \"\", NOT(H1251=\"\")),IF(C1251< $W$10, (H1251 *G1251 * (C1251/B1251) * 'Stap 1 - Jouw gegevens'!$C$18), (H1251 *G1251 *'Stap 1 - Jouw gegevens'!$C$18 * ($W$10/B1251))), \"\")","v":""},"",{"$f":"IF(AND(L1251 = \"\", NOT(J1251=\"\")),IF(C1251< $W$10, 'Stap 1 - Jouw gegevens'!$C$22 *J1251*G1251 *C1251/B1251,  'Stap 1 - Jouw gegevens'!$C$22 * J1251*G1251 *$W$10/B1251), \"\")","v":""},"",null,"","","","","",""]
[null,null,null,null,null,null,null,"",{"$f":"IF(AND(L1252 = \"\", NOT(H1252=\"\")),IF(C1252< $W$10, (H1252 *G1252 * (C1252/B1252) * 'Stap 1 - Jouw gegevens'!$C$18), (H1252 *G1252 *'Stap 1 - Jouw gegevens'!$C$18 * ($W$10/B1252))), \"\")","v":""},"",{"$f":"IF(AND(L1252 = \"\", NOT(J1252=\"\")),IF(C1252< $W$10, 'Stap 1 - Jouw gegevens'!$C$22 *J1252*G1252 *C1252/B1252,  'Stap 1 - Jouw gegevens'!$C$22 * J1252*G1252 *$W$10/B1252), \"\")","v":""},"",null,"","","","","",""]
[null,null,null,null,null,null,null,"",{"$f":"IF(AND(L1253 = \"\", NOT(H1253=\"\")),IF(C1253< $W$10, (H1253 *G1253 * (C1253/B1253) * 'Stap 1 - Jouw gegevens'!$C$18), (H1253 *G1253 *'Stap 1 - Jouw gegevens'!$C$18 * ($W$10/B1253))), \"\")","v":""},"",{"$f":"IF(AND(L1253 = \"\", NOT(J1253=\"\")),IF(C1253< $W$10, 'Stap 1 - Jouw gegevens'!$C$22 *J1253*G1253 *C1253/B1253,  'Stap 1 - Jouw gegevens'!$C$22 * J1253*G1253 *$W$10/B1253), \"\")","v":""},"",null,"","","","","",""]
[null,null,null,null,null,null,null,"",{"$f":"IF(AND(L1254 = \"\", NOT(H1254=\"\")),IF(C1254< $W$10, (H1254 *G1254 * (C1254/B1254) * 'Stap 1 - Jouw gegevens'!$C$18), (H1254 *G1254 *'Stap 1 - Jouw gegevens'!$C$18 * ($W$10/B1254))), \"\")","v":""},"",{"$f":"IF(AND(L1254 = \"\", NOT(J1254=\"\")),IF(C1254< $W$10, 'Stap 1 - Jouw gegevens'!$C$22 *J1254*G1254 *C1254/B1254,  'Stap 1 - Jouw gegevens'!$C$22 * J1254*G1254 *$W$10/B1254), \"\")","v":""},"",null,"","","","","",""]
[null,null,null,null,null,null,null,"",{"$f":"IF(AND(L1255 = \"\", NOT(H1255=\"\")),IF(C1255< $W$10, (H1255 *G1255 * (C1255/B1255) * 'Stap 1 - Jouw gegevens'!$C$18), (H1255 *G1255 *'Stap 1 - Jouw gegevens'!$C$18 * ($W$10/B1255))), \"\")","v":""},"",{"$f":"IF(AND(L1255 = \"\", NOT(J1255=\"\")),IF(C1255< $W$10, 'Stap 1 - Jouw gegevens'!$C$22 *J1255*G1255 *C1255/B1255,  'Stap 1 - Jouw gegevens'!$C$22 * J1255*G1255 *$W$10/B1255), \"\")","v":""},"",null,"","","","","",""]
[null,null,null,null,null,null,null,"",{"$f":"IF(AND(L1256 = \"\", NOT(H1256=\"\")),IF(C1256< $W$10, (H1256 *G1256 * (C1256/B1256) * 'Stap 1 - Jouw gegevens'!$C$18), (H1256 *G1256 *'Stap 1 - Jouw gegevens'!$C$18 * ($W$10/B1256))), \"\")","v":""},"",{"$f":"IF(AND(L1256 = \"\", NOT(J1256=\"\")),IF(C1256< $W$10, 'Stap 1 - Jouw gegevens'!$C$22 *J1256*G1256 *C1256/B1256,  'Stap 1 - Jouw gegevens'!$C$22 * J1256*G1256 *$W$10/B1256), \"\")","v":""},"",null,"","","","","",""]
[null,null,null,null,null,null,null,"",{"$f":"IF(AND(L1257 = \"\", NOT(H1257=\"\")),IF(C1257< $W$10, (H1257 *G1257 * (C1257/B1257) * 'Stap 1 - Jouw gegevens'!$C$18), (H1257 *G1257 *'Stap 1 - Jouw gegevens'!$C$18 * ($W$10/B1257))), \"\")","v":""},"",{"$f":"IF(AND(L1257 = \"\", NOT(J1257=\"\")),IF(C1257< $W$10, 'Stap 1 - Jouw gegevens'!$C$22 *J1257*G1257 *C1257/B1257,  'Stap 1 - Jouw gegevens'!$C$22 * J1257*G1257 *$W$10/B1257), \"\")","v":""},"",null,"","","","","",""]
[null,null,null,null,null,null,null,"",{"$f":"IF(AND(L1258 = \"\", NOT(H1258=\"\")),IF(C1258< $W$10, (H1258 *G1258 * (C1258/B1258) * 'Stap 1 - Jouw gegevens'!$C$18), (H1258 *G1258 *'Stap 1 - Jouw gegevens'!$C$18 * ($W$10/B1258))), \"\")","v":""},"",{"$f":"IF(AND(L1258 = \"\", NOT(J1258=\"\")),IF(C1258< $W$10, 'Stap 1 - Jouw gegevens'!$C$22 *J1258*G1258 *C1258/B1258,  'Stap 1 - Jouw gegevens'!$C$22 * J1258*G1258 *$W$10/B1258), \"\")","v":""},"",null,"","","","","",""]
[null,null,null,null,null,null,null,"",{"$f":"IF(AND(L1259 = \"\", NOT(H1259=\"\")),IF(C1259< $W$10, (H1259 *G1259 * (C1259/B1259) * 'Stap 1 - Jouw gegevens'!$C$18), (H1259 *G1259 *'Stap 1 - Jouw gegevens'!$C$18 * ($W$10/B1259))), \"\")","v":""},"",{"$f":"IF(AND(L1259 = \"\", NOT(J1259=\"\")),IF(C1259< $W$10, 'Stap 1 - Jouw gegevens'!$C$22 *J1259*G1259 *C1259/B1259,  'Stap 1 - Jouw gegevens'!$C$22 * J1259*G1259 *$W$10/B1259), \"\")","v":""},"",null,"","","","","",""]
[null,null,null,null,null,null,null,"",{"$f":"IF(AND(L1260 = \"\", NOT(H1260=\"\")),IF(C1260< $W$10, (H1260 *G1260 * (C1260/B1260) * 'Stap 1 - Jouw gegevens'!$C$18), (H1260 *G1260 *'Stap 1 - Jouw gegevens'!$C$18 * ($W$10/B1260))), \"\")","v":""},"",{"$f":"IF(AND(L1260 = \"\", NOT(J1260=\"\")),IF(C1260< $W$10, 'Stap 1 - Jouw gegevens'!$C$22 *J1260*G1260 *C1260/B1260,  'Stap 1 - Jouw gegevens'!$C$22 * J1260*G1260 *$W$10/B1260), \"\")","v":""},"",null,"","","","","",""]
[null,null,null,null,null,null,null,"",{"$f":"IF(AND(L1261 = \"\", NOT(H1261=\"\")),IF(C1261< $W$10, (H1261 *G1261 * (C1261/B1261) * 'Stap 1 - Jouw gegevens'!$C$18), (H1261 *G1261 *'Stap 1 - Jouw gegevens'!$C$18 * ($W$10/B1261))), \"\")","v":""},"",{"$f":"IF(AND(L1261 = \"\", NOT(J1261=\"\")),IF(C1261< $W$10, 'Stap 1 - Jouw gegevens'!$C$22 *J1261*G1261 *C1261/B1261,  'Stap 1 - Jouw gegevens'!$C$22 * J1261*G1261 *$W$10/B1261), \"\")","v":""},"",null,"","","","","",""]
[null,null,null,null,null,null,null,"",{"$f":"IF(AND(L1262 = \"\", NOT(H1262=\"\")),IF(C1262< $W$10, (H1262 *G1262 * (C1262/B1262) * 'Stap 1 - Jouw gegevens'!$C$18), (H1262 *G1262 *'Stap 1 - Jouw gegevens'!$C$18 * ($W$10/B1262))), \"\")","v":""},"",{"$f":"IF(AND(L1262 = \"\", NOT(J1262=\"\")),IF(C1262< $W$10, 'Stap 1 - Jouw gegevens'!$C$22 *J1262*G1262 *C1262/B1262,  'Stap 1 - Jouw gegevens'!$C$22 * J1262*G1262 *$W$10/B1262), \"\")","v":""},"",null,"","","","","",""]
[null,null,null,null,null,null,null,"",{"$f":"IF(AND(L1263 = \"\", NOT(H1263=\"\")),IF(C1263< $W$10, (H1263 *G1263 * (C1263/B1263) * 'Stap 1 - Jouw gegevens'!$C$18), (H1263 *G1263 *'Stap 1 - Jouw gegevens'!$C$18 * ($W$10/B1263))), \"\")","v":""},"",{"$f":"IF(AND(L1263 = \"\", NOT(J1263=\"\")),IF(C1263< $W$10, 'Stap 1 - Jouw gegevens'!$C$22 *J1263*G1263 *C1263/B1263,  'Stap 1 - Jouw gegevens'!$C$22 * J1263*G1263 *$W$10/B1263), \"\")","v":""},"",null,"","","","","",""]
[null,null,null,null,null,null,null,"",{"$f":"IF(AND(L1264 = \"\", NOT(H1264=\"\")),IF(C1264< $W$10, (H1264 *G1264 * (C1264/B1264) * 'Stap 1 - Jouw gegevens'!$C$18), (H1264 *G1264 *'Stap 1 - Jouw gegevens'!$C$18 * ($W$10/B1264))), \"\")","v":""},"",{"$f":"IF(AND(L1264 = \"\", NOT(J1264=\"\")),IF(C1264< $W$10, 'Stap 1 - Jouw gegevens'!$C$22 *J1264*G1264 *C1264/B1264,  'Stap 1 - Jouw gegevens'!$C$22 * J1264*G1264 *$W$10/B1264), \"\")","v":""},"",null,"","","","","",""]
[null,null,null,null,null,null,null,"",{"$f":"IF(AND(L1265 = \"\", NOT(H1265=\"\")),IF(C1265< $W$10, (H1265 *G1265 * (C1265/B1265) * 'Stap 1 - Jouw gegevens'!$C$18), (H1265 *G1265 *'Stap 1 - Jouw gegevens'!$C$18 * ($W$10/B1265))), \"\")","v":""},"",{"$f":"IF(AND(L1265 = \"\", NOT(J1265=\"\")),IF(C1265< $W$10, 'Stap 1 - Jouw gegevens'!$C$22 *J1265*G1265 *C1265/B1265,  'Stap 1 - Jouw gegevens'!$C$22 * J1265*G1265 *$W$10/B1265), \"\")","v":""},"",null,"","","","","",""]
[null,null,null,null,null,null,null,"",{"$f":"IF(AND(L1266 = \"\", NOT(H1266=\"\")),IF(C1266< $W$10, (H1266 *G1266 * (C1266/B1266) * 'Stap 1 - Jouw gegevens'!$C$18), (H1266 *G1266 *'Stap 1 - Jouw gegevens'!$C$18 * ($W$10/B1266))), \"\")","v":""},"",{"$f":"IF(AND(L1266 = \"\", NOT(J1266=\"\")),IF(C1266< $W$10, 'Stap 1 - Jouw gegevens'!$C$22 *J1266*G1266 *C1266/B1266,  'Stap 1 - Jouw gegevens'!$C$22 * J1266*G1266 *$W$10/B1266), \"\")","v":""},"",null,"","","","","",""]
[null,null,null,null,null,null,null,"",{"$f":"IF(AND(L1267 = \"\", NOT(H1267=\"\")),IF(C1267< $W$10, (H1267 *G1267 * (C1267/B1267) * 'Stap 1 - Jouw gegevens'!$C$18), (H1267 *G1267 *'Stap 1 - Jouw gegevens'!$C$18 * ($W$10/B1267))), \"\")","v":""},"",{"$f":"IF(AND(L1267 = \"\", NOT(J1267=\"\")),IF(C1267< $W$10, 'Stap 1 - Jouw gegevens'!$C$22 *J1267*G1267 *C1267/B1267,  'Stap 1 - Jouw gegevens'!$C$22 * J1267*G1267 *$W$10/B1267), \"\")","v":""},"",null,"","","","","",""]
[null,null,null,null,null,null,null,"",{"$f":"IF(AND(L1268 = \"\", NOT(H1268=\"\")),IF(C1268< $W$10, (H1268 *G1268 * (C1268/B1268) * 'Stap 1 - Jouw gegevens'!$C$18), (H1268 *G1268 *'Stap 1 - Jouw gegevens'!$C$18 * ($W$10/B1268))), \"\")","v":""},"",{"$f":"IF(AND(L1268 = \"\", NOT(J1268=\"\")),IF(C1268< $W$10, 'Stap 1 - Jouw gegevens'!$C$22 *J1268*G1268 *C1268/B1268,  'Stap 1 - Jouw gegevens'!$C$22 * J1268*G1268 *$W$10/B1268), \"\")","v":""},"",null,"","","","","",""]
[null,null,null,null,null,null,null,"",{"$f":"IF(AND(L1269 = \"\", NOT(H1269=\"\")),IF(C1269< $W$10, (H1269 *G1269 * (C1269/B1269) * 'Stap 1 - Jouw gegevens'!$C$18), (H1269 *G1269 *'Stap 1 - Jouw gegevens'!$C$18 * ($W$10/B1269))), \"\")","v":""},"",{"$f":"IF(AND(L1269 = \"\", NOT(J1269=\"\")),IF(C1269< $W$10, 'Stap 1 - Jouw gegevens'!$C$22 *J1269*G1269 *C1269/B1269,  'Stap 1 - Jouw gegevens'!$C$22 * J1269*G1269 *$W$10/B1269), \"\")","v":""},"",null,"","","","","",""]
[null,null,null,null,null,null,null,"",{"$f":"IF(AND(L1270 = \"\", NOT(H1270=\"\")),IF(C1270< $W$10, (H1270 *G1270 * (C1270/B1270) * 'Stap 1 - Jouw gegevens'!$C$18), (H1270 *G1270 *'Stap 1 - Jouw gegevens'!$C$18 * ($W$10/B1270))), \"\")","v":""},"",{"$f":"IF(AND(L1270 = \"\", NOT(J1270=\"\")),IF(C1270< $W$10, 'Stap 1 - Jouw gegevens'!$C$22 *J1270*G1270 *C1270/B1270,  'Stap 1 - Jouw gegevens'!$C$22 * J1270*G1270 *$W$10/B1270), \"\")","v":""},"",null,"","","","","",""]
[null,null,null,null,null,null,null,"",{"$f":"IF(AND(L1271 = \"\", NOT(H1271=\"\")),IF(C1271< $W$10, (H1271 *G1271 * (C1271/B1271) * 'Stap 1 - Jouw gegevens'!$C$18), (H1271 *G1271 *'Stap 1 - Jouw gegevens'!$C$18 * ($W$10/B1271))), \"\")","v":""},"",{"$f":"IF(AND(L1271 = \"\", NOT(J1271=\"\")),IF(C1271< $W$10, 'Stap 1 - Jouw gegevens'!$C$22 *J1271*G1271 *C1271/B1271,  'Stap 1 - Jouw gegevens'!$C$22 * J1271*G1271 *$W$10/B1271), \"\")","v":""},"",null,"","","","","",""]
[null,null,null,null,null,null,null,"",{"$f":"IF(AND(L1272 = \"\", NOT(H1272=\"\")),IF(C1272< $W$10, (H1272 *G1272 * (C1272/B1272) * 'Stap 1 - Jouw gegevens'!$C$18), (H1272 *G1272 *'Stap 1 - Jouw gegevens'!$C$18 * ($W$10/B1272))), \"\")","v":""},"",{"$f":"IF(AND(L1272 = \"\", NOT(J1272=\"\")),IF(C1272< $W$10, 'Stap 1 - Jouw gegevens'!$C$22 *J1272*G1272 *C1272/B1272,  'Stap 1 - Jouw gegevens'!$C$22 * J1272*G1272 *$W$10/B1272), \"\")","v":""},"",null,"","","","","",""]
[null,null,null,null,null,null,null,"",{"$f":"IF(AND(L1273 = \"\", NOT(H1273=\"\")),IF(C1273< $W$10, (H1273 *G1273 * (C1273/B1273) * 'Stap 1 - Jouw gegevens'!$C$18), (H1273 *G1273 *'Stap 1 - Jouw gegevens'!$C$18 * ($W$10/B1273))), \"\")","v":""},"",{"$f":"IF(AND(L1273 = \"\", NOT(J1273=\"\")),IF(C1273< $W$10, 'Stap 1 - Jouw gegevens'!$C$22 *J1273*G1273 *C1273/B1273,  'Stap 1 - Jouw gegevens'!$C$22 * J1273*G1273 *$W$10/B1273), \"\")","v":""},"",null,"","","","","",""]
[null,null,null,null,null,null,null,"",{"$f":"IF(AND(L1274 = \"\", NOT(H1274=\"\")),IF(C1274< $W$10, (H1274 *G1274 * (C1274/B1274) * 'Stap 1 - Jouw gegevens'!$C$18), (H1274 *G1274 *'Stap 1 - Jouw gegevens'!$C$18 * ($W$10/B1274))), \"\")","v":""},"",{"$f":"IF(AND(L1274 = \"\", NOT(J1274=\"\")),IF(C1274< $W$10, 'Stap 1 - Jouw gegevens'!$C$22 *J1274*G1274 *C1274/B1274,  'Stap 1 - Jouw gegevens'!$C$22 * J1274*G1274 *$W$10/B1274), \"\")","v":""},"",null,"","","","","",""]
[null,null,null,null,null,null,null,"",{"$f":"IF(AND(L1275 = \"\", NOT(H1275=\"\")),IF(C1275< $W$10, (H1275 *G1275 * (C1275/B1275) * 'Stap 1 - Jouw gegevens'!$C$18), (H1275 *G1275 *'Stap 1 - Jouw gegevens'!$C$18 * ($W$10/B1275))), \"\")","v":""},"",{"$f":"IF(AND(L1275 = \"\", NOT(J1275=\"\")),IF(C1275< $W$10, 'Stap 1 - Jouw gegevens'!$C$22 *J1275*G1275 *C1275/B1275,  'Stap 1 - Jouw gegevens'!$C$22 * J1275*G1275 *$W$10/B1275), \"\")","v":""},"",null,"","","","","",""]
[null,null,null,null,null,null,null,"",{"$f":"IF(AND(L1276 = \"\", NOT(H1276=\"\")),IF(C1276< $W$10, (H1276 *G1276 * (C1276/B1276) * 'Stap 1 - Jouw gegevens'!$C$18), (H1276 *G1276 *'Stap 1 - Jouw gegevens'!$C$18 * ($W$10/B1276))), \"\")","v":""},"",{"$f":"IF(AND(L1276 = \"\", NOT(J1276=\"\")),IF(C1276< $W$10, 'Stap 1 - Jouw gegevens'!$C$22 *J1276*G1276 *C1276/B1276,  'Stap 1 - Jouw gegevens'!$C$22 * J1276*G1276 *$W$10/B1276), \"\")","v":""},"",null,"","","","","",""]
[null,null,null,null,null,null,null,"",{"$f":"IF(AND(L1277 = \"\", NOT(H1277=\"\")),IF(C1277< $W$10, (H1277 *G1277 * (C1277/B1277) * 'Stap 1 - Jouw gegevens'!$C$18), (H1277 *G1277 *'Stap 1 - Jouw gegevens'!$C$18 * ($W$10/B1277))), \"\")","v":""},"",{"$f":"IF(AND(L1277 = \"\", NOT(J1277=\"\")),IF(C1277< $W$10, 'Stap 1 - Jouw gegevens'!$C$22 *J1277*G1277 *C1277/B1277,  'Stap 1 - Jouw gegevens'!$C$22 * J1277*G1277 *$W$10/B1277), \"\")","v":""},"",null,"","","","","",""]
[null,null,null,null,null,null,null,"",{"$f":"IF(AND(L1278 = \"\", NOT(H1278=\"\")),IF(C1278< $W$10, (H1278 *G1278 * (C1278/B1278) * 'Stap 1 - Jouw gegevens'!$C$18), (H1278 *G1278 *'Stap 1 - Jouw gegevens'!$C$18 * ($W$10/B1278))), \"\")","v":""},"",{"$f":"IF(AND(L1278 = \"\", NOT(J1278=\"\")),IF(C1278< $W$10, 'Stap 1 - Jouw gegevens'!$C$22 *J1278*G1278 *C1278/B1278,  'Stap 1 - Jouw gegevens'!$C$22 * J1278*G1278 *$W$10/B1278), \"\")","v":""},"",null,"","","","","",""]
[null,null,null,null,null,null,null,"",{"$f":"IF(AND(L1279 = \"\", NOT(H1279=\"\")),IF(C1279< $W$10, (H1279 *G1279 * (C1279/B1279) * 'Stap 1 - Jouw gegevens'!$C$18), (H1279 *G1279 *'Stap 1 - Jouw gegevens'!$C$18 * ($W$10/B1279))), \"\")","v":""},"",{"$f":"IF(AND(L1279 = \"\", NOT(J1279=\"\")),IF(C1279< $W$10, 'Stap 1 - Jouw gegevens'!$C$22 *J1279*G1279 *C1279/B1279,  'Stap 1 - Jouw gegevens'!$C$22 * J1279*G1279 *$W$10/B1279), \"\")","v":""},"",null,"","","","","",""]
[null,null,null,null,null,null,null,"",{"$f":"IF(AND(L1280 = \"\", NOT(H1280=\"\")),IF(C1280< $W$10, (H1280 *G1280 * (C1280/B1280) * 'Stap 1 - Jouw gegevens'!$C$18), (H1280 *G1280 *'Stap 1 - Jouw gegevens'!$C$18 * ($W$10/B1280))), \"\")","v":""},"",{"$f":"IF(AND(L1280 = \"\", NOT(J1280=\"\")),IF(C1280< $W$10, 'Stap 1 - Jouw gegevens'!$C$22 *J1280*G1280 *C1280/B1280,  'Stap 1 - Jouw gegevens'!$C$22 * J1280*G1280 *$W$10/B1280), \"\")","v":""},"",null,"","","","","",""]
[null,null,null,null,null,null,null,"",{"$f":"IF(AND(L1281 = \"\", NOT(H1281=\"\")),IF(C1281< $W$10, (H1281 *G1281 * (C1281/B1281) * 'Stap 1 - Jouw gegevens'!$C$18), (H1281 *G1281 *'Stap 1 - Jouw gegevens'!$C$18 * ($W$10/B1281))), \"\")","v":""},"",{"$f":"IF(AND(L1281 = \"\", NOT(J1281=\"\")),IF(C1281< $W$10, 'Stap 1 - Jouw gegevens'!$C$22 *J1281*G1281 *C1281/B1281,  'Stap 1 - Jouw gegevens'!$C$22 * J1281*G1281 *$W$10/B1281), \"\")","v":""},"",null,"","","","","",""]
[null,null,null,null,null,null,null,"",{"$f":"IF(AND(L1282 = \"\", NOT(H1282=\"\")),IF(C1282< $W$10, (H1282 *G1282 * (C1282/B1282) * 'Stap 1 - Jouw gegevens'!$C$18), (H1282 *G1282 *'Stap 1 - Jouw gegevens'!$C$18 * ($W$10/B1282))), \"\")","v":""},"",{"$f":"IF(AND(L1282 = \"\", NOT(J1282=\"\")),IF(C1282< $W$10, 'Stap 1 - Jouw gegevens'!$C$22 *J1282*G1282 *C1282/B1282,  'Stap 1 - Jouw gegevens'!$C$22 * J1282*G1282 *$W$10/B1282), \"\")","v":""},"",null,"","","","","",""]
[null,null,null,null,null,null,null,"",{"$f":"IF(AND(L1283 = \"\", NOT(H1283=\"\")),IF(C1283< $W$10, (H1283 *G1283 * (C1283/B1283) * 'Stap 1 - Jouw gegevens'!$C$18), (H1283 *G1283 *'Stap 1 - Jouw gegevens'!$C$18 * ($W$10/B1283))), \"\")","v":""},"",{"$f":"IF(AND(L1283 = \"\", NOT(J1283=\"\")),IF(C1283< $W$10, 'Stap 1 - Jouw gegevens'!$C$22 *J1283*G1283 *C1283/B1283,  'Stap 1 - Jouw gegevens'!$C$22 * J1283*G1283 *$W$10/B1283), \"\")","v":""},"",null,"","","","","",""]
[null,null,null,null,null,null,null,"",{"$f":"IF(AND(L1284 = \"\", NOT(H1284=\"\")),IF(C1284< $W$10, (H1284 *G1284 * (C1284/B1284) * 'Stap 1 - Jouw gegevens'!$C$18), (H1284 *G1284 *'Stap 1 - Jouw gegevens'!$C$18 * ($W$10/B1284))), \"\")","v":""},"",{"$f":"IF(AND(L1284 = \"\", NOT(J1284=\"\")),IF(C1284< $W$10, 'Stap 1 - Jouw gegevens'!$C$22 *J1284*G1284 *C1284/B1284,  'Stap 1 - Jouw gegevens'!$C$22 * J1284*G1284 *$W$10/B1284), \"\")","v":""},"",null,"","","","","",""]
[null,null,null,null,null,null,null,"",{"$f":"IF(AND(L1285 = \"\", NOT(H1285=\"\")),IF(C1285< $W$10, (H1285 *G1285 * (C1285/B1285) * 'Stap 1 - Jouw gegevens'!$C$18), (H1285 *G1285 *'Stap 1 - Jouw gegevens'!$C$18 * ($W$10/B1285))), \"\")","v":""},"",{"$f":"IF(AND(L1285 = \"\", NOT(J1285=\"\")),IF(C1285< $W$10, 'Stap 1 - Jouw gegevens'!$C$22 *J1285*G1285 *C1285/B1285,  'Stap 1 - Jouw gegevens'!$C$22 * J1285*G1285 *$W$10/B1285), \"\")","v":""},"",null,"","","","","",""]
[null,null,null,null,null,null,null,"",{"$f":"IF(AND(L1286 = \"\", NOT(H1286=\"\")),IF(C1286< $W$10, (H1286 *G1286 * (C1286/B1286) * 'Stap 1 - Jouw gegevens'!$C$18), (H1286 *G1286 *'Stap 1 - Jouw gegevens'!$C$18 * ($W$10/B1286))), \"\")","v":""},"",{"$f":"IF(AND(L1286 = \"\", NOT(J1286=\"\")),IF(C1286< $W$10, 'Stap 1 - Jouw gegevens'!$C$22 *J1286*G1286 *C1286/B1286,  'Stap 1 - Jouw gegevens'!$C$22 * J1286*G1286 *$W$10/B1286), \"\")","v":""},"",null,"","","","","",""]
[null,null,null,null,null,null,null,"",{"$f":"IF(AND(L1287 = \"\", NOT(H1287=\"\")),IF(C1287< $W$10, (H1287 *G1287 * (C1287/B1287) * 'Stap 1 - Jouw gegevens'!$C$18), (H1287 *G1287 *'Stap 1 - Jouw gegevens'!$C$18 * ($W$10/B1287))), \"\")","v":""},"",{"$f":"IF(AND(L1287 = \"\", NOT(J1287=\"\")),IF(C1287< $W$10, 'Stap 1 - Jouw gegevens'!$C$22 *J1287*G1287 *C1287/B1287,  'Stap 1 - Jouw gegevens'!$C$22 * J1287*G1287 *$W$10/B1287), \"\")","v":""},"",null,"","","","","",""]
[null,null,null,null,null,null,null,{"$f":"P1288","v":""},{"$f":"IF(AND(L1288 = \"\", NOT(H1288=\"\")),IF(C1288< $W$10, (H1288 *G1288 * (C1288/B1288) * 'Stap 1 - Jouw gegevens'!$C$18), (H1288 *G1288 *'Stap 1 - Jouw gegevens'!$C$18 * ($W$10/B1288))), \"\")","v":""},{"$f":"S1288","v":""},{"$f":"IF(AND(L1288 = \"\", NOT(J1288=\"\")),IF(C1288< $W$10, 'Stap 1 - Jouw gegevens'!$C$22 *J1288*G1288 *C1288/B1288,  'Stap 1 - Jouw gegevens'!$C$22 * J1288*G1288 *$W$10/B1288), \"\")","v":""},{"$f":"IF(ISBLANK(A1288), \"\", CONCATENATE(IF(Z1288 = \"X\", $AH$5, \"\"), IF( AB1288 = \"X\", $AH$7, \"\"), IF( AC1288 = \"X\", $AH$8, \"\"), IF( AD1288 = \"X\", $AH$9, \"\"), IF( AE1288 = \"X\", $AH$10, \"\"),  IF( AF1288 = \"X\", $AH$11, \"\")))","v":""},null,{"$f":"IF(ISBLANK(D1288),\"\",NETWORKDAYS(D1288,F1288))","v":""},{"$f":"IFERROR( IF(N1288>$Y$5,NETWORKDAYS(E1288, (Q1288 - 1)), NETWORKDAYS(E1288,(F1288-1))), \"\")","v":""},{"$f":"IF(O1288<= 0, \"\", O1288)","v":""},{"$f":"IF(ISBLANK(D1288),\"\",DATE(YEAR(D1288)+1,MONTH(D1288),DAY(D1288)))","v":""},{"$f":"IFERROR(IF(N1288 > $Y$5, IF(E1288>=Q1288,NETWORKDAYS(E1288, (F1288-1)), NETWORKDAYS(Q1288, (F1288-1))), \"\"), \"\")","v":""},{"$f":"IF(R1288=\"\", \"\",  IF(R1288 >= $Y$5, $Y$5,  R1288))","v":""}]
[null,null,null,null,null,null,null,"",{"$f":"IF(AND(L1289 = \"\", NOT(H1289=\"\")),IF(C1289< $W$10, (H1289 *G1289 * (C1289/B1289) * 'Stap 1 - Jouw gegevens'!$C$18), (H1289 *G1289 *'Stap 1 - Jouw gegevens'!$C$18 * ($W$10/B1289))), \"\")","v":""},"",{"$f":"IF(AND(L1289 = \"\", NOT(J1289=\"\")),IF(C1289< $W$10, 'Stap 1 - Jouw gegevens'!$C$22 *J1289*G1289 *C1289/B1289,  'Stap 1 - Jouw gegevens'!$C$22 * J1289*G1289 *$W$10/B1289), \"\")","v":""},"",null,"","","","","",""]
[null,null,null,null,null,null,null,"",{"$f":"IF(AND(L1290 = \"\", NOT(H1290=\"\")),IF(C1290< $W$10, (H1290 *G1290 * (C1290/B1290) * 'Stap 1 - Jouw gegevens'!$C$18), (H1290 *G1290 *'Stap 1 - Jouw gegevens'!$C$18 * ($W$10/B1290))), \"\")","v":""},"",{"$f":"IF(AND(L1290 = \"\", NOT(J1290=\"\")),IF(C1290< $W$10, 'Stap 1 - Jouw gegevens'!$C$22 *J1290*G1290 *C1290/B1290,  'Stap 1 - Jouw gegevens'!$C$22 * J1290*G1290 *$W$10/B1290), \"\")","v":""},"",null,"","","","","",""]
[null,null,null,null,null,null,null,"",{"$f":"IF(AND(L1291 = \"\", NOT(H1291=\"\")),IF(C1291< $W$10, (H1291 *G1291 * (C1291/B1291) * 'Stap 1 - Jouw gegevens'!$C$18), (H1291 *G1291 *'Stap 1 - Jouw gegevens'!$C$18 * ($W$10/B1291))), \"\")","v":""},"",{"$f":"IF(AND(L1291 = \"\", NOT(J1291=\"\")),IF(C1291< $W$10, 'Stap 1 - Jouw gegevens'!$C$22 *J1291*G1291 *C1291/B1291,  'Stap 1 - Jouw gegevens'!$C$22 * J1291*G1291 *$W$10/B1291), \"\")","v":""},"",null,"","","","","",""]
[null,null,null,null,null,null,null,"",{"$f":"IF(AND(L1292 = \"\", NOT(H1292=\"\")),IF(C1292< $W$10, (H1292 *G1292 * (C1292/B1292) * 'Stap 1 - Jouw gegevens'!$C$18), (H1292 *G1292 *'Stap 1 - Jouw gegevens'!$C$18 * ($W$10/B1292))), \"\")","v":""},"",{"$f":"IF(AND(L1292 = \"\", NOT(J1292=\"\")),IF(C1292< $W$10, 'Stap 1 - Jouw gegevens'!$C$22 *J1292*G1292 *C1292/B1292,  'Stap 1 - Jouw gegevens'!$C$22 * J1292*G1292 *$W$10/B1292), \"\")","v":""},"",null,"","","","","",""]
[null,null,null,null,null,null,null,"",{"$f":"IF(AND(L1293 = \"\", NOT(H1293=\"\")),IF(C1293< $W$10, (H1293 *G1293 * (C1293/B1293) * 'Stap 1 - Jouw gegevens'!$C$18), (H1293 *G1293 *'Stap 1 - Jouw gegevens'!$C$18 * ($W$10/B1293))), \"\")","v":""},"",{"$f":"IF(AND(L1293 = \"\", NOT(J1293=\"\")),IF(C1293< $W$10, 'Stap 1 - Jouw gegevens'!$C$22 *J1293*G1293 *C1293/B1293,  'Stap 1 - Jouw gegevens'!$C$22 * J1293*G1293 *$W$10/B1293), \"\")","v":""},"",null,"","","","","",""]
[null,null,null,null,null,null,null,"",{"$f":"IF(AND(L1294 = \"\", NOT(H1294=\"\")),IF(C1294< $W$10, (H1294 *G1294 * (C1294/B1294) * 'Stap 1 - Jouw gegevens'!$C$18), (H1294 *G1294 *'Stap 1 - Jouw gegevens'!$C$18 * ($W$10/B1294))), \"\")","v":""},"",{"$f":"IF(AND(L1294 = \"\", NOT(J1294=\"\")),IF(C1294< $W$10, 'Stap 1 - Jouw gegevens'!$C$22 *J1294*G1294 *C1294/B1294,  'Stap 1 - Jouw gegevens'!$C$22 * J1294*G1294 *$W$10/B1294), \"\")","v":""},"",null,"","","","","",""]
[null,null,null,null,null,null,null,"",{"$f":"IF(AND(L1295 = \"\", NOT(H1295=\"\")),IF(C1295< $W$10, (H1295 *G1295 * (C1295/B1295) * 'Stap 1 - Jouw gegevens'!$C$18), (H1295 *G1295 *'Stap 1 - Jouw gegevens'!$C$18 * ($W$10/B1295))), \"\")","v":""},"",{"$f":"IF(AND(L1295 = \"\", NOT(J1295=\"\")),IF(C1295< $W$10, 'Stap 1 - Jouw gegevens'!$C$22 *J1295*G1295 *C1295/B1295,  'Stap 1 - Jouw gegevens'!$C$22 * J1295*G1295 *$W$10/B1295), \"\")","v":""},"",null,"","","","","",""]
[null,null,null,null,null,null,null,"",{"$f":"IF(AND(L1296 = \"\", NOT(H1296=\"\")),IF(C1296< $W$10, (H1296 *G1296 * (C1296/B1296) * 'Stap 1 - Jouw gegevens'!$C$18), (H1296 *G1296 *'Stap 1 - Jouw gegevens'!$C$18 * ($W$10/B1296))), \"\")","v":""},"",{"$f":"IF(AND(L1296 = \"\", NOT(J1296=\"\")),IF(C1296< $W$10, 'Stap 1 - Jouw gegevens'!$C$22 *J1296*G1296 *C1296/B1296,  'Stap 1 - Jouw gegevens'!$C$22 * J1296*G1296 *$W$10/B1296), \"\")","v":""},"",null,"","","","","",""]
[null,null,null,null,null,null,null,"",{"$f":"IF(AND(L1297 = \"\", NOT(H1297=\"\")),IF(C1297< $W$10, (H1297 *G1297 * (C1297/B1297) * 'Stap 1 - Jouw gegevens'!$C$18), (H1297 *G1297 *'Stap 1 - Jouw gegevens'!$C$18 * ($W$10/B1297))), \"\")","v":""},"",{"$f":"IF(AND(L1297 = \"\", NOT(J1297=\"\")),IF(C1297< $W$10, 'Stap 1 - Jouw gegevens'!$C$22 *J1297*G1297 *C1297/B1297,  'Stap 1 - Jouw gegevens'!$C$22 * J1297*G1297 *$W$10/B1297), \"\")","v":""},"",null,"","","","","",""]
[null,null,null,null,null,null,null,"",{"$f":"IF(AND(L1298 = \"\", NOT(H1298=\"\")),IF(C1298< $W$10, (H1298 *G1298 * (C1298/B1298) * 'Stap 1 - Jouw gegevens'!$C$18), (H1298 *G1298 *'Stap 1 - Jouw gegevens'!$C$18 * ($W$10/B1298))), \"\")","v":""},"",{"$f":"IF(AND(L1298 = \"\", NOT(J1298=\"\")),IF(C1298< $W$10, 'Stap 1 - Jouw gegevens'!$C$22 *J1298*G1298 *C1298/B1298,  'Stap 1 - Jouw gegevens'!$C$22 * J1298*G1298 *$W$10/B1298), \"\")","v":""},"",null,"","","","","",""]
[null,null,null,null,null,null,null,"",{"$f":"IF(AND(L1299 = \"\", NOT(H1299=\"\")),IF(C1299< $W$10, (H1299 *G1299 * (C1299/B1299) * 'Stap 1 - Jouw gegevens'!$C$18), (H1299 *G1299 *'Stap 1 - Jouw gegevens'!$C$18 * ($W$10/B1299))), \"\")","v":""},"",{"$f":"IF(AND(L1299 = \"\", NOT(J1299=\"\")),IF(C1299< $W$10, 'Stap 1 - Jouw gegevens'!$C$22 *J1299*G1299 *C1299/B1299,  'Stap 1 - Jouw gegevens'!$C$22 * J1299*G1299 *$W$10/B1299), \"\")","v":""},"",null,"","","","","",""]
[null,null,null,null,null,null,null,"",{"$f":"IF(AND(L1300 = \"\", NOT(H1300=\"\")),IF(C1300< $W$10, (H1300 *G1300 * (C1300/B1300) * 'Stap 1 - Jouw gegevens'!$C$18), (H1300 *G1300 *'Stap 1 - Jouw gegevens'!$C$18 * ($W$10/B1300))), \"\")","v":""},"",{"$f":"IF(AND(L1300 = \"\", NOT(J1300=\"\")),IF(C1300< $W$10, 'Stap 1 - Jouw gegevens'!$C$22 *J1300*G1300 *C1300/B1300,  'Stap 1 - Jouw gegevens'!$C$22 * J1300*G1300 *$W$10/B1300), \"\")","v":""},"",null,"","","","","",""]
[null,null,null,null,null,null,null,"",{"$f":"IF(AND(L1301 = \"\", NOT(H1301=\"\")),IF(C1301< $W$10, (H1301 *G1301 * (C1301/B1301) * 'Stap 1 - Jouw gegevens'!$C$18), (H1301 *G1301 *'Stap 1 - Jouw gegevens'!$C$18 * ($W$10/B1301))), \"\")","v":""},"",{"$f":"IF(AND(L1301 = \"\", NOT(J1301=\"\")),IF(C1301< $W$10, 'Stap 1 - Jouw gegevens'!$C$22 *J1301*G1301 *C1301/B1301,  'Stap 1 - Jouw gegevens'!$C$22 * J1301*G1301 *$W$10/B1301), \"\")","v":""},"",null,"","","","","",""]
[null,null,null,null,null,null,null,"",{"$f":"IF(AND(L1302 = \"\", NOT(H1302=\"\")),IF(C1302< $W$10, (H1302 *G1302 * (C1302/B1302) * 'Stap 1 - Jouw gegevens'!$C$18), (H1302 *G1302 *'Stap 1 - Jouw gegevens'!$C$18 * ($W$10/B1302))), \"\")","v":""},"",{"$f":"IF(AND(L1302 = \"\", NOT(J1302=\"\")),IF(C1302< $W$10, 'Stap 1 - Jouw gegevens'!$C$22 *J1302*G1302 *C1302/B1302,  'Stap 1 - Jouw gegevens'!$C$22 * J1302*G1302 *$W$10/B1302), \"\")","v":""},"",null,"","","","","",""]
[null,null,null,null,null,null,null,"",{"$f":"IF(AND(L1303 = \"\", NOT(H1303=\"\")),IF(C1303< $W$10, (H1303 *G1303 * (C1303/B1303) * 'Stap 1 - Jouw gegevens'!$C$18), (H1303 *G1303 *'Stap 1 - Jouw gegevens'!$C$18 * ($W$10/B1303))), \"\")","v":""},"",{"$f":"IF(AND(L1303 = \"\", NOT(J1303=\"\")),IF(C1303< $W$10, 'Stap 1 - Jouw gegevens'!$C$22 *J1303*G1303 *C1303/B1303,  'Stap 1 - Jouw gegevens'!$C$22 * J1303*G1303 *$W$10/B1303), \"\")","v":""},"",null,"","","","","",""]
[null,null,null,null,null,null,null,"",{"$f":"IF(AND(L1304 = \"\", NOT(H1304=\"\")),IF(C1304< $W$10, (H1304 *G1304 * (C1304/B1304) * 'Stap 1 - Jouw gegevens'!$C$18), (H1304 *G1304 *'Stap 1 - Jouw gegevens'!$C$18 * ($W$10/B1304))), \"\")","v":""},"",{"$f":"IF(AND(L1304 = \"\", NOT(J1304=\"\")),IF(C1304< $W$10, 'Stap 1 - Jouw gegevens'!$C$22 *J1304*G1304 *C1304/B1304,  'Stap 1 - Jouw gegevens'!$C$22 * J1304*G1304 *$W$10/B1304), \"\")","v":""},"",null,"","","","","",""]
[null,null,null,null,null,null,null,"",{"$f":"IF(AND(L1305 = \"\", NOT(H1305=\"\")),IF(C1305< $W$10, (H1305 *G1305 * (C1305/B1305) * 'Stap 1 - Jouw gegevens'!$C$18), (H1305 *G1305 *'Stap 1 - Jouw gegevens'!$C$18 * ($W$10/B1305))), \"\")","v":""},"",{"$f":"IF(AND(L1305 = \"\", NOT(J1305=\"\")),IF(C1305< $W$10, 'Stap 1 - Jouw gegevens'!$C$22 *J1305*G1305 *C1305/B1305,  'Stap 1 - Jouw gegevens'!$C$22 * J1305*G1305 *$W$10/B1305), \"\")","v":""},"",null,"","","","","",""]
[null,null,null,null,null,null,null,"",{"$f":"IF(AND(L1306 = \"\", NOT(H1306=\"\")),IF(C1306< $W$10, (H1306 *G1306 * (C1306/B1306) * 'Stap 1 - Jouw gegevens'!$C$18), (H1306 *G1306 *'Stap 1 - Jouw gegevens'!$C$18 * ($W$10/B1306))), \"\")","v":""},"",{"$f":"IF(AND(L1306 = \"\", NOT(J1306=\"\")),IF(C1306< $W$10, 'Stap 1 - Jouw gegevens'!$C$22 *J1306*G1306 *C1306/B1306,  'Stap 1 - Jouw gegevens'!$C$22 * J1306*G1306 *$W$10/B1306), \"\")","v":""},"",null,"","","","","",""]
[null,null,null,null,null,null,null,"",{"$f":"IF(AND(L1307 = \"\", NOT(H1307=\"\")),IF(C1307< $W$10, (H1307 *G1307 * (C1307/B1307) * 'Stap 1 - Jouw gegevens'!$C$18), (H1307 *G1307 *'Stap 1 - Jouw gegevens'!$C$18 * ($W$10/B1307))), \"\")","v":""},"",{"$f":"IF(AND(L1307 = \"\", NOT(J1307=\"\")),IF(C1307< $W$10, 'Stap 1 - Jouw gegevens'!$C$22 *J1307*G1307 *C1307/B1307,  'Stap 1 - Jouw gegevens'!$C$22 * J1307*G1307 *$W$10/B1307), \"\")","v":""},"",null,"","","","","",""]
[null,null,null,null,null,null,null,"",{"$f":"IF(AND(L1308 = \"\", NOT(H1308=\"\")),IF(C1308< $W$10, (H1308 *G1308 * (C1308/B1308) * 'Stap 1 - Jouw gegevens'!$C$18), (H1308 *G1308 *'Stap 1 - Jouw gegevens'!$C$18 * ($W$10/B1308))), \"\")","v":""},"",{"$f":"IF(AND(L1308 = \"\", NOT(J1308=\"\")),IF(C1308< $W$10, 'Stap 1 - Jouw gegevens'!$C$22 *J1308*G1308 *C1308/B1308,  'Stap 1 - Jouw gegevens'!$C$22 * J1308*G1308 *$W$10/B1308), \"\")","v":""},"",null,"","","","","",""]
[null,null,null,null,null,null,null,"",{"$f":"IF(AND(L1309 = \"\", NOT(H1309=\"\")),IF(C1309< $W$10, (H1309 *G1309 * (C1309/B1309) * 'Stap 1 - Jouw gegevens'!$C$18), (H1309 *G1309 *'Stap 1 - Jouw gegevens'!$C$18 * ($W$10/B1309))), \"\")","v":""},"",{"$f":"IF(AND(L1309 = \"\", NOT(J1309=\"\")),IF(C1309< $W$10, 'Stap 1 - Jouw gegevens'!$C$22 *J1309*G1309 *C1309/B1309,  'Stap 1 - Jouw gegevens'!$C$22 * J1309*G1309 *$W$10/B1309), \"\")","v":""},"",null,"","","","","",""]
[null,null,null,null,null,null,null,"",{"$f":"IF(AND(L1310 = \"\", NOT(H1310=\"\")),IF(C1310< $W$10, (H1310 *G1310 * (C1310/B1310) * 'Stap 1 - Jouw gegevens'!$C$18), (H1310 *G1310 *'Stap 1 - Jouw gegevens'!$C$18 * ($W$10/B1310))), \"\")","v":""},"",{"$f":"IF(AND(L1310 = \"\", NOT(J1310=\"\")),IF(C1310< $W$10, 'Stap 1 - Jouw gegevens'!$C$22 *J1310*G1310 *C1310/B1310,  'Stap 1 - Jouw gegevens'!$C$22 * J1310*G1310 *$W$10/B1310), \"\")","v":""},"",null,"","","","","",""]
[null,null,null,null,null,null,null,"",{"$f":"IF(AND(L1311 = \"\", NOT(H1311=\"\")),IF(C1311< $W$10, (H1311 *G1311 * (C1311/B1311) * 'Stap 1 - Jouw gegevens'!$C$18), (H1311 *G1311 *'Stap 1 - Jouw gegevens'!$C$18 * ($W$10/B1311))), \"\")","v":""},"",{"$f":"IF(AND(L1311 = \"\", NOT(J1311=\"\")),IF(C1311< $W$10, 'Stap 1 - Jouw gegevens'!$C$22 *J1311*G1311 *C1311/B1311,  'Stap 1 - Jouw gegevens'!$C$22 * J1311*G1311 *$W$10/B1311), \"\")","v":""},"",null,"","","","","",""]
[null,null,null,null,null,null,null,"",{"$f":"IF(AND(L1312 = \"\", NOT(H1312=\"\")),IF(C1312< $W$10, (H1312 *G1312 * (C1312/B1312) * 'Stap 1 - Jouw gegevens'!$C$18), (H1312 *G1312 *'Stap 1 - Jouw gegevens'!$C$18 * ($W$10/B1312))), \"\")","v":""},"",{"$f":"IF(AND(L1312 = \"\", NOT(J1312=\"\")),IF(C1312< $W$10, 'Stap 1 - Jouw gegevens'!$C$22 *J1312*G1312 *C1312/B1312,  'Stap 1 - Jouw gegevens'!$C$22 * J1312*G1312 *$W$10/B1312), \"\")","v":""},"",null,"","","","","",""]
[null,null,null,null,null,null,null,"",{"$f":"IF(AND(L1313 = \"\", NOT(H1313=\"\")),IF(C1313< $W$10, (H1313 *G1313 * (C1313/B1313) * 'Stap 1 - Jouw gegevens'!$C$18), (H1313 *G1313 *'Stap 1 - Jouw gegevens'!$C$18 * ($W$10/B1313))), \"\")","v":""},"",{"$f":"IF(AND(L1313 = \"\", NOT(J1313=\"\")),IF(C1313< $W$10, 'Stap 1 - Jouw gegevens'!$C$22 *J1313*G1313 *C1313/B1313,  'Stap 1 - Jouw gegevens'!$C$22 * J1313*G1313 *$W$10/B1313), \"\")","v":""},"",null,"","","","","",""]
[null,null,null,null,null,null,null,"",{"$f":"IF(AND(L1314 = \"\", NOT(H1314=\"\")),IF(C1314< $W$10, (H1314 *G1314 * (C1314/B1314) * 'Stap 1 - Jouw gegevens'!$C$18), (H1314 *G1314 *'Stap 1 - Jouw gegevens'!$C$18 * ($W$10/B1314))), \"\")","v":""},"",{"$f":"IF(AND(L1314 = \"\", NOT(J1314=\"\")),IF(C1314< $W$10, 'Stap 1 - Jouw gegevens'!$C$22 *J1314*G1314 *C1314/B1314,  'Stap 1 - Jouw gegevens'!$C$22 * J1314*G1314 *$W$10/B1314), \"\")","v":""},"",null,"","","","","",""]
[null,null,null,null,null,null,null,"",{"$f":"IF(AND(L1315 = \"\", NOT(H1315=\"\")),IF(C1315< $W$10, (H1315 *G1315 * (C1315/B1315) * 'Stap 1 - Jouw gegevens'!$C$18), (H1315 *G1315 *'Stap 1 - Jouw gegevens'!$C$18 * ($W$10/B1315))), \"\")","v":""},"",{"$f":"IF(AND(L1315 = \"\", NOT(J1315=\"\")),IF(C1315< $W$10, 'Stap 1 - Jouw gegevens'!$C$22 *J1315*G1315 *C1315/B1315,  'Stap 1 - Jouw gegevens'!$C$22 * J1315*G1315 *$W$10/B1315), \"\")","v":""},"",null,"","","","","",""]
[null,null,null,null,null,null,null,"",{"$f":"IF(AND(L1316 = \"\", NOT(H1316=\"\")),IF(C1316< $W$10, (H1316 *G1316 * (C1316/B1316) * 'Stap 1 - Jouw gegevens'!$C$18), (H1316 *G1316 *'Stap 1 - Jouw gegevens'!$C$18 * ($W$10/B1316))), \"\")","v":""},"",{"$f":"IF(AND(L1316 = \"\", NOT(J1316=\"\")),IF(C1316< $W$10, 'Stap 1 - Jouw gegevens'!$C$22 *J1316*G1316 *C1316/B1316,  'Stap 1 - Jouw gegevens'!$C$22 * J1316*G1316 *$W$10/B1316), \"\")","v":""},"",null,"","","","","",""]
[null,null,null,null,null,null,null,"",{"$f":"IF(AND(L1317 = \"\", NOT(H1317=\"\")),IF(C1317< $W$10, (H1317 *G1317 * (C1317/B1317) * 'Stap 1 - Jouw gegevens'!$C$18), (H1317 *G1317 *'Stap 1 - Jouw gegevens'!$C$18 * ($W$10/B1317))), \"\")","v":""},"",{"$f":"IF(AND(L1317 = \"\", NOT(J1317=\"\")),IF(C1317< $W$10, 'Stap 1 - Jouw gegevens'!$C$22 *J1317*G1317 *C1317/B1317,  'Stap 1 - Jouw gegevens'!$C$22 * J1317*G1317 *$W$10/B1317), \"\")","v":""},"",null,"","","","","",""]
[null,null,null,null,null,null,null,"",{"$f":"IF(AND(L1318 = \"\", NOT(H1318=\"\")),IF(C1318< $W$10, (H1318 *G1318 * (C1318/B1318) * 'Stap 1 - Jouw gegevens'!$C$18), (H1318 *G1318 *'Stap 1 - Jouw gegevens'!$C$18 * ($W$10/B1318))), \"\")","v":""},"",{"$f":"IF(AND(L1318 = \"\", NOT(J1318=\"\")),IF(C1318< $W$10, 'Stap 1 - Jouw gegevens'!$C$22 *J1318*G1318 *C1318/B1318,  'Stap 1 - Jouw gegevens'!$C$22 * J1318*G1318 *$W$10/B1318), \"\")","v":""},"",null,"","","","","",""]
[null,null,null,null,null,null,null,"",{"$f":"IF(AND(L1319 = \"\", NOT(H1319=\"\")),IF(C1319< $W$10, (H1319 *G1319 * (C1319/B1319) * 'Stap 1 - Jouw gegevens'!$C$18), (H1319 *G1319 *'Stap 1 - Jouw gegevens'!$C$18 * ($W$10/B1319))), \"\")","v":""},"",{"$f":"IF(AND(L1319 = \"\", NOT(J1319=\"\")),IF(C1319< $W$10, 'Stap 1 - Jouw gegevens'!$C$22 *J1319*G1319 *C1319/B1319,  'Stap 1 - Jouw gegevens'!$C$22 * J1319*G1319 *$W$10/B1319), \"\")","v":""},"",null,"","","","","",""]
[null,null,null,null,null,null,null,"",{"$f":"IF(AND(L1320 = \"\", NOT(H1320=\"\")),IF(C1320< $W$10, (H1320 *G1320 * (C1320/B1320) * 'Stap 1 - Jouw gegevens'!$C$18), (H1320 *G1320 *'Stap 1 - Jouw gegevens'!$C$18 * ($W$10/B1320))), \"\")","v":""},"",{"$f":"IF(AND(L1320 = \"\", NOT(J1320=\"\")),IF(C1320< $W$10, 'Stap 1 - Jouw gegevens'!$C$22 *J1320*G1320 *C1320/B1320,  'Stap 1 - Jouw gegevens'!$C$22 * J1320*G1320 *$W$10/B1320), \"\")","v":""},"",null,"","","","","",""]
[null,null,null,null,null,null,null,"",{"$f":"IF(AND(L1321 = \"\", NOT(H1321=\"\")),IF(C1321< $W$10, (H1321 *G1321 * (C1321/B1321) * 'Stap 1 - Jouw gegevens'!$C$18), (H1321 *G1321 *'Stap 1 - Jouw gegevens'!$C$18 * ($W$10/B1321))), \"\")","v":""},"",{"$f":"IF(AND(L1321 = \"\", NOT(J1321=\"\")),IF(C1321< $W$10, 'Stap 1 - Jouw gegevens'!$C$22 *J1321*G1321 *C1321/B1321,  'Stap 1 - Jouw gegevens'!$C$22 * J1321*G1321 *$W$10/B1321), \"\")","v":""},"",null,"","","","","",""]
[null,null,null,null,null,null,null,"",{"$f":"IF(AND(L1322 = \"\", NOT(H1322=\"\")),IF(C1322< $W$10, (H1322 *G1322 * (C1322/B1322) * 'Stap 1 - Jouw gegevens'!$C$18), (H1322 *G1322 *'Stap 1 - Jouw gegevens'!$C$18 * ($W$10/B1322))), \"\")","v":""},"",{"$f":"IF(AND(L1322 = \"\", NOT(J1322=\"\")),IF(C1322< $W$10, 'Stap 1 - Jouw gegevens'!$C$22 *J1322*G1322 *C1322/B1322,  'Stap 1 - Jouw gegevens'!$C$22 * J1322*G1322 *$W$10/B1322), \"\")","v":""},"",null,"","","","","",""]
[null,null,null,null,null,null,null,"",{"$f":"IF(AND(L1323 = \"\", NOT(H1323=\"\")),IF(C1323< $W$10, (H1323 *G1323 * (C1323/B1323) * 'Stap 1 - Jouw gegevens'!$C$18), (H1323 *G1323 *'Stap 1 - Jouw gegevens'!$C$18 * ($W$10/B1323))), \"\")","v":""},"",{"$f":"IF(AND(L1323 = \"\", NOT(J1323=\"\")),IF(C1323< $W$10, 'Stap 1 - Jouw gegevens'!$C$22 *J1323*G1323 *C1323/B1323,  'Stap 1 - Jouw gegevens'!$C$22 * J1323*G1323 *$W$10/B1323), \"\")","v":""},"",null,"","","","","",""]
[null,null,null,null,null,null,null,"",{"$f":"IF(AND(L1324 = \"\", NOT(H1324=\"\")),IF(C1324< $W$10, (H1324 *G1324 * (C1324/B1324) * 'Stap 1 - Jouw gegevens'!$C$18), (H1324 *G1324 *'Stap 1 - Jouw gegevens'!$C$18 * ($W$10/B1324))), \"\")","v":""},"",{"$f":"IF(AND(L1324 = \"\", NOT(J1324=\"\")),IF(C1324< $W$10, 'Stap 1 - Jouw gegevens'!$C$22 *J1324*G1324 *C1324/B1324,  'Stap 1 - Jouw gegevens'!$C$22 * J1324*G1324 *$W$10/B1324), \"\")","v":""},"",null,"","","","","",""]
[null,null,null,null,null,null,null,"",{"$f":"IF(AND(L1325 = \"\", NOT(H1325=\"\")),IF(C1325< $W$10, (H1325 *G1325 * (C1325/B1325) * 'Stap 1 - Jouw gegevens'!$C$18), (H1325 *G1325 *'Stap 1 - Jouw gegevens'!$C$18 * ($W$10/B1325))), \"\")","v":""},"",{"$f":"IF(AND(L1325 = \"\", NOT(J1325=\"\")),IF(C1325< $W$10, 'Stap 1 - Jouw gegevens'!$C$22 *J1325*G1325 *C1325/B1325,  'Stap 1 - Jouw gegevens'!$C$22 * J1325*G1325 *$W$10/B1325), \"\")","v":""},"",null,"","","","","",""]
[null,null,null,null,null,null,null,"",{"$f":"IF(AND(L1326 = \"\", NOT(H1326=\"\")),IF(C1326< $W$10, (H1326 *G1326 * (C1326/B1326) * 'Stap 1 - Jouw gegevens'!$C$18), (H1326 *G1326 *'Stap 1 - Jouw gegevens'!$C$18 * ($W$10/B1326))), \"\")","v":""},"",{"$f":"IF(AND(L1326 = \"\", NOT(J1326=\"\")),IF(C1326< $W$10, 'Stap 1 - Jouw gegevens'!$C$22 *J1326*G1326 *C1326/B1326,  'Stap 1 - Jouw gegevens'!$C$22 * J1326*G1326 *$W$10/B1326), \"\")","v":""},"",null,"","","","","",""]
[null,null,null,null,null,null,null,"",{"$f":"IF(AND(L1327 = \"\", NOT(H1327=\"\")),IF(C1327< $W$10, (H1327 *G1327 * (C1327/B1327) * 'Stap 1 - Jouw gegevens'!$C$18), (H1327 *G1327 *'Stap 1 - Jouw gegevens'!$C$18 * ($W$10/B1327))), \"\")","v":""},"",{"$f":"IF(AND(L1327 = \"\", NOT(J1327=\"\")),IF(C1327< $W$10, 'Stap 1 - Jouw gegevens'!$C$22 *J1327*G1327 *C1327/B1327,  'Stap 1 - Jouw gegevens'!$C$22 * J1327*G1327 *$W$10/B1327), \"\")","v":""},"",null,"","","","","",""]
[null,null,null,null,null,null,null,"",{"$f":"IF(AND(L1328 = \"\", NOT(H1328=\"\")),IF(C1328< $W$10, (H1328 *G1328 * (C1328/B1328) * 'Stap 1 - Jouw gegevens'!$C$18), (H1328 *G1328 *'Stap 1 - Jouw gegevens'!$C$18 * ($W$10/B1328))), \"\")","v":""},"",{"$f":"IF(AND(L1328 = \"\", NOT(J1328=\"\")),IF(C1328< $W$10, 'Stap 1 - Jouw gegevens'!$C$22 *J1328*G1328 *C1328/B1328,  'Stap 1 - Jouw gegevens'!$C$22 * J1328*G1328 *$W$10/B1328), \"\")","v":""},"",null,"","","","","",""]
[null,null,null,null,null,null,null,"",{"$f":"IF(AND(L1329 = \"\", NOT(H1329=\"\")),IF(C1329< $W$10, (H1329 *G1329 * (C1329/B1329) * 'Stap 1 - Jouw gegevens'!$C$18), (H1329 *G1329 *'Stap 1 - Jouw gegevens'!$C$18 * ($W$10/B1329))), \"\")","v":""},"",{"$f":"IF(AND(L1329 = \"\", NOT(J1329=\"\")),IF(C1329< $W$10, 'Stap 1 - Jouw gegevens'!$C$22 *J1329*G1329 *C1329/B1329,  'Stap 1 - Jouw gegevens'!$C$22 * J1329*G1329 *$W$10/B1329), \"\")","v":""},"",null,"","","","","",""]
[null,null,null,null,null,null,null,"",{"$f":"IF(AND(L1330 = \"\", NOT(H1330=\"\")),IF(C1330< $W$10, (H1330 *G1330 * (C1330/B1330) * 'Stap 1 - Jouw gegevens'!$C$18), (H1330 *G1330 *'Stap 1 - Jouw gegevens'!$C$18 * ($W$10/B1330))), \"\")","v":""},"",{"$f":"IF(AND(L1330 = \"\", NOT(J1330=\"\")),IF(C1330< $W$10, 'Stap 1 - Jouw gegevens'!$C$22 *J1330*G1330 *C1330/B1330,  'Stap 1 - Jouw gegevens'!$C$22 * J1330*G1330 *$W$10/B1330), \"\")","v":""},"",null,"","","","","",""]
[null,null,null,null,null,null,null,"",{"$f":"IF(AND(L1331 = \"\", NOT(H1331=\"\")),IF(C1331< $W$10, (H1331 *G1331 * (C1331/B1331) * 'Stap 1 - Jouw gegevens'!$C$18), (H1331 *G1331 *'Stap 1 - Jouw gegevens'!$C$18 * ($W$10/B1331))), \"\")","v":""},"",{"$f":"IF(AND(L1331 = \"\", NOT(J1331=\"\")),IF(C1331< $W$10, 'Stap 1 - Jouw gegevens'!$C$22 *J1331*G1331 *C1331/B1331,  'Stap 1 - Jouw gegevens'!$C$22 * J1331*G1331 *$W$10/B1331), \"\")","v":""},"",null,"","","","","",""]
[null,null,null,null,null,null,null,"",{"$f":"IF(AND(L1332 = \"\", NOT(H1332=\"\")),IF(C1332< $W$10, (H1332 *G1332 * (C1332/B1332) * 'Stap 1 - Jouw gegevens'!$C$18), (H1332 *G1332 *'Stap 1 - Jouw gegevens'!$C$18 * ($W$10/B1332))), \"\")","v":""},"",{"$f":"IF(AND(L1332 = \"\", NOT(J1332=\"\")),IF(C1332< $W$10, 'Stap 1 - Jouw gegevens'!$C$22 *J1332*G1332 *C1332/B1332,  'Stap 1 - Jouw gegevens'!$C$22 * J1332*G1332 *$W$10/B1332), \"\")","v":""},"",null,"","","","","",""]
[null,null,null,null,null,null,null,"",{"$f":"IF(AND(L1333 = \"\", NOT(H1333=\"\")),IF(C1333< $W$10, (H1333 *G1333 * (C1333/B1333) * 'Stap 1 - Jouw gegevens'!$C$18), (H1333 *G1333 *'Stap 1 - Jouw gegevens'!$C$18 * ($W$10/B1333))), \"\")","v":""},"",{"$f":"IF(AND(L1333 = \"\", NOT(J1333=\"\")),IF(C1333< $W$10, 'Stap 1 - Jouw gegevens'!$C$22 *J1333*G1333 *C1333/B1333,  'Stap 1 - Jouw gegevens'!$C$22 * J1333*G1333 *$W$10/B1333), \"\")","v":""},"",null,"","","","","",""]
[null,null,null,null,null,null,null,"",{"$f":"IF(AND(L1334 = \"\", NOT(H1334=\"\")),IF(C1334< $W$10, (H1334 *G1334 * (C1334/B1334) * 'Stap 1 - Jouw gegevens'!$C$18), (H1334 *G1334 *'Stap 1 - Jouw gegevens'!$C$18 * ($W$10/B1334))), \"\")","v":""},"",{"$f":"IF(AND(L1334 = \"\", NOT(J1334=\"\")),IF(C1334< $W$10, 'Stap 1 - Jouw gegevens'!$C$22 *J1334*G1334 *C1334/B1334,  'Stap 1 - Jouw gegevens'!$C$22 * J1334*G1334 *$W$10/B1334), \"\")","v":""},"",null,"","","","","",""]
[null,null,null,null,null,null,null,null,null,null,null,null,null,"","","","","",""]
[null,null,null,null,null,null,null,null,null,null,null,null,null,"","","","","",""]
[null,null,null,null,null,null,null,null,null,null,null,null,null,"","","","","",""]
[null,null,null,null,null,null,null,null,null,null,null,null,null,"","","","","",""]
[null,null,null,null,null,null,null,null,null,null,null,null,null,"","","","","",""]
[null,null,null,null,null,null,null,null,null,null,null,null,null,"","","","","",""]
[null,null,null,null,null,null,null,null,null,null,null,null,null,"","","","","",""]
[null,null,null,null,null,null,null,null,null,null,null,null,null,"","","","","",""]
[null,null,null,null,null,null,null,null,null,null,null,null,null,"","","","","",""]
[null,null,null,null,null,null,null,null,null,null,null,null,null,"","","","","",""]
[null,null,null,null,null,null,null,null,null,null,null,null,null,"","","","","",""]
[null,null,null,null,null,null,null,null,null,null,null,null,null,"","","","","",""]
[null,null,null,null,null,null,null,null,null,null,null,null,null,"","","","","",""]
[null,null,null,null,null,null,null,null,null,null,null,null,null,"","","","","",""]
[null,null,null,null,null,null,null,null,null,null,null,null,null,"","","","","",""]
[null,null,null,null,null,null,null,null,null,null,null,null,null,"","","","","",""]
[null,null,null,null,null,null,null,null,null,null,null,null,null,"","","","","",""]
[null,null,null,null,null,null,null,null,null,null,null,null,null,{"$f":"IF(ISBLANK(D1352),\"\",NETWORKDAYS(D1352,F1352))","v":""},{"$f":"IFERROR( IF(N1352>$Y$5,NETWORKDAYS(E1352, (Q1352 - 1)), NETWORKDAYS(E1352,(F1352-1))), \"\")","v":""},{"$f":"IF(O1352<= 0, \"\", O1352)","v":""},{"$f":"IF(ISBLANK(D1352),\"\",DATE(YEAR(D1352)+1,MONTH(D1352),DAY(D1352)))","v":""},{"$f":"IFERROR(IF(N1352 > $Y$5, IF(E1352>=Q1352,NETWORKDAYS(E1352, (F1352-1)), NETWORKDAYS(Q1352, (F1352-1))), \"\"), \"\")","v":""},{"$f":"IF(R1352=\"\", \"\",  IF(R1352 >= $Y$5, $Y$5,  R1352))","v":""}]
[null,null,null,null,null,null,null,null,null,null,null,null,null,"","","","","",""]
[null,null,null,null,null,null,null,null,null,null,null,null,null,"","","","","",""]
[null,null,null,null,null,null,null,null,null,null,null,null,null,"","","","","",""]
[null,null,null,null,null,null,null,null,null,null,null,null,null,"","","","","",""]
[null,null,null,null,null,null,null,null,null,null,null,null,null,"","","","","",""]
[null,null,null,null,null,null,null,null,null,null,null,null,null,"","","","","",""]
[null,null,null,null,null,null,null,null,null,null,null,null,null,"","","","","",""]
[null,null,null,null,null,null,null,null,null,null,null,null,null,"","","","","",""]
[null,null,null,null,null,null,null,null,null,null,null,null,null,"","","","","",""]
[null,null,null,null,null,null,null,null,null,null,null,null,null,"","","","","",""]
[null,null,null,null,null,null,null,null,null,null,null,null,null,"","","","","",""]
[null,null,null,null,null,null,null,null,null,null,null,null,null,"","","","","",""]
[null,null,null,null,null,null,null,null,null,null,null,null,null,"","","","","",""]
[null,null,null,null,null,null,null,null,null,null,null,null,null,"","","","","",""]
[null,null,null,null,null,null,null,null,null,null,null,null,null,"","","","","",""]
[null,null,null,null,null,null,null,null,null,null,null,null,null,"","","","","",""]
[null,null,null,null,null,null,null,null,null,null,null,null,null,"","","","","",""]
[null,null,null,null,null,null,null,null,null,null,null,null,null,"","","","","",""]
[null,null,null,null,null,null,null,null,null,null,null,null,null,"","","","","",""]
[null,null,null,null,null,null,null,null,null,null,null,null,null,"","","","","",""]
[null,null,null,null,null,null,null,null,null,null,null,null,null,"","","","","",""]
[null,null,null,null,null,null,null,null,null,null,null,null,null,"","","","","",""]
[null,null,null,null,null,null,null,null,null,null,null,null,null,"","","","","",""]
[null,null,null,null,null,null,null,null,null,null,null,null,null,"","","","","",""]
[null,null,null,null,null,null,null,null,null,null,null,null,null,"","","","","",""]
[null,null,null,null,null,null,null,null,null,null,null,null,null,"","","","","",""]
[null,null,null,null,null,null,null,null,null,null,null,null,null,"","","","","",""]
[null,null,null,null,null,null,null,null,null,null,null,null,null,"","","","","",""]
[null,null,null,null,null,null,null,null,null,null,null,null,null,"","","","","",""]
[null,null,null,null,null,null,null,null,null,null,null,null,null,"","","","","",""]
[null,null,null,null,null,null,null,null,null,null,null,null,null,"","","","","",""]
[null,null,null,null,null,null,null,null,null,null,null,null,null,"","","","","",""]
[null,null,null,null,null,null,null,null,null,null,null,null,null,"","","","","",""]
[null,null,null,null,null,null,null,null,null,null,null,null,null,"","","","","",""]
[null,null,null,null,null,null,null,null,null,null,null,null,null,"","","","","",""]
[null,null,null,null,null,null,null,null,null,null,null,null,null,"","","","","",""]
[null,null,null,null,null,null,null,null,null,null,null,null,null,"","","","","",""]
[null,null,null,null,null,null,null,null,null,null,null,null,null,"","","","","",""]
[null,null,null,null,null,null,null,null,null,null,null,null,null,"","","","","",""]
[null,null,null,null,null,null,null,null,null,null,null,null,null,"","","","","",""]
[null,null,null,null,null,null,null,null,null,null,null,null,null,"","","","","",""]
[null,null,null,null,null,null,null,null,null,null,null,null,null,"","","","","",""]
[null,null,null,null,null,null,null,null,null,null,null,null,null,"","","","","",""]
[null,null,null,null,null,null,null,null,null,null,null,null,null,"","","","","",""]
[null,null,null,null,null,null,null,null,null,null,null,null,null,"","","","","",""]
[null,null,null,null,null,null,null,null,null,null,null,null,null,"","","","","",""]
[null,null,null,null,null,null,null,null,null,null,null,null,null,"","","","","",""]
[null,null,null,null,null,null,null,null,null,null,null,null,null,"","","","","",""]
[null,null,null,null,null,null,null,null,null,null,null,null,null,"","","","","",""]
[null,null,null,null,null,null,null,null,null,null,null,null,null,"","","","","",""]
[null,null,null,null,null,null,null,null,null,null,null,null,null,"","","","","",""]
[null,null,null,null,null,null,null,null,null,null,null,null,null,"","","","","",""]
[null,null,null,null,null,null,null,null,null,null,null,null,null,"","","","","",""]
[null,null,null,null,null,null,null,null,null,null,null,null,null,"","","","","",""]
[null,null,null,null,null,null,null,null,null,null,null,null,null,"","","","","",""]
[null,null,null,null,null,null,null,null,null,null,null,null,null,"","","","","",""]
[null,null,null,null,null,null,null,null,null,null,null,null,null,"","","","","",""]
[null,null,null,null,null,null,null,null,null,null,null,null,null,"","","","","",""]
[null,null,null,null,null,null,null,null,null,null,null,null,null,"","","","","",""]
[null,null,null,null,null,null,null,null,null,null,null,null,null,"","","","","",""]
[null,null,null,null,null,null,null,null,null,null,null,null,null,"","","","","",""]
[null,null,null,null,null,null,null,null,null,null,null,null,null,"","","","","",""]
[null,null,null,null,null,null,null,null,null,null,null,null,null,"","","","","",""]
[null,null,null,null,null,null,null,null,null,null,null,null,null,{"$f":"IF(ISBLANK(D1416),\"\",NETWORKDAYS(D1416,F1416))","v":""},{"$f":"IFERROR( IF(N1416>$Y$5,NETWORKDAYS(E1416, (Q1416 - 1)), NETWORKDAYS(E1416,(F1416-1))), \"\")","v":""},{"$f":"IF(O1416<= 0, \"\", O1416)","v":""},{"$f":"IF(ISBLANK(D1416),\"\",DATE(YEAR(D1416)+1,MONTH(D1416),DAY(D1416)))","v":""},{"$f":"IFERROR(IF(N1416 > $Y$5, IF(E1416>=Q1416,NETWORKDAYS(E1416, (F1416-1)), NETWORKDAYS(Q1416, (F1416-1))), \"\"), \"\")","v":""},{"$f":"IF(R1416=\"\", \"\",  IF(R1416 >= $Y$5, $Y$5,  R1416))","v":""}]
[null,null,null,null,null,null,null,null,null,null,null,null,null,"","","","","",""]
[null,null,null,null,null,null,null,null,null,null,null,null,null,"","","","","",""]
[null,null,null,null,null,null,null,null,null,null,null,null,null,"","","","","",""]
[null,null,null,null,null,null,null,null,null,null,null,null,null,"","","","","",""]
[null,null,null,null,null,null,null,null,null,null,null,null,null,"","","","","",""]
[null,null,null,null,null,null,null,null,null,null,null,null,null,"","","","","",""]
[null,null,null,null,null,null,null,null,null,null,null,null,null,"","","","","",""]
[null,null,null,null,null,null,null,null,null,null,null,null,null,"","","","","",""]
[null,null,null,null,null,null,null,null,null,null,null,null,null,"","","","","",""]
[null,null,null,null,null,null,null,null,null,null,null,null,null,"","","","","",""]
[null,null,null,null,null,null,null,null,null,null,null,null,null,"","","","","",""]
[null,null,null,null,null,null,null,null,null,null,null,null,null,"","","","","",""]
[null,null,null,null,null,null,null,null,null,null,null,null,null,"","","","","",""]
[null,null,null,null,null,null,null,null,null,null,null,null,null,"","","","","",""]
[null,null,null,null,null,null,null,null,null,null,null,null,null,"","","","","",""]
[null,null,null,null,null,null,null,null,null,null,null,null,null,"","","","","",""]
[null,null,null,null,null,null,null,null,null,null,null,null,null,"","","","","",""]
[null,null,null,null,null,null,null,null,null,null,null,null,null,"","","","","",""]
[null,null,null,null,null,null,null,null,null,null,null,null,null,"","","","","",""]
[null,null,null,null,null,null,null,null,null,null,null,null,null,"","","","","",""]
[null,null,null,null,null,null,null,null,null,null,null,null,null,"","","","","",""]
[null,null,null,null,null,null,null,null,null,null,null,null,null,"","","","","",""]
[null,null,null,null,null,null,null,null,null,null,null,null,null,"","","","","",""]
[null,null,null,null,null,null,null,null,null,null,null,null,null,"","","","","",""]
[null,null,null,null,null,null,null,null,null,null,null,null,null,"","","","","",""]
[null,null,null,null,null,null,null,null,null,null,null,null,null,"","","","","",""]
[null,null,null,null,null,null,null,null,null,null,null,null,null,"","","","","",""]
[null,null,null,null,null,null,null,null,null,null,null,null,null,"","","","","",""]
[null,null,null,null,null,null,null,null,null,null,null,null,null,"","","","","",""]
[null,null,null,null,null,null,null,null,null,null,null,null,null,"","","","","",""]
[null,null,null,null,null,null,null,null,null,null,null,null,null,"","","","","",""]
[null,null,null,null,null,null,null,null,null,null,null,null,null,"","","","","",""]
[null,null,null,null,null,null,null,null,null,null,null,null,null,"","","","","",""]
[null,null,null,null,null,null,null,null,null,null,null,null,null,"","","","","",""]
[null,null,null,null,null,null,null,null,null,null,null,null,null,"","","","","",""]
[null,null,null,null,null,null,null,null,null,null,null,null,null,"","","","","",""]
[null,null,null,null,null,null,null,null,null,null,null,null,null,"","","","","",""]
[null,null,null,null,null,null,null,null,null,null,null,null,null,"","","","","",""]
[null,null,null,null,null,null,null,null,null,null,null,null,null,"","","","","",""]
[null,null,null,null,null,null,null,null,null,null,null,null,null,"","","","","",""]
[null,null,null,null,null,null,null,null,null,null,null,null,null,"","","","","",""]
[null,null,null,null,null,null,null,null,null,null,null,null,null,"","","","","",""]
[null,null,null,null,null,null,null,null,null,null,null,null,null,"","","","","",""]
[null,null,null,null,null,null,null,null,null,null,null,null,null,"","","","","",""]
[null,null,null,null,null,null,null,null,null,null,null,null,null,"","","","","",""]
[null,null,null,null,null,null,null,null,null,null,null,null,null,"","","","","",""]
[null,null,null,null,null,null,null,null,null,null,null,null,null,"","","","","",""]
[null,null,null,null,null,null,null,null,null,null,null,null,null,"","","","","",""]
[null,null,null,null,null,null,null,null,null,null,null,null,null,"","","","","",""]
[null,null,null,null,null,null,null,null,null,null,null,null,null,"","","","","",""]
[null,null,null,null,null,null,null,null,null,null,null,null,null,"","","","","",""]
[null,null,null,null,null,null,null,null,null,null,null,null,null,"","","","","",""]
[null,null,null,null,null,null,null,null,null,null,null,null,null,"","","","","",""]
[null,null,null,null,null,null,null,null,null,null,null,null,null,"","","","","",""]
[null,null,null,null,null,null,null,null,null,null,null,null,null,"","","","","",""]
[null,null,null,null,null,null,null,null,null,null,null,null,null,"","","","","",""]
[null,null,null,null,null,null,null,null,null,null,null,null,null,"","","","","",""]
[null,null,null,null,null,null,null,null,null,null,null,null,null,"","","","","",""]
[null,null,null,null,null,null,null,null,null,null,null,null,null,"","","","","",""]
[null,null,null,null,null,null,null,null,null,null,null,null,null,"","","","","",""]
[null,null,null,null,null,null,null,null,null,null,null,null,null,"","","","","",""]
[null,null,null,null,null,null,null,null,null,null,null,null,null,"","","","","",""]
[null,null,null,null,null,null,null,null,null,null,null,null,null,"","","","","",""]
[null,null,null,null,null,null,null,null,null,null,null,null,null,{"$f":"IF(ISBLANK(D1480),\"\",NETWORKDAYS(D1480,F1480))","v":""},{"$f":"IFERROR( IF(N1480>$Y$5,NETWORKDAYS(E1480, (Q1480 - 1)), NETWORKDAYS(E1480,(F1480-1))), \"\")","v":""},{"$f":"IF(O1480<= 0, \"\", O1480)","v":""},{"$f":"IF(ISBLANK(D1480),\"\",DATE(YEAR(D1480)+1,MONTH(D1480),DAY(D1480)))","v":""},{"$f":"IFERROR(IF(N1480 > $Y$5, IF(E1480>=Q1480,NETWORKDAYS(E1480, (F1480-1)), NETWORKDAYS(Q1480, (F1480-1))), \"\"), \"\")","v":""},{"$f":"IF(R1480=\"\", \"\",  IF(R1480 >= $Y$5, $Y$5,  R1480))","v":""}]
[null,null,null,null,null,null,null,null,null,null,null,null,null,"","","","","",""]
[null,null,null,null,null,null,null,null,null,null,null,null,null,"","","","","",""]
[null,null,null,null,null,null,null,null,null,null,null,null,null,"","","","","",""]
[null,null,null,null,null,null,null,null,null,null,null,null,null,"","","","","",""]
[null,null,null,null,null,null,null,null,null,null,null,null,null,"","","","","",""]
[null,null,null,null,null,null,null,null,null,null,null,null,null,"","","","","",""]
[null,null,null,null,null,null,null,null,null,null,null,null,null,"","","","","",""]
[null,null,null,null,null,null,null,null,null,null,null,null,null,"","","","","",""]
[null,null,null,null,null,null,null,null,null,null,null,null,null,"","","","","",""]
[null,null,null,null,null,null,null,null,null,null,null,null,null,"","","","","",""]
[null,null,null,null,null,null,null,null,null,null,null,null,null,"","","","","",""]
[null,null,null,null,null,null,null,null,null,null,null,null,null,"","","","","",""]
[null,null,null,null,null,null,null,null,null,null,null,null,null,"","","","","",""]
[null,null,null,null,null,null,null,null,null,null,null,null,null,"","","","","",""]
[null,null,null,null,null,null,null,null,null,null,null,null,null,"","","","","",""]
[null,null,null,null,null,null,null,null,null,null,null,null,null,"","","","","",""]
[null,null,null,null,null,null,null,null,null,null,null,null,null,"","","","","",""]
[null,null,null,null,null,null,null,null,null,null,null,null,null,"","","","","",""]
[null,null,null,null,null,null,null,null,null,null,null,null,null,"","","","","",""]
[null,null,null,null,null,null,null,null,null,null,null,null,null,"","","","","",""]
[null,null,null,null,null,null,null,null,null,null,null,null,null,"","","","","",""]
[null,null,null,null,null,null,null,null,null,null,null,null,null,"","","","","",""]
[null,null,null,null,null,null,null,null,null,null,null,null,null,"","","","","",""]
[null,null,null,null,null,null,null,null,null,null,null,null,null,"","","","","",""]
[null,null,null,null,null,null,null,null,null,null,null,null,null,"","","","","",""]
[null,null,null,null,null,null,null,null,null,null,null,null,null,"","","","","",""]
[null,null,null,null,null,null,null,null,null,null,null,null,null,"","","","","",""]
[null,null,null,null,null,null,null,null,null,null,null,null,null,"","","","","",""]
[null,null,null,null,null,null,null,null,null,null,null,null,null,"","","","","",""]
[null,null,null,null,null,null,null,null,null,null,null,null,null,"","","","","",""]
[null,null,null,null,null,null,null,null,null,null,null,null,null,"","","","","",""]
[null,null,null,null,null,null,null,null,null,null,null,null,null,"","","","","",""]
[null,null,null,null,null,null,null,null,null,null,null,null,null,"","","","","",""]
[null,null,null,null,null,null,null,null,null,null,null,null,null,"","","","","",""]
[null,null,null,null,null,null,null,null,null,null,null,null,null,"","","","","",""]
[null,null,null,null,null,null,null,null,null,null,null,null,null,"","","","","",""]
[null,null,null,null,null,null,null,null,null,null,null,null,null,"","","","","",""]
[null,null,null,null,null,null,null,null,null,null,null,null,null,"","","","","",""]
[null,null,null,null,null,null,null,null,null,null,null,null,null,"","","","","",""]
[null,null,null,null,null,null,null,null,null,null,null,null,null,"","","","","",""]
[null,null,null,null,null,null,null,null,null,null,null,null,null,"","","","","",""]
[null,null,null,null,null,null,null,null,null,null,null,null,null,"","","","","",""]
[null,null,null,null,null,null,null,null,null,null,null,null,null,"","","","","",""]
[null,null,null,null,null,null,null,null,null,null,null,null,null,"","","","","",""]
[null,null,null,null,null,null,null,null,null,null,null,null,null,"","","","","",""]
[null,null,null,null,null,null,null,null,null,null,null,null,null,"","","","","",""]
[null,null,null,null,null,null,null,null,null,null,null,null,null,"","","","","",""]
[null,null,null,null,null,null,null,null,null,null,null,null,null,"","","","","",""]
[null,null,null,null,null,null,null,null,null,null,null,null,null,"","","","","",""]
[null,null,null,null,null,null,null,null,null,null,null,null,null,"","","","","",""]
[null,null,null,null,null,null,null,null,null,null,null,null,null,"","","","","",""]
[null,null,null,null,null,null,null,null,null,null,null,null,null,"","","","","",""]
[null,null,null,null,null,null,null,null,null,null,null,null,null,"","","","","",""]
[null,null,null,null,null,null,null,null,null,null,null,null,null,"","","","","",""]
[null,null,null,null,null,null,null,null,null,null,null,null,null,"","","","","",""]
[null,null,null,null,null,null,null,null,null,null,null,null,null,"","","","","",""]
[null,null,null,null,null,null,null,null,null,null,null,null,null,"","","","","",""]
[null,null,null,null,null,null,null,null,null,null,null,null,null,"","","","","",""]
[null,null,null,null,null,null,null,null,null,null,null,null,null,"","","","","",""]
[null,null,null,null,null,null,null,null,null,null,null,null,null,"","","","","",""]
[null,null,null,null,null,null,null,null,null,null,null,null,null,"","","","","",""]
[null,null,null,null,null,null,null,null,null,null,null,null,null,"","","","","",""]
[null,null,null,null,null,null,null,null,null,null,null,null,null,"","","","","",""]
[null,null,null,null,null,null,null,null,null,null,null,null,null,{"$f":"IF(ISBLANK(D1544),\"\",NETWORKDAYS(D1544,F1544))","v":""},{"$f":"IFERROR( IF(N1544>$Y$5,NETWORKDAYS(E1544, (Q1544 - 1)), NETWORKDAYS(E1544,(F1544-1))), \"\")","v":""},{"$f":"IF(O1544<= 0, \"\", O1544)","v":""},{"$f":"IF(ISBLANK(D1544),\"\",DATE(YEAR(D1544)+1,MONTH(D1544),DAY(D1544)))","v":""},{"$f":"IFERROR(IF(N1544 > $Y$5, IF(E1544>=Q1544,NETWORKDAYS(E1544, (F1544-1)), NETWORKDAYS(Q1544, (F1544-1))), \"\"), \"\")","v":""},{"$f":"IF(R1544=\"\", \"\",  IF(R1544 >= $Y$5, $Y$5,  R1544))","v":""}]
[null,null,null,null,null,null,null,null,null,null,null,null,null,"","","","","",""]
[null,null,null,null,null,null,null,null,null,null,null,null,null,"","","","","",""]
[null,null,null,null,null,null,null,null,null,null,null,null,null,"","","","","",""]
[null,null,null,null,null,null,null,null,null,null,null,null,null,"","","","","",""]
[null,null,null,null,null,null,null,null,null,null,null,null,null,"","","","","",""]
[null,null,null,null,null,null,null,null,null,null,null,null,null,"","","","","",""]
[null,null,null,null,null,null,null,null,null,null,null,null,null,"","","","","",""]
[null,null,null,null,null,null,null,null,null,null,null,null,null,"","","","","",""]
[null,null,null,null,null,null,null,null,null,null,null,null,null,"","","","","",""]
[null,null,null,null,null,null,null,null,null,null,null,null,null,"","","","","",""]
[null,null,null,null,null,null,null,null,null,null,null,null,null,"","","","","",""]
[null,null,null,null,null,null,null,null,null,null,null,null,null,"","","","","",""]
[null,null,null,null,null,null,null,null,null,null,null,null,null,"","","","","",""]
[null,null,null,null,null,null,null,null,null,null,null,null,null,"","","","","",""]
[null,null,null,null,null,null,null,null,null,null,null,null,null,"","","","","",""]
[null,null,null,null,null,null,null,null,null,null,null,null,null,"","","","","",""]
[null,null,null,null,null,null,null,null,null,null,null,null,null,"","","","","",""]
[null,null,null,null,null,null,null,null,null,null,null,null,null,"","","","","",""]
[null,null,null,null,null,null,null,null,null,null,null,null,null,"","","","","",""]
[null,null,null,null,null,null,null,null,null,null,null,null,null,"","","","","",""]
[null,null,null,null,null,null,null,null,null,null,null,null,null,"","","","","",""]
[null,null,null,null,null,null,null,null,null,null,null,null,null,"","","","","",""]
[null,null,null,null,null,null,null,null,null,null,null,null,null,"","","","","",""]
[null,null,null,null,null,null,null,null,null,null,null,null,null,"","","","","",""]
[null,null,null,null,null,null,null,null,null,null,null,null,null,"","","","","",""]
[null,null,null,null,null,null,null,null,null,null,null,null,null,"","","","","",""]
[null,null,null,null,null,null,null,null,null,null,null,null,null,"","","","","",""]
[null,null,null,null,null,null,null,null,null,null,null,null,null,"","","","","",""]
[null,null,null,null,null,null,null,null,null,null,null,null,null,"","","","","",""]
[null,null,null,null,null,null,null,null,null,null,null,null,null,"","","","","",""]
[null,null,null,null,null,null,null,null,null,null,null,null,null,"","","","","",""]
[null,null,null,null,null,null,null,null,null,null,null,null,null,"","","","","",""]
[null,null,null,null,null,null,null,null,null,null,null,null,null,"","","","","",""]
[null,null,null,null,null,null,null,null,null,null,null,null,null,"","","","","",""]
[null,null,null,null,null,null,null,null,null,null,null,null,null,"","","","","",""]
[null,null,null,null,null,null,null,null,null,null,null,null,null,"","","","","",""]
[null,null,null,null,null,null,null,null,null,null,null,null,null,"","","","","",""]
[null,null,null,null,null,null,null,null,null,null,null,null,null,"","","","","",""]
[null,null,null,null,null,null,null,null,null,null,null,null,null,"","","","","",""]
[null,null,null,null,null,null,null,null,null,null,null,null,null,"","","","","",""]
[null,null,null,null,null,null,null,null,null,null,null,null,null,"","","","","",""]
[null,null,null,null,null,null,null,null,null,null,null,null,null,"","","","","",""]
[null,null,null,null,null,null,null,null,null,null,null,null,null,"","","","","",""]
[null,null,null,null,null,null,null,null,null,null,null,null,null,"","","","","",""]
[null,null,null,null,null,null,null,null,null,null,null,null,null,"","","","","",""]
[null,null,null,null,null,null,null,null,null,null,null,null,null,"","","","","",""]
[null,null,null,null,null,null,null,null,null,null,null,null,null,"","","","","",""]
[null,null,null,null,null,null,null,null,null,null,null,null,null,"","","","","",""]
[null,null,null,null,null,null,null,null,null,null,null,null,null,"","","","","",""]
[null,null,null,null,null,null,null,null,null,null,null,null,null,"","","","","",""]
[null,null,null,null,null,null,null,null,null,null,null,null,null,"","","","","",""]
[null,null,null,null,null,null,null,null,null,null,null,null,null,"","","","","",""]
[null,null,null,null,null,null,null,null,null,null,null,null,null,"","","","","",""]
[null,null,null,null,null,null,null,null,null,null,null,null,null,"","","","","",""]
[null,null,null,null,null,null,null,null,null,null,null,null,null,"","","","","",""]
[null,null,null,null,null,null,null,null,null,null,null,null,null,"","","","","",""]
[null,null,null,null,null,null,null,null,null,null,null,null,null,"","","","","",""]
[null,null,null,null,null,null,null,null,null,null,null,null,null,"","","","","",""]
[null,null,null,null,null,null,null,null,null,null,null,null,null,"","","","","",""]
[null,null,null,null,null,null,null,null,null,null,null,null,null,"","","","","",""]
[null,null,null,null,null,null,null,null,null,null,null,null,null,"","","","","",""]
[null,null,null,null,null,null,null,null,null,null,null,null,null,"","","","","",""]
[null,null,null,null,null,null,null,null,null,null,null,null,null,"","","","","",""]
[null,null,null,null,null,null,null,null,null,null,null,null,null,{"$f":"IF(ISBLANK(D1608),\"\",NETWORKDAYS(D1608,F1608))","v":""},{"$f":"IFERROR( IF(N1608>$Y$5,NETWORKDAYS(E1608, (Q1608 - 1)), NETWORKDAYS(E1608,(F1608-1))), \"\")","v":""},{"$f":"IF(O1608<= 0, \"\", O1608)","v":""},{"$f":"IF(ISBLANK(D1608),\"\",DATE(YEAR(D1608)+1,MONTH(D1608),DAY(D1608)))","v":""},{"$f":"IFERROR(IF(N1608 > $Y$5, IF(E1608>=Q1608,NETWORKDAYS(E1608, (F1608-1)), NETWORKDAYS(Q1608, (F1608-1))), \"\"), \"\")","v":""},{"$f":"IF(R1608=\"\", \"\",  IF(R1608 >= $Y$5, $Y$5,  R1608))","v":""}]
[null,null,null,null,null,null,null,null,null,null,null,null,null,"","","","","",""]
[null,null,null,null,null,null,null,null,null,null,null,null,null,"","","","","",""]
[null,null,null,null,null,null,null,null,null,null,null,null,null,"","","","","",""]
[null,null,null,null,null,null,null,null,null,null,null,null,null,"","","","","",""]
[null,null,null,null,null,null,null,null,null,null,null,null,null,"","","","","",""]
[null,null,null,null,null,null,null,null,null,null,null,null,null,"","","","","",""]
[null,null,null,null,null,null,null,null,null,null,null,null,null,"","","","","",""]
[null,null,null,null,null,null,null,null,null,null,null,null,null,"","","","","",""]
[null,null,null,null,null,null,null,null,null,null,null,null,null,"","","","","",""]
[null,null,null,null,null,null,null,null,null,null,null,null,null,"","","","","",""]
[null,null,null,null,null,null,null,null,null,null,null,null,null,"","","","","",""]
[null,null,null,null,null,null,null,null,null,null,null,null,null,"","","","","",""]
[null,null,null,null,null,null,null,null,null,null,null,null,null,"","","","","",""]
[null,null,null,null,null,null,null,null,null,null,null,null,null,"","","","","",""]
[null,null,null,null,null,null,null,null,null,null,null,null,null,"","","","","",""]
[null,null,null,null,null,null,null,null,null,null,null,null,null,"","","","","",""]
[null,null,null,null,null,null,null,null,null,null,null,null,null,"","","","","",""]
[null,null,null,null,null,null,null,null,null,null,null,null,null,"","","","","",""]
[null,null,null,null,null,null,null,null,null,null,null,null,null,"","","","","",""]
[null,null,null,null,null,null,null,null,null,null,null,null,null,"","","","","",""]
[null,null,null,null,null,null,null,null,null,null,null,null,null,"","","","","",""]
[null,null,null,null,null,null,null,null,null,null,null,null,null,"","","","","",""]
[null,null,null,null,null,null,null,null,null,null,null,null,null,"","","","","",""]
[null,null,null,null,null,null,null,null,null,null,null,null,null,"","","","","",""]
[null,null,null,null,null,null,null,null,null,null,null,null,null,"","","","","",""]
[null,null,null,null,null,null,null,null,null,null,null,null,null,"","","","","",""]
[null,null,null,null,null,null,null,null,null,null,null,null,null,"","","","","",""]
[null,null,null,null,null,null,null,null,null,null,null,null,null,"","","","","",""]
[null,null,null,null,null,null,null,null,null,null,null,null,null,"","","","","",""]
[null,null,null,null,null,null,null,null,null,null,null,null,null,"","","","","",""]
[null,null,null,null,null,null,null,null,null,null,null,null,null,"","","","","",""]
[null,null,null,null,null,null,null,null,null,null,null,null,null,"","","","","",""]
[null,null,null,null,null,null,null,null,null,null,null,null,null,"","","","","",""]
[null,null,null,null,null,null,null,null,null,null,null,null,null,"","","","","",""]
[null,null,null,null,null,null,null,null,null,null,null,null,null,"","","","","",""]
[null,null,null,null,null,null,null,null,null,null,null,null,null,"","","","","",""]
[null,null,null,null,null,null,null,null,null,null,null,null,null,"","","","","",""]
[null,null,null,null,null,null,null,null,null,null,null,null,null,"","","","","",""]
[null,null,null,null,null,null,null,null,null,null,null,null,null,"","","","","",""]
[null,null,null,null,null,null,null,null,null,null,null,null,null,"","","","","",""]
[null,null,null,null,null,null,null,null,null,null,null,null,null,"","","","","",""]
[null,null,null,null,null,null,null,null,null,null,null,null,null,"","","","","",""]
[null,null,null,null,null,null,null,null,null,null,null,null,null,"","","","","",""]
[null,null,null,null,null,null,null,null,null,null,null,null,null,"","","","","",""]
[null,null,null,null,null,null,null,null,null,null,null,null,null,"","","","","",""]
[null,null,null,null,null,null,null,null,null,null,null,null,null,"","","","","",""]
[null,null,null,null,null,null,null,null,null,null,null,null,null,"","","","","",""]
[null,null,null,null,null,null,null,null,null,null,null,null,null,"","","","","",""]
[null,null,null,null,null,null,null,null,null,null,null,null,null,"","","","","",""]
[null,null,null,null,null,null,null,null,null,null,null,null,null,"","","","","",""]
[null,null,null,null,null,null,null,null,null,null,null,null,null,"","","","","",""]
[null,null,null,null,null,null,null,null,null,null,null,null,null,"","","","","",""]
[null,null,null,null,null,null,null,null,null,null,null,null,null,"","","","","",""]
[null,null,null,null,null,null,null,null,null,null,null,null,null,"","","","","",""]
[null,null,null,null,null,null,null,null,null,null,null,null,null,"","","","","",""]
[null,null,null,null,null,null,null,null,null,null,null,null,null,"","","","","",""]
[null,null,null,null,null,null,null,null,null,null,null,null,null,"","","","","",""]
[null,null,null,null,null,null,null,null,null,null,null,null,null,"","","","","",""]
[null,null,null,null,null,null,null,null,null,null,null,null,null,"","","","","",""]
[null,null,null,null,null,null,null,null,null,null,null,null,null,"","","","","",""]
[null,null,null,null,null,null,null,null,null,null,null,null,null,"","","","","",""]
[null,null,null,null,null,null,null,null,null,null,null,null,null,"","","","","",""]
[null,null,null,null,null,null,null,null,null,null,null,null,null,"","","","","",""]
[null,null,null,null,null,null,null,null,null,null,null,null,null,{"$f":"IF(ISBLANK(D1672),\"\",NETWORKDAYS(D1672,F1672))","v":""},{"$f":"IFERROR( IF(N1672>$Y$5,NETWORKDAYS(E1672, (Q1672 - 1)), NETWORKDAYS(E1672,(F1672-1))), \"\")","v":""},{"$f":"IF(O1672<= 0, \"\", O1672)","v":""},{"$f":"IF(ISBLANK(D1672),\"\",DATE(YEAR(D1672)+1,MONTH(D1672),DAY(D1672)))","v":""},{"$f":"IFERROR(IF(N1672 > $Y$5, IF(E1672>=Q1672,NETWORKDAYS(E1672, (F1672-1)), NETWORKDAYS(Q1672, (F1672-1))), \"\"), \"\")","v":""},{"$f":"IF(R1672=\"\", \"\",  IF(R1672 >= $Y$5, $Y$5,  R1672))","v":""}]
[null,null,null,null,null,null,null,null,null,null,null,null,null,"","","","","",""]
[null,null,null,null,null,null,null,null,null,null,null,null,null,"","","","","",""]
[null,null,null,null,null,null,null,null,null,null,null,null,null,"","","","","",""]
[null,null,null,null,null,null,null,null,null,null,null,null,null,"","","","","",""]
[null,null,null,null,null,null,null,null,null,null,null,null,null,"","","","","",""]
[null,null,null,null,null,null,null,null,null,null,null,null,null,"","","","","",""]
[null,null,null,null,null,null,null,null,null,null,null,null,null,"","","","","",""]
[null,null,null,null,null,null,null,null,null,null,null,null,null,"","","","","",""]
[null,null,null,null,null,null,null,null,null,null,null,null,null,"","","","","",""]
[null,null,null,null,null,null,null,null,null,null,null,null,null,"","","","","",""]
[null,null,null,null,null,null,null,null,null,null,null,null,null,"","","","","",""]
[null,null,null,null,null,null,null,null,null,null,null,null,null,"","","","","",""]
[null,null,null,null,null,null,null,null,null,null,null,null,null,"","","","","",""]
[null,null,null,null,null,null,null,null,null,null,null,null,null,"","","","","",""]
[null,null,null,null,null,null,null,null,null,null,null,null,null,"","","","","",""]
[null,null,null,null,null,null,null,null,null,null,null,null,null,"","","","","",""]
[null,null,null,null,null,null,null,null,null,null,null,null,null,"","","","","",""]
[null,null,null,null,null,null,null,null,null,null,null,null,null,"","","","","",""]
[null,null,null,null,null,null,null,null,null,null,null,null,null,"","","","","",""]
[null,null,null,null,null,null,null,null,null,null,null,null,null,"","","","","",""]
[null,null,null,null,null,null,null,null,null,null,null,null,null,"","","","","",""]
[null,null,null,null,null,null,null,null,null,null,null,null,null,"","","","","",""]
[null,null,null,null,null,null,null,null,null,null,null,null,null,"","","","","",""]
[null,null,null,null,null,null,null,null,null,null,null,null,null,"","","","","",""]
[null,null,null,null,null,null,null,null,null,null,null,null,null,"","","","","",""]
[null,null,null,null,null,null,null,null,null,null,null,null,null,"","","","","",""]
[null,null,null,null,null,null,null,null,null,null,null,null,null,"","","","","",""]
[null,null,null,null,null,null,null,null,null,null,null,null,null,"","","","","",""]
[null,null,null,null,null,null,null,null,null,null,null,null,null,"","","","","",""]
[null,null,null,null,null,null,null,null,null,null,null,null,null,"","","","","",""]
[null,null,null,null,null,null,null,null,null,null,null,null,null,"","","","","",""]
[null,null,null,null,null,null,null,null,null,null,null,null,null,"","","","","",""]
[null,null,null,null,null,null,null,null,null,null,null,null,null,"","","","","",""]
[null,null,null,null,null,null,null,null,null,null,null,null,null,"","","","","",""]
[null,null,null,null,null,null,null,null,null,null,null,null,null,"","","","","",""]
[null,null,null,null,null,null,null,null,null,null,null,null,null,"","","","","",""]
[null,null,null,null,null,null,null,null,null,null,null,null,null,"","","","","",""]
[null,null,null,null,null,null,null,null,null,null,null,null,null,"","","","","",""]
[null,null,null,null,null,null,null,null,null,null,null,null,null,"","","","","",""]
[null,null,null,null,null,null,null,null,null,null,null,null,null,"","","","","",""]
[null,null,null,null,null,null,null,null,null,null,null,null,null,"","","","","",""]
[null,null,null,null,null,null,null,null,null,null,null,null,null,"","","","","",""]
[null,null,null,null,null,null,null,null,null,null,null,null,null,"","","","","",""]
[null,null,null,null,null,null,null,null,null,null,null,null,null,"","","","","",""]
[null,null,null,null,null,null,null,null,null,null,null,null,null,"","","","","",""]
[null,null,null,null,null,null,null,null,null,null,null,null,null,"","","","","",""]
[null,null,null,null,null,null,null,null,null,null,null,null,null,"","","","","",""]
[null,null,null,null,null,null,null,null,null,null,null,null,null,"","","","","",""]
[null,null,null,null,null,null,null,null,null,null,null,null,null,"","","","","",""]
[null,null,null,null,null,null,null,null,null,null,null,null,null,"","","","","",""]
[null,null,null,null,null,null,null,null,null,null,null,null,null,"","","","","",""]
[null,null,null,null,null,null,null,null,null,null,null,null,null,"","","","","",""]
[null,null,null,null,null,null,null,null,null,null,null,null,null,"","","","","",""]
[null,null,null,null,null,null,null,null,null,null,null,null,null,"","","","","",""]
[null,null,null,null,null,null,null,null,null,null,null,null,null,"","","","","",""]
[null,null,null,null,null,null,null,null,null,null,null,null,null,"","","","","",""]
[null,null,null,null,null,null,null,null,null,null,null,null,null,"","","","","",""]
[null,null,null,null,null,null,null,null,null,null,null,null,null,"","","","","",""]
[null,null,null,null,null,null,null,null,null,null,null,null,null,"","","","","",""]
[null,null,null,null,null,null,null,null,null,null,null,null,null,"","","","","",""]
[null,null,null,null,null,null,null,null,null,null,null,null,null,"","","","","",""]
[null,null,null,null,null,null,null,null,null,null,null,null,null,"","","","","",""]
[null,null,null,null,null,null,null,null,null,null,null,null,null,"","","","","",""]
[null,null,null,null,null,null,null,null,null,null,null,null,null,{"$f":"IF(ISBLANK(D1736),\"\",NETWORKDAYS(D1736,F1736))","v":""},{"$f":"IFERROR( IF(N1736>$Y$5,NETWORKDAYS(E1736, (Q1736 - 1)), NETWORKDAYS(E1736,(F1736-1))), \"\")","v":""},{"$f":"IF(O1736<= 0, \"\", O1736)","v":""},{"$f":"IF(ISBLANK(D1736),\"\",DATE(YEAR(D1736)+1,MONTH(D1736),DAY(D1736)))","v":""},{"$f":"IFERROR(IF(N1736 > $Y$5, IF(E1736>=Q1736,NETWORKDAYS(E1736, (F1736-1)), NETWORKDAYS(Q1736, (F1736-1))), \"\"), \"\")","v":""},{"$f":"IF(R1736=\"\", \"\",  IF(R1736 >= $Y$5, $Y$5,  R1736))","v":""}]
[null,null,null,null,null,null,null,null,null,null,null,null,null,"","","","","",""]
[null,null,null,null,null,null,null,null,null,null,null,null,null,"","","","","",""]
[null,null,null,null,null,null,null,null,null,null,null,null,null,"","","","","",""]
[null,null,null,null,null,null,null,null,null,null,null,null,null,"","","","","",""]
[null,null,null,null,null,null,null,null,null,null,null,null,null,"","","","","",""]
[null,null,null,null,null,null,null,null,null,null,null,null,null,"","","","","",""]
[null,null,null,null,null,null,null,null,null,null,null,null,null,"","","","","",""]
[null,null,null,null,null,null,null,null,null,null,null,null,null,"","","","","",""]
[null,null,null,null,null,null,null,null,null,null,null,null,null,"","","","","",""]
[null,null,null,null,null,null,null,null,null,null,null,null,null,"","","","","",""]
[null,null,null,null,null,null,null,null,null,null,null,null,null,"","","","","",""]
[null,null,null,null,null,null,null,null,null,null,null,null,null,"","","","","",""]
[null,null,null,null,null,null,null,null,null,null,null,null,null,"","","","","",""]
[null,null,null,null,null,null,null,null,null,null,null,null,null,"","","","","",""]
[null,null,null,null,null,null,null,null,null,null,null,null,null,"","","","","",""]
[null,null,null,null,null,null,null,null,null,null,null,null,null,"","","","","",""]
[null,null,null,null,null,null,null,null,null,null,null,null,null,"","","","","",""]
[null,null,null,null,null,null,null,null,null,null,null,null,null,"","","","","",""]
[null,null,null,null,null,null,null,null,null,null,null,null,null,"","","","","",""]
[null,null,null,null,null,null,null,null,null,null,null,null,null,"","","","","",""]
[null,null,null,null,null,null,null,null,null,null,null,null,null,"","","","","",""]
[null,null,null,null,null,null,null,null,null,null,null,null,null,"","","","","",""]
[null,null,null,null,null,null,null,null,null,null,null,null,null,"","","","","",""]
[null,null,null,null,null,null,null,null,null,null,null,null,null,"","","","","",""]
[null,null,null,null,null,null,null,null,null,null,null,null,null,"","","","","",""]
[null,null,null,null,null,null,null,null,null,null,null,null,null,"","","","","",""]
[null,null,null,null,null,null,null,null,null,null,null,null,null,"","","","","",""]
[null,null,null,null,null,null,null,null,null,null,null,null,null,"","","","","",""]
[null,null,null,null,null,null,null,null,null,null,null,null,null,"","","","","",""]
[null,null,null,null,null,null,null,null,null,null,null,null,null,"","","","","",""]
[null,null,null,null,null,null,null,null,null,null,null,null,null,"","","","","",""]
[null,null,null,null,null,null,null,null,null,null,null,null,null,"","","","","",""]
[null,null,null,null,null,null,null,null,null,null,null,null,null,"","","","","",""]
[null,null,null,null,null,null,null,null,null,null,null,null,null,"","","","","",""]
[null,null,null,null,null,null,null,null,null,null,null,null,null,"","","","","",""]
[null,null,null,null,null,null,null,null,null,null,null,null,null,"","","","","",""]
[null,null,null,null,null,null,null,null,null,null,null,null,null,"","","","","",""]
[null,null,null,null,null,null,null,null,null,null,null,null,null,"","","","","",""]
[null,null,null,null,null,null,null,null,null,null,null,null,null,"","","","","",""]
[null,null,null,null,null,null,null,null,null,null,null,null,null,"","","","","",""]
[null,null,null,null,null,null,null,null,null,null,null,null,null,"","","","","",""]
[null,null,null,null,null,null,null,null,null,null,null,null,null,"","","","","",""]
[null,null,null,null,null,null,null,null,null,null,null,null,null,"","","","","",""]
[null,null,null,null,null,null,null,null,null,null,null,null,null,"","","","","",""]
[null,null,null,null,null,null,null,null,null,null,null,null,null,"","","","","",""]
[null,null,null,null,null,null,null,null,null,null,null,null,null,"","","","","",""]
[null,null,null,null,null,null,null,null,null,null,null,null,null,"","","","","",""]
[null,null,null,null,null,null,null,null,null,null,null,null,null,"","","","","",""]
[null,null,null,null,null,null,null,null,null,null,null,null,null,"","","","","",""]
[null,null,null,null,null,null,null,null,null,null,null,null,null,"","","","","",""]
[null,null,null,null,null,null,null,null,null,null,null,null,null,"","","","","",""]
[null,null,null,null,null,null,null,null,null,null,null,null,null,"","","","","",""]
[null,null,null,null,null,null,null,null,null,null,null,null,null,"","","","","",""]
[null,null,null,null,null,null,null,null,null,null,null,null,null,"","","","","",""]
[null,null,null,null,null,null,null,null,null,null,null,null,null,"","","","","",""]
[null,null,null,null,null,null,null,null,null,null,null,null,null,"","","","","",""]
[null,null,null,null,null,null,null,null,null,null,null,null,null,"","","","","",""]
[null,null,null,null,null,null,null,null,null,null,null,null,null,"","","","","",""]
[null,null,null,null,null,null,null,null,null,null,null,null,null,"","","","","",""]
[null,null,null,null,null,null,null,null,null,null,null,null,null,"","","","","",""]
[null,null,null,null,null,null,null,null,null,null,null,null,null,"","","","","",""]
[null,null,null,null,null,null,null,null,null,null,null,null,null,"","","","","",""]
[null,null,null,null,null,null,null,null,null,null,null,null,null,"","","","","",""]
[null,null,null,null,null,null,null,null,null,null,null,null,null,{"$f":"IF(ISBLANK(D1800),\"\",NETWORKDAYS(D1800,F1800))","v":""},{"$f":"IFERROR( IF(N1800>$Y$5,NETWORKDAYS(E1800, (Q1800 - 1)), NETWORKDAYS(E1800,(F1800-1))), \"\")","v":""},{"$f":"IF(O1800<= 0, \"\", O1800)","v":""},{"$f":"IF(ISBLANK(D1800),\"\",DATE(YEAR(D1800)+1,MONTH(D1800),DAY(D1800)))","v":""},{"$f":"IFERROR(IF(N1800 > $Y$5, IF(E1800>=Q1800,NETWORKDAYS(E1800, (F1800-1)), NETWORKDAYS(Q1800, (F1800-1))), \"\"), \"\")","v":""},{"$f":"IF(R1800=\"\", \"\",  IF(R1800 >= $Y$5, $Y$5,  R1800))","v":""}]
[null,null,null,null,null,null,null,null,null,null,null,null,null,"","","","","",""]
[null,null,null,null,null,null,null,null,null,null,null,null,null,"","","","","",""]
[null,null,null,null,null,null,null,null,null,null,null,null,null,"","","","","",""]
[null,null,null,null,null,null,null,null,null,null,null,null,null,"","","","","",""]
[null,null,null,null,null,null,null,null,null,null,null,null,null,"","","","","",""]
[null,null,null,null,null,null,null,null,null,null,null,null,null,"","","","","",""]
[null,null,null,null,null,null,null,null,null,null,null,null,null,"","","","","",""]
[null,null,null,null,null,null,null,null,null,null,null,null,null,"","","","","",""]
[null,null,null,null,null,null,null,null,null,null,null,null,null,"","","","","",""]
[null,null,null,null,null,null,null,null,null,null,null,null,null,"","","","","",""]
[null,null,null,null,null,null,null,null,null,null,null,null,null,"","","","","",""]
[null,null,null,null,null,null,null,null,null,null,null,null,null,"","","","","",""]
[null,null,null,null,null,null,null,null,null,null,null,null,null,"","","","","",""]
[null,null,null,null,null,null,null,null,null,null,null,null,null,"","","","","",""]
[null,null,null,null,null,null,null,null,null,null,null,null,null,"","","","","",""]
[null,null,null,null,null,null,null,null,null,null,null,null,null,"","","","","",""]
[null,null,null,null,null,null,null,null,null,null,null,null,null,"","","","","",""]
[null,null,null,null,null,null,null,null,null,null,null,null,null,"","","","","",""]
[null,null,null,null,null,null,null,null,null,null,null,null,null,"","","","","",""]
[null,null,null,null,null,null,null,null,null,null,null,null,null,"","","","","",""]
[null,null,null,null,null,null,null,null,null,null,null,null,null,"","","","","",""]
[null,null,null,null,null,null,null,null,null,null,null,null,null,"","","","","",""]
[null,null,null,null,null,null,null,null,null,null,null,null,null,"","","","","",""]
[null,null,null,null,null,null,null,null,null,null,null,null,null,"","","","","",""]
[null,null,null,null,null,null,null,null,null,null,null,null,null,"","","","","",""]
[null,null,null,null,null,null,null,null,null,null,null,null,null,"","","","","",""]
[null,null,null,null,null,null,null,null,null,null,null,null,null,"","","","","",""]
[null,null,null,null,null,null,null,null,null,null,null,null,null,"","","","","",""]
[null,null,null,null,null,null,null,null,null,null,null,null,null,"","","","","",""]
[null,null,null,null,null,null,null,null,null,null,null,null,null,"","","","","",""]
[null,null,null,null,null,null,null,null,null,null,null,null,null,"","","","","",""]
[null,null,null,null,null,null,null,null,null,null,null,null,null,"","","","","",""]
[null,null,null,null,null,null,null,null,null,null,null,null,null,"","","","","",""]
[null,null,null,null,null,null,null,null,null,null,null,null,null,"","","","","",""]
[null,null,null,null,null,null,null,null,null,null,null,null,null,"","","","","",""]
[null,null,null,null,null,null,null,null,null,null,null,null,null,"","","","","",""]
[null,null,null,null,null,null,null,null,null,null,null,null,null,"","","","","",""]
[null,null,null,null,null,null,null,null,null,null,null,null,null,"","","","","",""]
[null,null,null,null,null,null,null,null,null,null,null,null,null,"","","","","",""]
[null,null,null,null,null,null,null,null,null,null,null,null,null,"","","","","",""]
[null,null,null,null,null,null,null,null,null,null,null,null,null,"","","","","",""]
[null,null,null,null,null,null,null,null,null,null,null,null,null,"","","","","",""]
[null,null,null,null,null,null,null,null,null,null,null,null,null,"","","","","",""]
[null,null,null,null,null,null,null,null,null,null,null,null,null,"","","","","",""]
[null,null,null,null,null,null,null,null,null,null,null,null,null,"","","","","",""]
[null,null,null,null,null,null,null,null,null,null,null,null,null,"","","","","",""]
[null,null,null,null,null,null,null,null,null,null,null,null,null,"","","","","",""]
[null,null,null,null,null,null,null,null,null,null,null,null,null,"","","","","",""]
[null,null,null,null,null,null,null,null,null,null,null,null,null,"","","","","",""]
[null,null,null,null,null,null,null,null,null,null,null,null,null,"","","","","",""]
[null,null,null,null,null,null,null,null,null,null,null,null,null,"","","","","",""]
[null,null,null,null,null,null,null,null,null,null,null,null,null,"","","","","",""]
[null,null,null,null,null,null,null,null,null,null,null,null,null,"","","","","",""]
[null,null,null,null,null,null,null,null,null,null,null,null,null,"","","","","",""]
[null,null,null,null,null,null,null,null,null,null,null,null,null,"","","","","",""]
[null,null,null,null,null,null,null,null,null,null,null,null,null,"","","","","",""]
[null,null,null,null,null,null,null,null,null,null,null,null,null,"","","","","",""]
[null,null,null,null,null,null,null,null,null,null,null,null,null,"","","","","",""]
[null,null,null,null,null,null,null,null,null,null,null,null,null,"","","","","",""]
[null,null,null,null,null,null,null,null,null,null,null,null,null,"","","","","",""]
[null,null,null,null,null,null,null,null,null,null,null,null,null,"","","","","",""]
[null,null,null,null,null,null,null,null,null,null,null,null,null,"","","","","",""]
[null,null,null,null,null,null,null,null,null,null,null,null,null,"","","","","",""]
[null,null,null,null,null,null,null,null,null,null,null,null,null,{"$f":"IF(ISBLANK(D1864),\"\",NETWORKDAYS(D1864,F1864))","v":""},{"$f":"IFERROR( IF(N1864>$Y$5,NETWORKDAYS(E1864, (Q1864 - 1)), NETWORKDAYS(E1864,(F1864-1))), \"\")","v":""},{"$f":"IF(O1864<= 0, \"\", O1864)","v":""},{"$f":"IF(ISBLANK(D1864),\"\",DATE(YEAR(D1864)+1,MONTH(D1864),DAY(D1864)))","v":""},{"$f":"IFERROR(IF(N1864 > $Y$5, IF(E1864>=Q1864,NETWORKDAYS(E1864, (F1864-1)), NETWORKDAYS(Q1864, (F1864-1))), \"\"), \"\")","v":""},{"$f":"IF(R1864=\"\", \"\",  IF(R1864 >= $Y$5, $Y$5,  R1864))","v":""}]
[null,null,null,null,null,null,null,null,null,null,null,null,null,"","","","","",""]
[null,null,null,null,null,null,null,null,null,null,null,null,null,"","","","","",""]
[null,null,null,null,null,null,null,null,null,null,null,null,null,"","","","","",""]
[null,null,null,null,null,null,null,null,null,null,null,null,null,"","","","","",""]
[null,null,null,null,null,null,null,null,null,null,null,null,null,"","","","","",""]
[null,null,null,null,null,null,null,null,null,null,null,null,null,"","","","","",""]
[null,null,null,null,null,null,null,null,null,null,null,null,null,"","","","","",""]
[null,null,null,null,null,null,null,null,null,null,null,null,null,"","","","","",""]
[null,null,null,null,null,null,null,null,null,null,null,null,null,"","","","","",""]
[null,null,null,null,null,null,null,null,null,null,null,null,null,"","","","","",""]
[null,null,null,null,null,null,null,null,null,null,null,null,null,"","","","","",""]
[null,null,null,null,null,null,null,null,null,null,null,null,null,"","","","","",""]
[null,null,null,null,null,null,null,null,null,null,null,null,null,"","","","","",""]
[null,null,null,null,null,null,null,null,null,null,null,null,null,"","","","","",""]
[null,null,null,null,null,null,null,null,null,null,null,null,null,"","","","","",""]
[null,null,null,null,null,null,null,null,null,null,null,null,null,"","","","","",""]
[null,null,null,null,null,null,null,null,null,null,null,null,null,"","","","","",""]
[null,null,null,null,null,null,null,null,null,null,null,null,null,"","","","","",""]
[null,null,null,null,null,null,null,null,null,null,null,null,null,"","","","","",""]
[null,null,null,null,null,null,null,null,null,null,null,null,null,"","","","","",""]
[null,null,null,null,null,null,null,null,null,null,null,null,null,"","","","","",""]
[null,null,null,null,null,null,null,null,null,null,null,null,null,"","","","","",""]
[null,null,null,null,null,null,null,null,null,null,null,null,null,"","","","","",""]
[null,null,null,null,null,null,null,null,null,null,null,null,null,"","","","","",""]
[null,null,null,null,null,null,null,null,null,null,null,null,null,"","","","","",""]
[null,null,null,null,null,null,null,null,null,null,null,null,null,"","","","","",""]
[null,null,null,null,null,null,null,null,null,null,null,null,null,"","","","","",""]
[null,null,null,null,null,null,null,null,null,null,null,null,null,"","","","","",""]
[null,null,null,null,null,null,null,null,null,null,null,null,null,"","","","","",""]
[null,null,null,null,null,null,null,null,null,null,null,null,null,"","","","","",""]
[null,null,null,null,null,null,null,null,null,null,null,null,null,"","","","","",""]
[null,null,null,null,null,null,null,null,null,null,null,null,null,"","","","","",""]
[null,null,null,null,null,null,null,null,null,null,null,null,null,"","","","","",""]
[null,null,null,null,null,null,null,null,null,null,null,null,null,"","","","","",""]
[null,null,null,null,null,null,null,null,null,null,null,null,null,"","","","","",""]
[null,null,null,null,null,null,null,null,null,null,null,null,null,"","","","","",""]
[null,null,null,null,null,null,null,null,null,null,null,null,null,"","","","","",""]
[null,null,null,null,null,null,null,null,null,null,null,null,null,"","","","","",""]
[null,null,null,null,null,null,null,null,null,null,null,null,null,"","","","","",""]
[null,null,null,null,null,null,null,null,null,null,null,null,null,"","","","","",""]
[null,null,null,null,null,null,null,null,null,null,null,null,null,"","","","","",""]
[null,null,null,null,null,null,null,null,null,null,null,null,null,"","","","","",""]
[null,null,null,null,null,null,null,null,null,null,null,null,null,"","","","","",""]
[null,null,null,null,null,null,null,null,null,null,null,null,null,"","","","","",""]
[null,null,null,null,null,null,null,null,null,null,null,null,null,"","","","","",""]
[null,null,null,null,null,null,null,null,null,null,null,null,null,"","","","","",""]
[null,null,null,null,null,null,null,null,null,null,null,null,null,"","","","","",""]
[null,null,null,null,null,null,null,null,null,null,null,null,null,"","","","","",""]
[null,null,null,null,null,null,null,null,null,null,null,null,null,"","","","","",""]
[null,null,null,null,null,null,null,null,null,null,null,null,null,"","","","","",""]
[null,null,null,null,null,null,null,null,null,null,null,null,null,"","","","","",""]
[null,null,null,null,null,null,null,null,null,null,null,null,null,"","","","","",""]
[null,null,null,null,null,null,null,null,null,null,null,null,null,"","","","","",""]
[null,null,null,null,null,null,null,null,null,null,null,null,null,"","","","","",""]
[null,null,null,null,null,null,null,null,null,null,null,null,null,"","","","","",""]
[null,null,null,null,null,null,null,null,null,null,null,null,null,"","","","","",""]
[null,null,null,null,null,null,null,null,null,null,null,null,null,"","","","","",""]
[null,null,null,null,null,null,null,null,null,null,null,null,null,"","","","","",""]
[null,null,null,null,null,null,null,null,null,null,null,null,null,"","","","","",""]
[null,null,null,null,null,null,null,null,null,null,null,null,null,"","","","","",""]
[null,null,null,null,null,null,null,null,null,null,null,null,null,"","","","","",""]
[null,null,null,null,null,null,null,null,null,null,null,null,null,"","","","","",""]
[null,null,null,null,null,null,null,null,null,null,null,null,null,"","","","","",""]
[null,null,null,null,null,null,null,null,null,null,null,null,null,{"$f":"IF(ISBLANK(D1928),\"\",NETWORKDAYS(D1928,F1928))","v":""},{"$f":"IFERROR( IF(N1928>$Y$5,NETWORKDAYS(E1928, (Q1928 - 1)), NETWORKDAYS(E1928,(F1928-1))), \"\")","v":""},{"$f":"IF(O1928<= 0, \"\", O1928)","v":""},{"$f":"IF(ISBLANK(D1928),\"\",DATE(YEAR(D1928)+1,MONTH(D1928),DAY(D1928)))","v":""},{"$f":"IFERROR(IF(N1928 > $Y$5, IF(E1928>=Q1928,NETWORKDAYS(E1928, (F1928-1)), NETWORKDAYS(Q1928, (F1928-1))), \"\"), \"\")","v":""},{"$f":"IF(R1928=\"\", \"\",  IF(R1928 >= $Y$5, $Y$5,  R1928))","v":""}]
[null,null,null,null,null,null,null,null,null,null,null,null,null,"","","","","",""]
[null,null,null,null,null,null,null,null,null,null,null,null,null,"","","","","",""]
[null,null,null,null,null,null,null,null,null,null,null,null,null,"","","","","",""]
[null,null,null,null,null,null,null,null,null,null,null,null,null,"","","","","",""]
[null,null,null,null,null,null,null,null,null,null,null,null,null,"","","","","",""]
[null,null,null,null,null,null,null,null,null,null,null,null,null,"","","","","",""]
[null,null,null,null,null,null,null,null,null,null,null,null,null,"","","","","",""]
[null,null,null,null,null,null,null,null,null,null,null,null,null,"","","","","",""]
[null,null,null,null,null,null,null,null,null,null,null,null,null,"","","","","",""]
[null,null,null,null,null,null,null,null,null,null,null,null,null,"","","","","",""]
[null,null,null,null,null,null,null,null,null,null,null,null,null,"","","","","",""]
[null,null,null,null,null,null,null,null,null,null,null,null,null,"","","","","",""]
[null,null,null,null,null,null,null,null,null,null,null,null,null,"","","","","",""]
[null,null,null,null,null,null,null,null,null,null,null,null,null,"","","","","",""]
[null,null,null,null,null,null,null,null,null,null,null,null,null,"","","","","",""]
[null,null,null,null,null,null,null,null,null,null,null,null,null,"","","","","",""]
[null,null,null,null,null,null,null,null,null,null,null,null,null,"","","","","",""]
[null,null,null,null,null,null,null,null,null,null,null,null,null,"","","","","",""]
[null,null,null,null,null,null,null,null,null,null,null,null,null,"","","","","",""]
[null,null,null,null,null,null,null,null,null,null,null,null,null,"","","","","",""]
[null,null,null,null,null,null,null,null,null,null,null,null,null,"","","","","",""]
[null,null,null,null,null,null,null,null,null,null,null,null,null,"","","","","",""]
[null,null,null,null,null,null,null,null,null,null,null,null,null,"","","","","",""]
[null,null,null,null,null,null,null,null,null,null,null,null,null,"","","","","",""]
[null,null,null,null,null,null,null,null,null,null,null,null,null,"","","","","",""]
[null,null,null,null,null,null,null,null,null,null,null,null,null,"","","","","",""]
[null,null,null,null,null,null,null,null,null,null,null,null,null,"","","","","",""]
[null,null,null,null,null,null,null,null,null,null,null,null,null,"","","","","",""]
[null,null,null,null,null,null,null,null,null,null,null,null,null,"","","","","",""]
[null,null,null,null,null,null,null,null,null,null,null,null,null,"","","","","",""]
[null,null,null,null,null,null,null,null,null,null,null,null,null,"","","","","",""]
[null,null,null,null,null,null,null,null,null,null,null,null,null,"","","","","",""]
[null,null,null,null,null,null,null,null,null,null,null,null,null,"","","","","",""]
[null,null,null,null,null,null,null,null,null,null,null,null,null,"","","","","",""]
[null,null,null,null,null,null,null,null,null,null,null,null,null,"","","","","",""]
[null,null,null,null,null,null,null,null,null,null,null,null,null,"","","","","",""]
[null,null,null,null,null,null,null,null,null,null,null,null,null,"","","","","",""]
[null,null,null,null,null,null,null,null,null,null,null,null,null,"","","","","",""]
[null,null,null,null,null,null,null,null,null,null,null,null,null,"","","","","",""]
[null,null,null,null,null,null,null,null,null,null,null,null,null,"","","","","",""]
[null,null,null,null,null,null,null,null,null,null,null,null,null,"","","","","",""]
[null,null,null,null,null,null,null,null,null,null,null,null,null,"","","","","",""]
[null,null,null,null,null,null,null,null,null,null,null,null,null,"","","","","",""]
[null,null,null,null,null,null,null,null,null,null,null,null,null,"","","","","",""]
[null,null,null,null,null,null,null,null,null,null,null,null,null,"","","","","",""]
[null,null,null,null,null,null,null,null,null,null,null,null,null,"","","","","",""]
[null,null,null,null,null,null,null,null,null,null,null,null,null,"","","","","",""]
[null,null,null,null,null,null,null,null,null,null,null,null,null,"","","","","",""]
[null,null,null,null,null,null,null,null,null,null,null,null,null,"","","","","",""]
[null,null,null,null,null,null,null,null,null,null,null,null,null,"","","","","",""]
[null,null,null,null,null,null,null,null,null,null,null,null,null,"","","","","",""]
[null,null,null,null,null,null,null,null,null,null,null,null,null,"","","","","",""]
[null,null,null,null,null,null,null,null,null,null,null,null,null,"","","","","",""]
[null,null,null,null,null,null,null,null,null,null,null,null,null,"","","","","",""]
[null,null,null,null,null,null,null,null,null,null,null,null,null,"","","","","",""]
[null,null,null,null,null,null,null,null,null,null,null,null,null,"","","","","",""]
[null,null,null,null,null,null,null,null,null,null,null,null,null,"","","","","",""]
[null,null,null,null,null,null,null,null,null,null,null,null,null,"","","","","",""]
[null,null,null,null,null,null,null,null,null,null,null,null,null,"","","","","",""]
[null,null,null,null,null,null,null,null,null,null,null,null,null,"","","","","",""]
[null,null,null,null,null,null,null,null,null,null,null,null,null,"","","","","",""]
[null,null,null,null,null,null,null,null,null,null,null,null,null,"","","","","",""]
[null,null,null,null,null,null,null,null,null,null,null,null,null,"","","","","",""]
[null,null,null,null,null,null,null,null,null,null,null,null,null,{"$f":"IF(ISBLANK(D1992),\"\",NETWORKDAYS(D1992,F1992))","v":""},{"$f":"IFERROR( IF(N1992>$Y$5,NETWORKDAYS(E1992, (Q1992 - 1)), NETWORKDAYS(E1992,(F1992-1))), \"\")","v":""},{"$f":"IF(O1992<= 0, \"\", O1992)","v":""},{"$f":"IF(ISBLANK(D1992),\"\",DATE(YEAR(D1992)+1,MONTH(D1992),DAY(D1992)))","v":""},{"$f":"IFERROR(IF(N1992 > $Y$5, IF(E1992>=Q1992,NETWORKDAYS(E1992, (F1992-1)), NETWORKDAYS(Q1992, (F1992-1))), \"\"), \"\")","v":""},{"$f":"IF(R1992=\"\", \"\",  IF(R1992 >= $Y$5, $Y$5,  R1992))","v":""}]
[null,null,null,null,null,null,null,null,null,null,null,null,null,"","","","","",""]
[null,null,null,null,null,null,null,null,null,null,null,null,null,"","","","","",""]
[null,null,null,null,null,null,null,null,null,null,null,null,null,"","","","","",""]
[null,null,null,null,null,null,null,null,null,null,null,null,null,"","","","","",""]
[null,null,null,null,null,null,null,null,null,null,null,null,null,"","","","","",""]
[null,null,null,null,null,null,null,null,null,null,null,null,null,"","","","","",""]
[null,null,null,null,null,null,null,null,null,null,null,null,null,"","","","","",""]
[null,null,null,null,null,null,null,null,null,null,null,null,null,"","","","","",""]
[null,null,null,null,null,null,null,null,null,null,null,null,null,"","","","","",""]
[null,null,null,null,null,null,null,null,null,null,null,null,null,"","","","","",""]
[null,null,null,null,null,null,null,null,null,null,null,null,null,"","","","","",""]
[null,null,null,null,null,null,null,null,null,null,null,null,null,"","","","","",""]
[null,null,null,null,null,null,null,null,null,null,null,null,null,"","","","","",""]
[null,null,null,null,null,null,null,null,null,null,null,null,null,"","","","","",""]
[null,null,null,null,null,null,null,null,null,null,null,null,null,"","","","","",""]
[null,null,null,null,null,null,null,null,null,null,null,null,null,"","","","","",""]
[null,null,null,null,null,null,null,null,null,null,null,null,null,"","","","","",""]
[null,null,null,null,null,null,null,null,null,null,null,null,null,"","","","","",""]
[null,null,null,null,null,null,null,null,null,null,null,null,null,"","","","","",""]
[null,null,null,null,null,null,null,null,null,null,null,null,null,"","","","","",""]
[null,null,null,null,null,null,null,null,null,null,null,null,null,"","","","","",""]
[null,null,null,null,null,null,null,null,null,null,null,null,null,"","","","","",""]
[null,null,null,null,null,null,null,null,null,null,null,null,null,"","","","","",""]
[null,null,null,null,null,null,null,null,null,null,null,null,null,"","","","","",""]
[null,null,null,null,null,null,null,null,null,null,null,null,null,"","","","","",""]
[null,null,null,null,null,null,null,null,null,null,null,null,null,"","","","","",""]
[null,null,null,null,null,null,null,null,null,null,null,null,null,"","","","","",""]
[null,null,null,null,null,null,null,null,null,null,null,null,null,"","","","","",""]
[null,null,null,null,null,null,null,null,null,null,null,null,null,"","","","","",""]
[null,null,null,null,null,null,null,null,null,null,null,null,null,"","","","","",""]
[null,null,null,null,null,null,null,null,null,null,null,null,null,"","","","","",""]
[null,null,null,null,null,null,null,null,null,null,null,null,null,"","","","","",""]
[null,null,null,null,null,null,null,null,null,null,null,null,null,"","","","","",""]
[null,null,null,null,null,null,null,null,null,null,null,null,null,"","","","","",""]
[null,null,null,null,null,null,null,null,null,null,null,null,null,"","","","","",""]
[null,null,null,null,null,null,null,null,null,null,null,null,null,"","","","","",""]
[null,null,null,null,null,null,null,null,null,null,null,null,null,"","","","","",""]
[null,null,null,null,null,null,null,null,null,null,null,null,null,"","","","","",""]
[null,null,null,null,null,null,null,null,null,null,null,null,null,"","","","","",""]
[null,null,null,null,null,null,null,null,null,null,null,null,null,"","","","","",""]
[null,null,null,null,null,null,null,null,null,null,null,null,null,"","","","","",""]
[null,null,null,null,null,null,null,null,null,null,null,null,null,"","","","","",""]
[null,null,null,null,null,null,null,null,null,null,null,null,null,"","","","","",""]
[null,null,null,null,null,null,null,null,null,null,null,null,null,"","","","","",""]
[null,null,null,null,null,null,null,null,null,null,null,null,null,"","","","","",""]
[null,null,null,null,null,null,null,null,null,null,null,null,null,"","","","","",""]
[null,null,null,null,null,null,null,null,null,null,null,null,null,"","","","","",""]
[null,null,null,null,null,null,null,null,null,null,null,null,null,"","","","","",""]
[null,null,null,null,null,null,null,null,null,null,null,null,null,"","","","","",""]
[null,null,null,null,null,null,null,null,null,null,null,null,null,"","","","","",""]
[null,null,null,null,null,null,null,null,null,null,null,null,null,"","","","","",""]
[null,null,null,null,null,null,null,null,null,null,null,null,null,"","","","","",""]
[null,null,null,null,null,null,null,null,null,null,null,null,null,"","","","","",""]
[null,null,null,null,null,null,null,null,null,null,null,null,null,"","","","","",""]
[null,null,null,null,null,null,null,null,null,null,null,null,null,"","","","","",""]
[null,null,null,null,null,null,null,null,null,null,null,null,null,"","","","","",""]
[null,null,null,null,null,null,null,null,null,null,null,null,null,"","","","","",""]
[null,null,null,null,null,null,null,null,null,null,null,null,null,"","","","","",""]
[null,null,null,null,null,null,null,null,null,null,null,null,null,"","","","","",""]
[null,null,null,null,null,null,null,null,null,null,null,null,null,"","","","","",""]
[null,null,null,null,null,null,null,null,null,null,null,null,null,"","","","","",""]
[null,null,null,null,null,null,null,null,null,null,null,null,null,"","","","","",""]
[null,null,null,null,null,null,null,null,null,null,null,null,null,"","","","","",""]
[null,null,null,null,null,null,null,null,null,null,null,null,null,{"$f":"IF(ISBLANK(D2056),\"\",NETWORKDAYS(D2056,F2056))","v":""},{"$f":"IFERROR( IF(N2056>$Y$5,NETWORKDAYS(E2056, (Q2056 - 1)), NETWORKDAYS(E2056,(F2056-1))), \"\")","v":""},{"$f":"IF(O2056<= 0, \"\", O2056)","v":""},{"$f":"IF(ISBLANK(D2056),\"\",DATE(YEAR(D2056)+1,MONTH(D2056),DAY(D2056)))","v":""},{"$f":"IFERROR(IF(N2056 > $Y$5, IF(E2056>=Q2056,NETWORKDAYS(E2056, (F2056-1)), NETWORKDAYS(Q2056, (F2056-1))), \"\"), \"\")","v":""},{"$f":"IF(R2056=\"\", \"\",  IF(R2056 >= $Y$5, $Y$5,  R2056))","v":""}]
[null,null,null,null,null,null,null,null,null,null,null,null,null,"","","","","",""]
[null,null,null,null,null,null,null,null,null,null,null,null,null,"","","","","",""]
[null,null,null,null,null,null,null,null,null,null,null,null,null,"","","","","",""]
[null,null,null,null,null,null,null,null,null,null,null,null,null,"","","","","",""]
[null,null,null,null,null,null,null,null,null,null,null,null,null,"","","","","",""]
[null,null,null,null,null,null,null,null,null,null,null,null,null,"","","","","",""]
[null,null,null,null,null,null,null,null,null,null,null,null,null,"","","","","",""]
[null,null,null,null,null,null,null,null,null,null,null,null,null,"","","","","",""]
[null,null,null,null,null,null,null,null,null,null,null,null,null,"","","","","",""]
[null,null,null,null,null,null,null,null,null,null,null,null,null,"","","","","",""]
[null,null,null,null,null,null,null,null,null,null,null,null,null,"","","","","",""]
[null,null,null,null,null,null,null,null,null,null,null,null,null,"","","","","",""]
[null,null,null,null,null,null,null,null,null,null,null,null,null,"","","","","",""]
[null,null,null,null,null,null,null,null,null,null,null,null,null,"","","","","",""]
[null,null,null,null,null,null,null,null,null,null,null,null,null,"","","","","",""]
[null,null,null,null,null,null,null,null,null,null,null,null,null,"","","","","",""]
[null,null,null,null,null,null,null,null,null,null,null,null,null,"","","","","",""]
[null,null,null,null,null,null,null,null,null,null,null,null,null,"","","","","",""]
[null,null,null,null,null,null,null,null,null,null,null,null,null,"","","","","",""]
[null,null,null,null,null,null,null,null,null,null,null,null,null,"","","","","",""]
[null,null,null,null,null,null,null,null,null,null,null,null,null,"","","","","",""]
[null,null,null,null,null,null,null,null,null,null,null,null,null,"","","","","",""]
[null,null,null,null,null,null,null,null,null,null,null,null,null,"","","","","",""]
[null,null,null,null,null,null,null,null,null,null,null,null,null,"","","","","",""]
[null,null,null,null,null,null,null,null,null,null,null,null,null,"","","","","",""]
[null,null,null,null,null,null,null,null,null,null,null,null,null,"","","","","",""]
[null,null,null,null,null,null,null,null,null,null,null,null,null,"","","","","",""]
[null,null,null,null,null,null,null,null,null,null,null,null,null,"","","","","",""]
[null,null,null,null,null,null,null,null,null,null,null,null,null,"","","","","",""]
[null,null,null,null,null,null,null,null,null,null,null,null,null,"","","","","",""]
[null,null,null,null,null,null,null,null,null,null,null,null,null,"","","","","",""]
[null,null,null,null,null,null,null,null,null,null,null,null,null,"","","","","",""]
[null,null,null,null,null,null,null,null,null,null,null,null,null,"","","","","",""]
[null,null,null,null,null,null,null,null,null,null,null,null,null,"","","","","",""]
[null,null,null,null,null,null,null,null,null,null,null,null,null,"","","","","",""]
[null,null,null,null,null,null,null,null,null,null,null,null,null,"","","","","",""]
[null,null,null,null,null,null,null,null,null,null,null,null,null,"","","","","",""]
[null,null,null,null,null,null,null,null,null,null,null,null,null,"","","","","",""]
[null,null,null,null,null,null,null,null,null,null,null,null,null,"","","","","",""]
[null,null,null,null,null,null,null,null,null,null,null,null,null,"","","","","",""]
[null,null,null,null,null,null,null,null,null,null,null,null,null,"","","","","",""]
[null,null,null,null,null,null,null,null,null,null,null,null,null,"","","","","",""]
[null,null,null,null,null,null,null,null,null,null,null,null,null,"","","","","",""]
[null,null,null,null,null,null,null,null,null,null,null,null,null,"","","","","",""]
[null,null,null,null,null,null,null,null,null,null,null,null,null,"","","","","",""]
[null,null,null,null,null,null,null,null,null,null,null,null,null,"","","","","",""]
[null,null,null,null,null,null,null,null,null,null,null,null,null,"","","","","",""]
[null,null,null,null,null,null,null,null,null,null,null,null,null,"","","","","",""]
[null,null,null,null,null,null,null,null,null,null,null,null,null,"","","","","",""]
[null,null,null,null,null,null,null,null,null,null,null,null,null,"","","","","",""]
[null,null,null,null,null,null,null,null,null,null,null,null,null,"","","","","",""]
[null,null,null,null,null,null,null,null,null,null,null,null,null,"","","","","",""]
[null,null,null,null,null,null,null,null,null,null,null,null,null,"","","","","",""]
[null,null,null,null,null,null,null,null,null,null,null,null,null,"","","","","",""]
[null,null,null,null,null,null,null,null,null,null,null,null,null,"","","","","",""]
[null,null,null,null,null,null,null,null,null,null,null,null,null,"","","","","",""]
[null,null,null,null,null,null,null,null,null,null,null,null,null,"","","","","",""]
[null,null,null,null,null,null,null,null,null,null,null,null,null,"","","","","",""]
[null,null,null,null,null,null,null,null,null,null,null,null,null,"","","","","",""]
[null,null,null,null,null,null,null,null,null,null,null,null,null,"","","","","",""]
[null,null,null,null,null,null,null,null,null,null,null,null,null,"","","","","",""]
[null,null,null,null,null,null,null,null,null,null,null,null,null,"","","","","",""]
[null,null,null,null,null,null,null,null,null,null,null,null,null,"","","","","",""]
[null,null,null,null,null,null,null,null,null,null,null,null,null,{"$f":"IF(ISBLANK(D2120),\"\",NETWORKDAYS(D2120,F2120))","v":""},{"$f":"IFERROR( IF(N2120>$Y$5,NETWORKDAYS(E2120, (Q2120 - 1)), NETWORKDAYS(E2120,(F2120-1))), \"\")","v":""},{"$f":"IF(O2120<= 0, \"\", O2120)","v":""},{"$f":"IF(ISBLANK(D2120),\"\",DATE(YEAR(D2120)+1,MONTH(D2120),DAY(D2120)))","v":""},{"$f":"IFERROR(IF(N2120 > $Y$5, IF(E2120>=Q2120,NETWORKDAYS(E2120, (F2120-1)), NETWORKDAYS(Q2120, (F2120-1))), \"\"), \"\")","v":""},{"$f":"IF(R2120=\"\", \"\",  IF(R2120 >= $Y$5, $Y$5,  R2120))","v":""}]
[null,null,null,null,null,null,null,null,null,null,null,null,null,"","","","","",""]
[null,null,null,null,null,null,null,null,null,null,null,null,null,"","","","","",""]
[null,null,null,null,null,null,null,null,null,null,null,null,null,"","","","","",""]
[null,null,null,null,null,null,null,null,null,null,null,null,null,"","","","","",""]
[null,null,null,null,null,null,null,null,null,null,null,null,null,"","","","","",""]
[null,null,null,null,null,null,null,null,null,null,null,null,null,"","","","","",""]
[null,null,null,null,null,null,null,null,null,null,null,null,null,"","","","","",""]
[null,null,null,null,null,null,null,null,null,null,null,null,null,"","","","","",""]
[null,null,null,null,null,null,null,null,null,null,null,null,null,"","","","","",""]
[null,null,null,null,null,null,null,null,null,null,null,null,null,"","","","","",""]
[null,null,null,null,null,null,null,null,null,null,null,null,null,"","","","","",""]
[null,null,null,null,null,null,null,null,null,null,null,null,null,"","","","","",""]
[null,null,null,null,null,null,null,null,null,null,null,null,null,"","","","","",""]
[null,null,null,null,null,null,null,null,null,null,null,null,null,"","","","","",""]
[null,null,null,null,null,null,null,null,null,null,null,null,null,"","","","","",""]
[null,null,null,null,null,null,null,null,null,null,null,null,null,"","","","","",""]
[null,null,null,null,null,null,null,null,null,null,null,null,null,"","","","","",""]
[null,null,null,null,null,null,null,null,null,null,null,null,null,"","","","","",""]
[null,null,null,null,null,null,null,null,null,null,null,null,null,"","","","","",""]
[null,null,null,null,null,null,null,null,null,null,null,null,null,"","","","","",""]
[null,null,null,null,null,null,null,null,null,null,null,null,null,"","","","","",""]
[null,null,null,null,null,null,null,null,null,null,null,null,null,"","","","","",""]
[null,null,null,null,null,null,null,null,null,null,null,null,null,"","","","","",""]
[null,null,null,null,null,null,null,null,null,null,null,null,null,"","","","","",""]
[null,null,null,null,null,null,null,null,null,null,null,null,null,"","","","","",""]
[null,null,null,null,null,null,null,null,null,null,null,null,null,"","","","","",""]
[null,null,null,null,null,null,null,null,null,null,null,null,null,"","","","","",""]
[null,null,null,null,null,null,null,null,null,null,null,null,null,"","","","","",""]
[null,null,null,null,null,null,null,null,null,null,null,null,null,"","","","","",""]
[null,null,null,null,null,null,null,null,null,null,null,null,null,"","","","","",""]
[null,null,null,null,null,null,null,null,null,null,null,null,null,"","","","","",""]
[null,null,null,null,null,null,null,null,null,null,null,null,null,"","","","","",""]
[null,null,null,null,null,null,null,null,null,null,null,null,null,"","","","","",""]
[null,null,null,null,null,null,null,null,null,null,null,null,null,"","","","","",""]
[null,null,null,null,null,null,null,null,null,null,null,null,null,"","","","","",""]
[null,null,null,null,null,null,null,null,null,null,null,null,null,"","","","","",""]
[null,null,null,null,null,null,null,null,null,null,null,null,null,"","","","","",""]
[null,null,null,null,null,null,null,null,null,null,null,null,null,"","","","","",""]
[null,null,null,null,null,null,null,null,null,null,null,null,null,"","","","","",""]
[null,null,null,null,null,null,null,null,null,null,null,null,null,"","","","","",""]
[null,null,null,null,null,null,null,null,null,null,null,null,null,"","","","","",""]
[null,null,null,null,null,null,null,null,null,null,null,null,null,"","","","","",""]
[null,null,null,null,null,null,null,null,null,null,null,null,null,"","","","","",""]
[null,null,null,null,null,null,null,null,null,null,null,null,null,"","","","","",""]
[null,null,null,null,null,null,null,null,null,null,null,null,null,"","","","","",""]
[null,null,null,null,null,null,null,null,null,null,null,null,null,"","","","","",""]
[null,null,null,null,null,null,null,null,null,null,null,null,null,"","","","","",""]
[null,null,null,null,null,null,null,null,null,null,null,null,null,"","","","","",""]
[null,null,null,null,null,null,null,null,null,null,null,null,null,"","","","","",""]
[null,null,null,null,null,null,null,null,null,null,null,null,null,"","","","","",""]
[null,null,null,null,null,null,null,null,null,null,null,null,null,"","","","","",""]
[null,null,null,null,null,null,null,null,null,null,null,null,null,"","","","","",""]
[null,null,null,null,null,null,null,null,null,null,null,null,null,"","","","","",""]
[null,null,null,null,null,null,null,null,null,null,null,null,null,"","","","","",""]
[null,null,null,null,null,null,null,null,null,null,null,null,null,"","","","","",""]
[null,null,null,null,null,null,null,null,null,null,null,null,null,"","","","","",""]
[null,null,null,null,null,null,null,null,null,null,null,null,null,"","","","","",""]
[null,null,null,null,null,null,null,null,null,null,null,null,null,"","","","","",""]
[null,null,null,null,null,null,null,null,null,null,null,null,null,"","","","","",""]
[null,null,null,null,null,null,null,null,null,null,null,null,null,"","","","","",""]
[null,null,null,null,null,null,null,null,null,null,null,null,null,"","","","","",""]
[null,null,null,null,null,null,null,null,null,null,null,null,null,"","","","","",""]
[null,null,null,null,null,null,null,null,null,null,null,null,null,"","","","","",""]
[null,null,null,null,null,null,null,null,null,null,null,null,null,{"$f":"IF(ISBLANK(D2184),\"\",NETWORKDAYS(D2184,F2184))","v":""},{"$f":"IFERROR( IF(N2184>$Y$5,NETWORKDAYS(E2184, (Q2184 - 1)), NETWORKDAYS(E2184,(F2184-1))), \"\")","v":""},{"$f":"IF(O2184<= 0, \"\", O2184)","v":""},{"$f":"IF(ISBLANK(D2184),\"\",DATE(YEAR(D2184)+1,MONTH(D2184),DAY(D2184)))","v":""},{"$f":"IFERROR(IF(N2184 > $Y$5, IF(E2184>=Q2184,NETWORKDAYS(E2184, (F2184-1)), NETWORKDAYS(Q2184, (F2184-1))), \"\"), \"\")","v":""},{"$f":"IF(R2184=\"\", \"\",  IF(R2184 >= $Y$5, $Y$5,  R2184))","v":""}]
[null,null,null,null,null,null,null,null,null,null,null,null,null,"","","","","",""]
[null,null,null,null,null,null,null,null,null,null,null,null,null,"","","","","",""]
[null,null,null,null,null,null,null,null,null,null,null,null,null,"","","","","",""]
[null,null,null,null,null,null,null,null,null,null,null,null,null,"","","","","",""]
[null,null,null,null,null,null,null,null,null,null,null,null,null,"","","","","",""]
[null,null,null,null,null,null,null,null,null,null,null,null,null,"","","","","",""]
[null,null,null,null,null,null,null,null,null,null,null,null,null,"","","","","",""]
[null,null,null,null,null,null,null,null,null,null,null,null,null,"","","","","",""]
[null,null,null,null,null,null,null,null,null,null,null,null,null,"","","","","",""]
[null,null,null,null,null,null,null,null,null,null,null,null,null,"","","","","",""]
[null,null,null,null,null,null,null,null,null,null,null,null,null,"","","","","",""]
[null,null,null,null,null,null,null,null,null,null,null,null,null,"","","","","",""]
[null,null,null,null,null,null,null,null,null,null,null,null,null,"","","","","",""]
[null,null,null,null,null,null,null,null,null,null,null,null,null,"","","","","",""]
[null,null,null,null,null,null,null,null,null,null,null,null,null,"","","","","",""]
[null,null,null,null,null,null,null,null,null,null,null,null,null,"","","","","",""]
[null,null,null,null,null,null,null,null,null,null,null,null,null,"","","","","",""]
[null,null,null,null,null,null,null,null,null,null,null,null,null,"","","","","",""]
[null,null,null,null,null,null,null,null,null,null,null,null,null,"","","","","",""]
[null,null,null,null,null,null,null,null,null,null,null,null,null,"","","","","",""]
[null,null,null,null,null,null,null,null,null,null,null,null,null,"","","","","",""]
[null,null,null,null,null,null,null,null,null,null,null,null,null,"","","","","",""]
[null,null,null,null,null,null,null,null,null,null,null,null,null,"","","","","",""]
[null,null,null,null,null,null,null,null,null,null,null,null,null,"","","","","",""]
[null,null,null,null,null,null,null,null,null,null,null,null,null,"","","","","",""]
[null,null,null,null,null,null,null,null,null,null,null,null,null,"","","","","",""]
[null,null,null,null,null,null,null,null,null,null,null,null,null,"","","","","",""]
[null,null,null,null,null,null,null,null,null,null,null,null,null,"","","","","",""]
[null,null,null,null,null,null,null,null,null,null,null,null,null,"","","","","",""]
[null,null,null,null,null,null,null,null,null,null,null,null,null,"","","","","",""]
[null,null,null,null,null,null,null,null,null,null,null,null,null,"","","","","",""]
[null,null,null,null,null,null,null,null,null,null,null,null,null,"","","","","",""]
[null,null,null,null,null,null,null,null,null,null,null,null,null,"","","","","",""]
[null,null,null,null,null,null,null,null,null,null,null,null,null,"","","","","",""]
[null,null,null,null,null,null,null,null,null,null,null,null,null,"","","","","",""]
[null,null,null,null,null,null,null,null,null,null,null,null,null,"","","","","",""]
[null,null,null,null,null,null,null,null,null,null,null,null,null,"","","","","",""]
[null,null,null,null,null,null,null,null,null,null,null,null,null,"","","","","",""]
[null,null,null,null,null,null,null,null,null,null,null,null,null,"","","","","",""]
[null,null,null,null,null,null,null,null,null,null,null,null,null,"","","","","",""]
[null,null,null,null,null,null,null,null,null,null,null,null,null,"","","","","",""]
[null,null,null,null,null,null,null,null,null,null,null,null,null,"","","","","",""]
[null,null,null,null,null,null,null,null,null,null,null,null,null,"","","","","",""]
[null,null,null,null,null,null,null,null,null,null,null,null,null,"","","","","",""]
[null,null,null,null,null,null,null,null,null,null,null,null,null,"","","","","",""]
[null,null,null,null,null,null,null,null,null,null,null,null,null,"","","","","",""]
[null,null,null,null,null,null,null,null,null,null,null,null,null,"","","","","",""]
[null,null,null,null,null,null,null,null,null,null,null,null,null,"","","","","",""]
[null,null,null,null,null,null,null,null,null,null,null,null,null,"","","","","",""]
[null,null,null,null,null,null,null,null,null,null,null,null,null,"","","","","",""]
[null,null,null,null,null,null,null,null,null,null,null,null,null,"","","","","",""]
[null,null,null,null,null,null,null,null,null,null,null,null,null,"","","","","",""]
[null,null,null,null,null,null,null,null,null,null,null,null,null,"","","","","",""]
[null,null,null,null,null,null,null,null,null,null,null,null,null,"","","","","",""]
[null,null,null,null,null,null,null,null,null,null,null,null,null,"","","","","",""]
[null,null,null,null,null,null,null,null,null,null,null,null,null,"","","","","",""]
[null,null,null,null,null,null,null,null,null,null,null,null,null,"","","","","",""]
[null,null,null,null,null,null,null,null,null,null,null,null,null,"","","","","",""]
[null,null,null,null,null,null,null,null,null,null,null,null,null,"","","","","",""]
[null,null,null,null,null,null,null,null,null,null,null,null,null,"","","","","",""]
[null,null,null,null,null,null,null,null,null,null,null,null,null,"","","","","",""]
[null,null,null,null,null,null,null,null,null,null,null,null,null,"","","","","",""]
[null,null,null,null,null,null,null,null,null,null,null,null,null,"","","","","",""]
[null,null,null,null,null,null,null,null,null,null,null,null,null,{"$f":"IF(ISBLANK(D2248),\"\",NETWORKDAYS(D2248,F2248))","v":""},{"$f":"IFERROR( IF(N2248>$Y$5,NETWORKDAYS(E2248, (Q2248 - 1)), NETWORKDAYS(E2248,(F2248-1))), \"\")","v":""},{"$f":"IF(O2248<= 0, \"\", O2248)","v":""},{"$f":"IF(ISBLANK(D2248),\"\",DATE(YEAR(D2248)+1,MONTH(D2248),DAY(D2248)))","v":""},{"$f":"IFERROR(IF(N2248 > $Y$5, IF(E2248>=Q2248,NETWORKDAYS(E2248, (F2248-1)), NETWORKDAYS(Q2248, (F2248-1))), \"\"), \"\")","v":""},{"$f":"IF(R2248=\"\", \"\",  IF(R2248 >= $Y$5, $Y$5,  R2248))","v":""}]
[null,null,null,null,null,null,null,null,null,null,null,null,null,"","","","","",""]
[null,null,null,null,null,null,null,null,null,null,null,null,null,"","","","","",""]
[null,null,null,null,null,null,null,null,null,null,null,null,null,"","","","","",""]
[null,null,null,null,null,null,null,null,null,null,null,null,null,"","","","","",""]
[null,null,null,null,null,null,null,null,null,null,null,null,null,"","","","","",""]
[null,null,null,null,null,null,null,null,null,null,null,null,null,"","","","","",""]
[null,null,null,null,null,null,null,null,null,null,null,null,null,"","","","","",""]
[null,null,null,null,null,null,null,null,null,null,null,null,null,"","","","","",""]
[null,null,null,null,null,null,null,null,null,null,null,null,null,"","","","","",""]
[null,null,null,null,null,null,null,null,null,null,null,null,null,"","","","","",""]
[null,null,null,null,null,null,null,null,null,null,null,null,null,"","","","","",""]
[null,null,null,null,null,null,null,null,null,null,null,null,null,"","","","","",""]
[null,null,null,null,null,null,null,null,null,null,null,null,null,"","","","","",""]
[null,null,null,null,null,null,null,null,null,null,null,null,null,"","","","","",""]
[null,null,null,null,null,null,null,null,null,null,null,null,null,"","","","","",""]
[null,null,null,null,null,null,null,null,null,null,null,null,null,"","","","","",""]
[null,null,null,null,null,null,null,null,null,null,null,null,null,"","","","","",""]
[null,null,null,null,null,null,null,null,null,null,null,null,null,"","","","","",""]
[null,null,null,null,null,null,null,null,null,null,null,null,null,"","","","","",""]
[null,null,null,null,null,null,null,null,null,null,null,null,null,"","","","","",""]
[null,null,null,null,null,null,null,null,null,null,null,null,null,"","","","","",""]
[null,null,null,null,null,null,null,null,null,null,null,null,null,"","","","","",""]
[null,null,null,null,null,null,null,null,null,null,null,null,null,"","","","","",""]
[null,null,null,null,null,null,null,null,null,null,null,null,null,"","","","","",""]
[null,null,null,null,null,null,null,null,null,null,null,null,null,"","","","","",""]
[null,null,null,null,null,null,null,null,null,null,null,null,null,"","","","","",""]
[null,null,null,null,null,null,null,null,null,null,null,null,null,"","","","","",""]
[null,null,null,null,null,null,null,null,null,null,null,null,null,"","","","","",""]
[null,null,null,null,null,null,null,null,null,null,null,null,null,"","","","","",""]
[null,null,null,null,null,null,null,null,null,null,null,null,null,"","","","","",""]
[null,null,null,null,null,null,null,null,null,null,null,null,null,"","","","","",""]
[null,null,null,null,null,null,null,null,null,null,null,null,null,"","","","","",""]
[null,null,null,null,null,null,null,null,null,null,null,null,null,"","","","","",""]
[null,null,null,null,null,null,null,null,null,null,null,null,null,"","","","","",""]
[null,null,null,null,null,null,null,null,null,null,null,null,null,"","","","","",""]
[null,null,null,null,null,null,null,null,null,null,null,null,null,"","","","","",""]
[null,null,null,null,null,null,null,null,null,null,null,null,null,"","","","","",""]
[null,null,null,null,null,null,null,null,null,null,null,null,null,"","","","","",""]
[null,null,null,null,null,null,null,null,null,null,null,null,null,"","","","","",""]
[null,null,null,null,null,null,null,null,null,null,null,null,null,"","","","","",""]
[null,null,null,null,null,null,null,null,null,null,null,null,null,"","","","","",""]
[null,null,null,null,null,null,null,null,null,null,null,null,null,"","","","","",""]
[null,null,null,null,null,null,null,null,null,null,null,null,null,"","","","","",""]
[null,null,null,null,null,null,null,null,null,null,null,null,null,"","","","","",""]
[null,null,null,null,null,null,null,null,null,null,null,null,null,"","","","","",""]
[null,null,null,null,null,null,null,null,null,null,null,null,null,"","","","","",""]
[null,null,null,null,null,null,null,null,null,null,null,null,null,"","","","","",""]
[null,null,null,null,null,null,null,null,null,null,null,null,null,"","","","","",""]
[null,null,null,null,null,null,null,null,null,null,null,null,null,"","","","","",""]
[null,null,null,null,null,null,null,null,null,null,null,null,null,"","","","","",""]
[null,null,null,null,null,null,null,null,null,null,null,null,null,"","","","","",""]
[null,null,null,null,null,null,null,null,null,null,null,null,null,"","","","","",""]
[null,null,null,null,null,null,null,null,null,null,null,null,null,"","","","","",""]
[null,null,null,null,null,null,null,null,null,null,null,null,null,"","","","","",""]
[null,null,null,null,null,null,null,null,null,null,null,null,null,"","","","","",""]
[null,null,null,null,null,null,null,null,null,null,null,null,null,"","","","","",""]
[null,null,null,null,null,null,null,null,null,null,null,null,null,"","","","","",""]
[null,null,null,null,null,null,null,null,null,null,null,null,null,"","","","","",""]
[null,null,null,null,null,null,null,null,null,null,null,null,null,"","","","","",""]
[null,null,null,null,null,null,null,null,null,null,null,null,null,"","","","","",""]
[null,null,null,null,null,null,null,null,null,null,null,null,null,"","","","","",""]
[null,null,null,null,null,null,null,null,null,null,null,null,null,"","","","","",""]
[null,null,null,null,null,null,null,null,null,null,null,null,null,"","","","","",""]
[null,null,null,null,null,null,null,null,null,null,null,null,null,{"$f":"IF(ISBLANK(D2312),\"\",NETWORKDAYS(D2312,F2312))","v":""},{"$f":"IFERROR( IF(N2312>$Y$5,NETWORKDAYS(E2312, (Q2312 - 1)), NETWORKDAYS(E2312,(F2312-1))), \"\")","v":""},{"$f":"IF(O2312<= 0, \"\", O2312)","v":""},{"$f":"IF(ISBLANK(D2312),\"\",DATE(YEAR(D2312)+1,MONTH(D2312),DAY(D2312)))","v":""},{"$f":"IFERROR(IF(N2312 > $Y$5, IF(E2312>=Q2312,NETWORKDAYS(E2312, (F2312-1)), NETWORKDAYS(Q2312, (F2312-1))), \"\"), \"\")","v":""},{"$f":"IF(R2312=\"\", \"\",  IF(R2312 >= $Y$5, $Y$5,  R2312))","v":""}]
[null,null,null,null,null,null,null,null,null,null,null,null,null,"","","","","",""]
[null,null,null,null,null,null,null,null,null,null,null,null,null,"","","","","",""]
[null,null,null,null,null,null,null,null,null,null,null,null,null,"","","","","",""]
[null,null,null,null,null,null,null,null,null,null,null,null,null,"","","","","",""]
[null,null,null,null,null,null,null,null,null,null,null,null,null,"","","","","",""]
[null,null,null,null,null,null,null,null,null,null,null,null,null,"","","","","",""]
[null,null,null,null,null,null,null,null,null,null,null,null,null,"","","","","",""]
[null,null,null,null,null,null,null,null,null,null,null,null,null,"","","","","",""]
[null,null,null,null,null,null,null,null,null,null,null,null,null,"","","","","",""]
[null,null,null,null,null,null,null,null,null,null,null,null,null,"","","","","",""]
[null,null,null,null,null,null,null,null,null,null,null,null,null,"","","","","",""]
[null,null,null,null,null,null,null,null,null,null,null,null,null,"","","","","",""]
[null,null,null,null,null,null,null,null,null,null,null,null,null,"","","","","",""]
[null,null,null,null,null,null,null,null,null,null,null,null,null,"","","","","",""]
[null,null,null,null,null,null,null,null,null,null,null,null,null,"","","","","",""]
[null,null,null,null,null,null,null,null,null,null,null,null,null,"","","","","",""]
[null,null,null,null,null,null,null,null,null,null,null,null,null,"","","","","",""]
[null,null,null,null,null,null,null,null,null,null,null,null,null,"","","","","",""]
[null,null,null,null,null,null,null,null,null,null,null,null,null,"","","","","",""]
[null,null,null,null,null,null,null,null,null,null,null,null,null,"","","","","",""]
[null,null,null,null,null,null,null,null,null,null,null,null,null,"","","","","",""]
[null,null,null,null,null,null,null,null,null,null,null,null,null,"","","","","",""]
[null,null,null,null,null,null,null,null,null,null,null,null,null,"","","","","",""]
[null,null,null,null,null,null,null,null,null,null,null,null,null,"","","","","",""]
[null,null,null,null,null,null,null,null,null,null,null,null,null,"","","","","",""]
[null,null,null,null,null,null,null,null,null,null,null,null,null,"","","","","",""]
[null,null,null,null,null,null,null,null,null,null,null,null,null,"","","","","",""]
[null,null,null,null,null,null,null,null,null,null,null,null,null,"","","","","",""]
[null,null,null,null,null,null,null,null,null,null,null,null,null,"","","","","",""]
[null,null,null,null,null,null,null,null,null,null,null,null,null,"","","","","",""]
[null,null,null,null,null,null,null,null,null,null,null,null,null,"","","","","",""]
[null,null,null,null,null,null,null,null,null,null,null,null,null,"","","","","",""]
[null,null,null,null,null,null,null,null,null,null,null,null,null,"","","","","",""]
[null,null,null,null,null,null,null,null,null,null,null,null,null,"","","","","",""]
[null,null,null,null,null,null,null,null,null,null,null,null,null,"","","","","",""]
[null,null,null,null,null,null,null,null,null,null,null,null,null,"","","","","",""]
[null,null,null,null,null,null,null,null,null,null,null,null,null,"","","","","",""]
[null,null,null,null,null,null,null,null,null,null,null,null,null,"","","","","",""]
[null,null,null,null,null,null,null,null,null,null,null,null,null,"","","","","",""]
[null,null,null,null,null,null,null,null,null,null,null,null,null,"","","","","",""]
[null,null,null,null,null,null,null,null,null,null,null,null,null,"","","","","",""]
[null,null,null,null,null,null,null,null,null,null,null,null,null,"","","","","",""]
[null,null,null,null,null,null,null,null,null,null,null,null,null,"","","","","",""]
[null,null,null,null,null,null,null,null,null,null,null,null,null,"","","","","",""]
[null,null,null,null,null,null,null,null,null,null,null,null,null,"","","","","",""]
[null,null,null,null,null,null,null,null,null,null,null,null,null,"","","","","",""]
[null,null,null,null,null,null,null,null,null,null,null,null,null,"","","","","",""]
[null,null,null,null,null,null,null,null,null,null,null,null,null,"","","","","",""]
[null,null,null,null,null,null,null,null,null,null,null,null,null,"","","","","",""]
[null,null,null,null,null,null,null,null,null,null,null,null,null,"","","","","",""]
[null,null,null,null,null,null,null,null,null,null,null,null,null,"","","","","",""]
[null,null,null,null,null,null,null,null,null,null,null,null,null,"","","","","",""]
[null,null,null,null,null,null,null,null,null,null,null,null,null,"","","","","",""]
[null,null,null,null,null,null,null,null,null,null,null,null,null,"","","","","",""]
[null,null,null,null,null,null,null,null,null,null,null,null,null,"","","","","",""]
[null,null,null,null,null,null,null,null,null,null,null,null,null,"","","","","",""]
[null,null,null,null,null,null,null,null,null,null,null,null,null,"","","","","",""]
[null,null,null,null,null,null,null,null,null,null,null,null,null,"","","","","",""]
[null,null,null,null,null,null,null,null,null,null,null,null,null,"","","","","",""]
[null,null,null,null,null,null,null,null,null,null,null,null,null,"","","","","",""]
[null,null,null,null,null,null,null,null,null,null,null,null,null,"","","","","",""]
[null,null,null,null,null,null,null,null,null,null,null,null,null,"","","","","",""]
[null,null,null,null,null,null,null,null,null,null,null,null,null,"","","","","",""]
[null,null,null,null,null,null,null,null,null,null,null,null,null,{"$f":"IF(ISBLANK(D2376),\"\",NETWORKDAYS(D2376,F2376))","v":""},{"$f":"IFERROR( IF(N2376>$Y$5,NETWORKDAYS(E2376, (Q2376 - 1)), NETWORKDAYS(E2376,(F2376-1))), \"\")","v":""},{"$f":"IF(O2376<= 0, \"\", O2376)","v":""},{"$f":"IF(ISBLANK(D2376),\"\",DATE(YEAR(D2376)+1,MONTH(D2376),DAY(D2376)))","v":""},{"$f":"IFERROR(IF(N2376 > $Y$5, IF(E2376>=Q2376,NETWORKDAYS(E2376, (F2376-1)), NETWORKDAYS(Q2376, (F2376-1))), \"\"), \"\")","v":""},{"$f":"IF(R2376=\"\", \"\",  IF(R2376 >= $Y$5, $Y$5,  R2376))","v":""}]
[null,null,null,null,null,null,null,null,null,null,null,null,null,"","","","","",""]
[null,null,null,null,null,null,null,null,null,null,null,null,null,"","","","","",""]
[null,null,null,null,null,null,null,null,null,null,null,null,null,"","","","","",""]
[null,null,null,null,null,null,null,null,null,null,null,null,null,"","","","","",""]
[null,null,null,null,null,null,null,null,null,null,null,null,null,"","","","","",""]
[null,null,null,null,null,null,null,null,null,null,null,null,null,"","","","","",""]
[null,null,null,null,null,null,null,null,null,null,null,null,null,"","","","","",""]
[null,null,null,null,null,null,null,null,null,null,null,null,null,"","","","","",""]
[null,null,null,null,null,null,null,null,null,null,null,null,null,"","","","","",""]
[null,null,null,null,null,null,null,null,null,null,null,null,null,"","","","","",""]
[null,null,null,null,null,null,null,null,null,null,null,null,null,"","","","","",""]
[null,null,null,null,null,null,null,null,null,null,null,null,null,"","","","","",""]
[null,null,null,null,null,null,null,null,null,null,null,null,null,"","","","","",""]
[null,null,null,null,null,null,null,null,null,null,null,null,null,"","","","","",""]
[null,null,null,null,null,null,null,null,null,null,null,null,null,"","","","","",""]
[null,null,null,null,null,null,null,null,null,null,null,null,null,"","","","","",""]
[null,null,null,null,null,null,null,null,null,null,null,null,null,"","","","","",""]
[null,null,null,null,null,null,null,null,null,null,null,null,null,"","","","","",""]
[null,null,null,null,null,null,null,null,null,null,null,null,null,"","","","","",""]
[null,null,null,null,null,null,null,null,null,null,null,null,null,"","","","","",""]
[null,null,null,null,null,null,null,null,null,null,null,null,null,"","","","","",""]
[null,null,null,null,null,null,null,null,null,null,null,null,null,"","","","","",""]
[null,null,null,null,null,null,null,null,null,null,null,null,null,"","","","","",""]
[null,null,null,null,null,null,null,null,null,null,null,null,null,"","","","","",""]
[null,null,null,null,null,null,null,null,null,null,null,null,null,"","","","","",""]
[null,null,null,null,null,null,null,null,null,null,null,null,null,"","","","","",""]
[null,null,null,null,null,null,null,null,null,null,null,null,null,"","","","","",""]
[null,null,null,null,null,null,null,null,null,null,null,null,null,"","","","","",""]
[null,null,null,null,null,null,null,null,null,null,null,null,null,"","","","","",""]
[null,null,null,null,null,null,null,null,null,null,null,null,null,"","","","","",""]
[null,null,null,null,null,null,null,null,null,null,null,null,null,"","","","","",""]
[null,null,null,null,null,null,null,null,null,null,null,null,null,"","","","","",""]
[null,null,null,null,null,null,null,null,null,null,null,null,null,"","","","","",""]
[null,null,null,null,null,null,null,null,null,null,null,null,null,"","","","","",""]
[null,null,null,null,null,null,null,null,null,null,null,null,null,"","","","","",""]
[null,null,null,null,null,null,null,null,null,null,null,null,null,"","","","","",""]
[null,null,null,null,null,null,null,null,null,null,null,null,null,"","","","","",""]
[null,null,null,null,null,null,null,null,null,null,null,null,null,"","","","","",""]
[null,null,null,null,null,null,null,null,null,null,null,null,null,"","","","","",""]
[null,null,null,null,null,null,null,null,null,null,null,null,null,"","","","","",""]
[null,null,null,null,null,null,null,null,null,null,null,null,null,"","","","","",""]
[null,null,null,null,null,null,null,null,null,null,null,null,null,"","","","","",""]
[null,null,null,null,null,null,null,null,null,null,null,null,null,"","","","","",""]
[null,null,null,null,null,null,null,null,null,null,null,null,null,"","","","","",""]
[null,null,null,null,null,null,null,null,null,null,null,null,null,"","","","","",""]
[null,null,null,null,null,null,null,null,null,null,null,null,null,"","","","","",""]
[null,null,null,null,null,null,null,null,null,null,null,null,null,"","","","","",""]
[null,null,null,null,null,null,null,null,null,null,null,null,null,"","","","","",""]
[null,null,null,null,null,null,null,null,null,null,null,null,null,"","","","","",""]
[null,null,null,null,null,null,null,null,null,null,null,null,null,"","","","","",""]
[null,null,null,null,null,null,null,null,null,null,null,null,null,"","","","","",""]
[null,null,null,null,null,null,null,null,null,null,null,null,null,"","","","","",""]
[null,null,null,null,null,null,null,null,null,null,null,null,null,"","","","","",""]
[null,null,null,null,null,null,null,null,null,null,null,null,null,"","","","","",""]
[null,null,null,null,null,null,null,null,null,null,null,null,null,"","","","","",""]
[null,null,null,null,null,null,null,null,null,null,null,null,null,"","","","","",""]
[null,null,null,null,null,null,null,null,null,null,null,null,null,"","","","","",""]
[null,null,null,null,null,null,null,null,null,null,null,null,null,"","","","","",""]
[null,null,null,null,null,null,null,null,null,null,null,null,null,"","","","","",""]
[null,null,null,null,null,null,null,null,null,null,null,null,null,"","","","","",""]
[null,null,null,null,null,null,null,null,null,null,null,null,null,"","","","","",""]
[null,null,null,null,null,null,null,null,null,null,null,null,null,"","","","","",""]
[null,null,null,null,null,null,null,null,null,null,null,null,null,"","","","","",""]
[null,null,null,null,null,null,null,null,null,null,null,null,null,{"$f":"IF(ISBLANK(D2440),\"\",NETWORKDAYS(D2440,F2440))","v":""},{"$f":"IFERROR( IF(N2440>$Y$5,NETWORKDAYS(E2440, (Q2440 - 1)), NETWORKDAYS(E2440,(F2440-1))), \"\")","v":""},{"$f":"IF(O2440<= 0, \"\", O2440)","v":""},{"$f":"IF(ISBLANK(D2440),\"\",DATE(YEAR(D2440)+1,MONTH(D2440),DAY(D2440)))","v":""},{"$f":"IFERROR(IF(N2440 > $Y$5, IF(E2440>=Q2440,NETWORKDAYS(E2440, (F2440-1)), NETWORKDAYS(Q2440, (F2440-1))), \"\"), \"\")","v":""},{"$f":"IF(R2440=\"\", \"\",  IF(R2440 >= $Y$5, $Y$5,  R2440))","v":""}]
[null,null,null,null,null,null,null,null,null,null,null,null,null,"","","","","",""]
[null,null,null,null,null,null,null,null,null,null,null,null,null,"","","","","",""]
[null,null,null,null,null,null,null,null,null,null,null,null,null,"","","","","",""]
[null,null,null,null,null,null,null,null,null,null,null,null,null,"","","","","",""]
[null,null,null,null,null,null,null,null,null,null,null,null,null,"","","","","",""]
[null,null,null,null,null,null,null,null,null,null,null,null,null,"","","","","",""]
[null,null,null,null,null,null,null,null,null,null,null,null,null,"","","","","",""]
[null,null,null,null,null,null,null,null,null,null,null,null,null,"","","","","",""]
[null,null,null,null,null,null,null,null,null,null,null,null,null,"","","","","",""]
[null,null,null,null,null,null,null,null,null,null,null,null,null,"","","","","",""]
[null,null,null,null,null,null,null,null,null,null,null,null,null,"","","","","",""]
[null,null,null,null,null,null,null,null,null,null,null,null,null,"","","","","",""]
[null,null,null,null,null,null,null,null,null,null,null,null,null,"","","","","",""]
[null,null,null,null,null,null,null,null,null,null,null,null,null,"","","","","",""]
[null,null,null,null,null,null,null,null,null,null,null,null,null,"","","","","",""]
[null,null,null,null,null,null,null,null,null,null,null,null,null,"","","","","",""]
[null,null,null,null,null,null,null,null,null,null,null,null,null,"","","","","",""]
[null,null,null,null,null,null,null,null,null,null,null,null,null,"","","","","",""]
[null,null,null,null,null,null,null,null,null,null,null,null,null,"","","","","",""]
[null,null,null,null,null,null,null,null,null,null,null,null,null,"","","","","",""]
[null,null,null,null,null,null,null,null,null,null,null,null,null,"","","","","",""]
[null,null,null,null,null,null,null,null,null,null,null,null,null,"","","","","",""]
[null,null,null,null,null,null,null,null,null,null,null,null,null,"","","","","",""]
[null,null,null,null,null,null,null,null,null,null,null,null,null,"","","","","",""]
[null,null,null,null,null,null,null,null,null,null,null,null,null,"","","","","",""]
[null,null,null,null,null,null,null,null,null,null,null,null,null,"","","","","",""]
[null,null,null,null,null,null,null,null,null,null,null,null,null,"","","","","",""]
[null,null,null,null,null,null,null,null,null,null,null,null,null,"","","","","",""]
[null,null,null,null,null,null,null,null,null,null,null,null,null,"","","","","",""]
[null,null,null,null,null,null,null,null,null,null,null,null,null,"","","","","",""]
[null,null,null,null,null,null,null,null,null,null,null,null,null,"","","","","",""]
[null,null,null,null,null,null,null,null,null,null,null,null,null,"","","","","",""]
[null,null,null,null,null,null,null,null,null,null,null,null,null,"","","","","",""]
[null,null,null,null,null,null,null,null,null,null,null,null,null,"","","","","",""]
[null,null,null,null,null,null,null,null,null,null,null,null,null,"","","","","",""]
[null,null,null,null,null,null,null,null,null,null,null,null,null,"","","","","",""]
[null,null,null,null,null,null,null,null,null,null,null,null,null,"","","","","",""]
[null,null,null,null,null,null,null,null,null,null,null,null,null,"","","","","",""]
[null,null,null,null,null,null,null,null,null,null,null,null,null,"","","","","",""]
[null,null,null,null,null,null,null,null,null,null,null,null,null,"","","","","",""]
[null,null,null,null,null,null,null,null,null,null,null,null,null,"","","","","",""]
[null,null,null,null,null,null,null,null,null,null,null,null,null,"","","","","",""]
[null,null,null,null,null,null,null,null,null,null,null,null,null,"","","","","",""]
[null,null,null,null,null,null,null,null,null,null,null,null,null,"","","","","",""]
[null,null,null,null,null,null,null,null,null,null,null,null,null,"","","","","",""]
[null,null,null,null,null,null,null,null,null,null,null,null,null,"","","","","",""]
[null,null,null,null,null,null,null,null,null,null,null,null,null,"","","","","",""]
[null,null,null,null,null,null,null,null,null,null,null,null,null,"","","","","",""]
[null,null,null,null,null,null,null,null,null,null,null,null,null,"","","","","",""]
[null,null,null,null,null,null,null,null,null,null,null,null,null,"","","","","",""]
[null,null,null,null,null,null,null,null,null,null,null,null,null,"","","","","",""]
[null,null,null,null,null,null,null,null,null,null,null,null,null,"","","","","",""]
[null,null,null,null,null,null,null,null,null,null,null,null,null,"","","","","",""]
[null,null,null,null,null,null,null,null,null,null,null,null,null,"","","","","",""]
[null,null,null,null,null,null,null,null,null,null,null,null,null,"","","","","",""]
[null,null,null,null,null,null,null,null,null,null,null,null,null,"","","","","",""]
[null,null,null,null,null,null,null,null,null,null,null,null,null,"","","","","",""]
[null,null,null,null,null,null,null,null,null,null,null,null,null,"","","","","",""]
[null,null,null,null,null,null,null,null,null,null,null,null,null,"","","","","",""]
[null,null,null,null,null,null,null,null,null,null,null,null,null,"","","","","",""]
[null,null,null,null,null,null,null,null,null,null,null,null,null,"","","","","",""]
[null,null,null,null,null,null,null,null,null,null,null,null,null,"","","","","",""]
[null,null,null,null,null,null,null,null,null,null,null,null,null,"","","","","",""]
[null,null,null,null,null,null,null,null,null,null,null,null,null,{"$f":"IF(ISBLANK(D2504),\"\",NETWORKDAYS(D2504,F2504))","v":""},{"$f":"IFERROR( IF(N2504>$Y$5,NETWORKDAYS(E2504, (Q2504 - 1)), NETWORKDAYS(E2504,(F2504-1))), \"\")","v":""},{"$f":"IF(O2504<= 0, \"\", O2504)","v":""},{"$f":"IF(ISBLANK(D2504),\"\",DATE(YEAR(D2504)+1,MONTH(D2504),DAY(D2504)))","v":""},{"$f":"IFERROR(IF(N2504 > $Y$5, IF(E2504>=Q2504,NETWORKDAYS(E2504, (F2504-1)), NETWORKDAYS(Q2504, (F2504-1))), \"\"), \"\")","v":""},{"$f":"IF(R2504=\"\", \"\",  IF(R2504 >= $Y$5, $Y$5,  R2504))","v":""}]
[null,null,null,null,null,null,null,null,null,null,null,null,null,"","","","","",""]
[null,null,null,null,null,null,null,null,null,null,null,null,null,"","","","","",""]
[null,null,null,null,null,null,null,null,null,null,null,null,null,"","","","","",""]
[null,null,null,null,null,null,null,null,null,null,null,null,null,"","","","","",""]
[null,null,null,null,null,null,null,null,null,null,null,null,null,"","","","","",""]
[null,null,null,null,null,null,null,null,null,null,null,null,null,"","","","","",""]
[null,null,null,null,null,null,null,null,null,null,null,null,null,"","","","","",""]
[null,null,null,null,null,null,null,null,null,null,null,null,null,"","","","","",""]
[null,null,null,null,null,null,null,null,null,null,null,null,null,"","","","","",""]
[null,null,null,null,null,null,null,null,null,null,null,null,null,"","","","","",""]
[null,null,null,null,null,null,null,null,null,null,null,null,null,"","","","","",""]
[null,null,null,null,null,null,null,null,null,null,null,null,null,"","","","","",""]
[null,null,null,null,null,null,null,null,null,null,null,null,null,"","","","","",""]
[null,null,null,null,null,null,null,null,null,null,null,null,null,"","","","","",""]
[null,null,null,null,null,null,null,null,null,null,null,null,null,"","","","","",""]
[null,null,null,null,null,null,null,null,null,null,null,null,null,"","","","","",""]
[null,null,null,null,null,null,null,null,null,null,null,null,null,"","","","","",""]
[null,null,null,null,null,null,null,null,null,null,null,null,null,"","","","","",""]
[null,null,null,null,null,null,null,null,null,null,null,null,null,"","","","","",""]
[null,null,null,null,null,null,null,null,null,null,null,null,null,"","","","","",""]
[null,null,null,null,null,null,null,null,null,null,null,null,null,"","","","","",""]
[null,null,null,null,null,null,null,null,null,null,null,null,null,"","","","","",""]
[null,null,null,null,null,null,null,null,null,null,null,null,null,"","","","","",""]
[null,null,null,null,null,null,null,null,null,null,null,null,null,"","","","","",""]
[null,null,null,null,null,null,null,null,null,null,null,null,null,"","","","","",""]
[null,null,null,null,null,null,null,null,null,null,null,null,null,"","","","","",""]
[null,null,null,null,null,null,null,null,null,null,null,null,null,"","","","","",""]
[null,null,null,null,null,null,null,null,null,null,null,null,null,"","","","","",""]
[null,null,null,null,null,null,null,null,null,null,null,null,null,"","","","","",""]
[null,null,null,null,null,null,null,null,null,null,null,null,null,"","","","","",""]
[null,null,null,null,null,null,null,null,null,null,null,null,null,"","","","","",""]
[null,null,null,null,null,null,null,null,null,null,null,null,null,"","","","","",""]
[null,null,null,null,null,null,null,null,null,null,null,null,null,"","","","","",""]
[null,null,null,null,null,null,null,null,null,null,null,null,null,"","","","","",""]
[null,null,null,null,null,null,null,null,null,null,null,null,null,"","","","","",""]
[null,null,null,null,null,null,null,null,null,null,null,null,null,"","","","","",""]
[null,null,null,null,null,null,null,null,null,null,null,null,null,"","","","","",""]
[null,null,null,null,null,null,null,null,null,null,null,null,null,"","","","","",""]
[null,null,null,null,null,null,null,null,null,null,null,null,null,"","","","","",""]
[null,null,null,null,null,null,null,null,null,null,null,null,null,"","","","","",""]
[null,null,null,null,null,null,null,null,null,null,null,null,null,"","","","","",""]
[null,null,null,null,null,null,null,null,null,null,null,null,null,"","","","","",""]
[null,null,null,null,null,null,null,null,null,null,null,null,null,"","","","","",""]
[null,null,null,null,null,null,null,null,null,null,null,null,null,"","","","","",""]
[null,null,null,null,null,null,null,null,null,null,null,null,null,"","","","","",""]
[null,null,null,null,null,null,null,null,null,null,null,null,null,"","","","","",""]
[null,null,null,null,null,null,null,null,null,null,null,null,null,"","","","","",""]
[null,null,null,null,null,null,null,null,null,null,null,null,null,"","","","","",""]
[null,null,null,null,null,null,null,null,null,null,null,null,null,"","","","","",""]
[null,null,null,null,null,null,null,null,null,null,null,null,null,"","","","","",""]
[null,null,null,null,null,null,null,null,null,null,null,null,null,"","","","","",""]
[null,null,null,null,null,null,null,null,null,null,null,null,null,"","","","","",""]
[null,null,null,null,null,null,null,null,null,null,null,null,null,"","","","","",""]
[null,null,null,null,null,null,null,null,null,null,null,null,null,"","","","","",""]
[null,null,null,null,null,null,null,null,null,null,null,null,null,"","","","","",""]
[null,null,null,null,null,null,null,null,null,null,null,null,null,"","","","","",""]
[null,null,null,null,null,null,null,null,null,null,null,null,null,"","","","","",""]
[null,null,null,null,null,null,null,null,null,null,null,null,null,"","","","","",""]
[null,null,null,null,null,null,null,null,null,null,null,null,null,"","","","","",""]
[null,null,null,null,null,null,null,null,null,null,null,null,null,"","","","","",""]
[null,null,null,null,null,null,null,null,null,null,null,null,null,"","","","","",""]
[null,null,null,null,null,null,null,null,null,null,null,null,null,"","","","","",""]
[null,null,null,null,null,null,null,null,null,null,null,null,null,"","","","","",""]
[null,null,null,null,null,null,null,null,null,null,null,null,null,{"$f":"IF(ISBLANK(D2568),\"\",NETWORKDAYS(D2568,F2568))","v":""},{"$f":"IFERROR( IF(N2568>$Y$5,NETWORKDAYS(E2568, (Q2568 - 1)), NETWORKDAYS(E2568,(F2568-1))), \"\")","v":""},{"$f":"IF(O2568<= 0, \"\", O2568)","v":""},{"$f":"IF(ISBLANK(D2568),\"\",DATE(YEAR(D2568)+1,MONTH(D2568),DAY(D2568)))","v":""},{"$f":"IFERROR(IF(N2568 > $Y$5, IF(E2568>=Q2568,NETWORKDAYS(E2568, (F2568-1)), NETWORKDAYS(Q2568, (F2568-1))), \"\"), \"\")","v":""},{"$f":"IF(R2568=\"\", \"\",  IF(R2568 >= $Y$5, $Y$5,  R2568))","v":""}]
[null,null,null,null,null,null,null,null,null,null,null,null,null,"","","","","",""]
[null,null,null,null,null,null,null,null,null,null,null,null,null,"","","","","",""]
[null,null,null,null,null,null,null,null,null,null,null,null,null,"","","","","",""]
[null,null,null,null,null,null,null,null,null,null,null,null,null,"","","","","",""]
[null,null,null,null,null,null,null,null,null,null,null,null,null,"","","","","",""]
[null,null,null,null,null,null,null,null,null,null,null,null,null,"","","","","",""]
[null,null,null,null,null,null,null,null,null,null,null,null,null,"","","","","",""]
[null,null,null,null,null,null,null,null,null,null,null,null,null,"","","","","",""]
[null,null,null,null,null,null,null,null,null,null,null,null,null,"","","","","",""]
[null,null,null,null,null,null,null,null,null,null,null,null,null,"","","","","",""]
[null,null,null,null,null,null,null,null,null,null,null,null,null,"","","","","",""]
[null,null,null,null,null,null,null,null,null,null,null,null,null,"","","","","",""]
[null,null,null,null,null,null,null,null,null,null,null,null,null,"","","","","",""]
[null,null,null,null,null,null,null,null,null,null,null,null,null,"","","","","",""]
[null,null,null,null,null,null,null,null,null,null,null,null,null,"","","","","",""]
[null,null,null,null,null,null,null,null,null,null,null,null,null,"","","","","",""]
[null,null,null,null,null,null,null,null,null,null,null,null,null,"","","","","",""]
[null,null,null,null,null,null,null,null,null,null,null,null,null,"","","","","",""]
[null,null,null,null,null,null,null,null,null,null,null,null,null,"","","","","",""]
[null,null,null,null,null,null,null,null,null,null,null,null,null,"","","","","",""]
[null,null,null,null,null,null,null,null,null,null,null,null,null,"","","","","",""]
[null,null,null,null,null,null,null,null,null,null,null,null,null,"","","","","",""]
[null,null,null,null,null,null,null,null,null,null,null,null,null,"","","","","",""]
[null,null,null,null,null,null,null,null,null,null,null,null,null,"","","","","",""]
[null,null,null,null,null,null,null,null,null,null,null,null,null,"","","","","",""]
[null,null,null,null,null,null,null,null,null,null,null,null,null,"","","","","",""]

{"sheet":"Validaties","index":2,"n_rows":15,"n_cols":6,"rows_kept":15,"cut":false,"hidden":true,"merged":[]}
[]
[null,"Veld","Invoer","Controle","Foutmelding","Soort"]
[null,"Naam werknemer","Verplicht, naam, alleen letters","nvt","nvt","nvt"]
[null,"Aantal dagen in dienst \nin 2022","Cijfers, geen decimalen. Geen letters","Bij invoer van negatief getal, 0 of hoger dan 261. Of als er letters worden ingevuld.","Je werknemer is minimaal 1 dag en maximaal 261 dagen in dienst.","Pas verder na aanpassing invoer"]
[null,"Jaarloon 2022","Cijfers, met maximaal 2 decimalen","Geen maximum, check op € 125.000","Het maximaal te verzekeren loon (exclusief werkgeverslasten) bedraagt € 125.000 op jaarbasis. We toppen het ingevoerde loon af op dit maximum.","Alleen melding"]
[null,"Datum eerste ziektedag","dd-mm-jj, dd-mm-jjjj, combinatie cijfers en letters","Datum vanaf 1 januari 2020 t/m 31 december 2022","De eerste ziektedag kan alleen in de periode vanaf 1 januari 2020 t/m 31 december 2022 liggen.","Pas verder na aanpassing invoer"]
[null,"Start loondoorbetaling bij ziekte in 2022","dd-mm-jj, dd-mm-jjjj, combinatie cijfers en letters","Datum vanaf 1 januari 2022 t/m 31 december 2022","De start van de loondoorbetaling in 2022 kan alleen in de periode vanaf 1 januari 2022 t/m 31 december 2022 liggen.","Pas verder na aanpassing invoer"]
[null,"Einde loondoorbetaling bij ziekte 2022","dd-mm-jj, dd-mm-jjjj, combinatie cijfers en letters","Datum vanaf 1 januari 2022 t/m 31 december 2022","Het einde van de loondoorbetaling in 2022 kan alleen in de periode vanaf 1 januari 2022 t/m 31 december 2022 liggen.","Pas verder na aanpassing invoer"]
[null,"Percentage arbeidsongeschikt (AO%)","Percentage, met maximaal 2 decimalen","Bij invoer van negatief getal, 0 of hoger dan 100%","Het percentage arbeidsongeschikt is minimaal 1% en maximaal 100%.","Pas verder na aanpassing invoer"]
[]
[null,"Zelf berekenen"]
[null,"Verzuimduur eerste ziektejaar","Dit is het aantal dagen o.b.v. start en einde loondoorbetaling bij ziekte en afhankelijk van de eerste ziektedag. Berekenen in werkdagen."]
[null,"Loondoorbetaling eerste ziektejaar","(Verzuimduur in dagen * jaarloon * AO%) * percentage loondoorbetaling 1e jaar. Percentage loondoorbetaling voert de klant zelf in bij Stap 1."]
[null,"Verzuimduur tweede ziektejaar","Dit is het aantal dagen o.b.v. start en einde loondoorbetaling bij ziekte en afhankelijk van de eerste ziektedag. Berekenen in werkdagen."]
[null,"loondoorbetaling tweede ziektejaar","(Verzuimduur in dagen * jaarloon * AO%) * percentage loondoorbetaling 1e jaar. Percentage loondoorbetaling voert de klant zelf in bij Stap 1."]